{"text_format":"1","workbook":"xlsx","n_sheets":11,"sheets":["Rekapitulace stavby","SO122 - SO 122  Úprava Má...","SO511 - SO 511  Přeložka ...","VON-1E - Vedlejší rozpočr...","SO111 - SO 111  Parkoviště","SO132 - SO 132  Napojení ...","SO311 - SO 311  Dešťová k...","SO411 - SO 411  Veřejné o...","SO412 - SO 412  Kamerový ...","VON-2E - Vedlejší rozpočr...","Pokyny pro vyplnění"],"not_rendered":{"charts":0,"images":2,"macros":0,"external_links":0,"defined_names":30,"comments":0,"pivot_tables":0},"unopened":[],"bounds":{"document_bytes":16777216,"sheet_cells":100000,"rows_first":2000,"rows_last":500,"rows_between":2000,"halvings":0,"cell_chars":16384,"cell_head_chars":4096},"cells_cut":0,"cells_raw":0,"read":"whole","date_system":"1900"}

{"sheet":"Rekapitulace stavby","index":0,"n_rows":62,"n_cols":91,"rows_kept":62,"cut":false,"hidden":false,"merged":[[27,11,27,14],[27,22,27,30],[27,36,27,40],[4,56,31,56],[4,10,4,40],[5,10,5,40],[13,4,13,35],[19,4,19,39],[22,36,22,40],[24,11,24,14],[24,22,24,30],[24,36,24,40],[25,11,25,14],[25,22,25,30],[25,36,25,40],[26,11,26,14],[26,22,26,30],[26,36,26,40],[45,44,47,45],[28,11,28,14],[28,22,28,30],[28,36,28,40],[29,11,29,14],[29,22,29,30],[29,36,29,40],[31,23,31,27],[31,36,31,40],[41,11,41,40],[43,38,43,39],[45,38,45,41],[48,2,48,6],[48,8,48,31],[48,32,48,38],[48,39,48,41],[51,39,51,41],[51,32,51,38],[51,3,51,7],[51,9,51,31],[50,32,50,38],[50,39,50,41],[52,39,52,41],[52,32,52,38],[52,4,52,8],[52,10,52,31],[53,39,53,41],[53,32,53,38],[53,4,53,8],[53,10,53,31],[54,10,54,31],[55,39,55,41],[55,32,55,38],[55,3,55,7],[55,9,55,31],[61,39,61,41],[61,32,61,38],[61,4,61,8],[61,10,61,31],[58,39,58,41],[58,32,58,38],[58,4,58,8],[58,10,58,31],[59,39,59,41],[59,32,59,38],[59,4,59,8],[59,10,59,31],[1,43,1,56],[60,39,60,41],[60,32,60,38],[60,4,60,8],[60,10,60,31],[56,39,56,41],[56,32,56,38],[56,4,56,8],[56,10,56,31],[57,39,57,41],[57,32,57,38],[57,4,57,8],[57,10,57,31],[54,39,54,41],[54,32,54,38],[54,4,54,8]]}
["Export VZ",null,null,"List obsahuje:",null,null,null,null,null,null,"1) Rekapitulace stavby",null,null,null,null,null,null,null,null,null,null,null,"2) Rekapitulace objektů stavby a soupisů prací",null,null,null,null,null,null,null,null,null,null,null,null,null,null,null,null,null,null,null,null,null,null,null,null,null,null,null,null,null,"3.0",null,null,null,null,null,null,null,null,null,null,null,null,null,null,null,null,null,null,"False","False","{C9E459E7-8CBB-4606-A8E1-178086A90787}"]
[null,null,null,null,null,null,null,null,null,null,null,null,null,null,null,null,null,null,null,null,null,null,null,null,null,null,null,null,null,null,null,null,null,null,null,null,null,null,null,null,null,null,null,null,null,null,null,null,null,null,null,null,null,null,null,null,null,null,null,null,null,null,null,null,null,null,null,null,null,null,"0,01","21"]
[null,null,null,null,null,null,null,null,null,null,null,null,null,null,null,null,null,null,null,null,null,null,null,null,null,null,null,null,null,null,null,null,null,null,null,null,null,null,null,null,null,null,null,null,null,null,null,null,null,null,null,null,null,null,null,null,null,null,null,null,null,null,null,null,null,null,null,null,null,null,"0,01","15"]
[null,null,null,"REKAPITULACE STAVBY",null,null,null,null,null,null,null,null,null,null,null,null,null,null,null,null,null,null,null,null,null,null,null,null,null,null,null,null,null,null,null,null,null,null,null,null,null,null,null,null,"v ---  níže se nacházejí doplnkové a pomocné údaje k sestavám  --- v",null,null,null,null,null,null,null,null,null,null,null,"Návod na vyplnění",null,null,null,null,null,null,null,null,null,null,null,null,null,"0,001"]
[null,null,null,"Kód:",null,null,null,null,null,null,"TOM443/323V3",null,null,null,null,null,null,null,null,null,null,null,null,null,null,null,null,null,null,null,null,null,null,null,null,null,null,null,null,null,null,null,null,null,null,null,null,null,null,null,null,null,null,null,null,null,"Měnit lze pouze buňky se žlutým podbarvením!\n\n1) v Rekapitulaci stavby vyplňte údaje o Uchazeči (přenesou se do ostatních sestav i v jiných listech)\n\n2) na vybraných listech vyplňte v sestavě Soupis prací ceny u položek\n\nPodrobnosti k vyplnění naleznete na poslední záložce s Pokyny pro vyplnění",null,null,null,null,null,null,null,null,null,null,null,null,null,"0,01"]
[null,null,null,"Stavba:",null,null,null,null,null,null,"Město Sokolov - Záchytné parkoviště Michal",null,null,null,null,null,null,null,null,null,null,null,null,null,null,null,null,null,null,null,null,null,null,null,null,null,null,null,null,null,null,null,null,null,null,null,null,null,null,null,null,null,null,null,null,null,null,null,null,null,null,null,null,null,null,null,null,null,null,null,"0,1"]
[null,null,null,"KSO:",null,null,null,null,null,null,null,null,null,null,null,null,null,null,null,null,null,null,null,null,null,null,null,null,null,null,null,null,null,null,null,null,"CC-CZ:",null,null,"7941-26",null,null,null,null,null,null,null,null,null,null,null,null,null,null,null,null,null,null,null,null,null,null,null,null,null,null,null,null,null,null,"1"]
[null,null,null,"Místo:",null,null,null,null,null,null,"Sokolo",null,null,null,null,null,null,null,null,null,null,null,null,null,null,null,null,null,null,null,null,null,null,null,null,null,"Datum:",null,null,"09.09.2014",null,null,null,null,null,null,null,null,null,null,null,null,null,null,null,null,null,null,null,null,null,null,null,null,null,null,null,null,null,null,"1"]
[null,null,null,null,null,null,null,null,null,null,null,null,null,null,null,null,null,null,null,null,null,null,null,null,null,null,null,null,null,null,null,null,null,null,null,null,null,null,null,null,null,null,null,null,null,null,null,null,null,null,null,null,null,null,null,null,null,null,null,null,null,null,null,null,null,null,null,null,null,null,"1"]
[null,null,null,"Zadavatel:",null,null,null,null,null,null,null,null,null,null,null,null,null,null,null,null,null,null,null,null,null,null,null,null,null,null,null,null,null,null,null,null,"IČ:",null,null,null,null,null,null,null,null,null,null,null,null,null,null,null,null,null,null,null,null,null,null,null,null,null,null,null,null,null,null,null,null,null,"0,1"]
[null,null,null,null,"Město Sokolov",null,null,null,null,null,null,null,null,null,null,null,null,null,null,null,null,null,null,null,null,null,null,null,null,null,null,null,null,null,null,null,"DIČ:",null,null,null,null,null,null,null,null,null,null,null,null,null,null,null,null,null,null,null,null,null,null,null,null,null,null,null,null,null,null,null,null,null,"0,1"]
[null,null,null,null,null,null,null,null,null,null,null,null,null,null,null,null,null,null,null,null,null,null,null,null,null,null,null,null,null,null,null,null,null,null,null,null,null,null,null,null,null,null,null,null,null,null,null,null,null,null,null,null,null,null,null,null,null,null,null,null,null,null,null,null,null,null,null,null,null,null,"0,1"]
[null,null,null,"Uchazeč:",null,null,null,null,null,null,null,null,null,null,null,null,null,null,null,null,null,null,null,null,null,null,null,null,null,null,null,null,null,null,null,null,"IČ:",null,null,"Vyplň údaj",null,null,null,null,null,null,null,null,null,null,null,null,null,null,null,null,null,null,null,null,null,null,null,null,null,null,null,null,null,null,"0,1"]
[null,null,null,null,"Vyplň údaj",null,null,null,null,null,null,null,null,null,null,null,null,null,null,null,null,null,null,null,null,null,null,null,null,null,null,null,null,null,null,null,"DIČ:",null,null,"Vyplň údaj",null,null,null,null,null,null,null,null,null,null,null,null,null,null,null,null,null,null,null,null,null,null,null,null,null,null,null,null,null,null,"0,1"]
[null,null,null,null,null,null,null,null,null,null,null,null,null,null,null,null,null,null,null,null,null,null,null,null,null,null,null,null,null,null,null,null,null,null,null,null,null,null,null,null,null,null,null,null,null,null,null,null,null,null,null,null,null,null,null,null,null,null,null,null,null,null,null,null,null,null,null,null,null,null,"False"]
[null,null,null,"Projektant:",null,null,null,null,null,null,null,null,null,null,null,null,null,null,null,null,null,null,null,null,null,null,null,null,null,null,null,null,null,null,null,null,"IČ:",null,null,"18224920",null,null,null,null,null,null,null,null,null,null,null,null,null,null,null,null,null,null,null,null,null,null,null,null,null,null,null,null,null,null,"False"]
[null,null,null,null,"BPO spol. s r.o., Lidická 1239, 363 17 Ostrov",null,null,null,null,null,null,null,null,null,null,null,null,null,null,null,null,null,null,null,null,null,null,null,null,null,null,null,null,null,null,null,"DIČ:",null,null,"CZ18224920",null,null,null,null,null,null,null,null,null,null,null,null,null,null,null,null,null,null,null,null,null,null,null,null,null,null,null,null,null,null,"True"]
[null,null,null,null,null,null,null,null,null,null,null,null,null,null,null,null,null,null,null,null,null,null,null,null,null,null,null,null,null,null,null,null,null,null,null,null,null,null,null,null,null,null,null,null,null,null,null,null,null,null,null,null,null,null,null,null,null,null,null,null,null,null,null,null,null,null,null,null,null,null,"0,01"]
[null,null,null,"Poznámka:",null,null,null,null,null,null,null,null,null,null,null,null,null,null,null,null,null,null,null,null,null,null,null,null,null,null,null,null,null,null,null,null,null,null,null,null,null,null,null,null,null,null,null,null,null,null,null,null,null,null,null,null,null,null,null,null,null,null,null,null,null,null,null,null,null,null,"0,01"]
[null,null,null,null,"Soupis prací je sestaven s využitím položek Cenové soustavy ÚRS. Cenové a technické podmínky položek Cenové soustavy ÚRS jsou neomezeně dálkově k dispozici na www.cs-urs.cz. Položky soupisu prací, které nemají ve sloupci \"Cenová soustava\" uvedený žádný údaj, nepochází z Cenové soustavy ÚRS.",null,null,null,null,null,null,null,null,null,null,null,null,null,null,null,null,null,null,null,null,null,null,null,null,null,null,null,null,null,null,null,null,null,null,null,null,null,null,null,null,null,null,null,null,null,null,null,null,null,null,null,null,null,null,null,null,null,null,null,null,null,null,null,null,null,"False"]
[]
[]
[null,null,null,"Cena bez DPH",null,null,null,null,null,null,null,null,null,null,null,null,null,null,null,null,null,null,null,null,null,null,null,null,null,null,null,null,null,null,null,null,{"$f":"ROUND($AG$51,2)","v":0}]
[]
[null,null,null,null,null,null,null,null,null,null,null,"Sazba daně",null,null,null,null,null,null,null,null,null,null,"Základ daně",null,null,null,null,null,null,null,null,null,null,null,null,null,"Výše daně"]
[null,null,null,"DPH",null,"základní",null,null,null,null,null,0.21,null,null,null,null,null,null,null,null,null,null,{"$f":"ROUND($AZ$51,2)","v":0},null,null,null,null,null,null,null,null,null,null,null,null,null,{"$f":"ROUND($AV$51,2)","v":0}]
[null,null,null,null,null,"snížená",null,null,null,null,null,0.15,null,null,null,null,null,null,null,null,null,null,{"$f":"ROUND($BA$51,2)","v":0},null,null,null,null,null,null,null,null,null,null,null,null,null,{"$f":"ROUND($AW$51,2)","v":0}]
[null,null,null,null,null,"zákl. přenesená",null,null,null,null,null,0.21,null,null,null,null,null,null,null,null,null,null,{"$f":"ROUND($BB$51,2)","v":0},null,null,null,null,null,null,null,null,null,null,null,null,null,0]
[null,null,null,null,null,"sníž. přenesená",null,null,null,null,null,0.15,null,null,null,null,null,null,null,null,null,null,{"$f":"ROUND($BC$51,2)","v":0},null,null,null,null,null,null,null,null,null,null,null,null,null,0]
[null,null,null,null,null,"nulová",null,null,null,null,null,0,null,null,null,null,null,null,null,null,null,null,{"$f":"ROUND($BD$51,2)","v":0},null,null,null,null,null,null,null,null,null,null,null,null,null,0]
[]
[null,null,null,"Cena s DPH",null,null,null,null,null,null,null,null,null,null,null,null,null,null,null,"v",null,null,null,"CZK",null,null,null,null,null,null,null,null,null,null,null,null,{"$f":"ROUND(SUM($AK$23:$AK$30),2)","v":0}]
[]
[]
[]
[]
[]
[]
[null,null,"REKAPITULACE OBJEKTŮ STAVBY A SOUPISŮ PRACÍ"]
[]
[null,null,"Kód:",null,null,null,null,null,null,null,null,{"$f":"$K$5","v":"TOM443/323V3"}]
[null,null,"Stavba:",null,null,null,null,null,null,null,null,{"$f":"$K$6","v":"Město Sokolov - Záchytné parkoviště Michal"}]
[]
[null,null,"Místo:",null,null,null,null,null,null,null,null,{"$f":"IF($K$8=\"\",\"\",$K$8)","v":"Sokolo"},null,null,null,null,null,null,null,null,null,null,null,null,null,null,null,null,null,null,null,null,null,null,"Datum:",null,null,null,{"$f":"IF($AN$8=\"\",\"\",$AN$8)","v":"09.09.2014"}]
[]
[null,null,"Zadavatel:",null,null,null,null,null,null,null,null,{"$f":"IF($E$11=\"\",\"\",$E$11)","v":"Město Sokolov"},null,null,null,null,null,null,null,null,null,null,null,null,null,null,null,null,null,null,null,null,null,null,"Projektant:",null,null,null,{"$f":"IF($E$17=\"\",\"\",$E$17)","v":"BPO spol. s r.o., Lidická 1239, 363 17 Ostrov"},null,null,null,null,null,"Informatívní údaje z listů zakázek"]
[null,null,"Uchazeč:",null,null,null,null,null,null,null,null,{"$f":"IF($E$14=\"Vyplň údaj\",\"\",$E$14)","v":""}]
[]
[null,null,"Kód",null,null,null,null,null,"Objekt, Soupis prací",null,null,null,null,null,null,null,null,null,null,null,null,null,null,null,null,null,null,null,null,null,null,null,"Cena bez DPH [CZK]",null,null,null,null,null,null,"Cena s DPH [CZK]",null,null,"Typ",null,"z toho Ostat.\nnáklady [CZK]","DPH [CZK]","Normohodiny [h]","DPH základní [CZK]","DPH snížená [CZK]","DPH základní přenesená\n[CZK]","DPH snížená přenesená\n[CZK]","Základna\nDPH základní","Základna\nDPH snížená","Základna\nDPH zákl. přenesená","Základna\nDPH sníž. přenesená","Základna\nDPH nulová"]
[]
[null,null,"Náklady stavby celkem",null,null,null,null,null,null,null,null,null,null,null,null,null,null,null,null,null,null,null,null,null,null,null,null,null,null,null,null,null,{"$f":"ROUND($AG$52+$AG$56,2)","v":0},null,null,null,null,null,null,{"$f":"ROUND(SUM($AG$51,$AT$51),2)","v":0},null,null,null,null,{"$f":"ROUND($AS$52+$AS$56,2)","v":0},{"$f":"ROUND(SUM($AV$51:$AW$51),2)","v":0},{"$f":"ROUND($AU$52+$AU$56,5)","v":0},{"$f":"ROUND($AZ$51*$L$26,2)","v":0},{"$f":"ROUND($BA$51*$L$27,2)","v":0},{"$f":"ROUND($BB$51*$L$26,2)","v":0},{"$f":"ROUND($BC$51*$L$27,2)","v":0},{"$f":"ROUND($AZ$52+$AZ$56,2)","v":0},{"$f":"ROUND($BA$52+$BA$56,2)","v":0},{"$f":"ROUND($BB$52+$BB$56,2)","v":0},{"$f":"ROUND($BC$52+$BC$56,2)","v":0},{"$f":"ROUND($BD$52+$BD$56,2)","v":0},null,null,null,null,null,null,null,null,null,null,null,null,null,null,"D","0","###NOIMPORT###","IMPORT","{C9E459E7-8CBB-4606-A8E1-178086A90787}","{00000000-0000-0000-0000-000000000000}"]
[null,null,null,"1.E",null,null,null,null,null,"1.ETAPA",null,null,null,null,null,null,null,null,null,null,null,null,null,null,null,null,null,null,null,null,null,null,{"$f":"ROUND(SUM($AG$53:$AG$55),2)","v":0},null,null,null,null,null,null,{"$f":"ROUND(SUM($AG$52,$AT$52),2)","v":0},null,null,"STA",null,{"$f":"ROUND(SUM($AS$53:$AS$55),2)","v":0},{"$f":"ROUND(SUM($AV$52:$AW$52),2)","v":0},{"$f":"ROUND(SUM($AU$53:$AU$55),5)","v":0},{"$f":"ROUND($AZ$52*$L$26,2)","v":0},{"$f":"ROUND($BA$52*$L$27,2)","v":0},{"$f":"ROUND($BB$52*$L$26,2)","v":0},{"$f":"ROUND($BC$52*$L$27,2)","v":0},{"$f":"ROUND(SUM($AZ$53:$AZ$55),2)","v":0},{"$f":"ROUND(SUM($BA$53:$BA$55),2)","v":0},{"$f":"ROUND(SUM($BB$53:$BB$55),2)","v":0},{"$f":"ROUND(SUM($BC$53:$BC$55),2)","v":0},{"$f":"ROUND(SUM($BD$53:$BD$55),2)","v":0},null,null,null,null,null,null,null,null,null,null,null,null,null,null,"D","1","###NOIMPORT###","IMPORT","{41C10505-D7EA-4CD7-A62C-F0CC0570782F}","{C9E459E7-8CBB-4606-A8E1-178086A90787}",null,null,null,null,null,null,null,null,null,null,null,null,null,null,"2"]
["/",null,null,null,"SO122",null,null,null,null,null,"SO 122  Úprava Mánesovy ulice",null,null,null,null,null,null,null,null,null,null,null,null,null,null,null,null,null,null,null,null,null,{"$f":"'SO122 - SO 122  Úprava Má...'!$J$29","v":0},null,null,null,null,null,null,{"$f":"ROUND(SUM($AG$53,$AT$53),2)","v":0},null,null,"Soupis",null,0,{"$f":"ROUND(SUM($AV$53:$AW$53),2)","v":0},{"$f":"'SO122 - SO 122  Úprava Má...'!$P$93","v":0},{"$f":"'SO122 - SO 122  Úprava Má...'!$J$32","v":0},{"$f":"'SO122 - SO 122  Úprava Má...'!$J$33","v":0},{"$f":"'SO122 - SO 122  Úprava Má...'!$J$34","v":0},{"$f":"'SO122 - SO 122  Úprava Má...'!$J$35","v":0},{"$f":"'SO122 - SO 122  Úprava Má...'!$F$32","v":0},{"$f":"'SO122 - SO 122  Úprava Má...'!$F$33","v":0},{"$f":"'SO122 - SO 122  Úprava Má...'!$F$34","v":0},{"$f":"'SO122 - SO 122  Úprava Má...'!$F$35","v":0},{"$f":"'SO122 - SO 122  Úprava Má...'!$F$36","v":0},null,null,null,null,null,null,null,null,null,null,null,null,null,null,null,"2",null,"IMPORT","{C55139DE-DF8F-4D43-9F39-B6B4DC65793D}","{41C10505-D7EA-4CD7-A62C-F0CC0570782F}",null,null,null,null,null,null,null,null,null,null,null,null,null,"822 25"]
["/",null,null,null,"SO511",null,null,null,null,null,"SO 511  Přeložka VTL plynovodu",null,null,null,null,null,null,null,null,null,null,null,null,null,null,null,null,null,null,null,null,null,{"$f":"'SO511 - SO 511  Přeložka ...'!$J$29","v":0},null,null,null,null,null,null,{"$f":"ROUND(SUM($AG$54,$AT$54),2)","v":0},null,null,"Soupis",null,0,{"$f":"ROUND(SUM($AV$54:$AW$54),2)","v":0},{"$f":"'SO511 - SO 511  Přeložka ...'!$P$89","v":0},{"$f":"'SO511 - SO 511  Přeložka ...'!$J$32","v":0},{"$f":"'SO511 - SO 511  Přeložka ...'!$J$33","v":0},{"$f":"'SO511 - SO 511  Přeložka ...'!$J$34","v":0},{"$f":"'SO511 - SO 511  Přeložka ...'!$J$35","v":0},{"$f":"'SO511 - SO 511  Přeložka ...'!$F$32","v":0},{"$f":"'SO511 - SO 511  Přeložka ...'!$F$33","v":0},{"$f":"'SO511 - SO 511  Přeložka ...'!$F$34","v":0},{"$f":"'SO511 - SO 511  Přeložka ...'!$F$35","v":0},{"$f":"'SO511 - SO 511  Přeložka ...'!$F$36","v":0},null,null,null,null,null,null,null,null,null,null,null,null,null,null,null,"2",null,"IMPORT","{FF285C7C-12BB-4059-B31F-89B3DAE50A8D}","{41C10505-D7EA-4CD7-A62C-F0CC0570782F}",null,null,null,null,null,null,null,null,null,null,null,null,null,"827 52"]
["/",null,null,null,"VON-1E",null,null,null,null,null,"Vedlejší rozpočrové náklady (VRN) a Ostatní náklady (ON)",null,null,null,null,null,null,null,null,null,null,null,null,null,null,null,null,null,null,null,null,null,{"$f":"'VON-1E - Vedlejší rozpočr...'!$J$29","v":0},null,null,null,null,null,null,{"$f":"ROUND(SUM($AG$55,$AT$55),2)","v":0},null,null,"Soupis",null,0,{"$f":"ROUND(SUM($AV$55:$AW$55),2)","v":0},{"$f":"'VON-1E - Vedlejší rozpočr...'!$P$86","v":0},{"$f":"'VON-1E - Vedlejší rozpočr...'!$J$32","v":0},{"$f":"'VON-1E - Vedlejší rozpočr...'!$J$33","v":0},{"$f":"'VON-1E - Vedlejší rozpočr...'!$J$34","v":0},{"$f":"'VON-1E - Vedlejší rozpočr...'!$J$35","v":0},{"$f":"'VON-1E - Vedlejší rozpočr...'!$F$32","v":0},{"$f":"'VON-1E - Vedlejší rozpočr...'!$F$33","v":0},{"$f":"'VON-1E - Vedlejší rozpočr...'!$F$34","v":0},{"$f":"'VON-1E - Vedlejší rozpočr...'!$F$35","v":0},{"$f":"'VON-1E - Vedlejší rozpočr...'!$F$36","v":0},null,null,null,null,null,null,null,null,null,null,null,null,null,null,null,"2",null,"IMPORT","{35FD886D-B9A4-457C-9FC2-B59FD72BA824}","{41C10505-D7EA-4CD7-A62C-F0CC0570782F}",null,null,null,null,null,null,null,null,null,null,null,null,null,"822 29"]
[null,null,null,"2.E",null,null,null,null,null,"2. ETAPA",null,null,null,null,null,null,null,null,null,null,null,null,null,null,null,null,null,null,null,null,null,null,{"$f":"ROUND(SUM($AG$57:$AG$62),2)","v":0},null,null,null,null,null,null,{"$f":"ROUND(SUM($AG$56,$AT$56),2)","v":0},null,null,"STA",null,{"$f":"ROUND(SUM($AS$57:$AS$62),2)","v":0},{"$f":"ROUND(SUM($AV$56:$AW$56),2)","v":0},{"$f":"ROUND(SUM($AU$57:$AU$62),5)","v":0},{"$f":"ROUND($AZ$56*$L$26,2)","v":0},{"$f":"ROUND($BA$56*$L$27,2)","v":0},{"$f":"ROUND($BB$56*$L$26,2)","v":0},{"$f":"ROUND($BC$56*$L$27,2)","v":0},{"$f":"ROUND(SUM($AZ$57:$AZ$62),2)","v":0},{"$f":"ROUND(SUM($BA$57:$BA$62),2)","v":0},{"$f":"ROUND(SUM($BB$57:$BB$62),2)","v":0},{"$f":"ROUND(SUM($BC$57:$BC$62),2)","v":0},{"$f":"ROUND(SUM($BD$57:$BD$62),2)","v":0},null,null,null,null,null,null,null,null,null,null,null,null,null,null,"D","1","###NOIMPORT###","IMPORT","{25432198-016F-4DD2-AFEB-6AF1DEE1E65A}","{C9E459E7-8CBB-4606-A8E1-178086A90787}",null,null,null,null,null,null,null,null,null,null,null,null,null,"822 29","2"]
["/",null,null,null,"SO111",null,null,null,null,null,"SO 111  Parkoviště",null,null,null,null,null,null,null,null,null,null,null,null,null,null,null,null,null,null,null,null,null,{"$f":"'SO111 - SO 111  Parkoviště'!$J$29","v":0},null,null,null,null,null,null,{"$f":"ROUND(SUM($AG$57,$AT$57),2)","v":0},null,null,"Soupis",null,0,{"$f":"ROUND(SUM($AV$57:$AW$57),2)","v":0},{"$f":"'SO111 - SO 111  Parkoviště'!$P$95","v":0},{"$f":"'SO111 - SO 111  Parkoviště'!$J$32","v":0},{"$f":"'SO111 - SO 111  Parkoviště'!$J$33","v":0},{"$f":"'SO111 - SO 111  Parkoviště'!$J$34","v":0},{"$f":"'SO111 - SO 111  Parkoviště'!$J$35","v":0},{"$f":"'SO111 - SO 111  Parkoviště'!$F$32","v":0},{"$f":"'SO111 - SO 111  Parkoviště'!$F$33","v":0},{"$f":"'SO111 - SO 111  Parkoviště'!$F$34","v":0},{"$f":"'SO111 - SO 111  Parkoviště'!$F$35","v":0},{"$f":"'SO111 - SO 111  Parkoviště'!$F$36","v":0},null,null,null,null,null,null,null,null,null,null,null,null,null,null,null,"2",null,"IMPORT","{574DB0AE-F8E1-4219-8846-1B43C4A81494}","{25432198-016F-4DD2-AFEB-6AF1DEE1E65A}",null,null,null,null,null,null,null,null,null,null,null,null,null,"822 29"]
["/",null,null,null,"SO132",null,null,null,null,null,"SO 132  Napojení na silnici  II/2009",null,null,null,null,null,null,null,null,null,null,null,null,null,null,null,null,null,null,null,null,null,{"$f":"'SO132 - SO 132  Napojení ...'!$J$29","v":0},null,null,null,null,null,null,{"$f":"ROUND(SUM($AG$58,$AT$58),2)","v":0},null,null,"Soupis",null,0,{"$f":"ROUND(SUM($AV$58:$AW$58),2)","v":0},{"$f":"'SO132 - SO 132  Napojení ...'!$P$85","v":0},{"$f":"'SO132 - SO 132  Napojení ...'!$J$32","v":0},{"$f":"'SO132 - SO 132  Napojení ...'!$J$33","v":0},{"$f":"'SO132 - SO 132  Napojení ...'!$J$34","v":0},{"$f":"'SO132 - SO 132  Napojení ...'!$J$35","v":0},{"$f":"'SO132 - SO 132  Napojení ...'!$F$32","v":0},{"$f":"'SO132 - SO 132  Napojení ...'!$F$33","v":0},{"$f":"'SO132 - SO 132  Napojení ...'!$F$34","v":0},{"$f":"'SO132 - SO 132  Napojení ...'!$F$35","v":0},{"$f":"'SO132 - SO 132  Napojení ...'!$F$36","v":0},null,null,null,null,null,null,null,null,null,null,null,null,null,null,null,"2",null,"IMPORT","{0223295B-16F4-405E-8C53-14D4A07FB922}","{25432198-016F-4DD2-AFEB-6AF1DEE1E65A}",null,null,null,null,null,null,null,null,null,null,null,null,null,"822 29"]
["/",null,null,null,"SO311",null,null,null,null,null,"SO 311  Dešťová kanalizace",null,null,null,null,null,null,null,null,null,null,null,null,null,null,null,null,null,null,null,null,null,{"$f":"'SO311 - SO 311  Dešťová k...'!$J$29","v":0},null,null,null,null,null,null,{"$f":"ROUND(SUM($AG$59,$AT$59),2)","v":0},null,null,"Soupis",null,0,{"$f":"ROUND(SUM($AV$59:$AW$59),2)","v":0},{"$f":"'SO311 - SO 311  Dešťová k...'!$P$92","v":0},{"$f":"'SO311 - SO 311  Dešťová k...'!$J$32","v":0},{"$f":"'SO311 - SO 311  Dešťová k...'!$J$33","v":0},{"$f":"'SO311 - SO 311  Dešťová k...'!$J$34","v":0},{"$f":"'SO311 - SO 311  Dešťová k...'!$J$35","v":0},{"$f":"'SO311 - SO 311  Dešťová k...'!$F$32","v":0},{"$f":"'SO311 - SO 311  Dešťová k...'!$F$33","v":0},{"$f":"'SO311 - SO 311  Dešťová k...'!$F$34","v":0},{"$f":"'SO311 - SO 311  Dešťová k...'!$F$35","v":0},{"$f":"'SO311 - SO 311  Dešťová k...'!$F$36","v":0},null,null,null,null,null,null,null,null,null,null,null,null,null,null,null,"2",null,"IMPORT","{D68EA3AE-4AEE-49AC-883A-298A897F9EC9}","{25432198-016F-4DD2-AFEB-6AF1DEE1E65A}",null,null,null,null,null,null,null,null,null,null,null,null,null,"827 21"]
["/",null,null,null,"SO411",null,null,null,null,null,"SO 411  Veřejné osvětlení",null,null,null,null,null,null,null,null,null,null,null,null,null,null,null,null,null,null,null,null,null,{"$f":"'SO411 - SO 411  Veřejné o...'!$J$29","v":0},null,null,null,null,null,null,{"$f":"ROUND(SUM($AG$60,$AT$60),2)","v":0},null,null,"Soupis",null,0,{"$f":"ROUND(SUM($AV$60:$AW$60),2)","v":0},{"$f":"'SO411 - SO 411  Veřejné o...'!$P$87","v":0},{"$f":"'SO411 - SO 411  Veřejné o...'!$J$32","v":0},{"$f":"'SO411 - SO 411  Veřejné o...'!$J$33","v":0},{"$f":"'SO411 - SO 411  Veřejné o...'!$J$34","v":0},{"$f":"'SO411 - SO 411  Veřejné o...'!$J$35","v":0},{"$f":"'SO411 - SO 411  Veřejné o...'!$F$32","v":0},{"$f":"'SO411 - SO 411  Veřejné o...'!$F$33","v":0},{"$f":"'SO411 - SO 411  Veřejné o...'!$F$34","v":0},{"$f":"'SO411 - SO 411  Veřejné o...'!$F$35","v":0},{"$f":"'SO411 - SO 411  Veřejné o...'!$F$36","v":0},null,null,null,null,null,null,null,null,null,null,null,null,null,null,null,"2",null,"IMPORT","{D2AEBDF9-2F55-4F16-8AE2-41D3C550F250}","{25432198-016F-4DD2-AFEB-6AF1DEE1E65A}",null,null,null,null,null,null,null,null,null,null,null,null,null,"828 79"]
["/",null,null,null,"SO412",null,null,null,null,null,"SO 412  Kamerový systém",null,null,null,null,null,null,null,null,null,null,null,null,null,null,null,null,null,null,null,null,null,{"$f":"'SO412 - SO 412  Kamerový ...'!$J$29","v":0},null,null,null,null,null,null,{"$f":"ROUND(SUM($AG$61,$AT$61),2)","v":0},null,null,"Soupis",null,0,{"$f":"ROUND(SUM($AV$61:$AW$61),2)","v":0},{"$f":"'SO412 - SO 412  Kamerový ...'!$P$89","v":0},{"$f":"'SO412 - SO 412  Kamerový ...'!$J$32","v":0},{"$f":"'SO412 - SO 412  Kamerový ...'!$J$33","v":0},{"$f":"'SO412 - SO 412  Kamerový ...'!$J$34","v":0},{"$f":"'SO412 - SO 412  Kamerový ...'!$J$35","v":0},{"$f":"'SO412 - SO 412  Kamerový ...'!$F$32","v":0},{"$f":"'SO412 - SO 412  Kamerový ...'!$F$33","v":0},{"$f":"'SO412 - SO 412  Kamerový ...'!$F$34","v":0},{"$f":"'SO412 - SO 412  Kamerový ...'!$F$35","v":0},{"$f":"'SO412 - SO 412  Kamerový ...'!$F$36","v":0},null,null,null,null,null,null,null,null,null,null,null,null,null,null,null,"2",null,"IMPORT","{5D7137B4-0918-4BA2-AA7F-99E993F990A9}","{25432198-016F-4DD2-AFEB-6AF1DEE1E65A}",null,null,null,null,null,null,null,null,null,null,null,null,null,"828 79"]
["/",null,null,null,"VON-2E",null,null,null,null,null,"Vedlejší rozpočrové náklady (VRN) a Ostatní náklady (ON)",null,null,null,null,null,null,null,null,null,null,null,null,null,null,null,null,null,null,null,null,null,{"$f":"'VON-2E - Vedlejší rozpočr...'!$J$29","v":0},null,null,null,null,null,null,{"$f":"ROUND(SUM($AG$62,$AT$62),2)","v":0},null,null,"Soupis",null,0,{"$f":"ROUND(SUM($AV$62:$AW$62),2)","v":0},{"$f":"'VON-2E - Vedlejší rozpočr...'!$P$89","v":0},{"$f":"'VON-2E - Vedlejší rozpočr...'!$J$32","v":0},{"$f":"'VON-2E - Vedlejší rozpočr...'!$J$33","v":0},{"$f":"'VON-2E - Vedlejší rozpočr...'!$J$34","v":0},{"$f":"'VON-2E - Vedlejší rozpočr...'!$J$35","v":0},{"$f":"'VON-2E - Vedlejší rozpočr...'!$F$32","v":0},{"$f":"'VON-2E - Vedlejší rozpočr...'!$F$33","v":0},{"$f":"'VON-2E - Vedlejší rozpočr...'!$F$34","v":0},{"$f":"'VON-2E - Vedlejší rozpočr...'!$F$35","v":0},{"$f":"'VON-2E - Vedlejší rozpočr...'!$F$36","v":0},null,null,null,null,null,null,null,null,null,null,null,null,null,null,null,"2",null,"IMPORT","{8C002770-634E-414C-A4A8-C1E29F904F84}","{25432198-016F-4DD2-AFEB-6AF1DEE1E65A}",null,null,null,null,null,null,null,null,null,null,null,null,null,"822 29"]

{"sheet":"SO122 - SO 122  Úprava Má...","index":1,"n_rows":540,"n_cols":65,"rows_kept":540,"cut":false,"hidden":false,"merged":[[82,4,82,7],[84,4,84,7],[25,4,25,7],[46,4,46,7],[48,4,48,7],[50,4,50,7],[80,4,80,7],[0,6,0,7],[1,11,1,21],[6,4,6,7],[8,4,8,7],[10,4,10,7]]}
[null,null,null,"List obsahuje:",null,"1) Krycí list soupisu","2) Rekapitulace",null,null,"3) Soupis prací","Zpět na list:","Rekapitulace stavby"]
[null,null,null,null,null,null,null,null,null,null,null,null,null,null,null,null,null,null,null,null,null,null,null,null,null,null,null,null,null,null,null,null,null,null,null,null,null,null,null,null,null,null,null,null,null,"{C55139DE-DF8F-4D43-9F39-B6B4DC65793D}"]
[null,null,null,null,null,null,null,null,null,null,null,null,null,null,null,null,null,null,null,null,null,null,null,null,null,null,null,null,null,null,null,null,null,null,null,null,null,null,null,null,null,null,null,null,null,"2"]
[null,null,null,"KRYCÍ LIST SOUPISU",null,null,null,null,null,null,null,null,"v ---  níže se nacházejí doplnkové a pomocné údaje k sestavám  --- v",null,null,null,null,null,null,null,null,null,null,null,null,null,null,null,null,null,null,null,null,null,null,null,null,null,null,null,null,null,null,null,null,"False"]
[]
[null,null,null,"Stavba:"]
[null,null,null,null,{"$f":"'Rekapitulace stavby'!$K$6","v":"Město Sokolov - Záchytné parkoviště Michal"}]
[null,null,null,"Objekt:"]
[null,null,null,null,"1.E - 1.ETAPA"]
[null,null,null,"Soupis:"]
[null,null,null,null,"SO122 - SO 122  Úprava Mánesovy ulice"]
[]
[null,null,null,"KSO:",null,"822 25",null,null,"CC-CZ:","7941-26"]
[null,null,null,"Místo:",null,"Sokolov",null,null,"Datum:",{"$f":"'Rekapitulace stavby'!$AN$8","v":"09.09.2014"}]
[]
[null,null,null,"Zadavatel:",null,null,null,null,"IČ:"]
[null,null,null,null,"Město Sokolov",null,null,null,"DIČ:"]
[]
[null,null,null,"Uchazeč:",null,null,null,null,"IČ:",{"$f":"IF('Rekapitulace stavby'!$AN$13=\"Vyplň údaj\",\"\",IF('Rekapitulace stavby'!$AN$13=\"\",\"\",'Rekapitulace stavby'!$AN$13))","v":""}]
[null,null,null,null,{"$f":"IF('Rekapitulace stavby'!$E$14=\"Vyplň údaj\",\"\",IF('Rekapitulace stavby'!$E$14=\"\",\"\",'Rekapitulace stavby'!$E$14))","v":""},null,null,null,"DIČ:",{"$f":"IF('Rekapitulace stavby'!$AN$14=\"Vyplň údaj\",\"\",IF('Rekapitulace stavby'!$AN$14=\"\",\"\",'Rekapitulace stavby'!$AN$14))","v":""}]
[]
[null,null,null,"Projektant:",null,null,null,null,"IČ:","18224920"]
[null,null,null,null,"BPO spol. s r.o., Lidická 1239, 363 17 Ostrov",null,null,null,"DIČ:","CZ18224920"]
[]
[null,null,null,"Poznámka:"]
[]
[]
[]
[null,null,null,"Cena bez DPH",null,null,null,null,null,{"$f":"ROUND($J$93,2)","v":0}]
[]
[null,null,null,null,null,"Základ daně",null,null,"Sazba daně","Výše daně"]
[null,null,null,"DPH","základní",{"$f":"ROUND(SUM($BE$93:$BE$540),2)","v":0},null,null,0.21,{"$f":"ROUND(SUM($BE$93:$BE$540)*$I$32,2)","v":0}]
[null,null,null,null,"snížená",{"$f":"ROUND(SUM($BF$93:$BF$540),2)","v":0},null,null,0.15,{"$f":"ROUND(SUM($BF$93:$BF$540)*$I$33,2)","v":0}]
[null,null,null,null,"zákl. přenesená",{"$f":"ROUND(SUM($BG$93:$BG$540),2)","v":0},null,null,0.21,0]
[null,null,null,null,"sníž. přenesená",{"$f":"ROUND(SUM($BH$93:$BH$540),2)","v":0},null,null,0.15,0]
[null,null,null,null,"nulová",{"$f":"ROUND(SUM($BI$93:$BI$540),2)","v":0},null,null,0,0]
[]
[null,null,null,"Cena s DPH",null,null,"v","CZK",null,{"$f":"ROUND(SUM($J$29:$J$36),2)","v":0}]
[]
[]
[]
[]
[]
[null,null,"REKAPITULACE ČLENĚNÍ SOUPISU PRACÍ"]
[]
[null,null,"Stavba:"]
[null,null,null,null,{"$f":"$E$7","v":"Město Sokolov - Záchytné parkoviště Michal"}]
[null,null,"Objekt:"]
[null,null,null,null,"1.E - 1.ETAPA"]
[null,null,"Soupis:"]
[null,null,null,null,{"$f":"$E$11","v":"SO122 - SO 122  Úprava Mánesovy ulice"}]
[]
[null,null,"Místo:",null,null,{"$f":"$F$14","v":"Sokolov"},null,null,"Datum:",{"$f":"IF($J$14=\"\",\"\",$J$14)","v":"09.09.2014"}]
[]
[null,null,"Zadavatel:",null,null,{"$f":"$E$17","v":"Město Sokolov"},null,null,"Projektant:",{"$f":"$E$23","v":"BPO spol. s r.o., Lidická 1239, 363 17 Ostrov"}]
[null,null,"Uchazeč:",null,null,{"$f":"IF($E$20=\"\",\"\",$E$20)","v":""}]
[]
[null,null,"Kód dílu - Popis",null,null,null,null,null,null,"Cena celkem [CZK]"]
[]
[null,null,"Náklady soupisu celkem",null,null,null,null,null,null,{"$f":"ROUND($J$93,2)","v":0},null,null,null,null,null,null,null,null,null,null,null,null,null,null,null,null,null,null,null,null,null,null,null,null,null,null,null,null,null,null,null,null,null,null,null,null,"-1"]
[null,null,null,"HSV - Práce a dodávky HSV",null,null,null,null,null,{"$f":"ROUND($J$94,2)","v":0}]
[null,null,null,"    1 - Zemní práce",null,null,null,null,null,{"$f":"ROUND($J$95,2)","v":0}]
[null,null,null,"    11 - Zemní práce - přípravné a přidružené práce",null,null,null,null,null,{"$f":"ROUND($J$263,2)","v":0}]
[null,null,null,"    45 - Vodorovné podkladní a vedlejší konstrukce inž. staveb",null,null,null,null,null,{"$f":"ROUND($J$294,2)","v":0}]
[null,null,null,"    56 - Podkladní vrstvy komunikací, letišť a ploch",null,null,null,null,null,{"$f":"ROUND($J$301,2)","v":0}]
[null,null,null,"    57 - Kryty pozemních komunikací letišť a ploch z kameniva nebo živičné",null,null,null,null,null,{"$f":"ROUND($J$324,2)","v":0}]
[null,null,null,"    59 - Kryty pozemních komunikací, letišť a ploch dlážděných (předlažby)",null,null,null,null,null,{"$f":"ROUND($J$347,2)","v":0}]
[null,null,null,"    8 - Trubní vedení",null,null,null,null,null,{"$f":"ROUND($J$369,2)","v":0}]
[null,null,null,"    91 - Doplňující konstrukce a práce pozemních komunikací, letišť a ploch",null,null,null,null,null,{"$f":"ROUND($J$396,2)","v":0}]
[null,null,null,"      93 - Různé dokončovací konstrukce a práce inženýrských staveb",null,null,null,null,null,{"$f":"ROUND($J$487,2)","v":0}]
[null,null,null,"    99 - Přesun hmot a sutí",null,null,null,null,null,{"$f":"ROUND($J$503,2)","v":0}]
[]
[]
[]
[]
[]
[]
[null,null,"SOUPIS PRACÍ"]
[]
[null,null,"Stavba:"]
[null,null,null,null,{"$f":"$E$7","v":"Město Sokolov - Záchytné parkoviště Michal"}]
[null,null,"Objekt:"]
[null,null,null,null,"1.E - 1.ETAPA"]
[null,null,"Soupis:"]
[null,null,null,null,{"$f":"$E$11","v":"SO122 - SO 122  Úprava Mánesovy ulice"}]
[]
[null,null,"Místo:",null,null,{"$f":"$F$14","v":"Sokolov"},null,null,"Datum:",{"$f":"IF($J$14=\"\",\"\",$J$14)","v":"09.09.2014"}]
[]
[null,null,"Zadavatel:",null,null,{"$f":"$E$17","v":"Město Sokolov"},null,null,"Projektant:",{"$f":"$E$23","v":"BPO spol. s r.o., Lidická 1239, 363 17 Ostrov"}]
[null,null,"Uchazeč:",null,null,{"$f":"IF($E$20=\"\",\"\",$E$20)","v":""}]
[]
[null,null,"PČ","Typ","Kód","Popis","MJ","Množství","J.cena [CZK]","Cena celkem\n[CZK]","Cenová soustava",null,"Poznámka","DPH","J. Nh [h]","Nh celkem [h]","J. hmotnost\n[t]","Hmotnost\ncelkem [t]","J. suť [t]","Suť Celkem [t]"]
[null,null,"Náklady soupisu celkem",null,null,null,null,null,null,{"$f":"$BK$93","v":0},null,null,null,null,null,{"$f":"$P$94","v":0},null,{"$f":"$R$94","v":376.28219281399998},null,{"$f":"$T$94","v":265.44},null,null,null,null,null,null,null,null,null,null,null,null,null,null,null,null,null,null,null,null,null,null,null,null,null,"D","-1",null,null,null,null,null,null,null,null,null,null,null,null,null,null,null,{"$f":"$BK$94","v":0}]
[null,null,null,"D","HSV","Práce a dodávky HSV",null,null,null,{"$f":"$BK$94","v":0},null,null,null,null,null,{"$f":"$P$95+$P$263+$P$294+$P$301+$P$324+$P$347+$P$369+$P$396+$P$503","v":0},null,{"$f":"$R$95+$R$263+$R$294+$R$301+$R$324+$R$347+$R$369+$R$396+$R$503","v":376.28219281399998},null,{"$f":"$T$95+$T$263+$T$294+$T$301+$T$324+$T$347+$T$369+$T$396+$T$503","v":265.44},null,null,null,null,null,null,null,null,null,null,null,null,null,null,null,null,null,null,null,null,null,null,null,"1",null,"D","0",null,null,null,"ROZPOCET",null,null,null,null,null,null,null,null,null,null,null,{"$f":"$BK$95+$BK$263+$BK$294+$BK$301+$BK$324+$BK$347+$BK$369+$BK$396+$BK$503","v":0}]
[null,null,null,"D","1","Zemní práce",null,null,null,{"$f":"$BK$95","v":0},null,null,null,null,null,{"$f":"SUM($P$96:$P$262)","v":0},null,{"$f":"SUM($R$96:$R$262)","v":16.134999999999998},null,{"$f":"SUM($T$96:$T$262)","v":0},null,null,null,null,null,null,null,null,null,null,null,null,null,null,null,null,null,null,null,null,null,null,null,"1",null,"D","1",null,null,null,"ROZPOCET",null,null,null,null,null,null,null,null,null,null,null,{"$f":"SUM($BK$96:$BK$262)","v":0}]
[null,null,"1","K","122102202","Odkopávky a prokopávky nezapažené pro silnice objemu do 1000 m3 v hornině tř. 1 a 2","m3",160,null,{"$f":"ROUND($I$96*$H$96,2)","v":0},"CS ÚRS 2014 02",null,null,"základní",null,null,0,{"$f":"$Q$96*$H$96","v":0},0,{"$f":"$S$96*$H$96","v":0},null,null,null,null,null,null,null,null,null,null,null,null,null,null,null,null,null,null,null,null,null,null,null,"4",null,"K","2",null,null,null,"ROZPOCET",null,null,null,null,null,{"$f":"IF($N$96=\"základní\",$J$96,0)","v":0},{"$f":"IF($N$96=\"snížená\",$J$96,0)","v":0},{"$f":"IF($N$96=\"zákl. přenesená\",$J$96,0)","v":0},{"$f":"IF($N$96=\"sníž. přenesená\",$J$96,0)","v":0},{"$f":"IF($N$96=\"nulová\",$J$96,0)","v":0},"1",{"$f":"ROUND($I$96*$H$96,2)","v":0},"4","1486991135"]
[null,null,null,"PP",null,"Odkopávky a prokopávky nezapažené pro silnice s přemístěním výkopku v příčných profilech na vzdálenost do 15 m nebo s naložením na dopravní prostředek v horninách tř. 1 a 2 přes 100 do 1 000 m3",null,null,null,null,null,null,null,null,null,null,null,null,null,null,null,null,null,null,null,null,null,null,null,null,null,null,null,null,null,null,null,null,null,null,null,null,null,null,null,"PP","2"]
[null,null,null,"PSC",null,"Poznámka k souboru cen:\n1. Ceny jsou určeny pro vykopávky:     a) příkopů pro silnice a to i tehdy, jsou-li vykopávky příkopů prováděny samostatně,     b) v zemnících na suchu, jestliže tyto zemníky přímo souvisejí s odkopávkami nebo prokopávkami         pro spodní stavbu silnic. Vykopávky v ostatních zemnících se oceňují podle kapitoly. 3*2 Zemníky         Všeobecných podmínek tohoto katalogu.     c) při zahlubování silnic pro mimoúrovňové křížení a pro vykopávky pod mosty provedenými v         předepsaném předstihu. Část vykopávky mezi svislými rovinami proloženými vnějšími hranami mostu se         oceňují:         - při objemu do 1 000 m3 cenami pro množství do 100 m3         - při objemu přes 1 000 m3 cenami pro množství přes 100 do 1 000 m3.     d) pro sejmutí podorničí s přihlédnutím k ustanovení čl. 3112 Všeobecných podmínek katalogu. 2. Ceny nelze použít pro odkopávky a prokopávky v zapažených prostorách; tyto zemní práce se     oceňují podle čl. 3116 Všeobecných podmínek tohoto katalogu. 3. V cenách jsou započteny i náklady na vodorovné přemístění výkopku v příčných profilech na     přilehlých svazích a příkopech. Vzdálenosti příčného přemístění se nezahrnují do střední     vzdálenosti vodorovného přemístění výkopku. 4. Vodorovné přemístění výkopku z výkopiště na násypiště při jakékoliv šířce koruny se nepovažuje     za vodorovné přemístění výkopku v příčném profilu, je-li při odkopávce nebo prokopávce mezi     výkopištěm a násypištěm v příčném profilu dopravní nebo jiný pruh, na němž projekt vylučuje rušení     provozu prováděním zemních prací. Takové přemístění výkopku se oceňuje podle čl. 3162 Všeobecných     podmínek tohoto katalogu. 5. Přemístění výkopku v příčných profilech na vzdálenost přes 15 m se oceňuje cenami souboru cen     162 .0-1 . Vodorovné přemístění výkopku části A 01 Společné zemní práce tohoto katalogu ",null,null,null,null,null,null,null,null,null,null,null,null,null,null,null,null,null,null,null,null,null,null,null,null,null,null,null,null,null,null,null,null,null,null,null,null,null,null,null,"PSC","2"]
[null,null,null,"VV",null,"dle specifikace prací v technické zprávě",null,null,null,null,null,null,null,null,null,null,null,null,null,null,null,null,null,null,null,null,null,null,null,null,null,null,null,null,null,null,null,null,null,null,null,null,null,null,null,"VV","2","1","-1","0","ROZPOCET"]
[null,null,null,"VV",null,"640,0*0,25",null,160,null,null,null,null,null,null,null,null,null,null,null,null,null,null,null,null,null,null,null,null,null,null,null,null,null,null,null,null,null,null,null,null,null,null,null,null,null,"VV","2","2","-1","1","ROZPOCET"]
[null,null,"2","K","122202202","Odkopávky a prokopávky nezapažené pro silnice objemu do 1000 m3 v hornině tř. 3","m3",480,null,{"$f":"ROUND($I$101*$H$101,2)","v":0},"CS ÚRS 2014 02",null,null,"základní",null,null,0,{"$f":"$Q$101*$H$101","v":0},0,{"$f":"$S$101*$H$101","v":0},null,null,null,null,null,null,null,null,null,null,null,null,null,null,null,null,null,null,null,null,null,null,null,"4",null,"K","2",null,null,null,"ROZPOCET",null,null,null,null,null,{"$f":"IF($N$101=\"základní\",$J$101,0)","v":0},{"$f":"IF($N$101=\"snížená\",$J$101,0)","v":0},{"$f":"IF($N$101=\"zákl. přenesená\",$J$101,0)","v":0},{"$f":"IF($N$101=\"sníž. přenesená\",$J$101,0)","v":0},{"$f":"IF($N$101=\"nulová\",$J$101,0)","v":0},"1",{"$f":"ROUND($I$101*$H$101,2)","v":0},"4","158353227"]
[null,null,null,"PP",null,"Odkopávky a prokopávky nezapažené pro silnice s přemístěním výkopku v příčných profilech na vzdálenost do 15 m nebo s naložením na dopravní prostředek v hornině tř. 3 přes 100 do 1 000 m3",null,null,null,null,null,null,null,null,null,null,null,null,null,null,null,null,null,null,null,null,null,null,null,null,null,null,null,null,null,null,null,null,null,null,null,null,null,null,null,"PP","2"]
[null,null,null,"PSC",null,"Poznámka k souboru cen:\n1. Ceny jsou určeny pro vykopávky:     a) příkopů pro silnice a to i tehdy, jsou-li vykopávky příkopů prováděny samostatně,     b) v zemnících na suchu, jestliže tyto zemníky přímo souvisejí s odkopávkami nebo prokopávkami         pro spodní stavbu silnic. Vykopávky v ostatních zemnících se oceňují podle kapitoly. 3*2 Zemníky         Všeobecných podmínek tohoto katalogu.     c) při zahlubování silnic pro mimoúrovňové křížení a pro vykopávky pod mosty provedenými v         předepsaném předstihu. Část vykopávky mezi svislými rovinami proloženými vnějšími hranami mostu se         oceňují:         - při objemu do 1 000 m3 cenami pro množství do 100 m3         - při objemu přes 1 000 m3 cenami pro množství přes 100 do 1 000 m3.     d) pro sejmutí podorničí s přihlédnutím k ustanovení čl. 3112 Všeobecných podmínek katalogu. 2. Ceny nelze použít pro odkopávky a prokopávky v zapažených prostorách; tyto zemní práce se     oceňují podle čl. 3116 Všeobecných podmínek tohoto katalogu. 3. V cenách jsou započteny i náklady na vodorovné přemístění výkopku v příčných profilech na     přilehlých svazích a příkopech. Vzdálenosti příčného přemístění se nezahrnují do střední     vzdálenosti vodorovného přemístění výkopku. 4. Vodorovné přemístění výkopku z výkopiště na násypiště při jakékoliv šířce koruny se nepovažuje     za vodorovné přemístění výkopku v příčném profilu, je-li při odkopávce nebo prokopávce mezi     výkopištěm a násypištěm v příčném profilu dopravní nebo jiný pruh, na němž projekt vylučuje rušení     provozu prováděním zemních prací. Takové přemístění výkopku se oceňuje podle čl. 3162 Všeobecných     podmínek tohoto katalogu. 5. Přemístění výkopku v příčných profilech na vzdálenost přes 15 m se oceňuje cenami souboru cen     162 .0-1 . Vodorovné přemístění výkopku části A 01 Společné zemní práce tohoto katalogu ",null,null,null,null,null,null,null,null,null,null,null,null,null,null,null,null,null,null,null,null,null,null,null,null,null,null,null,null,null,null,null,null,null,null,null,null,null,null,null,"PSC","2"]
[null,null,null,"VV",null,"dle specifikace prací v technické zprávě",null,null,null,null,null,null,null,null,null,null,null,null,null,null,null,null,null,null,null,null,null,null,null,null,null,null,null,null,null,null,null,null,null,null,null,null,null,null,null,"VV","2","1","-1","0","ROZPOCET"]
[null,null,null,"VV",null,"640,0*0,75",null,480,null,null,null,null,null,null,null,null,null,null,null,null,null,null,null,null,null,null,null,null,null,null,null,null,null,null,null,null,null,null,null,null,null,null,null,null,null,"VV","2","2","-1","1","ROZPOCET"]
[null,null,"3","K","122202209","Příplatek k odkopávkám a prokopávkám pro silnice v hornině tř. 3 za lepivost","m3",240,null,{"$f":"ROUND($I$106*$H$106,2)","v":0},"CS ÚRS 2014 02",null,null,"základní",null,null,0,{"$f":"$Q$106*$H$106","v":0},0,{"$f":"$S$106*$H$106","v":0},null,null,null,null,null,null,null,null,null,null,null,null,null,null,null,null,null,null,null,null,null,null,null,"4",null,"K","2",null,null,null,"ROZPOCET",null,null,null,null,null,{"$f":"IF($N$106=\"základní\",$J$106,0)","v":0},{"$f":"IF($N$106=\"snížená\",$J$106,0)","v":0},{"$f":"IF($N$106=\"zákl. přenesená\",$J$106,0)","v":0},{"$f":"IF($N$106=\"sníž. přenesená\",$J$106,0)","v":0},{"$f":"IF($N$106=\"nulová\",$J$106,0)","v":0},"1",{"$f":"ROUND($I$106*$H$106,2)","v":0},"4","-931470782"]
[null,null,null,"PP",null,"Odkopávky a prokopávky nezapažené pro silnice s přemístěním výkopku v příčných profilech na vzdálenost do 15 m nebo s naložením na dopravní prostředek v hornině tř. 3 Příplatek k cenám za lepivost horniny tř. 3",null,null,null,null,null,null,null,null,null,null,null,null,null,null,null,null,null,null,null,null,null,null,null,null,null,null,null,null,null,null,null,null,null,null,null,null,null,null,null,"PP","2"]
[null,null,null,"PSC",null,"Poznámka k souboru cen:\n1. Ceny jsou určeny pro vykopávky:     a) příkopů pro silnice a to i tehdy, jsou-li vykopávky příkopů prováděny samostatně,     b) v zemnících na suchu, jestliže tyto zemníky přímo souvisejí s odkopávkami nebo prokopávkami         pro spodní stavbu silnic. Vykopávky v ostatních zemnících se oceňují podle kapitoly. 3*2 Zemníky         Všeobecných podmínek tohoto katalogu.     c) při zahlubování silnic pro mimoúrovňové křížení a pro vykopávky pod mosty provedenými v         předepsaném předstihu. Část vykopávky mezi svislými rovinami proloženými vnějšími hranami mostu se         oceňují:         - při objemu do 1 000 m3 cenami pro množství do 100 m3         - při objemu přes 1 000 m3 cenami pro množství přes 100 do 1 000 m3.     d) pro sejmutí podorničí s přihlédnutím k ustanovení čl. 3112 Všeobecných podmínek katalogu. 2. Ceny nelze použít pro odkopávky a prokopávky v zapažených prostorách; tyto zemní práce se     oceňují podle čl. 3116 Všeobecných podmínek tohoto katalogu. 3. V cenách jsou započteny i náklady na vodorovné přemístění výkopku v příčných profilech na     přilehlých svazích a příkopech. Vzdálenosti příčného přemístění se nezahrnují do střední     vzdálenosti vodorovného přemístění výkopku. 4. Vodorovné přemístění výkopku z výkopiště na násypiště při jakékoliv šířce koruny se nepovažuje     za vodorovné přemístění výkopku v příčném profilu, je-li při odkopávce nebo prokopávce mezi     výkopištěm a násypištěm v příčném profilu dopravní nebo jiný pruh, na němž projekt vylučuje rušení     provozu prováděním zemních prací. Takové přemístění výkopku se oceňuje podle čl. 3162 Všeobecných     podmínek tohoto katalogu. 5. Přemístění výkopku v příčných profilech na vzdálenost přes 15 m se oceňuje cenami souboru cen     162 .0-1 . Vodorovné přemístění výkopku části A 01 Společné zemní práce tohoto katalogu ",null,null,null,null,null,null,null,null,null,null,null,null,null,null,null,null,null,null,null,null,null,null,null,null,null,null,null,null,null,null,null,null,null,null,null,null,null,null,null,"PSC","2"]
[null,null,null,"VV",null,"lepivost 50%",null,null,null,null,null,null,null,null,null,null,null,null,null,null,null,null,null,null,null,null,null,null,null,null,null,null,null,null,null,null,null,null,null,null,null,null,null,null,null,"VV","2","1","-1","0","ROZPOCET"]
[null,null,null,"VV",null,"pol.122202202",null,null,null,null,null,null,null,null,null,null,null,null,null,null,null,null,null,null,null,null,null,null,null,null,null,null,null,null,null,null,null,null,null,null,null,null,null,null,null,"VV","2","1","-1","0","ROZPOCET"]
[null,null,null,"VV",null,"480,0*0,5",null,240,null,null,null,null,null,null,null,null,null,null,null,null,null,null,null,null,null,null,null,null,null,null,null,null,null,null,null,null,null,null,null,null,null,null,null,null,null,"VV","2","2","-1","1","ROZPOCET"]
[null,null,"4","K","132202101","Hloubení rýh š do 600 mm ručním nebo pneum nářadím v soudržných horninách tř. 3","m3",18,null,{"$f":"ROUND($I$112*$H$112,2)","v":0},"CS ÚRS 2014 02",null,null,"základní",null,null,0,{"$f":"$Q$112*$H$112","v":0},0,{"$f":"$S$112*$H$112","v":0},null,null,null,null,null,null,null,null,null,null,null,null,null,null,null,null,null,null,null,null,null,null,null,"4",null,"K","2",null,null,null,"ROZPOCET",null,null,null,null,null,{"$f":"IF($N$112=\"základní\",$J$112,0)","v":0},{"$f":"IF($N$112=\"snížená\",$J$112,0)","v":0},{"$f":"IF($N$112=\"zákl. přenesená\",$J$112,0)","v":0},{"$f":"IF($N$112=\"sníž. přenesená\",$J$112,0)","v":0},{"$f":"IF($N$112=\"nulová\",$J$112,0)","v":0},"1",{"$f":"ROUND($I$112*$H$112,2)","v":0},"4","-1703478443"]
[null,null,null,"PP",null,"Hloubení zapažených i nezapažených rýh šířky do 600 mm ručním nebo pneumatickým nářadím s urovnáním dna do předepsaného profilu a spádu v horninách tř. 3 soudržných",null,null,null,null,null,null,null,null,null,null,null,null,null,null,null,null,null,null,null,null,null,null,null,null,null,null,null,null,null,null,null,null,null,null,null,null,null,null,null,"PP","2"]
[null,null,null,"PSC",null,"Poznámka k souboru cen:\n1. V cenách jsou započteny i náklady na přehození výkopku na přilehlém terénu na vzdálenost do 3 m     od podélné osy rýhy nebo naložení výkopku na dopravní prostředek. 2. V cenách 10-2101 až 40-2102 jsou započteny i náklady na i svislý přesun horniny po házečkách do     2 metrů. ",null,null,null,null,null,null,null,null,null,null,null,null,null,null,null,null,null,null,null,null,null,null,null,null,null,null,null,null,null,null,null,null,null,null,null,null,null,null,null,"PSC","2"]
[null,null,null,"VV",null,"odkrytí podzemních kabelů pro montáž",null,null,null,null,null,null,null,null,null,null,null,null,null,null,null,null,null,null,null,null,null,null,null,null,null,null,null,null,null,null,null,null,null,null,null,null,null,null,null,"VV","2","1","-1","0","ROZPOCET"]
[null,null,null,"VV",null,"půlených chrániček - dl.60 m",null,null,null,null,null,null,null,null,null,null,null,null,null,null,null,null,null,null,null,null,null,null,null,null,null,null,null,null,null,null,null,null,null,null,null,null,null,null,null,"VV","2","1","-1","0","ROZPOCET"]
[null,null,null,"VV",null,"průměrná hl. výkopu 0,5 m",null,null,null,null,null,null,null,null,null,null,null,null,null,null,null,null,null,null,null,null,null,null,null,null,null,null,null,null,null,null,null,null,null,null,null,null,null,null,null,"VV","2","1","-1","0","ROZPOCET"]
[null,null,null,"VV",null,"0,6*0,5*60,0",null,18,null,null,null,null,null,null,null,null,null,null,null,null,null,null,null,null,null,null,null,null,null,null,null,null,null,null,null,null,null,null,null,null,null,null,null,null,null,"VV","2","2","-1","1","ROZPOCET"]
[null,null,"5","K","132202109","Příplatek za lepivost u hloubení rýh š do 600 mm ručním nebo pneum nářadím v hornině tř. 3","m3",9,null,{"$f":"ROUND($I$119*$H$119,2)","v":0},"CS ÚRS 2014 02",null,null,"základní",null,null,0,{"$f":"$Q$119*$H$119","v":0},0,{"$f":"$S$119*$H$119","v":0},null,null,null,null,null,null,null,null,null,null,null,null,null,null,null,null,null,null,null,null,null,null,null,"4",null,"K","2",null,null,null,"ROZPOCET",null,null,null,null,null,{"$f":"IF($N$119=\"základní\",$J$119,0)","v":0},{"$f":"IF($N$119=\"snížená\",$J$119,0)","v":0},{"$f":"IF($N$119=\"zákl. přenesená\",$J$119,0)","v":0},{"$f":"IF($N$119=\"sníž. přenesená\",$J$119,0)","v":0},{"$f":"IF($N$119=\"nulová\",$J$119,0)","v":0},"1",{"$f":"ROUND($I$119*$H$119,2)","v":0},"4","-149119233"]
[null,null,null,"PP",null,"Hloubení zapažených i nezapažených rýh šířky do 600 mm ručním nebo pneumatickým nářadím s urovnáním dna do předepsaného profilu a spádu v horninách tř. 3 Příplatek k cenám za lepivost horniny tř. 3",null,null,null,null,null,null,null,null,null,null,null,null,null,null,null,null,null,null,null,null,null,null,null,null,null,null,null,null,null,null,null,null,null,null,null,null,null,null,null,"PP","2"]
[null,null,null,"PSC",null,"Poznámka k souboru cen:\n1. V cenách jsou započteny i náklady na přehození výkopku na přilehlém terénu na vzdálenost do 3 m     od podélné osy rýhy nebo naložení výkopku na dopravní prostředek. 2. V cenách 10-2101 až 40-2102 jsou započteny i náklady na i svislý přesun horniny po házečkách do     2 metrů. ",null,null,null,null,null,null,null,null,null,null,null,null,null,null,null,null,null,null,null,null,null,null,null,null,null,null,null,null,null,null,null,null,null,null,null,null,null,null,null,"PSC","2"]
[null,null,null,"VV",null,"lepivost 50%",null,null,null,null,null,null,null,null,null,null,null,null,null,null,null,null,null,null,null,null,null,null,null,null,null,null,null,null,null,null,null,null,null,null,null,null,null,null,null,"VV","2","1","-1","0","ROZPOCET"]
[null,null,null,"VV",null,"pol.132202101",null,null,null,null,null,null,null,null,null,null,null,null,null,null,null,null,null,null,null,null,null,null,null,null,null,null,null,null,null,null,null,null,null,null,null,null,null,null,null,"VV","2","1","-1","0","ROZPOCET"]
[null,null,null,"VV",null,"18,0*0,5",null,9,null,null,null,null,null,null,null,null,null,null,null,null,null,null,null,null,null,null,null,null,null,null,null,null,null,null,null,null,null,null,null,null,null,null,null,null,null,"VV","2","2","-1","1","ROZPOCET"]
[null,null,"6","K","132201201","Hloubení rýh š do 2000 mm v hornině tř. 3 objemu do 100 m3","m3",30,null,{"$f":"ROUND($I$125*$H$125,2)","v":0},"CS ÚRS 2014 02",null,null,"základní",null,null,0,{"$f":"$Q$125*$H$125","v":0},0,{"$f":"$S$125*$H$125","v":0},null,null,null,null,null,null,null,null,null,null,null,null,null,null,null,null,null,null,null,null,null,null,null,"4",null,"K","2",null,null,null,"ROZPOCET",null,null,null,null,null,{"$f":"IF($N$125=\"základní\",$J$125,0)","v":0},{"$f":"IF($N$125=\"snížená\",$J$125,0)","v":0},{"$f":"IF($N$125=\"zákl. přenesená\",$J$125,0)","v":0},{"$f":"IF($N$125=\"sníž. přenesená\",$J$125,0)","v":0},{"$f":"IF($N$125=\"nulová\",$J$125,0)","v":0},"1",{"$f":"ROUND($I$125*$H$125,2)","v":0},"4","-610646992"]
[null,null,null,"PP",null,"Hloubení zapažených i nezapažených rýh šířky přes 600 do 2 000 mm s urovnáním dna do předepsaného profilu a spádu v hornině tř. 3 do 100 m3",null,null,null,null,null,null,null,null,null,null,null,null,null,null,null,null,null,null,null,null,null,null,null,null,null,null,null,null,null,null,null,null,null,null,null,null,null,null,null,"PP","2"]
[null,null,null,"PSC",null,"Poznámka k souboru cen:\n1. V cenách jsou započteny i náklady na případné nutné přemístění výkopku ve výkopišti na     vzdálenost do 3 m a na přehození výkopku na přilehlém terénu na vzdálenost do 5 m od okraje jámy     nebo naložení na dopravní prostředek. 2. Hloubení rýh při lesnicko-technických melioracích se oceňuje:     a) ve stržích cenami platnými pro objem výkopu do 100 m3, i když skutečný objem výkopu je větší,     b) mimo strže pro příčná a podélná zpevnění dna a břehů pod obrysem výkopu pro koryta vodotečí,         zejména pro konstrukce těles, stupňů, boků, předprahů, prahů, odháněk, výhonů a pro základy zdí,         dlažeb, rovnanin, plůtků a hatí, pro jakoukoliv šířku rýhy, při objemu do 100 m3 cenami příslušnými         pro objem výkopu do 100 m3 a při jakémkoliv objemu výkopu přes 100 m3 cenami příslušnými pro objem         výkopu přes 100 do 1 000 m3. 3. Náklady na svislé přemístění výkopku nad 1 m hloubky se určí dle ustanovení článku č. 3161     všeobecných podmínek katalogu. 4. Předepisuje-li projekt hloubit rýhy 5 až 7 bez použití trhavin, oceňuje se toto hloubení:     a) v suchu nebo mokru cenami 138 40-1201, 138 50-1201 a 138 60-1201 Dolamování hloubených         vykopávek,     b) v tekoucí vodě při jakékoliv její rychlosti individuálně. 5. Ceny nelze použít pro hloubení rýh a hloubky přes 16 m. Tyto práce se oceňují individuálně. ",null,null,null,null,null,null,null,null,null,null,null,null,null,null,null,null,null,null,null,null,null,null,null,null,null,null,null,null,null,null,null,null,null,null,null,null,null,null,null,"PSC","2"]
[null,null,null,"VV",null,"dle specifikace prací v technické zprávě",null,null,null,null,null,null,null,null,null,null,null,null,null,null,null,null,null,null,null,null,null,null,null,null,null,null,null,null,null,null,null,null,null,null,null,null,null,null,null,"VV","2","1","-1","0","ROZPOCET"]
[null,null,null,"VV",null,"odvodnění uličních vpustí -dl.20 m",null,null,null,null,null,null,null,null,null,null,null,null,null,null,null,null,null,null,null,null,null,null,null,null,null,null,null,null,null,null,null,null,null,null,null,null,null,null,null,"VV","2","1","-1","0","ROZPOCET"]
[null,null,null,"VV",null,"průměrná hl.1,2 m",null,null,null,null,null,null,null,null,null,null,null,null,null,null,null,null,null,null,null,null,null,null,null,null,null,null,null,null,null,null,null,null,null,null,null,null,null,null,null,"VV","2","1","-1","0","ROZPOCET"]
[null,null,null,"VV",null,"1,0*1,5*20,0",null,30,null,null,null,null,null,null,null,null,null,null,null,null,null,null,null,null,null,null,null,null,null,null,null,null,null,null,null,null,null,null,null,null,null,null,null,null,null,"VV","2","2","-1","1","ROZPOCET"]
[null,null,"7","K","132201209","Příplatek za lepivost k hloubení rýh š do 2000 mm v hornině tř. 3","m3",15,null,{"$f":"ROUND($I$132*$H$132,2)","v":0},"CS ÚRS 2014 02",null,null,"základní",null,null,0,{"$f":"$Q$132*$H$132","v":0},0,{"$f":"$S$132*$H$132","v":0},null,null,null,null,null,null,null,null,null,null,null,null,null,null,null,null,null,null,null,null,null,null,null,"4",null,"K","2",null,null,null,"ROZPOCET",null,null,null,null,null,{"$f":"IF($N$132=\"základní\",$J$132,0)","v":0},{"$f":"IF($N$132=\"snížená\",$J$132,0)","v":0},{"$f":"IF($N$132=\"zákl. přenesená\",$J$132,0)","v":0},{"$f":"IF($N$132=\"sníž. přenesená\",$J$132,0)","v":0},{"$f":"IF($N$132=\"nulová\",$J$132,0)","v":0},"1",{"$f":"ROUND($I$132*$H$132,2)","v":0},"4","-837648518"]
[null,null,null,"PP",null,"Hloubení zapažených i nezapažených rýh šířky přes 600 do 2 000 mm s urovnáním dna do předepsaného profilu a spádu v hornině tř. 3 Příplatek k cenám za lepivost horniny tř. 3",null,null,null,null,null,null,null,null,null,null,null,null,null,null,null,null,null,null,null,null,null,null,null,null,null,null,null,null,null,null,null,null,null,null,null,null,null,null,null,"PP","2"]
[null,null,null,"PSC",null,"Poznámka k souboru cen:\n1. V cenách jsou započteny i náklady na případné nutné přemístění výkopku ve výkopišti na     vzdálenost do 3 m a na přehození výkopku na přilehlém terénu na vzdálenost do 5 m od okraje jámy     nebo naložení na dopravní prostředek. 2. Hloubení rýh při lesnicko-technických melioracích se oceňuje:     a) ve stržích cenami platnými pro objem výkopu do 100 m3, i když skutečný objem výkopu je větší,     b) mimo strže pro příčná a podélná zpevnění dna a břehů pod obrysem výkopu pro koryta vodotečí,         zejména pro konstrukce těles, stupňů, boků, předprahů, prahů, odháněk, výhonů a pro základy zdí,         dlažeb, rovnanin, plůtků a hatí, pro jakoukoliv šířku rýhy, při objemu do 100 m3 cenami příslušnými         pro objem výkopu do 100 m3 a při jakémkoliv objemu výkopu přes 100 m3 cenami příslušnými pro objem         výkopu přes 100 do 1 000 m3. 3. Náklady na svislé přemístění výkopku nad 1 m hloubky se určí dle ustanovení článku č. 3161     všeobecných podmínek katalogu. 4. Předepisuje-li projekt hloubit rýhy 5 až 7 bez použití trhavin, oceňuje se toto hloubení:     a) v suchu nebo mokru cenami 138 40-1201, 138 50-1201 a 138 60-1201 Dolamování hloubených         vykopávek,     b) v tekoucí vodě při jakékoliv její rychlosti individuálně. 5. Ceny nelze použít pro hloubení rýh a hloubky přes 16 m. Tyto práce se oceňují individuálně. ",null,null,null,null,null,null,null,null,null,null,null,null,null,null,null,null,null,null,null,null,null,null,null,null,null,null,null,null,null,null,null,null,null,null,null,null,null,null,null,"PSC","2"]
[null,null,null,"VV",null,"lepivost 50%",null,null,null,null,null,null,null,null,null,null,null,null,null,null,null,null,null,null,null,null,null,null,null,null,null,null,null,null,null,null,null,null,null,null,null,null,null,null,null,"VV","2","1","-1","0","ROZPOCET"]
[null,null,null,"VV",null,"pol.132201201",null,null,null,null,null,null,null,null,null,null,null,null,null,null,null,null,null,null,null,null,null,null,null,null,null,null,null,null,null,null,null,null,null,null,null,null,null,null,null,"VV","2","1","-1","0","ROZPOCET"]
[null,null,null,"VV",null,"30,0*0,5",null,15,null,null,null,null,null,null,null,null,null,null,null,null,null,null,null,null,null,null,null,null,null,null,null,null,null,null,null,null,null,null,null,null,null,null,null,null,null,"VV","2","2","-1","1","ROZPOCET"]
[null,null,"8","K","175101101","Obsypání potrubí bez prohození sypaniny z hornin tř. 1 až 4 uloženým do 3 m od kraje výkopu","m3",8.6999999999999993,null,{"$f":"ROUND($I$138*$H$138,2)","v":0},"CS ÚRS 2014 02",null,null,"základní",null,null,0,{"$f":"$Q$138*$H$138","v":0},0,{"$f":"$S$138*$H$138","v":0},null,null,null,null,null,null,null,null,null,null,null,null,null,null,null,null,null,null,null,null,null,null,null,"4",null,"K","2",null,null,null,"ROZPOCET",null,null,null,null,null,{"$f":"IF($N$138=\"základní\",$J$138,0)","v":0},{"$f":"IF($N$138=\"snížená\",$J$138,0)","v":0},{"$f":"IF($N$138=\"zákl. přenesená\",$J$138,0)","v":0},{"$f":"IF($N$138=\"sníž. přenesená\",$J$138,0)","v":0},{"$f":"IF($N$138=\"nulová\",$J$138,0)","v":0},"1",{"$f":"ROUND($I$138*$H$138,2)","v":0},"4","1115734945"]
[null,null,null,"PP",null,"Obsypání potrubí sypaninou z vhodných hornin tř. 1 až 4 nebo materiálem připraveným podél výkopu ve vzdálenosti do 3 m od jeho kraje, pro jakoukoliv hloubku výkopu a míru zhutnění bez prohození sypaniny",null,null,null,null,null,null,null,null,null,null,null,null,null,null,null,null,null,null,null,null,null,null,null,null,null,null,null,null,null,null,null,null,null,null,null,null,null,null,null,"PP","2"]
[null,null,null,"PSC",null,"Poznámka k souboru cen:\n1. Objem obsypu na 1 m délky potrubí se rovná šířce dna výkopu násobené součtem vnějšího průměru     potrubí příp. i s obalem a projektované tloušťky obsypu nad, případně i pod potrubím. Pro odečítání     objemu potrubí se započítávají všechny vestavěné konstrukce nebo uložené vedení i s jejich obklady     a podklady (tento objem se nazývá objemem horniny vytlačené konstrukcí). 2. Míru zhutnění předepisuje projekt. 3. V cenách nejsou zahrnuty náklady na nakupovanou sypaninu. Tato se oceňuje ve specifikaci. ",null,null,null,null,null,null,null,null,null,null,null,null,null,null,null,null,null,null,null,null,null,null,null,null,null,null,null,null,null,null,null,null,null,null,null,null,null,null,null,"PSC","2"]
[null,null,null,"VV",null,"odvodnění uličních vpustí -dl.20 m",null,null,null,null,null,null,null,null,null,null,null,null,null,null,null,null,null,null,null,null,null,null,null,null,null,null,null,null,null,null,null,null,null,null,null,null,null,null,null,"VV","2","1","-1","0","ROZPOCET"]
[null,null,null,"VV",null,"obsyp pískem 30 cm nad vrchol potrubí",null,null,null,null,null,null,null,null,null,null,null,null,null,null,null,null,null,null,null,null,null,null,null,null,null,null,null,null,null,null,null,null,null,null,null,null,null,null,null,"VV","2","1","-1","0","ROZPOCET"]
[null,null,null,"VV",null,"(bez dodávky písku)",null,null,null,null,null,null,null,null,null,null,null,null,null,null,null,null,null,null,null,null,null,null,null,null,null,null,null,null,null,null,null,null,null,null,null,null,null,null,null,"VV","2","1","-1","0","ROZPOCET"]
[null,null,null,"VV",null,"1,0*(0,15+0,3)*20,0",null,9,null,null,null,null,null,null,null,null,null,null,null,null,null,null,null,null,null,null,null,null,null,null,null,null,null,null,null,null,null,null,null,null,null,null,null,null,null,"VV","2","2","-1","0","ROZPOCET"]
[null,null,null,"VV",null,"Mezisoučet A",null,9,null,null,null,null,null,null,null,null,null,null,null,null,null,null,null,null,null,null,null,null,null,null,null,null,null,null,null,null,null,null,null,null,null,null,null,null,null,"VV","2","3","-1","0","ROZPOCET"]
[null,null,null,"VV",null,"méně potrubí ",null,null,null,null,null,null,null,null,null,null,null,null,null,null,null,null,null,null,null,null,null,null,null,null,null,null,null,null,null,null,null,null,null,null,null,null,null,null,null,"VV","2","1","-1","0","ROZPOCET"]
[null,null,null,"VV",null,"-3,14*0,075*0,075*20,0+0,053",null,-0.3,null,null,null,null,null,null,null,null,null,null,null,null,null,null,null,null,null,null,null,null,null,null,null,null,null,null,null,null,null,null,null,null,null,null,null,null,null,"VV","2","2","-1","0","ROZPOCET"]
[null,null,null,"VV",null,"Součet ",null,8.6999999999999993,null,null,null,null,null,null,null,null,null,null,null,null,null,null,null,null,null,null,null,null,null,null,null,null,null,null,null,null,null,null,null,null,null,null,null,null,null,"VV","2","4","-1","1","ROZPOCET"]
[null,null,"9","M","583313450","kamenivo těžené drobné frakce 0-4","t",16.126999999999999,null,{"$f":"ROUND($I$149*$H$149,2)","v":0},"CS ÚRS 2014 02",null,null,"základní",null,null,1,{"$f":"$Q$149*$H$149","v":16.126999999999999},0,{"$f":"$S$149*$H$149","v":0},null,null,null,null,null,null,null,null,null,null,null,null,null,null,null,null,null,null,null,null,null,null,null,"8",null,"M","2",null,null,null,"ROZPOCET",null,null,null,null,null,{"$f":"IF($N$149=\"základní\",$J$149,0)","v":0},{"$f":"IF($N$149=\"snížená\",$J$149,0)","v":0},{"$f":"IF($N$149=\"zákl. přenesená\",$J$149,0)","v":0},{"$f":"IF($N$149=\"sníž. přenesená\",$J$149,0)","v":0},{"$f":"IF($N$149=\"nulová\",$J$149,0)","v":0},"1",{"$f":"ROUND($I$149*$H$149,2)","v":0},"4","-491489098"]
[null,null,null,"PP",null,"kamenivo přírodní těžené pro stavební účely  PTK  (drobné, hrubé, štěrkopísky) kamenivo těžené drobné D<=2 mm (ČSN EN 13043 ) D<=4 mm (ČSN EN 12620, ČSN EN 13139 ) d=0 mm, D<=6,3 mm (ČSN EN 13242) frakce  0-4  tříděná",null,null,null,null,null,null,null,null,null,null,null,null,null,null,null,null,null,null,null,null,null,null,null,null,null,null,null,null,null,null,null,null,null,null,null,null,null,null,null,"PP","2"]
[null,null,null,"VV",null,"k pol.175101101",null,null,null,null,null,null,null,null,null,null,null,null,null,null,null,null,null,null,null,null,null,null,null,null,null,null,null,null,null,null,null,null,null,null,null,null,null,null,null,"VV","2","1","-1","0","ROZPOCET"]
[null,null,null,"VV",null,"hutnění 10%, ztratné 1%",null,null,null,null,null,null,null,null,null,null,null,null,null,null,null,null,null,null,null,null,null,null,null,null,null,null,null,null,null,null,null,null,null,null,null,null,null,null,null,"VV","2","1","-1","0","ROZPOCET"]
[null,null,null,"VV",null,"8,7*1,67*1,11",null,16.126999999999999,null,null,null,null,null,null,null,null,null,null,null,null,null,null,null,null,null,null,null,null,null,null,null,null,null,null,null,null,null,null,null,null,null,null,null,null,null,"VV","2","2","-1","1","ROZPOCET"]
[null,null,"10","K","174101101","Zásyp jam, šachet rýh nebo kolem objektů sypaninou se zhutněním","m3",24.4,null,{"$f":"ROUND($I$154*$H$154,2)","v":0},"CS ÚRS 2014 02",null,null,"základní",null,null,0,{"$f":"$Q$154*$H$154","v":0},0,{"$f":"$S$154*$H$154","v":0},null,null,null,null,null,null,null,null,null,null,null,null,null,null,null,null,null,null,null,null,null,null,null,"4",null,"K","2",null,null,null,"ROZPOCET",null,null,null,null,null,{"$f":"IF($N$154=\"základní\",$J$154,0)","v":0},{"$f":"IF($N$154=\"snížená\",$J$154,0)","v":0},{"$f":"IF($N$154=\"zákl. přenesená\",$J$154,0)","v":0},{"$f":"IF($N$154=\"sníž. přenesená\",$J$154,0)","v":0},{"$f":"IF($N$154=\"nulová\",$J$154,0)","v":0},"1",{"$f":"ROUND($I$154*$H$154,2)","v":0},"4","760769753"]
[null,null,null,"PP",null,"Zásyp sypaninou z jakékoliv horniny s uložením výkopku ve vrstvách se zhutněním jam, šachet, rýh nebo kolem objektů v těchto vykopávkách",null,null,null,null,null,null,null,null,null,null,null,null,null,null,null,null,null,null,null,null,null,null,null,null,null,null,null,null,null,null,null,null,null,null,null,null,null,null,null,"PP","2"]
[null,null,null,"PSC",null,"Poznámka k souboru cen:\n1. Ceny 174 10- . . jsou určeny pro zhutněné zásypy s mírou zhutnění:     a) z hornin soudržných do 100 % PS,     b) z hornin nesoudržných do I(d) 0,9,     c) z hornin kamenitých pro jakoukoliv míru zhutnění. 2. Je-li projektem předepsáno vyšší zhutnění, podle bodu a) a b) poznámky č 1., ocení se zásyp     individuálně. 3. Ceny nelze použít pro zásyp rýh pro drenážní trativody pro lesnicko-technické meliorace a     zemědělské. Zásyp těchto rýh se oceňuje cenami souboru cen 174 20-3 . části A 03 Zemní práce pro     objekty oborů 831 až 833. Nezhutněný zásyp odvodňovacích kanálů z betonových a železobetonových     trub v polních a lučních tratích se oceňuje cenou -1101 Zásyp sypaninou rýh bez ohledu na šířku     kanálu; cena obsahuje i náklady na ruční nezhutněný zásyp výšky do 200 mm nad vrchol potrubí. 4. V cenách 10-1101, 10-1103, 20-1101 a 20-1103 je započteno přemístění sypaniny ze vzdálenosti 10     m od kraje výkopu nebo zasypávaného prostoru, měřeno k těžišti skládky. 5. V ceně 10-1102 je započteno přemístění sypaniny ze vzdálenosti 15 m od hrany zasypávaného     prostoru, měřeno k těžišti skládky. 6. Objem zásypu je rozdíl objemu výkopu a objemu do něho vestavěných konstrukcí nebo uložených     vedení i s jejich obklady a podklady (tento objem se nazývá objemem horniny vytlačené konstrukcí).     Objem potrubí do DN 180, příp. i s obalem, se od objemu zásypu neodečítá. Pro stanovení objemu     zásypu se od objemu výkopu odečítá i objem obsypu potrubí oceňovaný cenami souboru cen 175 10-11     Obsyp potrubí, přichází-li v úvahu . 7. Odklizení zbylého výkopku po provedení zásypu zářezů se šikmými stěnami pro podzemní vedení nebo     zásypu jam a rýh pro podzemní vedení se oceňuje, je-li objem zbylého výkopku:     a) do 1 m3 na 1 m vedení a jedná se o výkopek neulehlý - cenami souboru cen 167 10-110         Nakládání výkopku nebo sypaniny a 162 . 0-1 . Vodorovné přemístění výkopku. V případě, že se jedná         o výkopek ulehlý - rozpojení a naložení výkopku cenami souboru cen 122 . 0-1 . souboru cen 162 .         0-1 . Vodorovné přemístění výkopku;     b) přes 1 m3 na 1 m vedení, jestliže projekt předepíše, že se zbylý výkopek bude odklízet         zároveň s prováděním vykopávky, pouze přemístění výkopku cenami souboru cen 162 . 0-1 . Vodorovné         přemístění výkopku. Při zmíněném objemu zbylého výkopku se neoceňuje ani naložení ani rozpojení         výkopku. Jestliže se zbylý výkopek neodklízí, nýbrž rozprostírá podél výkopu a nad výkopem, platí         poznámka č. 8. 8. Rozprostření zbylého výkopku podél výkopu a nad výkopem po provedení zásypů zářezů se šikmými     stěnami pro podzemní vedení nebo zásypu jam a rýh pro podzemní vedení se oceňuje:     a) cenou 171 20-1101 Uložení sypaniny do nezhutněných násypů, není-li projektem předepsáno         zhutnění rozprostřeného zbylého výkopku,     b) cenou 171 10-1111 Uložení sypaniny do násypů z hornin sypkých, je-li předepsáno zhutnění         rozprostřeného zbylého výkopku, a to v objemu vypočteném podle poznámky č.6, příp. zmenšeném o         objem výkopku, který byl již odklizen. 9. Míru zhutnění předepisuje projekt. ",null,null,null,null,null,null,null,null,null,null,null,null,null,null,null,null,null,null,null,null,null,null,null,null,null,null,null,null,null,null,null,null,null,null,null,null,null,null,null,"PSC","2"]
[null,null,null,"VV",null,"odvodnění vpustí",null,null,null,null,null,null,null,null,null,null,null,null,null,null,null,null,null,null,null,null,null,null,null,null,null,null,null,null,null,null,null,null,null,null,null,null,null,null,null,"VV","2","1","-1","0","ROZPOCET"]
[null,null,null,"VV",null,"výkop - pol.132201201",null,null,null,null,null,null,null,null,null,null,null,null,null,null,null,null,null,null,null,null,null,null,null,null,null,null,null,null,null,null,null,null,null,null,null,null,null,null,null,"VV","2","1","-1","0","ROZPOCET"]
[null,null,null,"VV",null,"30,0",null,30,null,null,null,null,null,null,null,null,null,null,null,null,null,null,null,null,null,null,null,null,null,null,null,null,null,null,null,null,null,null,null,null,null,null,null,null,null,"VV","2","2","-1","0","ROZPOCET"]
[null,null,null,"VV",null,"méně lože a obsyp potrubí",null,null,null,null,null,null,null,null,null,null,null,null,null,null,null,null,null,null,null,null,null,null,null,null,null,null,null,null,null,null,null,null,null,null,null,null,null,null,null,"VV","2","1","-1","0","ROZPOCET"]
[null,null,null,"VV",null,"pol.451572111+175101101mezisoučet A",null,null,null,null,null,null,null,null,null,null,null,null,null,null,null,null,null,null,null,null,null,null,null,null,null,null,null,null,null,null,null,null,null,null,null,null,null,null,null,"VV","2","1","-1","0","ROZPOCET"]
[null,null,null,"VV",null,"-(2,0+9,0)",null,-11,null,null,null,null,null,null,null,null,null,null,null,null,null,null,null,null,null,null,null,null,null,null,null,null,null,null,null,null,null,null,null,null,null,null,null,null,null,"VV","2","2","-1","0","ROZPOCET"]
[null,null,null,"VV",null,"zásyp kabelových chráničet",null,null,null,null,null,null,null,null,null,null,null,null,null,null,null,null,null,null,null,null,null,null,null,null,null,null,null,null,null,null,null,null,null,null,null,null,null,null,null,"VV","2","1","-1","0","ROZPOCET"]
[null,null,null,"VV",null,"pol.132202101",null,null,null,null,null,null,null,null,null,null,null,null,null,null,null,null,null,null,null,null,null,null,null,null,null,null,null,null,null,null,null,null,null,null,null,null,null,null,null,"VV","2","1","-1","0","ROZPOCET"]
[null,null,null,"VV",null,"18,0",null,18,null,null,null,null,null,null,null,null,null,null,null,null,null,null,null,null,null,null,null,null,null,null,null,null,null,null,null,null,null,null,null,null,null,null,null,null,null,"VV","2","2","-1","0","ROZPOCET"]
[null,null,null,"VV",null,"méně obetonování pol.899623151 (odd.93)",null,null,null,null,null,null,null,null,null,null,null,null,null,null,null,null,null,null,null,null,null,null,null,null,null,null,null,null,null,null,null,null,null,null,null,null,null,null,null,"VV","2","1","-1","0","ROZPOCET"]
[null,null,null,"VV",null,"-12,6",null,-12.6,null,null,null,null,null,null,null,null,null,null,null,null,null,null,null,null,null,null,null,null,null,null,null,null,null,null,null,null,null,null,null,null,null,null,null,null,null,"VV","2","2","-1","0","ROZPOCET"]
[null,null,null,"VV",null,"Součet",null,24.4,null,null,null,null,null,null,null,null,null,null,null,null,null,null,null,null,null,null,null,null,null,null,null,null,null,null,null,null,null,null,null,null,null,null,null,null,null,"VV","2","4","-1","1","ROZPOCET"]
[null,null,"11","K","162701105","Vodorovné přemístění do 10000 m výkopku/sypaniny z horniny tř. 1 až 4","m3",605.6,null,{"$f":"ROUND($I$169*$H$169,2)","v":0},"CS ÚRS 2014 02",null,null,"základní",null,null,0,{"$f":"$Q$169*$H$169","v":0},0,{"$f":"$S$169*$H$169","v":0},null,null,null,null,null,null,null,null,null,null,null,null,null,null,null,null,null,null,null,null,null,null,null,"4",null,"K","2",null,null,null,"ROZPOCET",null,null,null,null,null,{"$f":"IF($N$169=\"základní\",$J$169,0)","v":0},{"$f":"IF($N$169=\"snížená\",$J$169,0)","v":0},{"$f":"IF($N$169=\"zákl. přenesená\",$J$169,0)","v":0},{"$f":"IF($N$169=\"sníž. přenesená\",$J$169,0)","v":0},{"$f":"IF($N$169=\"nulová\",$J$169,0)","v":0},"1",{"$f":"ROUND($I$169*$H$169,2)","v":0},"4","1542549526"]
[null,null,null,"PP",null,"Vodorovné přemístění výkopku nebo sypaniny po suchu na obvyklém dopravním prostředku, bez naložení výkopku, avšak se složením bez rozhrnutí z horniny tř. 1 až 4 na vzdálenost přes 9 000 do 10 000 m",null,null,null,null,null,null,null,null,null,null,null,null,null,null,null,null,null,null,null,null,null,null,null,null,null,null,null,null,null,null,null,null,null,null,null,null,null,null,null,"PP","2"]
[null,null,null,"PSC",null,"Poznámka k souboru cen:\n1. Ceny nelze použít, předepisuje-li projekt přemístit výkopek na místo nepřístupné obvyklým     dopravním prostředkům; toto přemístění se oceňuje individuálně. 2. V cenách jsou započteny i náhrady za jízdu loženého vozidla v terénu ve výkopišti nebo na     násypišti. 3. V cenách nejsou započteny náklady na rozhrnutí výkopku na násypišti; toto rozhrnutí se oceňuje     cenami souboru cen 171 . 0- . . Uložení sypaniny do násypů a 171 20-1201Uložení sypaniny na skládky. 4. Je-li na dopravní dráze pro vodorovné přemístění nějaká překážka, pro kterou je nutno překládat     výkopek z jednoho obvyklého dopravního prostředku na jiný obvyklý doprav- ní prostředek, oceňuje se     toto lomené vodorovné přemístění výkopku v každém úseku samostatně příslušnou cenou tohoto souboru     cen a překládání výkopku cenami souboru cen 167 10-3 . Nakládání neulehlého výkopku z hromad s     ohledem na ustanovení pozn. číslo 5. 5. Přemísťuje-li se výkopek z dočasných skládek vzdálených do 50 m, neoceňuje se nakládání výkopku,     i když se provádí. Toto ustanovení neplatí, vylučuje-li projekt použití dozeru. 6. V cenách vodorovného přemístění sypaniny nejsou započteny náklady na dodávku materiálu, tyto se     oceňují ve specifikaci. ",null,null,null,null,null,null,null,null,null,null,null,null,null,null,null,null,null,null,null,null,null,null,null,null,null,null,null,null,null,null,null,null,null,null,null,null,null,null,null,"PSC","2"]
[null,null,null,"VV",null,"přebytečná zemina",null,null,null,null,null,null,null,null,null,null,null,null,null,null,null,null,null,null,null,null,null,null,null,null,null,null,null,null,null,null,null,null,null,null,null,null,null,null,null,"VV","2","1","-1","0","ROZPOCET"]
[null,null,null,"VV",null,"pol.122102202+122202202",null,null,null,null,null,null,null,null,null,null,null,null,null,null,null,null,null,null,null,null,null,null,null,null,null,null,null,null,null,null,null,null,null,null,null,null,null,null,null,"VV","2","1","-1","0","ROZPOCET"]
[null,null,null,"VV",null,"160,0+480,0",null,640,null,null,null,null,null,null,null,null,null,null,null,null,null,null,null,null,null,null,null,null,null,null,null,null,null,null,null,null,null,null,null,null,null,null,null,null,null,"VV","2","2","-1","0","ROZPOCET"]
[null,null,null,"VV",null,"pol.132201201",null,null,null,null,null,null,null,null,null,null,null,null,null,null,null,null,null,null,null,null,null,null,null,null,null,null,null,null,null,null,null,null,null,null,null,null,null,null,null,"VV","2","1","-1","0","ROZPOCET"]
[null,null,null,"VV",null,"30,0",null,30,null,null,null,null,null,null,null,null,null,null,null,null,null,null,null,null,null,null,null,null,null,null,null,null,null,null,null,null,null,null,null,null,null,null,null,null,null,"VV","2","2","-1","0","ROZPOCET"]
[null,null,null,"VV",null,"méně",null,null,null,null,null,null,null,null,null,null,null,null,null,null,null,null,null,null,null,null,null,null,null,null,null,null,null,null,null,null,null,null,null,null,null,null,null,null,null,"VV","2","1","-1","0","ROZPOCET"]
[null,null,null,"VV",null,"pol.17110103+174101101",null,null,null,null,null,null,null,null,null,null,null,null,null,null,null,null,null,null,null,null,null,null,null,null,null,null,null,null,null,null,null,null,null,null,null,null,null,null,null,"VV","2","1","-1","0","ROZPOCET"]
[null,null,null,"VV",null,"-(40,0+24,4)",null,-64.400000000000006,null,null,null,null,null,null,null,null,null,null,null,null,null,null,null,null,null,null,null,null,null,null,null,null,null,null,null,null,null,null,null,null,null,null,null,null,null,"VV","2","2","-1","0","ROZPOCET"]
[null,null,null,"VV",null,"Součet",null,605.6,null,null,null,null,null,null,null,null,null,null,null,null,null,null,null,null,null,null,null,null,null,null,null,null,null,null,null,null,null,null,null,null,null,null,null,null,null,"VV","2","4","-1","1","ROZPOCET"]
[null,null,"12","K","162701109","Příplatek k vodorovnému přemístění výkopku/sypaniny z horniny tř. 1 až 4 ZKD 1000 m přes 10000 m","m3",3028,null,{"$f":"ROUND($I$181*$H$181,2)","v":0},"CS ÚRS 2014 02",null,null,"základní",null,null,0,{"$f":"$Q$181*$H$181","v":0},0,{"$f":"$S$181*$H$181","v":0},null,null,null,null,null,null,null,null,null,null,null,null,null,null,null,null,null,null,null,null,null,null,null,"4",null,"K","2",null,null,null,"ROZPOCET",null,null,null,null,null,{"$f":"IF($N$181=\"základní\",$J$181,0)","v":0},{"$f":"IF($N$181=\"snížená\",$J$181,0)","v":0},{"$f":"IF($N$181=\"zákl. přenesená\",$J$181,0)","v":0},{"$f":"IF($N$181=\"sníž. přenesená\",$J$181,0)","v":0},{"$f":"IF($N$181=\"nulová\",$J$181,0)","v":0},"1",{"$f":"ROUND($I$181*$H$181,2)","v":0},"4","-408150175"]
[null,null,null,"PP",null,"Vodorovné přemístění výkopku nebo sypaniny po suchu na obvyklém dopravním prostředku, bez naložení výkopku, avšak se složením bez rozhrnutí z horniny tř. 1 až 4 na vzdálenost Příplatek k ceně za každých dalších i započatých 1 000 m",null,null,null,null,null,null,null,null,null,null,null,null,null,null,null,null,null,null,null,null,null,null,null,null,null,null,null,null,null,null,null,null,null,null,null,null,null,null,null,"PP","2"]
[null,null,null,"PSC",null,"Poznámka k souboru cen:\n1. Ceny nelze použít, předepisuje-li projekt přemístit výkopek na místo nepřístupné obvyklým     dopravním prostředkům; toto přemístění se oceňuje individuálně. 2. V cenách jsou započteny i náhrady za jízdu loženého vozidla v terénu ve výkopišti nebo na     násypišti. 3. V cenách nejsou započteny náklady na rozhrnutí výkopku na násypišti; toto rozhrnutí se oceňuje     cenami souboru cen 171 . 0- . . Uložení sypaniny do násypů a 171 20-1201Uložení sypaniny na skládky. 4. Je-li na dopravní dráze pro vodorovné přemístění nějaká překážka, pro kterou je nutno překládat     výkopek z jednoho obvyklého dopravního prostředku na jiný obvyklý doprav- ní prostředek, oceňuje se     toto lomené vodorovné přemístění výkopku v každém úseku samostatně příslušnou cenou tohoto souboru     cen a překládání výkopku cenami souboru cen 167 10-3 . Nakládání neulehlého výkopku z hromad s     ohledem na ustanovení pozn. číslo 5. 5. Přemísťuje-li se výkopek z dočasných skládek vzdálených do 50 m, neoceňuje se nakládání výkopku,     i když se provádí. Toto ustanovení neplatí, vylučuje-li projekt použití dozeru. 6. V cenách vodorovného přemístění sypaniny nejsou započteny náklady na dodávku materiálu, tyto se     oceňují ve specifikaci. ",null,null,null,null,null,null,null,null,null,null,null,null,null,null,null,null,null,null,null,null,null,null,null,null,null,null,null,null,null,null,null,null,null,null,null,null,null,null,null,"PSC","2"]
[null,null,null,"VV",null,"celkem 15 km",null,null,null,null,null,null,null,null,null,null,null,null,null,null,null,null,null,null,null,null,null,null,null,null,null,null,null,null,null,null,null,null,null,null,null,null,null,null,null,"VV","2","1","-1","0","ROZPOCET"]
[null,null,null,"VV",null,"605,6*(15-10)",null,3028,null,null,null,null,null,null,null,null,null,null,null,null,null,null,null,null,null,null,null,null,null,null,null,null,null,null,null,null,null,null,null,null,null,null,null,null,null,"VV","2","2","-1","1","ROZPOCET"]
[null,null,"13","K","162301101","Vodorovné přemístění do 500 m výkopku/sypaniny z horniny tř. 1 až 4","m3",72,null,{"$f":"ROUND($I$186*$H$186,2)","v":0},"CS ÚRS 2014 02",null,null,"základní",null,null,0,{"$f":"$Q$186*$H$186","v":0},0,{"$f":"$S$186*$H$186","v":0},null,null,null,null,null,null,null,null,null,null,null,null,null,null,null,null,null,null,null,null,null,null,null,"4",null,"K","2",null,null,null,"ROZPOCET",null,null,null,null,null,{"$f":"IF($N$186=\"základní\",$J$186,0)","v":0},{"$f":"IF($N$186=\"snížená\",$J$186,0)","v":0},{"$f":"IF($N$186=\"zákl. přenesená\",$J$186,0)","v":0},{"$f":"IF($N$186=\"sníž. přenesená\",$J$186,0)","v":0},{"$f":"IF($N$186=\"nulová\",$J$186,0)","v":0},"1",{"$f":"ROUND($I$186*$H$186,2)","v":0},"4","508777458"]
[null,null,null,"PP",null,"Vodorovné přemístění výkopku nebo sypaniny po suchu na obvyklém dopravním prostředku, bez naložení výkopku, avšak se složením bez rozhrnutí z horniny tř. 1 až 4 na vzdálenost přes 50 do 500 m",null,null,null,null,null,null,null,null,null,null,null,null,null,null,null,null,null,null,null,null,null,null,null,null,null,null,null,null,null,null,null,null,null,null,null,null,null,null,null,"PP","2"]
[null,null,null,"PSC",null,"Poznámka k souboru cen:\n1. Ceny nelze použít, předepisuje-li projekt přemístit výkopek na místo nepřístupné obvyklým     dopravním prostředkům; toto přemístění se oceňuje individuálně. 2. V cenách jsou započteny i náhrady za jízdu loženého vozidla v terénu ve výkopišti nebo na     násypišti. 3. V cenách nejsou započteny náklady na rozhrnutí výkopku na násypišti; toto rozhrnutí se oceňuje     cenami souboru cen 171 . 0- . . Uložení sypaniny do násypů a 171 20-1201Uložení sypaniny na skládky. 4. Je-li na dopravní dráze pro vodorovné přemístění nějaká překážka, pro kterou je nutno překládat     výkopek z jednoho obvyklého dopravního prostředku na jiný obvyklý doprav- ní prostředek, oceňuje se     toto lomené vodorovné přemístění výkopku v každém úseku samostatně příslušnou cenou tohoto souboru     cen a překládání výkopku cenami souboru cen 167 10-3 . Nakládání neulehlého výkopku z hromad s     ohledem na ustanovení pozn. číslo 5. 5. Přemísťuje-li se výkopek z dočasných skládek vzdálených do 50 m, neoceňuje se nakládání výkopku,     i když se provádí. Toto ustanovení neplatí, vylučuje-li projekt použití dozeru. 6. V cenách vodorovného přemístění sypaniny nejsou započteny náklady na dodávku materiálu, tyto se     oceňují ve specifikaci. ",null,null,null,null,null,null,null,null,null,null,null,null,null,null,null,null,null,null,null,null,null,null,null,null,null,null,null,null,null,null,null,null,null,null,null,null,null,null,null,"PSC","2"]
[null,null,null,"VV",null,"ornice z meziskládky k místu rozprostření",null,null,null,null,null,null,null,null,null,null,null,null,null,null,null,null,null,null,null,null,null,null,null,null,null,null,null,null,null,null,null,null,null,null,null,null,null,null,null,"VV","2","1","-1","0","ROZPOCET"]
[null,null,null,"VV",null,"pol.181301102+182301122",null,null,null,null,null,null,null,null,null,null,null,null,null,null,null,null,null,null,null,null,null,null,null,null,null,null,null,null,null,null,null,null,null,null,null,null,null,null,null,"VV","2","1","-1","0","ROZPOCET"]
[null,null,null,"VV",null,"(180,0+300,0)*0,15",null,72,null,null,null,null,null,null,null,null,null,null,null,null,null,null,null,null,null,null,null,null,null,null,null,null,null,null,null,null,null,null,null,null,null,null,null,null,null,"VV","2","2","-1","1","ROZPOCET"]
[null,null,"14","K","167101101","Nakládání výkopku z hornin tř. 1 až 4 do 100 m3","m3",72,null,{"$f":"ROUND($I$192*$H$192,2)","v":0},"CS ÚRS 2014 02",null,null,"základní",null,null,0,{"$f":"$Q$192*$H$192","v":0},0,{"$f":"$S$192*$H$192","v":0},null,null,null,null,null,null,null,null,null,null,null,null,null,null,null,null,null,null,null,null,null,null,null,"4",null,"K","2",null,null,null,"ROZPOCET",null,null,null,null,null,{"$f":"IF($N$192=\"základní\",$J$192,0)","v":0},{"$f":"IF($N$192=\"snížená\",$J$192,0)","v":0},{"$f":"IF($N$192=\"zákl. přenesená\",$J$192,0)","v":0},{"$f":"IF($N$192=\"sníž. přenesená\",$J$192,0)","v":0},{"$f":"IF($N$192=\"nulová\",$J$192,0)","v":0},"1",{"$f":"ROUND($I$192*$H$192,2)","v":0},"4","-1235290639"]
[null,null,null,"PP",null,"Nakládání, skládání a překládání neulehlého výkopku nebo sypaniny nakládání, množství do 100 m3, z hornin tř. 1 až 4",null,null,null,null,null,null,null,null,null,null,null,null,null,null,null,null,null,null,null,null,null,null,null,null,null,null,null,null,null,null,null,null,null,null,null,null,null,null,null,"PP","2"]
[null,null,null,"PSC",null,"Poznámka k souboru cen:\n1. Ceny -1101, -1151, -1102, -1152, -1103, -1153, jsou určeny pro nakládání, skládání a překládání     na obvyklý nebo z obvyklého dopravního prostředku. Pro nakládání z lodi nebo na loď jsou určeny     ceny -1105 a -1155. 2. Ceny -1105 a -1155 jsou určeny pro nakládání, překládání a vykládání na vzdálenost     a) do 20 m vodorovně; vodorovná vzdálenost se měří od těžnice lodi k těžnici druhé lodi, nebo         k těžišti hromady na břehu nebo k těžišti dopravního prostředku na suchu,     b) do 4 m svisle; svislá vzdálenost se měří od pracovní hladiny vody k úrovni srovna- ného         terénu v místě hromady nebo v místě dopravní plochy pro dopravní prostředek na suchu. Uvedenou         svislou vzdálenost 4 m lze zvětšit, a to nejvýše do 6 m, jestliže je vodorovná vzdálenost uvedená v         bodu a) kratší než 20 m nejméně o trojnásobek zvětšení výšky přes 4 m. 3. Množství měrných jednotek se určí v rostlém stavu horniny. ",null,null,null,null,null,null,null,null,null,null,null,null,null,null,null,null,null,null,null,null,null,null,null,null,null,null,null,null,null,null,null,null,null,null,null,null,null,null,null,"PSC","2"]
[null,null,null,"VV",null,"ornice z meziskládky k místu rozprostření",null,null,null,null,null,null,null,null,null,null,null,null,null,null,null,null,null,null,null,null,null,null,null,null,null,null,null,null,null,null,null,null,null,null,null,null,null,null,null,"VV","2","1","-1","0","ROZPOCET"]
[null,null,null,"VV",null,"dle pol.162301101",null,null,null,null,null,null,null,null,null,null,null,null,null,null,null,null,null,null,null,null,null,null,null,null,null,null,null,null,null,null,null,null,null,null,null,null,null,null,null,"VV","2","1","-1","0","ROZPOCET"]
[null,null,null,"VV",null,"72,0",null,72,null,null,null,null,null,null,null,null,null,null,null,null,null,null,null,null,null,null,null,null,null,null,null,null,null,null,null,null,null,null,null,null,null,null,null,null,null,"VV","2","2","-1","1","ROZPOCET"]
[null,null,"15","K","171101103","Uložení sypaniny z hornin soudržných do násypů zhutněných do 100 % PS","m3",40,null,{"$f":"ROUND($I$198*$H$198,2)","v":0},"CS ÚRS 2014 02",null,null,"základní",null,null,0,{"$f":"$Q$198*$H$198","v":0},0,{"$f":"$S$198*$H$198","v":0},null,null,null,null,null,null,null,null,null,null,null,null,null,null,null,null,null,null,null,null,null,null,null,"4",null,"K","2",null,null,null,"ROZPOCET",null,null,null,null,null,{"$f":"IF($N$198=\"základní\",$J$198,0)","v":0},{"$f":"IF($N$198=\"snížená\",$J$198,0)","v":0},{"$f":"IF($N$198=\"zákl. přenesená\",$J$198,0)","v":0},{"$f":"IF($N$198=\"sníž. přenesená\",$J$198,0)","v":0},{"$f":"IF($N$198=\"nulová\",$J$198,0)","v":0},"1",{"$f":"ROUND($I$198*$H$198,2)","v":0},"4","1583081247"]
[null,null,null,"PP",null,"Uložení sypaniny do násypů s rozprostřením sypaniny ve vrstvách a s hrubým urovnáním zhutněných s uzavřením povrchu násypu z hornin soudržných s předepsanou mírou zhutnění v procentech výsledků zkoušek Proctor-Standard (dále jen PS) přes 96 do 100 % PS",null,null,null,null,null,null,null,null,null,null,null,null,null,null,null,null,null,null,null,null,null,null,null,null,null,null,null,null,null,null,null,null,null,null,null,null,null,null,null,"PP","2"]
[null,null,null,"PSC",null,"Poznámka k souboru cen:\n1. Ceny lze použít i pro sypaniny odebírané z hald, pro hlušinu apod. 2. Cenu 20-1101 lze použít i pro:     a) rozprostření zbylého výkopu na místě po zásypu jam a rýh pro podzemní vedení a zářezů pro         podzemní vedení; toto množství se určí v m3 uloženého výkopku, měřeného v rostlém stavu,     b) uložení výkopku do násypů pod vodou. 3. Ceny lze použít i pro uložení sypaniny s předepsaným zhutněním na trvalé skládky, do koryt     vodotečí a do prohlubní terénu. 4. Cenu 10-1131 lze použít i pro  ukládání sypaniny z hornin nesoudržných i soudržných společně bez     možnosti jejich roztřídění. 5. Ceny -1121 a -1131 lze použít jen tehdy, jestliže objem násypů, oceňovaných těmito cenami,     měřený podle ustanovení čl. 3571 Všeobecných podmínek katalogu nepřesáhne 100 000 m3na objektu.     Násypy, jejichž součet objemů přesáhne 100 000 m3 na objektu, se ocení individuálně. 6. Ceny jsou určeny pro míru zhutnění určenou projektem:     a) pro ceny  -1101 až -1105 v % výsledku zkoušky PS,     b) pro ceny -1111 a -1112 relativní ulehlostí I(d),     c) pro ceny  -1121 a -1131 stanovením technologie. 7. Ceny nelze použít:     a) pro uložení sypaniny do hrází; uložení netříděné sypaniny do hrází se oceňuje cenami souboru         cen 171 uložení netříděných sypanin do hrází části A 03, případně cenovými normativy podle části A         31,     b) pro uložení sypaniny do ochranných valů nebo těch jejich částí, jejichž šířka je menší než 3         m. Toto uložení se oceňuje cenami souboru cen 175 10-11 Obsyp objektů. 8. Cena 20-1101 neplatí pro uložení výkopku nebo ornice při vykopávkách pro podzemní vedení podél     hrany výkopu, z něhož byl výkopek získán a to ani tehdy, jestliže se výkopek po vyhození z     výkopiště na povrch území ještě dále přemísťuje na hromady  . podél výkopu. 9. Horninami soudržnými se rozumějí takové horniny, u nichž zdrojem pevnosti jsou molekulární a     chemické vazby mezi částicemi horniny. Jde o horniny, které jsou schopny plastických deformací. 10. Horninami nesoudržnými se rozumějí horniny, u nichž hlavním zdrojem pevnosti ve smyku je pouze     tření mezi jednotlivými oddělenými pevnými částicemi horniny. 11. Horninami sypkými se rozumějí horniny III. skupiny podle ČSN 72 1002 se zrnem do 125 mm.     Množství zrn velikosti přes 125 mm může být nejvýše 5 % objemu. 12. Horninami kamenitými se rozumějí nestmelené úlomkovité horniny skalní a sypké se zrny přes 125     mm. Množství zrn velikosti přes 125 mm musí být vyšší než 5 % objemu. 13. Ceny pro uložení soudržných hornin lze použít, jestliže jejich přirozená vlhkost při ukládání     do násypu není vyšší než 2 % optimální vlhkosti dle zkoušky PS na neredukovaný materiál. Je-li     vlhkost při ukládání sypaniny do násypu vyšší, ocení se uložení sypaniny individuálně. 14. Zajišťuje-li se předepsané zhutnění násypu přesypáním podle čl. 120 ČSN 73 3050, ocení se     odstranění přesypané části cenami 122 . 0-71 Odkopávky nebo prokopávky při pozemkových úpravách ",null,null,null,null,null,null,null,null,null,null,null,null,null,null,null,null,null,null,null,null,null,null,null,null,null,null,null,null,null,null,null,null,null,null,null,null,null,null,null,"PSC","2"]
[null,null,null,"VV",null,"dle specifikace prací v technické zprávě",null,null,null,null,null,null,null,null,null,null,null,null,null,null,null,null,null,null,null,null,null,null,null,null,null,null,null,null,null,null,null,null,null,null,null,null,null,null,null,"VV","2","1","-1","0","ROZPOCET"]
[null,null,null,"VV",null,"40,0",null,40,null,null,null,null,null,null,null,null,null,null,null,null,null,null,null,null,null,null,null,null,null,null,null,null,null,null,null,null,null,null,null,null,null,null,null,null,null,"VV","2","2","-1","1","ROZPOCET"]
[null,null,"16","K","171201201","Uložení sypaniny na skládky","m3",605.6,null,{"$f":"ROUND($I$203*$H$203,2)","v":0},"CS ÚRS 2014 02",null,null,"základní",null,null,0,{"$f":"$Q$203*$H$203","v":0},0,{"$f":"$S$203*$H$203","v":0},null,null,null,null,null,null,null,null,null,null,null,null,null,null,null,null,null,null,null,null,null,null,null,"4",null,"K","2",null,null,null,"ROZPOCET",null,null,null,null,null,{"$f":"IF($N$203=\"základní\",$J$203,0)","v":0},{"$f":"IF($N$203=\"snížená\",$J$203,0)","v":0},{"$f":"IF($N$203=\"zákl. přenesená\",$J$203,0)","v":0},{"$f":"IF($N$203=\"sníž. přenesená\",$J$203,0)","v":0},{"$f":"IF($N$203=\"nulová\",$J$203,0)","v":0},"1",{"$f":"ROUND($I$203*$H$203,2)","v":0},"4","1912856486"]
[null,null,null,"PP",null,"Uložení sypaniny na skládky",null,null,null,null,null,null,null,null,null,null,null,null,null,null,null,null,null,null,null,null,null,null,null,null,null,null,null,null,null,null,null,null,null,null,null,null,null,null,null,"PP","2"]
[null,null,null,"PSC",null,"Poznámka k souboru cen:\n1. Cena -1201 je určena i pro:     a) uložení výkopku nebo ornice na dočasné skládky předepsané projektem tak, že na 1 m2         projektem určené plochy této skládky připadá přes 2 m3 výkopku nebo ornice; v opačném případě se         uložení neoceňuje. Množství výkopku nebo ornice připadající na 1 m2 skládky se určí jako podíl         množství výkopku nebo ornice, měřeného v rostlém stavu a projektem určené plochy dočasné skládky;     b) zasypání koryt vodotečí a prohlubní v terénu bez předepsaného zhutnění sypaniny;     c) uložení výkopku pod vodou do prohlubní ve dně vodotečí nebo nádrží. 2. Cenu -1201 nelze použít pro uložení výkopku nebo ornice:     a) při vykopávkách pro podzemní vedení podél hrany výkopu, z něhož byl výkopek získán, a to ani         tehdy, jestliže se výkopek po vyhození z výkopu na povrch území ještě dále přemisťuje na hromady         podél výkopu;     b) na dočasné skládky, které nejsou předepsány projektem;     c) na dočasné skládky předepsané projektem tak, že na 1 m2 projektem určené plochy této skládky         připadají nejvýše 2 m3 výkopku nebo ornice (viz. též poznámku č. 1 a);     d) na dočasné skládky, oceňuje-li se cenou 121 10-1101 Sejmutí ornice nebo lesní půdy do 50 m,         nebo oceňuje-li se vodorovné přemístění výkopku do 20 m a 50 m cenami 162 20-1101, 162 20-1102, 162         20-1151 a 162 20-1152. V těchto případech se uložení výkopku nebo ornice na dočasnou skládku         neoceňuje.     e) na trvalé skládky s předepsaným zhutněním; toto uložení výkopku se oceňuje cenami souboru         cen 171 . 0- . . Uložení sypaniny do násypů. 3. V ceně -1201 jsou započteny i náklady na rozprostření sypaniny ve vrstvách s hrubým urovnáním na     skládce. 4. V ceně -1201 nejsou započteny náklady na získání skládek ani na poplatky za skládku. 5. Množství jednotek uložení výkopku (sypaniny) se určí v m3 uloženého výkopku (sypaniny),v rostlém     stavu zpravidla ve výkopišti. 6. Cenu -1211 lze po dohodě upravit podle místních podmínek. ",null,null,null,null,null,null,null,null,null,null,null,null,null,null,null,null,null,null,null,null,null,null,null,null,null,null,null,null,null,null,null,null,null,null,null,null,null,null,null,"PSC","2"]
[null,null,null,"VV",null,"dle pol.162701105",null,null,null,null,null,null,null,null,null,null,null,null,null,null,null,null,null,null,null,null,null,null,null,null,null,null,null,null,null,null,null,null,null,null,null,null,null,null,null,"VV","2","1","-1","0","ROZPOCET"]
[null,null,null,"VV",null,"605,6",null,605.6,null,null,null,null,null,null,null,null,null,null,null,null,null,null,null,null,null,null,null,null,null,null,null,null,null,null,null,null,null,null,null,null,null,null,null,null,null,"VV","2","2","-1","1","ROZPOCET"]
[null,null,"17","K","1712012_R","Poplatek za uložení odpadu ze sypaniny na skládce (skládkovné)","t",908.4,null,{"$f":"ROUND($I$208*$H$208,2)","v":0},null,null,null,"základní",null,null,0,{"$f":"$Q$208*$H$208","v":0},0,{"$f":"$S$208*$H$208","v":0},null,null,null,null,null,null,null,null,null,null,null,null,null,null,null,null,null,null,null,null,null,null,null,"4",null,"K","2",null,null,null,"ROZPOCET",null,null,null,null,null,{"$f":"IF($N$208=\"základní\",$J$208,0)","v":0},{"$f":"IF($N$208=\"snížená\",$J$208,0)","v":0},{"$f":"IF($N$208=\"zákl. přenesená\",$J$208,0)","v":0},{"$f":"IF($N$208=\"sníž. přenesená\",$J$208,0)","v":0},{"$f":"IF($N$208=\"nulová\",$J$208,0)","v":0},"1",{"$f":"ROUND($I$208*$H$208,2)","v":0},"4","-479769795"]
[null,null,null,"PP",null,"Poplatek za uložení odpadu ze sypaniny na skládce (skládkovné)",null,null,null,null,null,null,null,null,null,null,null,null,null,null,null,null,null,null,null,null,null,null,null,null,null,null,null,null,null,null,null,null,null,null,null,null,null,null,null,"PP","2"]
[null,null,null,"PSC",null,"Poznámka k souboru cen:\n1. Cena -1201 je určena i pro:     a) uložení výkopku nebo ornice na dočasné skládky předepsané projektem tak, že na 1 m2         projektem určené plochy této skládky připadá přes 2 m3 výkopku nebo ornice; v opačném případě se         uložení neoceňuje. Množství výkopku nebo ornice připadající na 1 m2 skládky se určí jako podíl         množství výkopku nebo ornice, měřeného v rostlém stavu a projektem určené plochy dočasné skládky;     b) zasypání koryt vodotečí a prohlubní v terénu bez předepsaného zhutnění sypaniny;     c) uložení výkopku pod vodou do prohlubní ve dně vodotečí nebo nádrží. 2. Cenu -1201 nelze použít pro uložení výkopku nebo ornice:     a) při vykopávkách pro podzemní vedení podél hrany výkopu, z něhož byl výkopek získán, a to ani         tehdy, jestliže se výkopek po vyhození z výkopu na povrch území ještě dále přemisťuje na hromady         podél výkopu;     b) na dočasné skládky, které nejsou předepsány projektem;     c) na dočasné skládky předepsané projektem tak, že na 1 m2 projektem určené plochy této skládky         připadají nejvýše 2 m3 výkopku nebo ornice (viz. též poznámku č. 1 a);     d) na dočasné skládky, oceňuje-li se cenou 121 10-1101 Sejmutí ornice nebo lesní půdy do 50 m,         nebo oceňuje-li se vodorovné přemístění výkopku do 20 m a 50 m cenami 162 20-1101, 162 20-1102, 162         20-1151 a 162 20-1152. V těchto případech se uložení výkopku nebo ornice na dočasnou skládku         neoceňuje.     e) na trvalé skládky s předepsaným zhutněním; toto uložení výkopku se oceňuje cenami souboru         cen 171 . 0- . . Uložení sypaniny do násypů. 3. V ceně -1201 jsou započteny i náklady na rozprostření sypaniny ve vrstvách s hrubým urovnáním na     skládce. 4. V ceně -1201 nejsou započteny náklady na získání skládek ani na poplatky za skládku. 5. Množství jednotek uložení výkopku (sypaniny) se určí v m3 uloženého výkopku (sypaniny),v rostlém     stavu zpravidla ve výkopišti. 6. Cenu -1211 lze po dohodě upravit podle místních podmínek. ",null,null,null,null,null,null,null,null,null,null,null,null,null,null,null,null,null,null,null,null,null,null,null,null,null,null,null,null,null,null,null,null,null,null,null,null,null,null,null,"PSC","2"]
[null,null,null,"VV",null,"605,6*1,5",null,908.4,null,null,null,null,null,null,null,null,null,null,null,null,null,null,null,null,null,null,null,null,null,null,null,null,null,null,null,null,null,null,null,null,null,null,null,null,null,"VV","2","2","-1","1","ROZPOCET"]
[null,null,"18","K","181951102","Úprava pláně v hornině tř. 1 až 4 se zhutněním","m2",715,null,{"$f":"ROUND($I$212*$H$212,2)","v":0},"CS ÚRS 2014 02",null,null,"základní",null,null,0,{"$f":"$Q$212*$H$212","v":0},0,{"$f":"$S$212*$H$212","v":0},null,null,null,null,null,null,null,null,null,null,null,null,null,null,null,null,null,null,null,null,null,null,null,"4",null,"K","2",null,null,null,"ROZPOCET",null,null,null,null,null,{"$f":"IF($N$212=\"základní\",$J$212,0)","v":0},{"$f":"IF($N$212=\"snížená\",$J$212,0)","v":0},{"$f":"IF($N$212=\"zákl. přenesená\",$J$212,0)","v":0},{"$f":"IF($N$212=\"sníž. přenesená\",$J$212,0)","v":0},{"$f":"IF($N$212=\"nulová\",$J$212,0)","v":0},"1",{"$f":"ROUND($I$212*$H$212,2)","v":0},"4","900643108"]
[null,null,null,"PP",null,"Úprava pláně vyrovnáním výškových rozdílů v hornině tř. 1 až 4 se zhutněním",null,null,null,null,null,null,null,null,null,null,null,null,null,null,null,null,null,null,null,null,null,null,null,null,null,null,null,null,null,null,null,null,null,null,null,null,null,null,null,"PP","2"]
[null,null,null,"PSC",null,"Poznámka k souboru cen:\n1. Ceny jsou určeny pro urovnání všech nově zřizovaných ploch (v zářezech i na násypech)     vodorovných nebo ve sklonu do 1:5 pod zpevnění ploch jakéhokoliv druhu, pod humusování, (ne však     pro plochy zásypu rýh pro podzemní vedení), drnování apod. a dále, předepíše-li projekt urovnání     pláně z jiného důvodu. 2. Ceny nelze použít pro urovnání lavic (berem) šířky do 3 m přerušujících svahy, pro urovnání dna     silničních a železničních příkopů pro jakoukoliv šířku dna; toto urovnání se oceňuje cenami souboru     cen 182 .0-1 Svahování. 3. Urovnání ploch ve sklonu přes 1 : 5 se oceňuje cenami souboru cen 182 . 0-11 Svahování trvalých     svahů do projektovaných profilů. 4. Náklady na urovnání dna a stěn při čištění příkopů pozemních komunikací jsou započteny v cenách     souborů cen 938 90-2 . Čištění příkopů komunikací v suchu nebo ve vodě části A02 Zemní práce pro     objekty oborů 821 až 828. 5. Míru zhutnění určuje projekt. Ceny se zhutněním jsou určeny pro jakoukoliv míru zhutnění. ",null,null,null,null,null,null,null,null,null,null,null,null,null,null,null,null,null,null,null,null,null,null,null,null,null,null,null,null,null,null,null,null,null,null,null,null,null,null,null,"PSC","2"]
[null,null,null,"VV",null,"živičná plocha",null,null,null,null,null,null,null,null,null,null,null,null,null,null,null,null,null,null,null,null,null,null,null,null,null,null,null,null,null,null,null,null,null,null,null,null,null,null,null,"VV","2","1","-1","0","ROZPOCET"]
[null,null,null,"VV",null,"620,0",null,620,null,null,null,null,null,null,null,null,null,null,null,null,null,null,null,null,null,null,null,null,null,null,null,null,null,null,null,null,null,null,null,null,null,null,null,null,null,"VV","2","2","-1","0","ROZPOCET"]
[null,null,null,"VV",null,"chodníky",null,null,null,null,null,null,null,null,null,null,null,null,null,null,null,null,null,null,null,null,null,null,null,null,null,null,null,null,null,null,null,null,null,null,null,null,null,null,null,"VV","2","1","-1","0","ROZPOCET"]
[null,null,null,"VV",null,"85,0+10,0",null,95,null,null,null,null,null,null,null,null,null,null,null,null,null,null,null,null,null,null,null,null,null,null,null,null,null,null,null,null,null,null,null,null,null,null,null,null,null,"VV","2","2","-1","0","ROZPOCET"]
[null,null,null,"VV",null,"Součet",null,715,null,null,null,null,null,null,null,null,null,null,null,null,null,null,null,null,null,null,null,null,null,null,null,null,null,null,null,null,null,null,null,null,null,null,null,null,null,"VV","2","4","-1","1","ROZPOCET"]
[null,null,"19","K","181951101","Úprava pláně v hornině tř. 1 až 4 bez zhutnění","m2",180,null,{"$f":"ROUND($I$220*$H$220,2)","v":0},"CS ÚRS 2014 02",null,null,"základní",null,null,0,{"$f":"$Q$220*$H$220","v":0},0,{"$f":"$S$220*$H$220","v":0},null,null,null,null,null,null,null,null,null,null,null,null,null,null,null,null,null,null,null,null,null,null,null,"4",null,"K","2",null,null,null,"ROZPOCET",null,null,null,null,null,{"$f":"IF($N$220=\"základní\",$J$220,0)","v":0},{"$f":"IF($N$220=\"snížená\",$J$220,0)","v":0},{"$f":"IF($N$220=\"zákl. přenesená\",$J$220,0)","v":0},{"$f":"IF($N$220=\"sníž. přenesená\",$J$220,0)","v":0},{"$f":"IF($N$220=\"nulová\",$J$220,0)","v":0},"1",{"$f":"ROUND($I$220*$H$220,2)","v":0},"4","-75179793"]
[null,null,null,"PP",null,"Úprava pláně vyrovnáním výškových rozdílů v hornině tř. 1 až 4 bez zhutnění",null,null,null,null,null,null,null,null,null,null,null,null,null,null,null,null,null,null,null,null,null,null,null,null,null,null,null,null,null,null,null,null,null,null,null,null,null,null,null,"PP","2"]
[null,null,null,"PSC",null,"Poznámka k souboru cen:\n1. Ceny jsou určeny pro urovnání všech nově zřizovaných ploch (v zářezech i na násypech)     vodorovných nebo ve sklonu do 1:5 pod zpevnění ploch jakéhokoliv druhu, pod humusování, (ne však     pro plochy zásypu rýh pro podzemní vedení), drnování apod. a dále, předepíše-li projekt urovnání     pláně z jiného důvodu. 2. Ceny nelze použít pro urovnání lavic (berem) šířky do 3 m přerušujících svahy, pro urovnání dna     silničních a železničních příkopů pro jakoukoliv šířku dna; toto urovnání se oceňuje cenami souboru     cen 182 .0-1 Svahování. 3. Urovnání ploch ve sklonu přes 1 : 5 se oceňuje cenami souboru cen 182 . 0-11 Svahování trvalých     svahů do projektovaných profilů. 4. Náklady na urovnání dna a stěn při čištění příkopů pozemních komunikací jsou započteny v cenách     souborů cen 938 90-2 . Čištění příkopů komunikací v suchu nebo ve vodě části A02 Zemní práce pro     objekty oborů 821 až 828. 5. Míru zhutnění určuje projekt. Ceny se zhutněním jsou určeny pro jakoukoliv míru zhutnění. ",null,null,null,null,null,null,null,null,null,null,null,null,null,null,null,null,null,null,null,null,null,null,null,null,null,null,null,null,null,null,null,null,null,null,null,null,null,null,null,"PSC","2"]
[null,null,"20","K","182101101","Svahování v zářezech v hornině tř. 1 až 4","m2",300,null,{"$f":"ROUND($I$223*$H$223,2)","v":0},"CS ÚRS 2014 02",null,null,"základní",null,null,0,{"$f":"$Q$223*$H$223","v":0},0,{"$f":"$S$223*$H$223","v":0},null,null,null,null,null,null,null,null,null,null,null,null,null,null,null,null,null,null,null,null,null,null,null,"4",null,"K","2",null,null,null,"ROZPOCET",null,null,null,null,null,{"$f":"IF($N$223=\"základní\",$J$223,0)","v":0},{"$f":"IF($N$223=\"snížená\",$J$223,0)","v":0},{"$f":"IF($N$223=\"zákl. přenesená\",$J$223,0)","v":0},{"$f":"IF($N$223=\"sníž. přenesená\",$J$223,0)","v":0},{"$f":"IF($N$223=\"nulová\",$J$223,0)","v":0},"1",{"$f":"ROUND($I$223*$H$223,2)","v":0},"4","-1103057914"]
[null,null,null,"PP",null,"Svahování trvalých svahů do projektovaných profilů s potřebným přemístěním výkopku při svahování v zářezech v hornině tř. 1 až 4",null,null,null,null,null,null,null,null,null,null,null,null,null,null,null,null,null,null,null,null,null,null,null,null,null,null,null,null,null,null,null,null,null,null,null,null,null,null,null,"PP","2"]
[null,null,null,"PSC",null,"Poznámka k souboru cen:\n1. Ceny jsou určeny pro svahování všech nově zřizovaných ploch výkopů nebo násypů ve sklonu přes 1     : 5 a pro úpravu lavic (berem) šířky do 3 m přerušujících svahy, pod jakékoliv zpevnění ploch, pod     humusování, drnování apod., pro úpravy dna a stěn silničních a železničních příkopů a pro úpravy     dna šířky do 1 m melioračních kanálů a vodotečí. 2. Ceny nelze použít pro urovnání stěn příkopů při čištění; toto urovnání se oceňuje cenami souboru     cen 938 90-2 . čištění příkopů komunikací v suchu nebo ve vodě A02 Zemní práce pro objekty oborů     821 až 828. 3. Úprava ploch vodorovných nebo ve sklonu do 1 : 5 s výjimkou ustanovení v poznámce č. 1 se     oceňuje cenami souboru cen 181 *0-11 Úprava pláně vyrovnáním výškových rozdílů. ",null,null,null,null,null,null,null,null,null,null,null,null,null,null,null,null,null,null,null,null,null,null,null,null,null,null,null,null,null,null,null,null,null,null,null,null,null,null,null,"PSC","2"]
[null,null,"21","K","181301102","Rozprostření ornice tl vrstvy do 150 mm pl do 500 m2 v rovině nebo ve svahu do 1:5","m2",180,null,{"$f":"ROUND($I$226*$H$226,2)","v":0},"CS ÚRS 2014 02",null,null,"základní",null,null,0,{"$f":"$Q$226*$H$226","v":0},0,{"$f":"$S$226*$H$226","v":0},null,null,null,null,null,null,null,null,null,null,null,null,null,null,null,null,null,null,null,null,null,null,null,"4",null,"K","2",null,null,null,"ROZPOCET",null,null,null,null,null,{"$f":"IF($N$226=\"základní\",$J$226,0)","v":0},{"$f":"IF($N$226=\"snížená\",$J$226,0)","v":0},{"$f":"IF($N$226=\"zákl. přenesená\",$J$226,0)","v":0},{"$f":"IF($N$226=\"sníž. přenesená\",$J$226,0)","v":0},{"$f":"IF($N$226=\"nulová\",$J$226,0)","v":0},"1",{"$f":"ROUND($I$226*$H$226,2)","v":0},"4","-1854305224"]
[null,null,null,"PP",null,"Rozprostření a urovnání ornice v rovině nebo ve svahu sklonu do 1:5 při souvislé ploše do 500 m2, tl. vrstvy přes 100 do 150 mm",null,null,null,null,null,null,null,null,null,null,null,null,null,null,null,null,null,null,null,null,null,null,null,null,null,null,null,null,null,null,null,null,null,null,null,null,null,null,null,"PP","2"]
[null,null,null,"PSC",null,"Poznámka k souboru cen:\n1. V ceně jsou započteny i náklady na případné nutné přemístění hromad nebo dočasných skládek na     místo spotřeby ze vzdálenosti do 30 m. 2. V ceně nejsou započteny náklady na získání ornice; toto získání se oceňuje cenami souboru cen     121 10-11 Sejmutí ornice. 3. Případné nakládání ornice, v souvislosti s pozn. č. 3 se oceňuje cenami souboru cen 167 10-11     Nakládání, skládání a překládání neulehlého výkopku nebo sypaniny. 4. Jsou-li hromady nebo dočasné skládky ornice umístěny podle projektu ve vzdálenosti přes 30 m od     místa spotřeby, oceňuje se její přemístění cenami souboru cen 162 . 0-1 . Vodorovné přemístění     výkopku, přičemž se vzdálenost 30 m, uvedená v popisu cen, neodečítá. ",null,null,null,null,null,null,null,null,null,null,null,null,null,null,null,null,null,null,null,null,null,null,null,null,null,null,null,null,null,null,null,null,null,null,null,null,null,null,null,"PSC","2"]
[null,null,null,"VV",null,"dle pol.181951101",null,null,null,null,null,null,null,null,null,null,null,null,null,null,null,null,null,null,null,null,null,null,null,null,null,null,null,null,null,null,null,null,null,null,null,null,null,null,null,"VV","2","1","-1","0","ROZPOCET"]
[null,null,null,"VV",null,"180,0",null,180,null,null,null,null,null,null,null,null,null,null,null,null,null,null,null,null,null,null,null,null,null,null,null,null,null,null,null,null,null,null,null,null,null,null,null,null,null,"VV","2","2","-1","1","ROZPOCET"]
[null,null,"22","K","182301122","Rozprostření ornice pl do 500 m2 ve svahu přes 1:5 tl vrstvy do 150 mm","m2",300,null,{"$f":"ROUND($I$231*$H$231,2)","v":0},"CS ÚRS 2014 02",null,null,"základní",null,null,0,{"$f":"$Q$231*$H$231","v":0},0,{"$f":"$S$231*$H$231","v":0},null,null,null,null,null,null,null,null,null,null,null,null,null,null,null,null,null,null,null,null,null,null,null,"4",null,"K","2",null,null,null,"ROZPOCET",null,null,null,null,null,{"$f":"IF($N$231=\"základní\",$J$231,0)","v":0},{"$f":"IF($N$231=\"snížená\",$J$231,0)","v":0},{"$f":"IF($N$231=\"zákl. přenesená\",$J$231,0)","v":0},{"$f":"IF($N$231=\"sníž. přenesená\",$J$231,0)","v":0},{"$f":"IF($N$231=\"nulová\",$J$231,0)","v":0},"1",{"$f":"ROUND($I$231*$H$231,2)","v":0},"4","-1800236986"]
[null,null,null,"PP",null,"Rozprostření a urovnání ornice ve svahu sklonu přes 1:5 při souvislé ploše do 500 m2, tl. vrstvy přes 100 do 150 mm",null,null,null,null,null,null,null,null,null,null,null,null,null,null,null,null,null,null,null,null,null,null,null,null,null,null,null,null,null,null,null,null,null,null,null,null,null,null,null,"PP","2"]
[null,null,null,"PSC",null,"Poznámka k souboru cen:\n1. V ceně jsou započteny i náklady na případné nutné přemístění hromad nebo dočasných skládek na     místo spotřeby ze vzdálenosti do 30 m. 2. V ceně nejsou započteny náklady na získání ornice; toto získání se oceňuje cenami souboru cen     121 10-11 Sejmutí ornice. 3. Případné nakládání ornice, v souvislosti s pozn. č. 3, se oceňuje cenami souboru cen 167 10-11     Nakládání, skládání a překládání neulehlého výkopku nebo sypaniny. 4. Jsou-li hromady nebo dočasné skládky ornice umístěny podle projektu ve vzdálenosti přes 30 m od     místa spotřeby, oceňuje se její přemístění cenami souboru cen 162 . 0-1 . Vodorovné přemístění     výkopku, přičemž se vzdálenost 30 m, uvedená v popisu cen, neodečítá. ",null,null,null,null,null,null,null,null,null,null,null,null,null,null,null,null,null,null,null,null,null,null,null,null,null,null,null,null,null,null,null,null,null,null,null,null,null,null,null,"PSC","2"]
[null,null,null,"VV",null,"dle pol.182101101",null,null,null,null,null,null,null,null,null,null,null,null,null,null,null,null,null,null,null,null,null,null,null,null,null,null,null,null,null,null,null,null,null,null,null,null,null,null,null,"VV","2","1","-1","0","ROZPOCET"]
[null,null,null,"VV",null,"300,0",null,300,null,null,null,null,null,null,null,null,null,null,null,null,null,null,null,null,null,null,null,null,null,null,null,null,null,null,null,null,null,null,null,null,null,null,null,null,null,"VV","2","2","-1","1","ROZPOCET"]
[null,null,"23","K","181411131","Založení parkového trávníku výsevem plochy do 1000 m2 v rovině a ve svahu do 1:5","m2",180,null,{"$f":"ROUND($I$236*$H$236,2)","v":0},"CS ÚRS 2014 02",null,null,"základní",null,null,0,{"$f":"$Q$236*$H$236","v":0},0,{"$f":"$S$236*$H$236","v":0},null,null,null,null,null,null,null,null,null,null,null,null,null,null,null,null,null,null,null,null,null,null,null,"4",null,"K","2",null,null,null,"ROZPOCET",null,null,null,null,null,{"$f":"IF($N$236=\"základní\",$J$236,0)","v":0},{"$f":"IF($N$236=\"snížená\",$J$236,0)","v":0},{"$f":"IF($N$236=\"zákl. přenesená\",$J$236,0)","v":0},{"$f":"IF($N$236=\"sníž. přenesená\",$J$236,0)","v":0},{"$f":"IF($N$236=\"nulová\",$J$236,0)","v":0},"1",{"$f":"ROUND($I$236*$H$236,2)","v":0},"4","1292562486"]
[null,null,null,"PP",null,"Založení trávníku na půdě předem připravené plochy do 1000 m2 výsevem včetně utažení parkového v rovině nebo na svahu do 1:5",null,null,null,null,null,null,null,null,null,null,null,null,null,null,null,null,null,null,null,null,null,null,null,null,null,null,null,null,null,null,null,null,null,null,null,null,null,null,null,"PP","2"]
[null,null,null,"PSC",null,"Poznámka k souboru cen:\n1. V cenách jsou započteny i náklady na pokosení, naložení a odvoz odpadu do 20 km se složením. 2. V cenách -1161 až -1164 nejsou započteny i náklady na zatravňovací textilii. 3. V cenách nejsou započteny náklady na:     a) přípravu půdy,     b) travní semeno, tyto náklady se oceňují ve specifikaci,     c) vypletí a zalévání; tyto práce se oceňují cenami části C02 souborů cen 185 80-42 Vypletí a         185 80-43 Zalití rostlin vodou,     d) srovnání terénu, tyto práce se oceňují souborem cen 181 1.-..Plošná úprava terénu. 4. V cenách o sklonu svahu přes 1:1 jsou uvažovány podmínky pro svahy běžně schůdné; bez použití     lezeckých technik. V případě použití lezeckých technik se tyto náklady oceňují individuálně. ",null,null,null,null,null,null,null,null,null,null,null,null,null,null,null,null,null,null,null,null,null,null,null,null,null,null,null,null,null,null,null,null,null,null,null,null,null,null,null,"PSC","2"]
[null,null,null,"VV",null,"dle pol.180951101",null,null,null,null,null,null,null,null,null,null,null,null,null,null,null,null,null,null,null,null,null,null,null,null,null,null,null,null,null,null,null,null,null,null,null,null,null,null,null,"VV","2","1","-1","0","ROZPOCET"]
[null,null,null,"VV",null,"180,0",null,180,null,null,null,null,null,null,null,null,null,null,null,null,null,null,null,null,null,null,null,null,null,null,null,null,null,null,null,null,null,null,null,null,null,null,null,null,null,"VV","2","2","-1","1","ROZPOCET"]
[null,null,"24","K","181411132","Založení parkového trávníku výsevem plochy do 1000 m2 ve svahu do 1:2","m2",300,null,{"$f":"ROUND($I$241*$H$241,2)","v":0},"CS ÚRS 2014 02",null,null,"základní",null,null,0,{"$f":"$Q$241*$H$241","v":0},0,{"$f":"$S$241*$H$241","v":0},null,null,null,null,null,null,null,null,null,null,null,null,null,null,null,null,null,null,null,null,null,null,null,"4",null,"K","2",null,null,null,"ROZPOCET",null,null,null,null,null,{"$f":"IF($N$241=\"základní\",$J$241,0)","v":0},{"$f":"IF($N$241=\"snížená\",$J$241,0)","v":0},{"$f":"IF($N$241=\"zákl. přenesená\",$J$241,0)","v":0},{"$f":"IF($N$241=\"sníž. přenesená\",$J$241,0)","v":0},{"$f":"IF($N$241=\"nulová\",$J$241,0)","v":0},"1",{"$f":"ROUND($I$241*$H$241,2)","v":0},"4","-383674189"]
[null,null,null,"PP",null,"Založení trávníku na půdě předem připravené plochy do 1000 m2 výsevem včetně utažení parkového na svahu přes 1:5 do 1:2",null,null,null,null,null,null,null,null,null,null,null,null,null,null,null,null,null,null,null,null,null,null,null,null,null,null,null,null,null,null,null,null,null,null,null,null,null,null,null,"PP","2"]
[null,null,null,"PSC",null,"Poznámka k souboru cen:\n1. V cenách jsou započteny i náklady na pokosení, naložení a odvoz odpadu do 20 km se složením. 2. V cenách -1161 až -1164 nejsou započteny i náklady na zatravňovací textilii. 3. V cenách nejsou započteny náklady na:     a) přípravu půdy,     b) travní semeno, tyto náklady se oceňují ve specifikaci,     c) vypletí a zalévání; tyto práce se oceňují cenami části C02 souborů cen 185 80-42 Vypletí a         185 80-43 Zalití rostlin vodou,     d) srovnání terénu, tyto práce se oceňují souborem cen 181 1.-..Plošná úprava terénu. 4. V cenách o sklonu svahu přes 1:1 jsou uvažovány podmínky pro svahy běžně schůdné; bez použití     lezeckých technik. V případě použití lezeckých technik se tyto náklady oceňují individuálně. ",null,null,null,null,null,null,null,null,null,null,null,null,null,null,null,null,null,null,null,null,null,null,null,null,null,null,null,null,null,null,null,null,null,null,null,null,null,null,null,"PSC","2"]
[null,null,null,"VV",null,"dle pol.182101101",null,null,null,null,null,null,null,null,null,null,null,null,null,null,null,null,null,null,null,null,null,null,null,null,null,null,null,null,null,null,null,null,null,null,null,null,null,null,null,"VV","2","1","-1","0","ROZPOCET"]
[null,null,null,"VV",null,"300,0",null,300,null,null,null,null,null,null,null,null,null,null,null,null,null,null,null,null,null,null,null,null,null,null,null,null,null,null,null,null,null,null,null,null,null,null,null,null,null,"VV","2","2","-1","1","ROZPOCET"]
[null,null,"25","M","005724100","osivo směs travní parková","kg",8,null,{"$f":"ROUND($I$246*$H$246,2)","v":0},"CS ÚRS 2014 02",null,null,"základní",null,null,1E-3,{"$f":"$Q$246*$H$246","v":8.0000000000000002E-3},0,{"$f":"$S$246*$H$246","v":0},null,null,null,null,null,null,null,null,null,null,null,null,null,null,null,null,null,null,null,null,null,null,null,"8",null,"M","2",null,null,null,"ROZPOCET",null,null,null,null,null,{"$f":"IF($N$246=\"základní\",$J$246,0)","v":0},{"$f":"IF($N$246=\"snížená\",$J$246,0)","v":0},{"$f":"IF($N$246=\"zákl. přenesená\",$J$246,0)","v":0},{"$f":"IF($N$246=\"sníž. přenesená\",$J$246,0)","v":0},{"$f":"IF($N$246=\"nulová\",$J$246,0)","v":0},"1",{"$f":"ROUND($I$246*$H$246,2)","v":0},"4","-147401218"]
[null,null,null,"PP",null,"osiva pícnin směsi travní balení obvykle 25 kg parková",null,null,null,null,null,null,null,null,null,null,null,null,null,null,null,null,null,null,null,null,null,null,null,null,null,null,null,null,null,null,null,null,null,null,null,null,null,null,null,"PP","2"]
[null,null,null,"VV",null,"ztratné 3%",null,null,null,null,null,null,null,null,null,null,null,null,null,null,null,null,null,null,null,null,null,null,null,null,null,null,null,null,null,null,null,null,null,null,null,null,null,null,null,"VV","2","1","-1","0","ROZPOCET"]
[null,null,null,"VV",null,"pol.181411131+181411132",null,null,null,null,null,null,null,null,null,null,null,null,null,null,null,null,null,null,null,null,null,null,null,null,null,null,null,null,null,null,null,null,null,null,null,null,null,null,null,"VV","2","1","-1","0","ROZPOCET"]
[null,null,null,"VV",null,"(180,0+300,0)*0,015*1,03+0,584",null,8,null,null,null,null,null,null,null,null,null,null,null,null,null,null,null,null,null,null,null,null,null,null,null,null,null,null,null,null,null,null,null,null,null,null,null,null,null,"VV","2","2","-1","1","ROZPOCET"]
[null,null,"26","K","185804312","Zalití rostlin vodou plocha přes 20 m2","m3",4.8,null,{"$f":"ROUND($I$251*$H$251,2)","v":0},"CS ÚRS 2014 02",null,null,"základní",null,null,0,{"$f":"$Q$251*$H$251","v":0},0,{"$f":"$S$251*$H$251","v":0},null,null,null,null,null,null,null,null,null,null,null,null,null,null,null,null,null,null,null,null,null,null,null,"4",null,"K","2",null,null,null,"ROZPOCET",null,null,null,null,null,{"$f":"IF($N$251=\"základní\",$J$251,0)","v":0},{"$f":"IF($N$251=\"snížená\",$J$251,0)","v":0},{"$f":"IF($N$251=\"zákl. přenesená\",$J$251,0)","v":0},{"$f":"IF($N$251=\"sníž. přenesená\",$J$251,0)","v":0},{"$f":"IF($N$251=\"nulová\",$J$251,0)","v":0},"1",{"$f":"ROUND($I$251*$H$251,2)","v":0},"4","-1654841067"]
[null,null,null,"PP",null,"Zalití rostlin vodou plochy záhonů jednotlivě přes 20 m2",null,null,null,null,null,null,null,null,null,null,null,null,null,null,null,null,null,null,null,null,null,null,null,null,null,null,null,null,null,null,null,null,null,null,null,null,null,null,null,"PP","2"]
[null,null,null,"VV",null,"pol.181411131+181411132",null,null,null,null,null,null,null,null,null,null,null,null,null,null,null,null,null,null,null,null,null,null,null,null,null,null,null,null,null,null,null,null,null,null,null,null,null,null,null,"VV","2","1","-1","0","ROZPOCET"]
[null,null,null,"VV",null,"(180,0+300,0)*10*0,001",null,4.8,null,null,null,null,null,null,null,null,null,null,null,null,null,null,null,null,null,null,null,null,null,null,null,null,null,null,null,null,null,null,null,null,null,null,null,null,null,"VV","2","2","-1","1","ROZPOCET"]
[null,null,"27","K","185851121","Dovoz vody pro zálivku rostlin za vzdálenost do 1000 m","m3",4.8,null,{"$f":"ROUND($I$255*$H$255,2)","v":0},"CS ÚRS 2014 02",null,null,"základní",null,null,0,{"$f":"$Q$255*$H$255","v":0},0,{"$f":"$S$255*$H$255","v":0},null,null,null,null,null,null,null,null,null,null,null,null,null,null,null,null,null,null,null,null,null,null,null,"4",null,"K","2",null,null,null,"ROZPOCET",null,null,null,null,null,{"$f":"IF($N$255=\"základní\",$J$255,0)","v":0},{"$f":"IF($N$255=\"snížená\",$J$255,0)","v":0},{"$f":"IF($N$255=\"zákl. přenesená\",$J$255,0)","v":0},{"$f":"IF($N$255=\"sníž. přenesená\",$J$255,0)","v":0},{"$f":"IF($N$255=\"nulová\",$J$255,0)","v":0},"1",{"$f":"ROUND($I$255*$H$255,2)","v":0},"4","1634140699"]
[null,null,null,"PP",null,"Dovoz vody pro zálivku rostlin na vzdálenost do 1000 m",null,null,null,null,null,null,null,null,null,null,null,null,null,null,null,null,null,null,null,null,null,null,null,null,null,null,null,null,null,null,null,null,null,null,null,null,null,null,null,"PP","2"]
[null,null,null,"PSC",null,"Poznámka k souboru cen:\n1. Ceny lze použít pouze tehdy, když není voda dostupná z vodovodního řádu. 2. V cenách jsou započteny i náklady na čerpání vody do cisterny. 3. V cenách nejsou započteny náklady na dodání vody. Tyto náklady se oceňují individuálně. ",null,null,null,null,null,null,null,null,null,null,null,null,null,null,null,null,null,null,null,null,null,null,null,null,null,null,null,null,null,null,null,null,null,null,null,null,null,null,null,"PSC","2"]
[null,null,"28","K","185851129","Příplatek k dovozu vody pro zálivku rostlin do 1000 m ZKD 1000 m","m3",19.2,null,{"$f":"ROUND($I$258*$H$258,2)","v":0},"CS ÚRS 2014 02",null,null,"základní",null,null,0,{"$f":"$Q$258*$H$258","v":0},0,{"$f":"$S$258*$H$258","v":0},null,null,null,null,null,null,null,null,null,null,null,null,null,null,null,null,null,null,null,null,null,null,null,"4",null,"K","2",null,null,null,"ROZPOCET",null,null,null,null,null,{"$f":"IF($N$258=\"základní\",$J$258,0)","v":0},{"$f":"IF($N$258=\"snížená\",$J$258,0)","v":0},{"$f":"IF($N$258=\"zákl. přenesená\",$J$258,0)","v":0},{"$f":"IF($N$258=\"sníž. přenesená\",$J$258,0)","v":0},{"$f":"IF($N$258=\"nulová\",$J$258,0)","v":0},"1",{"$f":"ROUND($I$258*$H$258,2)","v":0},"4","-296981895"]
[null,null,null,"PP",null,"Dovoz vody pro zálivku rostlin Příplatek k ceně za každých dalších i započatých 1000 m",null,null,null,null,null,null,null,null,null,null,null,null,null,null,null,null,null,null,null,null,null,null,null,null,null,null,null,null,null,null,null,null,null,null,null,null,null,null,null,"PP","2"]
[null,null,null,"PSC",null,"Poznámka k souboru cen:\n1. Ceny lze použít pouze tehdy, když není voda dostupná z vodovodního řádu. 2. V cenách jsou započteny i náklady na čerpání vody do cisterny. 3. V cenách nejsou započteny náklady na dodání vody. Tyto náklady se oceňují individuálně. ",null,null,null,null,null,null,null,null,null,null,null,null,null,null,null,null,null,null,null,null,null,null,null,null,null,null,null,null,null,null,null,null,null,null,null,null,null,null,null,"PSC","2"]
[null,null,null,"VV",null,"celkem 5 km",null,null,null,null,null,null,null,null,null,null,null,null,null,null,null,null,null,null,null,null,null,null,null,null,null,null,null,null,null,null,null,null,null,null,null,null,null,null,null,"VV","2","1","-1","0","ROZPOCET"]
[null,null,null,"VV",null,"4,8*(5-1)",null,19.2,null,null,null,null,null,null,null,null,null,null,null,null,null,null,null,null,null,null,null,null,null,null,null,null,null,null,null,null,null,null,null,null,null,null,null,null,null,"VV","2","2","-1","1","ROZPOCET"]
[null,null,null,"D","11","Zemní práce - přípravné a přidružené práce",null,null,null,{"$f":"$BK$263","v":0},null,null,null,null,null,{"$f":"SUM($P$264:$P$293)","v":0},null,{"$f":"SUM($R$264:$R$293)","v":9.1394099999999992E-2},null,{"$f":"SUM($T$264:$T$293)","v":265.44},null,null,null,null,null,null,null,null,null,null,null,null,null,null,null,null,null,null,null,null,null,null,null,"1",null,"D","1",null,null,null,"ROZPOCET",null,null,null,null,null,null,null,null,null,null,null,{"$f":"SUM($BK$264:$BK$293)","v":0}]
[null,null,"29","K","113106123","Rozebrání dlažeb komunikací pro pěší ze zámkových dlaždic","m2",110,null,{"$f":"ROUND($I$264*$H$264,2)","v":0},"CS ÚRS 2014 02",null,null,"základní",null,null,0,{"$f":"$Q$264*$H$264","v":0},0.26,{"$f":"$S$264*$H$264","v":28.6},null,null,null,null,null,null,null,null,null,null,null,null,null,null,null,null,null,null,null,null,null,null,null,"4",null,"K","2",null,null,null,"ROZPOCET",null,null,null,null,null,{"$f":"IF($N$264=\"základní\",$J$264,0)","v":0},{"$f":"IF($N$264=\"snížená\",$J$264,0)","v":0},{"$f":"IF($N$264=\"zákl. přenesená\",$J$264,0)","v":0},{"$f":"IF($N$264=\"sníž. přenesená\",$J$264,0)","v":0},{"$f":"IF($N$264=\"nulová\",$J$264,0)","v":0},"1",{"$f":"ROUND($I$264*$H$264,2)","v":0},"4","1533426615"]
[null,null,null,"PP",null,"Rozebrání dlažeb a dílců komunikací pro pěší, vozovek a ploch s přemístěním hmot na skládku na vzdálenost do 3 m nebo s naložením na dopravní prostředek komunikací pro pěší s ložem z kameniva nebo živice a s výplní spár ze zámkové dlažby",null,null,null,null,null,null,null,null,null,null,null,null,null,null,null,null,null,null,null,null,null,null,null,null,null,null,null,null,null,null,null,null,null,null,null,null,null,null,null,"PP","2"]
[null,null,null,"PSC",null,"Poznámka k souboru cen:\n1. Ceny jsou určeny pro rozebrání dlažeb a dílců včetně odstranění lože. 2. Ceny nelze použít pro rozebrání dlažeb uložených do betonového lože nebo do cementové malty,     které se oceňují cenami -7130, -7131, -7132, -7170, -7171, -7172, -7230, -7231 a -7232 Odstranění     podkladů nebo krytů z betonu prostého; pro volbu těchto cen je rozhodující tloušťka bourané dlažby     včetně lože nebo podkladu. 3. U komunikací pro pěší a u vozovek a ploch menších než 50 m2 jsou ceny určeny pro ruční     rozebrání, u vozovek a ploch větších než 50 m2 pro rozebrání strojní. 4. V cenách nejsou započteny náklady na popř. nutné očištění:     a) dlažebních nebo mozaikových kostek, které se oceňuje cenami souboru cen 979 07-11 Očištění         vybouraných dlažebních kostek části C01 tohoto ceníku,     b) betonových, kameninových nebo kamenných desek nebo dlaždic, které se oceňuje cenami souboru         cen 979 0 . - . . Očištění vybouraných obrubníků, krajníků, desek nebo dílců části C01 tohoto         ceníku. 5. Přemístění vybourané dlažby včetně materiálu z lože a spár na vzdálenost přes 3 m se oceňuje     cenami souborů cen 997 22-1 Vodorovná doprava suti a vybouraných hmot. ",null,null,null,null,null,null,null,null,null,null,null,null,null,null,null,null,null,null,null,null,null,null,null,null,null,null,null,null,null,null,null,null,null,null,null,null,null,null,null,"PSC","2"]
[null,null,null,"VV",null,"dle specifikace prací v technické zprávě",null,null,null,null,null,null,null,null,null,null,null,null,null,null,null,null,null,null,null,null,null,null,null,null,null,null,null,null,null,null,null,null,null,null,null,null,null,null,null,"VV","2","1","-1","0","ROZPOCET"]
[null,null,null,"VV",null,"110,0",null,110,null,null,null,null,null,null,null,null,null,null,null,null,null,null,null,null,null,null,null,null,null,null,null,null,null,null,null,null,null,null,null,null,null,null,null,null,null,"VV","2","2","-1","1","ROZPOCET"]
[null,null,null,"VV",null,"poznámka : bourání podklaní vrstvy a lože je",null,null,null,null,null,null,null,null,null,null,null,null,null,null,null,null,null,null,null,null,null,null,null,null,null,null,null,null,null,null,null,null,null,null,null,null,null,null,null,"VV","2","1","-1","0","ROZPOCET"]
[null,null,null,"VV",null,"zahrnuto v odkopávkách",null,null,null,null,null,null,null,null,null,null,null,null,null,null,null,null,null,null,null,null,null,null,null,null,null,null,null,null,null,null,null,null,null,null,null,null,null,null,null,"VV","2","1","-1","0","ROZPOCET"]
[null,null,"30","K","113107181","Odstranění podkladu pl přes 50 do 200 m2 živičných tl 50 mm","m2",100,null,{"$f":"ROUND($I$271*$H$271,2)","v":0},"CS ÚRS 2014 02",null,null,"základní",null,null,0,{"$f":"$Q$271*$H$271","v":0},9.8000000000000004E-2,{"$f":"$S$271*$H$271","v":9.8000000000000007},null,null,null,null,null,null,null,null,null,null,null,null,null,null,null,null,null,null,null,null,null,null,null,"4",null,"K","2",null,null,null,"ROZPOCET",null,null,null,null,null,{"$f":"IF($N$271=\"základní\",$J$271,0)","v":0},{"$f":"IF($N$271=\"snížená\",$J$271,0)","v":0},{"$f":"IF($N$271=\"zákl. přenesená\",$J$271,0)","v":0},{"$f":"IF($N$271=\"sníž. přenesená\",$J$271,0)","v":0},{"$f":"IF($N$271=\"nulová\",$J$271,0)","v":0},"1",{"$f":"ROUND($I$271*$H$271,2)","v":0},"4","-49094926"]
[null,null,null,"PP",null,"Odstranění podkladů nebo krytů s přemístěním hmot na skládku na vzdálenost do 20 m nebo s naložením na dopravní prostředek v ploše jednotlivě přes 50 m2 do 200 m2 živičných, o tl. vrstvy do 50 mm",null,null,null,null,null,null,null,null,null,null,null,null,null,null,null,null,null,null,null,null,null,null,null,null,null,null,null,null,null,null,null,null,null,null,null,null,null,null,null,"PP","2"]
[null,null,null,"PSC",null,"Poznámka k souboru cen:\n1. Pro volbu cen z hlediska množství se uvažuje každá souvisle odstraňovaná plocha krytu nebo     podkladu stejného druhu samostatně. Odstraňuje-li se několik vrstev vozovky najednou, jednotlivé     vrstvy se oceňují každá samostatně. 2. U ploch menších než 50 m2 jsou ceny určeny pro ruční odstranění podkladu nebo krytu, u ploch     větších než 50 m2 pro odstranění strojní. 3. Ceny     a) –7111 až –7113, –7151 až -7153 a -7211 až -7213 lze použít i pro odstranění podkladů nebo         krytů ze štěrkopísku, škváry, strusky nebo z mechanicky zpevněných zemin,     b) –7121 až 7125, –7161 až -7165 a -7221 až -7225 lze použít i pro odstranění podkladů nebo         krytů ze zemin stabilizovaných vápnem,     c) –7130 až -7132, –7170 až -7172 a –7230 až -7232 lze použít i pro odstranění dlažeb uložených         do betonového lože a dlažeb z mozaiky uložených do cementové malty nebo podkladu ze zemin         stabilizovaných cementem. 4. Ceny lze použít i pro odstranění podkladů nebo krytů opatřených živičnými postřiky nebo nátěry. 5. Ceny odlišené podle tloušťky (např. do 100 mm, do 200 mm) jsou určeny vždy pro celou tloušťku     jednotlivých konstrukcí. 6. V cenách nejsou započteny náklady na zarovnání styčných ploch betonových nebo živičných podkladů     nebo krytů, které se oceňuje cenami souboru cen 919 73- Zarovnání styčné plochy části C 01 tohoto     ceníku. Množství suti získané ze zarovnání styčných ploch podkladů nebo krytů se zvlášť nevykazuje. 7. Přemístění vybouraného materiálu na vzdálenost přes 3 m u cen –7111 až –7146 a přes 20 m u cen     -7151 až –7246 se oceňuje cenami souborů cen 997 22-1 Vodorovná doprava suti. 8. Ceny -714 . , -718 . a –724 . nelze použít pro odstranění podkladu nebo krytu frézováním. ",null,null,null,null,null,null,null,null,null,null,null,null,null,null,null,null,null,null,null,null,null,null,null,null,null,null,null,null,null,null,null,null,null,null,null,null,null,null,null,"PSC","2"]
[null,null,null,"VV",null,"dle specifikace prací v technické zprávě",null,null,null,null,null,null,null,null,null,null,null,null,null,null,null,null,null,null,null,null,null,null,null,null,null,null,null,null,null,null,null,null,null,null,null,null,null,null,null,"VV","2","1","-1","0","ROZPOCET"]
[null,null,null,"VV",null,"100,0",null,100,null,null,null,null,null,null,null,null,null,null,null,null,null,null,null,null,null,null,null,null,null,null,null,null,null,null,null,null,null,null,null,null,null,null,null,null,null,"VV","2","2","-1","1","ROZPOCET"]
[null,null,"31","K","113154332","Frézování živičného krytu tl 40 mm pruh š 2 m pl do 10000 m2 bez překážek v trase","m2",1630,null,{"$f":"ROUND($I$276*$H$276,2)","v":0},"CS ÚRS 2014 02",null,null,"základní",null,null,5.6069999999999997E-5,{"$f":"$Q$276*$H$276","v":9.1394099999999992E-2},0.10299999999999999,{"$f":"$S$276*$H$276","v":167.89},null,null,null,null,null,null,null,null,null,null,null,null,null,null,null,null,null,null,null,null,null,null,null,"4",null,"K","2",null,null,null,"ROZPOCET",null,null,null,null,null,{"$f":"IF($N$276=\"základní\",$J$276,0)","v":0},{"$f":"IF($N$276=\"snížená\",$J$276,0)","v":0},{"$f":"IF($N$276=\"zákl. přenesená\",$J$276,0)","v":0},{"$f":"IF($N$276=\"sníž. přenesená\",$J$276,0)","v":0},{"$f":"IF($N$276=\"nulová\",$J$276,0)","v":0},"1",{"$f":"ROUND($I$276*$H$276,2)","v":0},"4","-1451586319"]
[null,null,null,"PP",null,"Frézování živičného podkladu nebo krytu s naložením na dopravní prostředek plochy přes 1 000 do 10 000 m2 bez překážek v trase pruhu šířky přes 1 m do 2 m, tloušťky vrstvy 40 mm",null,null,null,null,null,null,null,null,null,null,null,null,null,null,null,null,null,null,null,null,null,null,null,null,null,null,null,null,null,null,null,null,null,null,null,null,null,null,null,"PP","2"]
[null,null,null,"PSC",null,"Poznámka k souboru cen:\n1. V cenách jsou započteny i náklady na:     a) vodu pro chlazení zubů frézy,     b) opotřebování frézovacích nástrojů,     c) naložení odfrézovaného materiálu na dopravní prostředek. 2. V cenách nejsou započteny náklady na:     a) nutné ruční odstranění (vybourání) živičného krytu kolem překážek, které se oceňují cenami         souboru cen 113 10-7 Odstranění podkladů nebo krytů této části katalogu,     b) očištění povrchu odfrézované plochy, které se oceňují cenami souboru cen 938 90-9 Odstranění         bláta, prachu z povrchu podkladu nebo krytu části C01 tohoto katalogu. 3. Množství měrných jednotek pro rozpočet určí projekt. Drobné překážky, např. vpusti, uzávěry,     sloupy (plochy do 2 m2) se z celkové frézované plochy neodečítají. 4. Tloušťku frézované vrstvy určí projekt a měří se tloušťka jednotlivých záběrů v mm. 5. Cena s překážkami je určena v případech, kdy:     a) na 200 m2 frézované plochy se vyskytne v průměru více než jedna vpusť nebo vstup         inženýrských sítí, popř. stožár, vstupní ostrůvek apod.,     b) jsou-li podél frézované plochy osazeny obrubníky s výškovým rozdílem horní plochy obrubníku         od frézované plochy větší než 250 mm. 6. Překážkami se rozumějí obrubníky nebo krajníky, pokud výškový rozdíl horní plochy obrubníku od     frézované plochy je větší než 250 mm, vpusti nebo vstupy inženýrských sítí, stožáry, nástupní a     ochranné ostrůvky apod. ",null,null,null,null,null,null,null,null,null,null,null,null,null,null,null,null,null,null,null,null,null,null,null,null,null,null,null,null,null,null,null,null,null,null,null,null,null,null,null,"PSC","2"]
[null,null,null,"VV",null,"dle specifikace prací v technické zprávě",null,null,null,null,null,null,null,null,null,null,null,null,null,null,null,null,null,null,null,null,null,null,null,null,null,null,null,null,null,null,null,null,null,null,null,null,null,null,null,"VV","2","1","-1","0","ROZPOCET"]
[null,null,null,"VV",null,"1270,0",null,1270,null,null,null,null,null,null,null,null,null,null,null,null,null,null,null,null,null,null,null,null,null,null,null,null,null,null,null,null,null,null,null,null,null,null,null,null,null,"VV","2","2","-1","0","ROZPOCET"]
[null,null,null,"VV",null,"další odfrézování živičného krytu",null,null,null,null,null,null,null,null,null,null,null,null,null,null,null,null,null,null,null,null,null,null,null,null,null,null,null,null,null,null,null,null,null,null,null,null,null,null,null,"VV","2","1","-1","0","ROZPOCET"]
[null,null,null,"VV",null,"360,0",null,360,null,null,null,null,null,null,null,null,null,null,null,null,null,null,null,null,null,null,null,null,null,null,null,null,null,null,null,null,null,null,null,null,null,null,null,null,null,"VV","2","2","-1","0","ROZPOCET"]
[null,null,null,"VV",null,"Součet",null,1630,null,null,null,null,null,null,null,null,null,null,null,null,null,null,null,null,null,null,null,null,null,null,null,null,null,null,null,null,null,null,null,null,null,null,null,null,null,"VV","2","4","-1","1","ROZPOCET"]
[null,null,"32","K","113202111","Vytrhání obrub krajníků obrubníků stojatých","m",270,null,{"$f":"ROUND($I$284*$H$284,2)","v":0},"CS ÚRS 2014 02",null,null,"základní",null,null,0,{"$f":"$Q$284*$H$284","v":0},0.20499999999999999,{"$f":"$S$284*$H$284","v":55.349999999999994},null,null,null,null,null,null,null,null,null,null,null,null,null,null,null,null,null,null,null,null,null,null,null,"4",null,"K","2",null,null,null,"ROZPOCET",null,null,null,null,null,{"$f":"IF($N$284=\"základní\",$J$284,0)","v":0},{"$f":"IF($N$284=\"snížená\",$J$284,0)","v":0},{"$f":"IF($N$284=\"zákl. přenesená\",$J$284,0)","v":0},{"$f":"IF($N$284=\"sníž. přenesená\",$J$284,0)","v":0},{"$f":"IF($N$284=\"nulová\",$J$284,0)","v":0},"1",{"$f":"ROUND($I$284*$H$284,2)","v":0},"4","642516154"]
[null,null,null,"PP",null,"Vytrhání obrub s vybouráním lože, s přemístěním hmot na skládku na vzdálenost do 3 m nebo s naložením na dopravní prostředek z krajníků nebo obrubníků stojatých",null,null,null,null,null,null,null,null,null,null,null,null,null,null,null,null,null,null,null,null,null,null,null,null,null,null,null,null,null,null,null,null,null,null,null,null,null,null,null,"PP","2"]
[null,null,null,"PSC",null,"Poznámka k souboru cen:\n1. Ceny jsou určeny:     a) pro vytrhání obrub, obrubníků nebo krajníků jakéhokoliv druhu a velikosti uložených v         jakémkoliv loži popř. i s opěrami a vyspárovaných jakýmkoliv materiálem,     b) pro obruby z dlažebních kostek uložených v jedné řadě. 2. V cenách nejsou započteny náklady na popř. nutné očištění:     a) vytrhaných obrubníků nebo krajníků, které se oceňuje cenami souboru cen 979 0 . - . .         Očištění vybouraných obrubníků, krajníků, desek nebo dílců části C 01 tohoto ceníku,     b) vytrhaných dlažebních kostek, které se oceňují cenami souboru cen 979 07-11 Očištění         vybouraných dlažebních kostek části C 01 tohoto ceníku. 3. Vytrhání obrub ze dvou řad kostek se oceňuje jako dvojnásobné množství vytrhání obrub z jedné     řady kostek. 4. Přemístění vybouraných obrub, krajníků nebo dlažebních kostek včetně materiálu z lože a spár na     vzdálenost přes 3 m se oceňuje cenami souborů cen 997 22-1 Vodorovná doprava suti a vybouraných     hmot. ",null,null,null,null,null,null,null,null,null,null,null,null,null,null,null,null,null,null,null,null,null,null,null,null,null,null,null,null,null,null,null,null,null,null,null,null,null,null,null,"PSC","2"]
[null,null,null,"VV",null,"dle specifikace prací v technické zprávě",null,null,null,null,null,null,null,null,null,null,null,null,null,null,null,null,null,null,null,null,null,null,null,null,null,null,null,null,null,null,null,null,null,null,null,null,null,null,null,"VV","2","1","-1","0","ROZPOCET"]
[null,null,null,"VV",null,"270,0",null,270,null,null,null,null,null,null,null,null,null,null,null,null,null,null,null,null,null,null,null,null,null,null,null,null,null,null,null,null,null,null,null,null,null,null,null,null,null,"VV","2","2","-1","1","ROZPOCET"]
[null,null,"33","K","113204111","Vytrhání obrub záhonových","m",95,null,{"$f":"ROUND($I$289*$H$289,2)","v":0},"CS ÚRS 2014 02",null,null,"základní",null,null,0,{"$f":"$Q$289*$H$289","v":0},0.04,{"$f":"$S$289*$H$289","v":3.8000000000000003},null,null,null,null,null,null,null,null,null,null,null,null,null,null,null,null,null,null,null,null,null,null,null,"4",null,"K","2",null,null,null,"ROZPOCET",null,null,null,null,null,{"$f":"IF($N$289=\"základní\",$J$289,0)","v":0},{"$f":"IF($N$289=\"snížená\",$J$289,0)","v":0},{"$f":"IF($N$289=\"zákl. přenesená\",$J$289,0)","v":0},{"$f":"IF($N$289=\"sníž. přenesená\",$J$289,0)","v":0},{"$f":"IF($N$289=\"nulová\",$J$289,0)","v":0},"1",{"$f":"ROUND($I$289*$H$289,2)","v":0},"4","-60450859"]
[null,null,null,"PP",null,"Vytrhání obrub s vybouráním lože, s přemístěním hmot na skládku na vzdálenost do 3 m nebo s naložením na dopravní prostředek záhonových",null,null,null,null,null,null,null,null,null,null,null,null,null,null,null,null,null,null,null,null,null,null,null,null,null,null,null,null,null,null,null,null,null,null,null,null,null,null,null,"PP","2"]
[null,null,null,"PSC",null,"Poznámka k souboru cen:\n1. Ceny jsou určeny:     a) pro vytrhání obrub, obrubníků nebo krajníků jakéhokoliv druhu a velikosti uložených v         jakémkoliv loži popř. i s opěrami a vyspárovaných jakýmkoliv materiálem,     b) pro obruby z dlažebních kostek uložených v jedné řadě. 2. V cenách nejsou započteny náklady na popř. nutné očištění:     a) vytrhaných obrubníků nebo krajníků, které se oceňuje cenami souboru cen 979 0 . - . .         Očištění vybouraných obrubníků, krajníků, desek nebo dílců části C 01 tohoto ceníku,     b) vytrhaných dlažebních kostek, které se oceňují cenami souboru cen 979 07-11 Očištění         vybouraných dlažebních kostek části C 01 tohoto ceníku. 3. Vytrhání obrub ze dvou řad kostek se oceňuje jako dvojnásobné množství vytrhání obrub z jedné     řady kostek. 4. Přemístění vybouraných obrub, krajníků nebo dlažebních kostek včetně materiálu z lože a spár na     vzdálenost přes 3 m se oceňuje cenami souborů cen 997 22-1 Vodorovná doprava suti a vybouraných     hmot. ",null,null,null,null,null,null,null,null,null,null,null,null,null,null,null,null,null,null,null,null,null,null,null,null,null,null,null,null,null,null,null,null,null,null,null,null,null,null,null,"PSC","2"]
[null,null,null,"VV",null,"dle specifikace prací v technické zprávě",null,null,null,null,null,null,null,null,null,null,null,null,null,null,null,null,null,null,null,null,null,null,null,null,null,null,null,null,null,null,null,null,null,null,null,null,null,null,null,"VV","2","1","-1","0","ROZPOCET"]
[null,null,null,"VV",null,"95,0",null,95,null,null,null,null,null,null,null,null,null,null,null,null,null,null,null,null,null,null,null,null,null,null,null,null,null,null,null,null,null,null,null,null,null,null,null,null,null,"VV","2","2","-1","1","ROZPOCET"]
[null,null,null,"D","45","Vodorovné podkladní a vedlejší konstrukce inž. staveb",null,null,null,{"$f":"$BK$294","v":0},null,null,null,null,null,{"$f":"SUM($P$295:$P$300)","v":0},null,{"$f":"SUM($R$295:$R$300)","v":0},null,{"$f":"SUM($T$295:$T$300)","v":0},null,null,null,null,null,null,null,null,null,null,null,null,null,null,null,null,null,null,null,null,null,null,null,"1",null,"D","1",null,null,null,"ROZPOCET",null,null,null,null,null,null,null,null,null,null,null,{"$f":"SUM($BK$295:$BK$300)","v":0}]
[null,null,"34","K","451572111","Lože pod potrubí otevřený výkop z kameniva drobného těženého","m3",2,null,{"$f":"ROUND($I$295*$H$295,2)","v":0},"CS ÚRS 2014 02",null,null,"základní",null,null,0,{"$f":"$Q$295*$H$295","v":0},0,{"$f":"$S$295*$H$295","v":0},null,null,null,null,null,null,null,null,null,null,null,null,null,null,null,null,null,null,null,null,null,null,null,"4",null,"K","2",null,null,null,"ROZPOCET",null,null,null,null,null,{"$f":"IF($N$295=\"základní\",$J$295,0)","v":0},{"$f":"IF($N$295=\"snížená\",$J$295,0)","v":0},{"$f":"IF($N$295=\"zákl. přenesená\",$J$295,0)","v":0},{"$f":"IF($N$295=\"sníž. přenesená\",$J$295,0)","v":0},{"$f":"IF($N$295=\"nulová\",$J$295,0)","v":0},"1",{"$f":"ROUND($I$295*$H$295,2)","v":0},"4","448884630"]
[null,null,null,"PP",null,"Lože pod potrubí, stoky a drobné objekty v otevřeném výkopu z kameniva drobného těženého 0 až 4 mm",null,null,null,null,null,null,null,null,null,null,null,null,null,null,null,null,null,null,null,null,null,null,null,null,null,null,null,null,null,null,null,null,null,null,null,null,null,null,null,"PP","2"]
[null,null,null,"PSC",null,"Poznámka k souboru cen:\n1. Ceny -1111 a -1192 lze použít i pro zřízení sběrných vrstev nad drenážními trubkami. 2. V cenách -5111 a -1192 jsou započteny i náklady na prohození výkopku získaného při zemních     pracích. ",null,null,null,null,null,null,null,null,null,null,null,null,null,null,null,null,null,null,null,null,null,null,null,null,null,null,null,null,null,null,null,null,null,null,null,null,null,null,null,"PSC","2"]
[null,null,null,"VV",null,"dle specifikace prací v technické zprávě",null,null,null,null,null,null,null,null,null,null,null,null,null,null,null,null,null,null,null,null,null,null,null,null,null,null,null,null,null,null,null,null,null,null,null,null,null,null,null,"VV","2","1","-1","0","ROZPOCET"]
[null,null,null,"VV",null,"odvodnění uličních vpustí",null,null,null,null,null,null,null,null,null,null,null,null,null,null,null,null,null,null,null,null,null,null,null,null,null,null,null,null,null,null,null,null,null,null,null,null,null,null,null,"VV","2","1","-1","0","ROZPOCET"]
[null,null,null,"VV",null,"1,0*0,1*20,0",null,2,null,null,null,null,null,null,null,null,null,null,null,null,null,null,null,null,null,null,null,null,null,null,null,null,null,null,null,null,null,null,null,null,null,null,null,null,null,"VV","2","2","-1","1","ROZPOCET"]
[null,null,null,"D","56","Podkladní vrstvy komunikací, letišť a ploch",null,null,null,{"$f":"$BK$301","v":0},null,null,null,null,null,{"$f":"SUM($P$302:$P$323)","v":0},null,{"$f":"SUM($R$302:$R$323)","v":234.36},null,{"$f":"SUM($T$302:$T$323)","v":0},null,null,null,null,null,null,null,null,null,null,null,null,null,null,null,null,null,null,null,null,null,null,null,"1",null,"D","1",null,null,null,"ROZPOCET",null,null,null,null,null,null,null,null,null,null,null,{"$f":"SUM($BK$302:$BK$323)","v":0}]
[null,null,"35","K","564251111","Podklad nebo podsyp ze štěrkopísku ŠP tl 150 mm","m2",95,null,{"$f":"ROUND($I$302*$H$302,2)","v":0},"CS ÚRS 2014 02",null,null,"základní",null,null,0,{"$f":"$Q$302*$H$302","v":0},0,{"$f":"$S$302*$H$302","v":0},null,null,null,null,null,null,null,null,null,null,null,null,null,null,null,null,null,null,null,null,null,null,null,"4",null,"K","2",null,null,null,"ROZPOCET",null,null,null,null,null,{"$f":"IF($N$302=\"základní\",$J$302,0)","v":0},{"$f":"IF($N$302=\"snížená\",$J$302,0)","v":0},{"$f":"IF($N$302=\"zákl. přenesená\",$J$302,0)","v":0},{"$f":"IF($N$302=\"sníž. přenesená\",$J$302,0)","v":0},{"$f":"IF($N$302=\"nulová\",$J$302,0)","v":0},"1",{"$f":"ROUND($I$302*$H$302,2)","v":0},"4","-44248098"]
[null,null,null,"PP",null,"Podklad nebo podsyp ze štěrkopísku ŠP s rozprostřením, vlhčením a zhutněním, po zhutnění tl. 150 mm",null,null,null,null,null,null,null,null,null,null,null,null,null,null,null,null,null,null,null,null,null,null,null,null,null,null,null,null,null,null,null,null,null,null,null,null,null,null,null,"PP","2"]
[null,null,null,"VV",null,"chodník",null,null,null,null,null,null,null,null,null,null,null,null,null,null,null,null,null,null,null,null,null,null,null,null,null,null,null,null,null,null,null,null,null,null,null,null,null,null,null,"VV","2","1","-1","0","ROZPOCET"]
[null,null,null,"VV",null,"dle specifikace prací v technické zprávě",null,null,null,null,null,null,null,null,null,null,null,null,null,null,null,null,null,null,null,null,null,null,null,null,null,null,null,null,null,null,null,null,null,null,null,null,null,null,null,"VV","2","1","-1","0","ROZPOCET"]
[null,null,null,"VV",null,"85,0+10,0",null,95,null,null,null,null,null,null,null,null,null,null,null,null,null,null,null,null,null,null,null,null,null,null,null,null,null,null,null,null,null,null,null,null,null,null,null,null,null,"VV","2","2","-1","1","ROZPOCET"]
[null,null,"36","K","564861111","Podklad ze štěrkodrtě ŠD tl 200 mm","m2",620,null,{"$f":"ROUND($I$307*$H$307,2)","v":0},"CS ÚRS 2014 02",null,null,"základní",null,null,0.378,{"$f":"$Q$307*$H$307","v":234.36},0,{"$f":"$S$307*$H$307","v":0},null,null,null,null,null,null,null,null,null,null,null,null,null,null,null,null,null,null,null,null,null,null,null,"4",null,"K","2",null,null,null,"ROZPOCET",null,null,null,null,null,{"$f":"IF($N$307=\"základní\",$J$307,0)","v":0},{"$f":"IF($N$307=\"snížená\",$J$307,0)","v":0},{"$f":"IF($N$307=\"zákl. přenesená\",$J$307,0)","v":0},{"$f":"IF($N$307=\"sníž. přenesená\",$J$307,0)","v":0},{"$f":"IF($N$307=\"nulová\",$J$307,0)","v":0},"1",{"$f":"ROUND($I$307*$H$307,2)","v":0},"4","1633287484"]
[null,null,null,"PP",null,"Podklad ze štěrkodrti ŠD s rozprostřením a zhutněním, po zhutnění tl. 200 mm",null,null,null,null,null,null,null,null,null,null,null,null,null,null,null,null,null,null,null,null,null,null,null,null,null,null,null,null,null,null,null,null,null,null,null,null,null,null,null,"PP","2"]
[null,null,null,"VV",null,"živičná plocha",null,null,null,null,null,null,null,null,null,null,null,null,null,null,null,null,null,null,null,null,null,null,null,null,null,null,null,null,null,null,null,null,null,null,null,null,null,null,null,"VV","2","1","-1","0","ROZPOCET"]
[null,null,null,"VV",null,"dle specifikace prací v technické zprávě",null,null,null,null,null,null,null,null,null,null,null,null,null,null,null,null,null,null,null,null,null,null,null,null,null,null,null,null,null,null,null,null,null,null,null,null,null,null,null,"VV","2","1","-1","0","ROZPOCET"]
[null,null,null,"VV",null,"620,0",null,620,null,null,null,null,null,null,null,null,null,null,null,null,null,null,null,null,null,null,null,null,null,null,null,null,null,null,null,null,null,null,null,null,null,null,null,null,null,"VV","2","2","-1","1","ROZPOCET"]
[null,null,"37","K","564952111","Podklad z mechanicky zpevněného kameniva MZK tl 150 mm","m2",620,null,{"$f":"ROUND($I$312*$H$312,2)","v":0},"CS ÚRS 2014 02",null,null,"základní",null,null,0,{"$f":"$Q$312*$H$312","v":0},0,{"$f":"$S$312*$H$312","v":0},null,null,null,null,null,null,null,null,null,null,null,null,null,null,null,null,null,null,null,null,null,null,null,"4",null,"K","2",null,null,null,"ROZPOCET",null,null,null,null,null,{"$f":"IF($N$312=\"základní\",$J$312,0)","v":0},{"$f":"IF($N$312=\"snížená\",$J$312,0)","v":0},{"$f":"IF($N$312=\"zákl. přenesená\",$J$312,0)","v":0},{"$f":"IF($N$312=\"sníž. přenesená\",$J$312,0)","v":0},{"$f":"IF($N$312=\"nulová\",$J$312,0)","v":0},"1",{"$f":"ROUND($I$312*$H$312,2)","v":0},"4","-267644214"]
[null,null,null,"PP",null,"Podklad z mechanicky zpevněného kameniva MZK (minerální beton) s rozprostřením a s hutněním, po zhutnění tl. 150 mm",null,null,null,null,null,null,null,null,null,null,null,null,null,null,null,null,null,null,null,null,null,null,null,null,null,null,null,null,null,null,null,null,null,null,null,null,null,null,null,"PP","2"]
[null,null,null,"PSC",null,"Poznámka k souboru cen:\n1. ČSN 73 6126-1 připouští pro MZK max. tl. 300 mm. 2. V cenách nejsou započteny náklady na:     a) ochranu povrchu podkladu filtračním postřikem, který se oceňuje cenami souboru cen 573 11-11,     b) spojovací postřk před pokládkou asfaltových směsí, který se oceňuje cenami sooboru cen 572         2.. ",null,null,null,null,null,null,null,null,null,null,null,null,null,null,null,null,null,null,null,null,null,null,null,null,null,null,null,null,null,null,null,null,null,null,null,null,null,null,null,"PSC","2"]
[null,null,null,"VV",null,"živičná plocha",null,null,null,null,null,null,null,null,null,null,null,null,null,null,null,null,null,null,null,null,null,null,null,null,null,null,null,null,null,null,null,null,null,null,null,null,null,null,null,"VV","2","1","-1","0","ROZPOCET"]
[null,null,null,"VV",null,"dle specifikace prací v technické zprávě",null,null,null,null,null,null,null,null,null,null,null,null,null,null,null,null,null,null,null,null,null,null,null,null,null,null,null,null,null,null,null,null,null,null,null,null,null,null,null,"VV","2","1","-1","0","ROZPOCET"]
[null,null,null,"VV",null,"620,0",null,620,null,null,null,null,null,null,null,null,null,null,null,null,null,null,null,null,null,null,null,null,null,null,null,null,null,null,null,null,null,null,null,null,null,null,null,null,null,"VV","2","2","-1","1","ROZPOCET"]
[null,null,"38","K","565145121","Asfaltový beton vrstva podkladní ACP 16 (obalované kamenivo OKS) tl 60 mm š přes 3 m","m2",620,null,{"$f":"ROUND($I$318*$H$318,2)","v":0},"CS ÚRS 2014 02",null,null,"základní",null,null,0,{"$f":"$Q$318*$H$318","v":0},0,{"$f":"$S$318*$H$318","v":0},null,null,null,null,null,null,null,null,null,null,null,null,null,null,null,null,null,null,null,null,null,null,null,"4",null,"K","2",null,null,null,"ROZPOCET",null,null,null,null,null,{"$f":"IF($N$318=\"základní\",$J$318,0)","v":0},{"$f":"IF($N$318=\"snížená\",$J$318,0)","v":0},{"$f":"IF($N$318=\"zákl. přenesená\",$J$318,0)","v":0},{"$f":"IF($N$318=\"sníž. přenesená\",$J$318,0)","v":0},{"$f":"IF($N$318=\"nulová\",$J$318,0)","v":0},"1",{"$f":"ROUND($I$318*$H$318,2)","v":0},"4","464470911"]
[null,null,null,"PP",null,"Asfaltový beton vrstva podkladní ACP 16 (obalované kamenivo střednězrnné - OKS) s rozprostřením a zhutněním v pruhu šířky přes 3 m, po zhutnění tl. 60 mm",null,null,null,null,null,null,null,null,null,null,null,null,null,null,null,null,null,null,null,null,null,null,null,null,null,null,null,null,null,null,null,null,null,null,null,null,null,null,null,"PP","2"]
[null,null,null,"PSC",null,"Poznámka k souboru cen:\n1. ČSN EN 13108-1 připouští pro ACP 16 pouze tl. 50 až 80 mm. ",null,null,null,null,null,null,null,null,null,null,null,null,null,null,null,null,null,null,null,null,null,null,null,null,null,null,null,null,null,null,null,null,null,null,null,null,null,null,null,"PSC","2"]
[null,null,null,"VV",null,"živičná plocha",null,null,null,null,null,null,null,null,null,null,null,null,null,null,null,null,null,null,null,null,null,null,null,null,null,null,null,null,null,null,null,null,null,null,null,null,null,null,null,"VV","2","1","-1","0","ROZPOCET"]
[null,null,null,"VV",null,"dle specifikace prací v technické zprávě",null,null,null,null,null,null,null,null,null,null,null,null,null,null,null,null,null,null,null,null,null,null,null,null,null,null,null,null,null,null,null,null,null,null,null,null,null,null,null,"VV","2","1","-1","0","ROZPOCET"]
[null,null,null,"VV",null,"620,0",null,620,null,null,null,null,null,null,null,null,null,null,null,null,null,null,null,null,null,null,null,null,null,null,null,null,null,null,null,null,null,null,null,null,null,null,null,null,null,"VV","2","2","-1","1","ROZPOCET"]
[null,null,null,"D","57","Kryty pozemních komunikací letišť a ploch z kameniva nebo živičné",null,null,null,{"$f":"$BK$324","v":0},null,null,null,null,null,{"$f":"SUM($P$325:$P$346)","v":0},null,{"$f":"SUM($R$325:$R$346)","v":5.0363999999999995},null,{"$f":"SUM($T$325:$T$346)","v":0},null,null,null,null,null,null,null,null,null,null,null,null,null,null,null,null,null,null,null,null,null,null,null,"1",null,"D","1",null,null,null,"ROZPOCET",null,null,null,null,null,null,null,null,null,null,null,{"$f":"SUM($BK$325:$BK$346)","v":0}]
[null,null,"39","K","573111113","Postřik živičný infiltrační s posypem z asfaltu množství 1,5 kg/m2","m2",620,null,{"$f":"ROUND($I$325*$H$325,2)","v":0},"CS ÚRS 2014 02",null,null,"základní",null,null,6.5199999999999998E-3,{"$f":"$Q$325*$H$325","v":4.0423999999999998},0,{"$f":"$S$325*$H$325","v":0},null,null,null,null,null,null,null,null,null,null,null,null,null,null,null,null,null,null,null,null,null,null,null,"4",null,"K","2",null,null,null,"ROZPOCET",null,null,null,null,null,{"$f":"IF($N$325=\"základní\",$J$325,0)","v":0},{"$f":"IF($N$325=\"snížená\",$J$325,0)","v":0},{"$f":"IF($N$325=\"zákl. přenesená\",$J$325,0)","v":0},{"$f":"IF($N$325=\"sníž. přenesená\",$J$325,0)","v":0},{"$f":"IF($N$325=\"nulová\",$J$325,0)","v":0},"1",{"$f":"ROUND($I$325*$H$325,2)","v":0},"4","271018790"]
[null,null,null,"PP",null,"Postřik živičný infiltrační z asfaltu silničního s posypem kamenivem, v množství 1,50 kg/m2",null,null,null,null,null,null,null,null,null,null,null,null,null,null,null,null,null,null,null,null,null,null,null,null,null,null,null,null,null,null,null,null,null,null,null,null,null,null,null,"PP","2"]
[null,null,null,"VV",null,"živičná plocha",null,null,null,null,null,null,null,null,null,null,null,null,null,null,null,null,null,null,null,null,null,null,null,null,null,null,null,null,null,null,null,null,null,null,null,null,null,null,null,"VV","2","1","-1","0","ROZPOCET"]
[null,null,null,"VV",null,"dle specifikace prací v technické zprávě",null,null,null,null,null,null,null,null,null,null,null,null,null,null,null,null,null,null,null,null,null,null,null,null,null,null,null,null,null,null,null,null,null,null,null,null,null,null,null,"VV","2","1","-1","0","ROZPOCET"]
[null,null,null,"VV",null,"620,0",null,620,null,null,null,null,null,null,null,null,null,null,null,null,null,null,null,null,null,null,null,null,null,null,null,null,null,null,null,null,null,null,null,null,null,null,null,null,null,"VV","2","2","-1","1","ROZPOCET"]
[null,null,"40","K","573231111","Postřik živičný spojovací ze silniční emulze v množství do 0,7 kg/m2","m2",1400,null,{"$f":"ROUND($I$330*$H$330,2)","v":0},"CS ÚRS 2014 02",null,null,"základní",null,null,7.1000000000000002E-4,{"$f":"$Q$330*$H$330","v":0.99399999999999999},0,{"$f":"$S$330*$H$330","v":0},null,null,null,null,null,null,null,null,null,null,null,null,null,null,null,null,null,null,null,null,null,null,null,"4",null,"K","2",null,null,null,"ROZPOCET",null,null,null,null,null,{"$f":"IF($N$330=\"základní\",$J$330,0)","v":0},{"$f":"IF($N$330=\"snížená\",$J$330,0)","v":0},{"$f":"IF($N$330=\"zákl. přenesená\",$J$330,0)","v":0},{"$f":"IF($N$330=\"sníž. přenesená\",$J$330,0)","v":0},{"$f":"IF($N$330=\"nulová\",$J$330,0)","v":0},"1",{"$f":"ROUND($I$330*$H$330,2)","v":0},"4","1684516922"]
[null,null,null,"PP",null,"Postřik živičný spojovací bez posypu kamenivem ze silniční emulze, v množství od 0,50 do 0,80 kg/m2",null,null,null,null,null,null,null,null,null,null,null,null,null,null,null,null,null,null,null,null,null,null,null,null,null,null,null,null,null,null,null,null,null,null,null,null,null,null,null,"PP","2"]
[null,null,null,"VV",null,"dle specifikace prací v technické zprávě",null,null,null,null,null,null,null,null,null,null,null,null,null,null,null,null,null,null,null,null,null,null,null,null,null,null,null,null,null,null,null,null,null,null,null,null,null,null,null,"VV","2","1","-1","0","ROZPOCET"]
[null,null,null,"VV",null,"živičná vozovka - celá konstrukce",null,null,null,null,null,null,null,null,null,null,null,null,null,null,null,null,null,null,null,null,null,null,null,null,null,null,null,null,null,null,null,null,null,null,null,null,null,null,null,"VV","2","1","-1","0","ROZPOCET"]
[null,null,null,"VV",null,"620,0",null,620,null,null,null,null,null,null,null,null,null,null,null,null,null,null,null,null,null,null,null,null,null,null,null,null,null,null,null,null,null,null,null,null,null,null,null,null,null,"VV","2","2","-1","0","ROZPOCET"]
[null,null,null,"VV",null,"živičná vozovka - pouze obrus",null,null,null,null,null,null,null,null,null,null,null,null,null,null,null,null,null,null,null,null,null,null,null,null,null,null,null,null,null,null,null,null,null,null,null,null,null,null,null,"VV","2","1","-1","0","ROZPOCET"]
[null,null,null,"VV",null,"780,0",null,780,null,null,null,null,null,null,null,null,null,null,null,null,null,null,null,null,null,null,null,null,null,null,null,null,null,null,null,null,null,null,null,null,null,null,null,null,null,"VV","2","2","-1","0","ROZPOCET"]
[null,null,null,"VV",null,"Součet",null,1400,null,null,null,null,null,null,null,null,null,null,null,null,null,null,null,null,null,null,null,null,null,null,null,null,null,null,null,null,null,null,null,null,null,null,null,null,null,"VV","2","4","-1","1","ROZPOCET"]
[null,null,"41","K","577134121","Asfaltový beton vrstva obrusná ACO 11 (ABS) tř. I tl 40 mm š přes 3 m z nemodifikovaného asfaltu","m2",1400,null,{"$f":"ROUND($I$338*$H$338,2)","v":0},"CS ÚRS 2014 02",null,null,"základní",null,null,0,{"$f":"$Q$338*$H$338","v":0},0,{"$f":"$S$338*$H$338","v":0},null,null,null,null,null,null,null,null,null,null,null,null,null,null,null,null,null,null,null,null,null,null,null,"4",null,"K","2",null,null,null,"ROZPOCET",null,null,null,null,null,{"$f":"IF($N$338=\"základní\",$J$338,0)","v":0},{"$f":"IF($N$338=\"snížená\",$J$338,0)","v":0},{"$f":"IF($N$338=\"zákl. přenesená\",$J$338,0)","v":0},{"$f":"IF($N$338=\"sníž. přenesená\",$J$338,0)","v":0},{"$f":"IF($N$338=\"nulová\",$J$338,0)","v":0},"1",{"$f":"ROUND($I$338*$H$338,2)","v":0},"4","459707473"]
[null,null,null,"PP",null,"Asfaltový beton vrstva obrusná ACO 11 (ABS) s rozprostřením a se zhutněním z nemodifikovaného asfaltu v pruhu šířky přes 3 m tř. I, po zhutnění tl. 40 mm",null,null,null,null,null,null,null,null,null,null,null,null,null,null,null,null,null,null,null,null,null,null,null,null,null,null,null,null,null,null,null,null,null,null,null,null,null,null,null,"PP","2"]
[null,null,null,"PSC",null,"Poznámka k souboru cen:\n1. ČSN EN 13108-1 připouští pro ACO 11 pouze tl. 35 až 50 mm. ",null,null,null,null,null,null,null,null,null,null,null,null,null,null,null,null,null,null,null,null,null,null,null,null,null,null,null,null,null,null,null,null,null,null,null,null,null,null,null,"PSC","2"]
[null,null,null,"VV",null,"dle specifikace prací v technické zprávě",null,null,null,null,null,null,null,null,null,null,null,null,null,null,null,null,null,null,null,null,null,null,null,null,null,null,null,null,null,null,null,null,null,null,null,null,null,null,null,"VV","2","1","-1","0","ROZPOCET"]
[null,null,null,"VV",null,"živičná vozovka - celá konstrukce",null,null,null,null,null,null,null,null,null,null,null,null,null,null,null,null,null,null,null,null,null,null,null,null,null,null,null,null,null,null,null,null,null,null,null,null,null,null,null,"VV","2","1","-1","0","ROZPOCET"]
[null,null,null,"VV",null,"620,0",null,620,null,null,null,null,null,null,null,null,null,null,null,null,null,null,null,null,null,null,null,null,null,null,null,null,null,null,null,null,null,null,null,null,null,null,null,null,null,"VV","2","2","-1","0","ROZPOCET"]
[null,null,null,"VV",null,"živičná vozovka - pouze obrus",null,null,null,null,null,null,null,null,null,null,null,null,null,null,null,null,null,null,null,null,null,null,null,null,null,null,null,null,null,null,null,null,null,null,null,null,null,null,null,"VV","2","1","-1","0","ROZPOCET"]
[null,null,null,"VV",null,"780,0",null,780,null,null,null,null,null,null,null,null,null,null,null,null,null,null,null,null,null,null,null,null,null,null,null,null,null,null,null,null,null,null,null,null,null,null,null,null,null,"VV","2","2","-1","0","ROZPOCET"]
[null,null,null,"VV",null,"Součet",null,1400,null,null,null,null,null,null,null,null,null,null,null,null,null,null,null,null,null,null,null,null,null,null,null,null,null,null,null,null,null,null,null,null,null,null,null,null,null,"VV","2","4","-1","1","ROZPOCET"]
[null,null,null,"D","59","Kryty pozemních komunikací, letišť a ploch dlážděných (předlažby)",null,null,null,{"$f":"$BK$347","v":0},null,null,null,null,null,{"$f":"SUM($P$348:$P$368)","v":0},null,{"$f":"SUM($R$348:$R$368)","v":21.929749999999999},null,{"$f":"SUM($T$348:$T$368)","v":0},null,null,null,null,null,null,null,null,null,null,null,null,null,null,null,null,null,null,null,null,null,null,null,"1",null,"D","1",null,null,null,"ROZPOCET",null,null,null,null,null,null,null,null,null,null,null,{"$f":"SUM($BK$348:$BK$368)","v":0}]
[null,null,"42","K","596211123","Kladení zámkové dlažby komunikací pro pěší tl 60 mm skupiny B pl přes 300 m2","m2",95,null,{"$f":"ROUND($I$348*$H$348,2)","v":0},"CS ÚRS 2014 02",null,null,"základní",null,null,8.4250000000000005E-2,{"$f":"$Q$348*$H$348","v":8.0037500000000001},0,{"$f":"$S$348*$H$348","v":0},null,null,null,null,null,null,null,null,null,null,null,null,null,null,null,null,null,null,null,null,null,null,null,"4",null,"K","2",null,null,null,"ROZPOCET",null,null,null,null,null,{"$f":"IF($N$348=\"základní\",$J$348,0)","v":0},{"$f":"IF($N$348=\"snížená\",$J$348,0)","v":0},{"$f":"IF($N$348=\"zákl. přenesená\",$J$348,0)","v":0},{"$f":"IF($N$348=\"sníž. přenesená\",$J$348,0)","v":0},{"$f":"IF($N$348=\"nulová\",$J$348,0)","v":0},"1",{"$f":"ROUND($I$348*$H$348,2)","v":0},"4","148256523"]
[null,null,null,"PP",null,"Kladení dlažby z betonových zámkových dlaždic komunikací pro pěší s ložem z kameniva těženého nebo drceného tl. do 40 mm, s vyplněním spár s dvojitým hutněním, vibrováním a se smetením přebytečného materiálu na krajnici tl. 60 mm skupiny B, pro plochy přes 300 m2",null,null,null,null,null,null,null,null,null,null,null,null,null,null,null,null,null,null,null,null,null,null,null,null,null,null,null,null,null,null,null,null,null,null,null,null,null,null,null,"PP","2"]
[null,null,null,"PSC",null,"Poznámka k souboru cen:\n1. Pro volbu cen dlažeb platí toto rozdělení: Skupina A: dlažby z prvků stejného tvaru, Skupina B:     dlažby z prvků dvou a více tvarů nebo z obrazců o ploše jednotlivě do 100 m2, Skupina C: dlažby     obloukovitých tvarů (oblouky, kruhy, apod.). 2. V cenách jsou započteny i náklady na dodání hmot pro lože a na dodání materiálu na výplň spár. 3. V cenách nejsou započteny náklady na dodání zámkové dlažby, které se oceňuje ve specifikaci;     ztratné lze dohodnout u plochy     a) do 100 m2 ve výši 3 %,     b) přes 100 do 300 m2 ve výši 2 %,     c) přes 300 m2 ve výši 1 %. 4. Část lože přesahující tloušťku 40 mm se oceňuje cenami souboru cen 451 . . -9 . Příplatek za     každých dalších 10 mm tloušťky podkladu nebo lože. ",null,null,null,null,null,null,null,null,null,null,null,null,null,null,null,null,null,null,null,null,null,null,null,null,null,null,null,null,null,null,null,null,null,null,null,null,null,null,null,"PSC","2"]
[null,null,null,"VV",null,"lože z kameniva těženého nebo drceného tl. do 40 mm",null,null,null,null,null,null,null,null,null,null,null,null,null,null,null,null,null,null,null,null,null,null,null,null,null,null,null,null,null,null,null,null,null,null,null,null,null,null,null,"VV","2","1","-1","0","ROZPOCET"]
[null,null,null,"VV",null,"dle specifikace prací v technické zprávě - chodník",null,null,null,null,null,null,null,null,null,null,null,null,null,null,null,null,null,null,null,null,null,null,null,null,null,null,null,null,null,null,null,null,null,null,null,null,null,null,null,"VV","2","1","-1","0","ROZPOCET"]
[null,null,null,"VV",null,"85,0",null,85,null,null,null,null,null,null,null,null,null,null,null,null,null,null,null,null,null,null,null,null,null,null,null,null,null,null,null,null,null,null,null,null,null,null,null,null,null,"VV","2","2","-1","0","ROZPOCET"]
[null,null,null,"VV",null,"Mezisoučet A",null,85,null,null,null,null,null,null,null,null,null,null,null,null,null,null,null,null,null,null,null,null,null,null,null,null,null,null,null,null,null,null,null,null,null,null,null,null,null,"VV","2","3","-1","0","ROZPOCET"]
[null,null,null,"VV",null,"reliéfní dlažba - kontrastní barva",null,null,null,null,null,null,null,null,null,null,null,null,null,null,null,null,null,null,null,null,null,null,null,null,null,null,null,null,null,null,null,null,null,null,null,null,null,null,null,"VV","2","1","-1","0","ROZPOCET"]
[null,null,null,"VV",null,"10,0",null,10,null,null,null,null,null,null,null,null,null,null,null,null,null,null,null,null,null,null,null,null,null,null,null,null,null,null,null,null,null,null,null,null,null,null,null,null,null,"VV","2","2","-1","0","ROZPOCET"]
[null,null,null,"VV",null,"Mezisoučet B",null,10,null,null,null,null,null,null,null,null,null,null,null,null,null,null,null,null,null,null,null,null,null,null,null,null,null,null,null,null,null,null,null,null,null,null,null,null,null,"VV","2","3","-1","0","ROZPOCET"]
[null,null,null,"VV",null,"Součet",null,95,null,null,null,null,null,null,null,null,null,null,null,null,null,null,null,null,null,null,null,null,null,null,null,null,null,null,null,null,null,null,null,null,null,null,null,null,null,"VV","2","4","-1","1","ROZPOCET"]
[null,null,"43","M","5924001_R","dlažba betonová zámková tl.6 cm - dodávka, doprava","m2",88,null,{"$f":"ROUND($I$359*$H$359,2)","v":0},null,null,null,"základní",null,null,0.14000000000000001,{"$f":"$Q$359*$H$359","v":12.32},0,{"$f":"$S$359*$H$359","v":0},null,null,null,null,null,null,null,null,null,null,null,null,null,null,null,null,null,null,null,null,null,null,null,"8",null,"M","2",null,null,null,"ROZPOCET",null,null,null,null,null,{"$f":"IF($N$359=\"základní\",$J$359,0)","v":0},{"$f":"IF($N$359=\"snížená\",$J$359,0)","v":0},{"$f":"IF($N$359=\"zákl. přenesená\",$J$359,0)","v":0},{"$f":"IF($N$359=\"sníž. přenesená\",$J$359,0)","v":0},{"$f":"IF($N$359=\"nulová\",$J$359,0)","v":0},"1",{"$f":"ROUND($I$359*$H$359,2)","v":0},"4","-2134214763"]
[null,null,null,"PP",null,"dlažba betonová zámková tl.6 cm přírodní - dodávka, doprava",null,null,null,null,null,null,null,null,null,null,null,null,null,null,null,null,null,null,null,null,null,null,null,null,null,null,null,null,null,null,null,null,null,null,null,null,null,null,null,"PP","2"]
[null,null,null,"VV",null,"ztratné 3%",null,null,null,null,null,null,null,null,null,null,null,null,null,null,null,null,null,null,null,null,null,null,null,null,null,null,null,null,null,null,null,null,null,null,null,null,null,null,null,"VV","2","1","-1","0","ROZPOCET"]
[null,null,null,"VV",null,"dle pol.59621112 mezisoučet A",null,null,null,null,null,null,null,null,null,null,null,null,null,null,null,null,null,null,null,null,null,null,null,null,null,null,null,null,null,null,null,null,null,null,null,null,null,null,null,"VV","2","1","-1","0","ROZPOCET"]
[null,null,null,"VV",null,"85,0*1,03+00,45",null,88,null,null,null,null,null,null,null,null,null,null,null,null,null,null,null,null,null,null,null,null,null,null,null,null,null,null,null,null,null,null,null,null,null,null,null,null,null,"VV","2","2","-1","1","ROZPOCET"]
[null,null,"44","M","5924002_R","dlažba betonová zámková reliéfní tl.6 cm barevná (kontrastní barva) - dodávka, doprava","m2",11,null,{"$f":"ROUND($I$364*$H$364,2)","v":0},null,null,null,"základní",null,null,0.14599999999999999,{"$f":"$Q$364*$H$364","v":1.6059999999999999},0,{"$f":"$S$364*$H$364","v":0},null,null,null,null,null,null,null,null,null,null,null,null,null,null,null,null,null,null,null,null,null,null,null,"8",null,"M","2",null,null,null,"ROZPOCET",null,null,null,null,null,{"$f":"IF($N$364=\"základní\",$J$364,0)","v":0},{"$f":"IF($N$364=\"snížená\",$J$364,0)","v":0},{"$f":"IF($N$364=\"zákl. přenesená\",$J$364,0)","v":0},{"$f":"IF($N$364=\"sníž. přenesená\",$J$364,0)","v":0},{"$f":"IF($N$364=\"nulová\",$J$364,0)","v":0},"1",{"$f":"ROUND($I$364*$H$364,2)","v":0},"4","-899254844"]
[null,null,null,"PP",null,"dlažba betonová zámková reliéfní tl.6 cm barevná - dodávka, doprava",null,null,null,null,null,null,null,null,null,null,null,null,null,null,null,null,null,null,null,null,null,null,null,null,null,null,null,null,null,null,null,null,null,null,null,null,null,null,null,"PP","2"]
[null,null,null,"VV",null,"ztratné 3%",null,null,null,null,null,null,null,null,null,null,null,null,null,null,null,null,null,null,null,null,null,null,null,null,null,null,null,null,null,null,null,null,null,null,null,null,null,null,null,"VV","2","1","-1","0","ROZPOCET"]
[null,null,null,"VV",null,"dle pol.596211123 mezisoučet B",null,null,null,null,null,null,null,null,null,null,null,null,null,null,null,null,null,null,null,null,null,null,null,null,null,null,null,null,null,null,null,null,null,null,null,null,null,null,null,"VV","2","1","-1","0","ROZPOCET"]
[null,null,null,"VV",null,"10,0*1,03+0,7",null,11,null,null,null,null,null,null,null,null,null,null,null,null,null,null,null,null,null,null,null,null,null,null,null,null,null,null,null,null,null,null,null,null,null,null,null,null,null,"VV","2","2","-1","1","ROZPOCET"]
[null,null,null,"D","8","Trubní vedení",null,null,null,{"$f":"$BK$369","v":0},null,null,null,null,null,{"$f":"SUM($P$370:$P$395)","v":0},null,{"$f":"SUM($R$370:$R$395)","v":3.5397066239999999},null,{"$f":"SUM($T$370:$T$395)","v":0},null,null,null,null,null,null,null,null,null,null,null,null,null,null,null,null,null,null,null,null,null,null,null,"1",null,"D","1",null,null,null,"ROZPOCET",null,null,null,null,null,null,null,null,null,null,null,{"$f":"SUM($BK$370:$BK$395)","v":0}]
[null,null,"45","K","895941111","Zřízení vpusti kanalizační uliční z betonových dílců typ UV-50 normální","kus",2,null,{"$f":"ROUND($I$370*$H$370,2)","v":0},"CS ÚRS 2014 02",null,null,"základní",null,null,0.34089999999999998,{"$f":"$Q$370*$H$370","v":0.68179999999999996},0,{"$f":"$S$370*$H$370","v":0},null,null,null,null,null,null,null,null,null,null,null,null,null,null,null,null,null,null,null,null,null,null,null,"4",null,"K","2",null,null,null,"ROZPOCET",null,null,null,null,null,{"$f":"IF($N$370=\"základní\",$J$370,0)","v":0},{"$f":"IF($N$370=\"snížená\",$J$370,0)","v":0},{"$f":"IF($N$370=\"zákl. přenesená\",$J$370,0)","v":0},{"$f":"IF($N$370=\"sníž. přenesená\",$J$370,0)","v":0},{"$f":"IF($N$370=\"nulová\",$J$370,0)","v":0},"1",{"$f":"ROUND($I$370*$H$370,2)","v":0},"4","-500211269"]
[null,null,null,"PP",null,"Zřízení vpusti kanalizační uliční z betonových dílců typ UV-50 normální",null,null,null,null,null,null,null,null,null,null,null,null,null,null,null,null,null,null,null,null,null,null,null,null,null,null,null,null,null,null,null,null,null,null,null,null,null,null,null,"PP","2"]
[null,null,null,"PSC",null,"Poznámka k souboru cen:\n1. V cenách jsou započteny i náklady na zřízení lože ze štěrkopísku. 2. V cenách nejsou započteny náklady na:     a) dodání betonových dílců; betonové dílce se oceňují ve specifikaci,     b) dodání kameninových dílců; kameninové dílce se oceňují ve specifikaci,     c) litinové mříže; osazení mříží se oceňuje cenami souboru cen 899 20- . 1 Osazení mříží         litinových včetně rámů a košů na bahno části A 01 tohoto katalogu; dodání mříží se oceňuje ve         specifikaci,     d) podkladní prstence; tyto se oceňují cenami souboru cen 452 38-6 . Podkladní a a vyrovnávací         prstence části A 01 tohoto katalogu. ",null,null,null,null,null,null,null,null,null,null,null,null,null,null,null,null,null,null,null,null,null,null,null,null,null,null,null,null,null,null,null,null,null,null,null,null,null,null,null,"PSC","2"]
[null,null,null,"VV",null,"dle specifikace prací v technické zprávě",null,null,null,null,null,null,null,null,null,null,null,null,null,null,null,null,null,null,null,null,null,null,null,null,null,null,null,null,null,null,null,null,null,null,null,null,null,null,null,"VV","2","1","-1","0","ROZPOCET"]
[null,null,null,"VV",null,"2,0",null,2,null,null,null,null,null,null,null,null,null,null,null,null,null,null,null,null,null,null,null,null,null,null,null,null,null,null,null,null,null,null,null,null,null,null,null,null,null,"VV","2","2","-1","1","ROZPOCET"]
[null,null,"46","K","899203111","Osazení mříží litinových včetně rámů a košů na bahno hmotnosti nad 100 do 150 kg","kus",2,null,{"$f":"ROUND($I$375*$H$375,2)","v":0},"CS ÚRS 2014 02",null,null,"základní",null,null,9.3600000000000003E-3,{"$f":"$Q$375*$H$375","v":1.8720000000000001E-2},0,{"$f":"$S$375*$H$375","v":0},null,null,null,null,null,null,null,null,null,null,null,null,null,null,null,null,null,null,null,null,null,null,null,"4",null,"K","2",null,null,null,"ROZPOCET",null,null,null,null,null,{"$f":"IF($N$375=\"základní\",$J$375,0)","v":0},{"$f":"IF($N$375=\"snížená\",$J$375,0)","v":0},{"$f":"IF($N$375=\"zákl. přenesená\",$J$375,0)","v":0},{"$f":"IF($N$375=\"sníž. přenesená\",$J$375,0)","v":0},{"$f":"IF($N$375=\"nulová\",$J$375,0)","v":0},"1",{"$f":"ROUND($I$375*$H$375,2)","v":0},"4","-1275118087"]
[null,null,null,"PP",null,"Osazení mříží litinových včetně rámů a košů na bahno hmotnosti jednotlivě přes 100 do 150 kg",null,null,null,null,null,null,null,null,null,null,null,null,null,null,null,null,null,null,null,null,null,null,null,null,null,null,null,null,null,null,null,null,null,null,null,null,null,null,null,"PP","2"]
[null,null,null,"PSC",null,"Poznámka k souboru cen:\n1. V cenách nejsou započteny náklady na dodání mříží, rámů a košů na bahno; tyto náklady se oceňují     ve specifikaci. ",null,null,null,null,null,null,null,null,null,null,null,null,null,null,null,null,null,null,null,null,null,null,null,null,null,null,null,null,null,null,null,null,null,null,null,null,null,null,null,"PSC","2"]
[null,null,"47","M","8900010_R","betonová uliční vpusť typová z prefabrikovaných betonových dílců DN 500mm - dodávka, doprava","kus",2,null,{"$f":"ROUND($I$378*$H$378,2)","v":0},null,null,null,"základní",null,null,0.35,{"$f":"$Q$378*$H$378","v":0.7},0,{"$f":"$S$378*$H$378","v":0},null,null,null,null,null,null,null,null,null,null,null,null,null,null,null,null,null,null,null,null,null,null,null,"8",null,"M","2",null,null,null,"ROZPOCET",null,null,null,null,null,{"$f":"IF($N$378=\"základní\",$J$378,0)","v":0},{"$f":"IF($N$378=\"snížená\",$J$378,0)","v":0},{"$f":"IF($N$378=\"zákl. přenesená\",$J$378,0)","v":0},{"$f":"IF($N$378=\"sníž. přenesená\",$J$378,0)","v":0},{"$f":"IF($N$378=\"nulová\",$J$378,0)","v":0},"1",{"$f":"ROUND($I$378*$H$378,2)","v":0},"4","-732921345"]
[null,null,null,"PP",null,"Kompletní dodávka prefabrik.beton.dílců DN 500mm pro uliční vpusť (vč.dopravy)",null,null,null,null,null,null,null,null,null,null,null,null,null,null,null,null,null,null,null,null,null,null,null,null,null,null,null,null,null,null,null,null,null,null,null,null,null,null,null,"PP","2"]
[null,null,"48","M","8900020_R","kalový koš pro silniční vpust - dodávka, doprava","kus",2,null,{"$f":"ROUND($I$380*$H$380,2)","v":0},null,null,null,"základní",null,null,8.5000000000000006E-3,{"$f":"$Q$380*$H$380","v":1.7000000000000001E-2},0,{"$f":"$S$380*$H$380","v":0},null,null,null,null,null,null,null,null,null,null,null,null,null,null,null,null,null,null,null,null,null,null,null,"8",null,"M","2",null,null,null,"ROZPOCET",null,null,null,null,null,{"$f":"IF($N$380=\"základní\",$J$380,0)","v":0},{"$f":"IF($N$380=\"snížená\",$J$380,0)","v":0},{"$f":"IF($N$380=\"zákl. přenesená\",$J$380,0)","v":0},{"$f":"IF($N$380=\"sníž. přenesená\",$J$380,0)","v":0},{"$f":"IF($N$380=\"nulová\",$J$380,0)","v":0},"1",{"$f":"ROUND($I$380*$H$380,2)","v":0},"4","-933722181"]
[null,null,null,"PP",null,"Kalový koš pro silniční vpus't - dodávka, doprava",null,null,null,null,null,null,null,null,null,null,null,null,null,null,null,null,null,null,null,null,null,null,null,null,null,null,null,null,null,null,null,null,null,null,null,null,null,null,null,"PP","2"]
[null,null,"49","M","8900030_R","litinová vtoková mříž s rámem 500x500mm, tř. D400  -  dodávka,doprava","kus",2,null,{"$f":"ROUND($I$382*$H$382,2)","v":0},null,null,null,"základní",null,null,0.108,{"$f":"$Q$382*$H$382","v":0.216},0,{"$f":"$S$382*$H$382","v":0},null,null,null,null,null,null,null,null,null,null,null,null,null,null,null,null,null,null,null,null,null,null,null,"8",null,"M","2",null,null,null,"ROZPOCET",null,null,null,null,null,{"$f":"IF($N$382=\"základní\",$J$382,0)","v":0},{"$f":"IF($N$382=\"snížená\",$J$382,0)","v":0},{"$f":"IF($N$382=\"zákl. přenesená\",$J$382,0)","v":0},{"$f":"IF($N$382=\"sníž. přenesená\",$J$382,0)","v":0},{"$f":"IF($N$382=\"nulová\",$J$382,0)","v":0},"1",{"$f":"ROUND($I$382*$H$382,2)","v":0},"4","738915470"]
[null,null,null,"PP",null,"Litinová vtoková mříž s rámem 500x500mm, tř. D400-dodávka,doprava",null,null,null,null,null,null,null,null,null,null,null,null,null,null,null,null,null,null,null,null,null,null,null,null,null,null,null,null,null,null,null,null,null,null,null,null,null,null,null,"PP","2"]
[null,null,"50","K","871315221","Kanalizační potrubí z tvrdého PVC-systém KG tuhost třídy SN8 DN150","m",20,null,{"$f":"ROUND($I$384*$H$384,2)","v":0},"CS ÚRS 2014 02",null,null,"základní",null,null,3.3032500000000002E-3,{"$f":"$Q$384*$H$384","v":6.6064999999999999E-2},0,{"$f":"$S$384*$H$384","v":0},null,null,null,null,null,null,null,null,null,null,null,null,null,null,null,null,null,null,null,null,null,null,null,"4",null,"K","2",null,null,null,"ROZPOCET",null,null,null,null,null,{"$f":"IF($N$384=\"základní\",$J$384,0)","v":0},{"$f":"IF($N$384=\"snížená\",$J$384,0)","v":0},{"$f":"IF($N$384=\"zákl. přenesená\",$J$384,0)","v":0},{"$f":"IF($N$384=\"sníž. přenesená\",$J$384,0)","v":0},{"$f":"IF($N$384=\"nulová\",$J$384,0)","v":0},"1",{"$f":"ROUND($I$384*$H$384,2)","v":0},"4","-961700905"]
[null,null,null,"PP",null,"Kanalizační potrubí z tvrdého PVC systém KG v otevřeném výkopu ve sklonu do 20 %, tuhost třídy SN 8 DN 150",null,null,null,null,null,null,null,null,null,null,null,null,null,null,null,null,null,null,null,null,null,null,null,null,null,null,null,null,null,null,null,null,null,null,null,null,null,null,null,"PP","2"]
[null,null,null,"PSC",null,"Poznámka k souboru cen:\n1. V cenách jsou započteny i náklady na dodání trub včetně gumového těsnění. 2. Použití trub dle tuhostí:     a) třída SN 4: kanalizační řady, přípojky, odvodňování pozemků     b) třída SN 8: vysoké teplotní a mechanické zatížení. ",null,null,null,null,null,null,null,null,null,null,null,null,null,null,null,null,null,null,null,null,null,null,null,null,null,null,null,null,null,null,null,null,null,null,null,null,null,null,null,"PSC","2"]
[null,null,null,"VV",null,"dle specifikace prací v technické zprávě",null,null,null,null,null,null,null,null,null,null,null,null,null,null,null,null,null,null,null,null,null,null,null,null,null,null,null,null,null,null,null,null,null,null,null,null,null,null,null,"VV","2","1","-1","0","ROZPOCET"]
[null,null,null,"VV",null,"odvodnění uličních vpustí",null,null,null,null,null,null,null,null,null,null,null,null,null,null,null,null,null,null,null,null,null,null,null,null,null,null,null,null,null,null,null,null,null,null,null,null,null,null,null,"VV","2","1","-1","0","ROZPOCET"]
[null,null,null,"VV",null,"20,0",null,20,null,null,null,null,null,null,null,null,null,null,null,null,null,null,null,null,null,null,null,null,null,null,null,null,null,null,null,null,null,null,null,null,null,null,null,null,null,"VV","2","2","-1","1","ROZPOCET"]
[null,null,"51","K","892351111","Tlaková zkouška vodou potrubí DN 150 nebo 200","m",20,null,{"$f":"ROUND($I$390*$H$390,2)","v":0},"CS ÚRS 2014 02",null,null,"základní",null,null,0,{"$f":"$Q$390*$H$390","v":0},0,{"$f":"$S$390*$H$390","v":0},null,null,null,null,null,null,null,null,null,null,null,null,null,null,null,null,null,null,null,null,null,null,null,"4",null,"K","2",null,null,null,"ROZPOCET",null,null,null,null,null,{"$f":"IF($N$390=\"základní\",$J$390,0)","v":0},{"$f":"IF($N$390=\"snížená\",$J$390,0)","v":0},{"$f":"IF($N$390=\"zákl. přenesená\",$J$390,0)","v":0},{"$f":"IF($N$390=\"sníž. přenesená\",$J$390,0)","v":0},{"$f":"IF($N$390=\"nulová\",$J$390,0)","v":0},"1",{"$f":"ROUND($I$390*$H$390,2)","v":0},"4","-978155146"]
[null,null,null,"PP",null,"Tlakové zkoušky vodou na potrubí DN 150 nebo 200",null,null,null,null,null,null,null,null,null,null,null,null,null,null,null,null,null,null,null,null,null,null,null,null,null,null,null,null,null,null,null,null,null,null,null,null,null,null,null,"PP","2"]
[null,null,null,"PSC",null,"Poznámka k souboru cen:\n1. Ceny -2111 jsou určeny pro zabezpečení jednoho konce zkoušeného úseku jakéhokoliv druhu potrubí. 2. V cenách jsou započteny náklady:     a) u cen -1111 - na přísun, montáž, demontáž a odsun zkoušecího čerpadla, napuštění tlakovou         vodou a dodání vody pro tlakovou zkoušku,     b) u cen -2111 - na montáž a demontáž výrobků nebo dílců pro zabezpečení konce zkoušeného úseku         potrubí, na montáž a demontáž koncových tvarovek, na montáž zaslepovací příruby, na zaslepení         odboček pro hydranty, vzdušníky a jiné armatury a odbočky pro odbočující řady, ",null,null,null,null,null,null,null,null,null,null,null,null,null,null,null,null,null,null,null,null,null,null,null,null,null,null,null,null,null,null,null,null,null,null,null,null,null,null,null,"PSC","2"]
[null,null,"52","K","892372111","Zabezpečení konců potrubí DN do 300 při tlakových zkouškách vodou","kus",4,null,{"$f":"ROUND($I$393*$H$393,2)","v":0},"CS ÚRS 2014 02",null,null,"základní",null,null,0.460030406,{"$f":"$Q$393*$H$393","v":1.840121624},0,{"$f":"$S$393*$H$393","v":0},null,null,null,null,null,null,null,null,null,null,null,null,null,null,null,null,null,null,null,null,null,null,null,"4",null,"K","2",null,null,null,"ROZPOCET",null,null,null,null,null,{"$f":"IF($N$393=\"základní\",$J$393,0)","v":0},{"$f":"IF($N$393=\"snížená\",$J$393,0)","v":0},{"$f":"IF($N$393=\"zákl. přenesená\",$J$393,0)","v":0},{"$f":"IF($N$393=\"sníž. přenesená\",$J$393,0)","v":0},{"$f":"IF($N$393=\"nulová\",$J$393,0)","v":0},"1",{"$f":"ROUND($I$393*$H$393,2)","v":0},"4","-378068421"]
[null,null,null,"PP",null,"Tlakové zkoušky vodou zabezpečení konců potrubí při tlakových zkouškách DN do 300",null,null,null,null,null,null,null,null,null,null,null,null,null,null,null,null,null,null,null,null,null,null,null,null,null,null,null,null,null,null,null,null,null,null,null,null,null,null,null,"PP","2"]
[null,null,null,"PSC",null,"Poznámka k souboru cen:\n1. Ceny -2111 jsou určeny pro zabezpečení jednoho konce zkoušeného úseku jakéhokoliv druhu potrubí. 2. V cenách jsou započteny náklady:     a) u cen -1111 - na přísun, montáž, demontáž a odsun zkoušecího čerpadla, napuštění tlakovou         vodou a dodání vody pro tlakovou zkoušku,     b) u cen -2111 - na montáž a demontáž výrobků nebo dílců pro zabezpečení konce zkoušeného úseku         potrubí, na montáž a demontáž koncových tvarovek, na montáž zaslepovací příruby, na zaslepení         odboček pro hydranty, vzdušníky a jiné armatury a odbočky pro odbočující řady, ",null,null,null,null,null,null,null,null,null,null,null,null,null,null,null,null,null,null,null,null,null,null,null,null,null,null,null,null,null,null,null,null,null,null,null,null,null,null,null,"PSC","2"]
[null,null,null,"D","91","Doplňující konstrukce a práce pozemních komunikací, letišť a ploch",null,null,null,{"$f":"$BK$396","v":0},null,null,null,null,null,{"$f":"$P$397+SUM($P$398:$P$487)","v":0},null,{"$f":"$R$397+SUM($R$398:$R$487)","v":95.189942089999974},null,{"$f":"$T$397+SUM($T$398:$T$487)","v":0},null,null,null,null,null,null,null,null,null,null,null,null,null,null,null,null,null,null,null,null,null,null,null,"1",null,"D","1",null,null,null,"ROZPOCET",null,null,null,null,null,null,null,null,null,null,null,{"$f":"$BK$397+SUM($BK$398:$BK$487)","v":0}]
[null,null,"53","K","914111111","Montáž svislé dopravní značky do velikosti 1 m2 objímkami na sloupek nebo konzolu","kus",6,null,{"$f":"ROUND($I$397*$H$397,2)","v":0},"CS ÚRS 2014 02",null,null,"základní",null,null,6.9999999999999999E-4,{"$f":"$Q$397*$H$397","v":4.1999999999999997E-3},0,{"$f":"$S$397*$H$397","v":0},null,null,null,null,null,null,null,null,null,null,null,null,null,null,null,null,null,null,null,null,null,null,null,"4",null,"K","2",null,null,null,"ROZPOCET",null,null,null,null,null,{"$f":"IF($N$397=\"základní\",$J$397,0)","v":0},{"$f":"IF($N$397=\"snížená\",$J$397,0)","v":0},{"$f":"IF($N$397=\"zákl. přenesená\",$J$397,0)","v":0},{"$f":"IF($N$397=\"sníž. přenesená\",$J$397,0)","v":0},{"$f":"IF($N$397=\"nulová\",$J$397,0)","v":0},"1",{"$f":"ROUND($I$397*$H$397,2)","v":0},"4","1373287363"]
[null,null,null,"PP",null,"Montáž svislé dopravní značky základní velikosti do 1 m2 objímkami na sloupky nebo konzoly",null,null,null,null,null,null,null,null,null,null,null,null,null,null,null,null,null,null,null,null,null,null,null,null,null,null,null,null,null,null,null,null,null,null,null,null,null,null,null,"PP","2"]
[null,null,null,"PSC",null,"Poznámka k souboru cen:\n1. V cenách jsou započteny i náklady na montáž značek včetně upevňovacího materiálu na předem     připravenou nosnou konstrukci (sloupek, konzolu, sloup). 2. V cenách nejsou započteny náklady na:     a) dodání značek, tyto se oceňují ve specifikaci,     b) na montáž a dodávku ocelových nosných konstrukcí – sloupků, konzol, tyto se oceňují cenami         souboru cen 914 51 Montáž sloupku a 914 53 Montáž konzol a nástavců,     c) nátěry, tyto se oceňují jako práce PSV příslušnými cenami katalogu 800-783 Nátěry,     d) naložení a odklizení výkopku, tyto se oceňují cenami části A 01 katalogu 800-1 Zemní práce. 3. Ceny nelze použít pro osazení a montáž svislých dopravních značek:     a) světelných, tyto se oceňují cenami katalogu 21 M Elektromontáže – silnoproud,     b) upevněných na lanech, nebo speciálních konstrukcích nesoucích více značek, tyto se oceňují         individuálně. ",null,null,null,null,null,null,null,null,null,null,null,null,null,null,null,null,null,null,null,null,null,null,null,null,null,null,null,null,null,null,null,null,null,null,null,null,null,null,null,"PSC","2"]
[null,null,null,"VV",null,"dle specifikace prací v technické zprávě",null,null,null,null,null,null,null,null,null,null,null,null,null,null,null,null,null,null,null,null,null,null,null,null,null,null,null,null,null,null,null,null,null,null,null,null,null,null,null,"VV","2","1","-1","0","ROZPOCET"]
[null,null,null,"VV",null,"značka IP 12 se symbolem č.O1",null,null,null,null,null,null,null,null,null,null,null,null,null,null,null,null,null,null,null,null,null,null,null,null,null,null,null,null,null,null,null,null,null,null,null,null,null,null,null,"VV","2","1","-1","0","ROZPOCET"]
[null,null,null,"VV",null,"2,0",null,2,null,null,null,null,null,null,null,null,null,null,null,null,null,null,null,null,null,null,null,null,null,null,null,null,null,null,null,null,null,null,null,null,null,null,null,null,null,"VV","2","2","-1","0","ROZPOCET"]
[null,null,null,"VV",null,"značka č.P2",null,null,null,null,null,null,null,null,null,null,null,null,null,null,null,null,null,null,null,null,null,null,null,null,null,null,null,null,null,null,null,null,null,null,null,null,null,null,null,"VV","2","1","-1","0","ROZPOCET"]
[null,null,null,"VV",null,"2,0",null,2,null,null,null,null,null,null,null,null,null,null,null,null,null,null,null,null,null,null,null,null,null,null,null,null,null,null,null,null,null,null,null,null,null,null,null,null,null,"VV","2","2","-1","0","ROZPOCET"]
[null,null,null,"VV",null,"značka č.P4",null,null,null,null,null,null,null,null,null,null,null,null,null,null,null,null,null,null,null,null,null,null,null,null,null,null,null,null,null,null,null,null,null,null,null,null,null,null,null,"VV","2","1","-1","0","ROZPOCET"]
[null,null,null,"VV",null,"2,0",null,2,null,null,null,null,null,null,null,null,null,null,null,null,null,null,null,null,null,null,null,null,null,null,null,null,null,null,null,null,null,null,null,null,null,null,null,null,null,"VV","2","2","-1","0","ROZPOCET"]
[null,null,null,"VV",null,"Součet",null,6,null,null,null,null,null,null,null,null,null,null,null,null,null,null,null,null,null,null,null,null,null,null,null,null,null,null,null,null,null,null,null,null,null,null,null,null,null,"VV","2","4","-1","1","ROZPOCET"]
[null,null,"54","K","914511112","Montáž sloupku dopravních značek délky do 3,5 m s betonovým základem a patkou","kus",6,null,{"$f":"ROUND($I$408*$H$408,2)","v":0},"CS ÚRS 2014 02",null,null,"základní",null,null,0.112405,{"$f":"$Q$408*$H$408","v":0.67443000000000008},0,{"$f":"$S$408*$H$408","v":0},null,null,null,null,null,null,null,null,null,null,null,null,null,null,null,null,null,null,null,null,null,null,null,"4",null,"K","2",null,null,null,"ROZPOCET",null,null,null,null,null,{"$f":"IF($N$408=\"základní\",$J$408,0)","v":0},{"$f":"IF($N$408=\"snížená\",$J$408,0)","v":0},{"$f":"IF($N$408=\"zákl. přenesená\",$J$408,0)","v":0},{"$f":"IF($N$408=\"sníž. přenesená\",$J$408,0)","v":0},{"$f":"IF($N$408=\"nulová\",$J$408,0)","v":0},"1",{"$f":"ROUND($I$408*$H$408,2)","v":0},"4","-1270830778"]
[null,null,null,"PP",null,"Montáž sloupku dopravních značek délky do 3,5 m do hliníkové patky",null,null,null,null,null,null,null,null,null,null,null,null,null,null,null,null,null,null,null,null,null,null,null,null,null,null,null,null,null,null,null,null,null,null,null,null,null,null,null,"PP","2"]
[null,null,null,"PSC",null,"Poznámka k souboru cen:\n1. V cenách jsou započteny i náklady na:     a) vykopání jamek s odhozem výkopku na vzdálenost do 3 m,     b) osazení sloupku včetně montáže a dodávky plastového víčka, 2. V cenách -1111 jsou započteny i náklady na betonový základ. 3. V cenách -1112 jsou započteny i náklady na hliníkovou patku s betonovým základem. 4. V cenách nejsou započteny náklady na:     a) dodání sloupku, tyto se oceňují ve specifikaci     b) naložení a odklizení výkopku, tyto se oceňují cenami části A01 katalogu 800-1 Zemní práce. ",null,null,null,null,null,null,null,null,null,null,null,null,null,null,null,null,null,null,null,null,null,null,null,null,null,null,null,null,null,null,null,null,null,null,null,null,null,null,null,"PSC","2"]
[null,null,"55","M","404442580","značka svislá reflexní AL- 3M 500 x 700 mm","kus",2,null,{"$f":"ROUND($I$411*$H$411,2)","v":0},"CS ÚRS 2014 02",null,null,"základní",null,null,3.0000000000000001E-3,{"$f":"$Q$411*$H$411","v":6.0000000000000001E-3},0,{"$f":"$S$411*$H$411","v":0},null,null,null,null,null,null,null,null,null,null,null,null,null,null,null,null,null,null,null,null,null,null,null,"8",null,"M","2",null,null,null,"ROZPOCET",null,null,null,null,null,{"$f":"IF($N$411=\"základní\",$J$411,0)","v":0},{"$f":"IF($N$411=\"snížená\",$J$411,0)","v":0},{"$f":"IF($N$411=\"zákl. přenesená\",$J$411,0)","v":0},{"$f":"IF($N$411=\"sníž. přenesená\",$J$411,0)","v":0},{"$f":"IF($N$411=\"nulová\",$J$411,0)","v":0},"1",{"$f":"ROUND($I$411*$H$411,2)","v":0},"4","1066414507"]
[null,null,null,"PP",null,"výrobky a tabule orientační pro návěstí a zabezpečovací zařízení silniční značky dopravní svislé FeZn  plech FeZn AL     plech Al NK, 3M   povrchová úprava reflexní fólií tř.1 obdélníkové značky IP8,IP9,IP11,IP12, IP13,IS15, IJ1-15, E2,E12 500x700 mm AL- 3M  reflexní tř.1",null,null,null,null,null,null,null,null,null,null,null,null,null,null,null,null,null,null,null,null,null,null,null,null,null,null,null,null,null,null,null,null,null,null,null,null,null,null,null,"PP","2"]
[null,null,null,"VV",null,"k pol.914111111",null,null,null,null,null,null,null,null,null,null,null,null,null,null,null,null,null,null,null,null,null,null,null,null,null,null,null,null,null,null,null,null,null,null,null,null,null,null,null,"VV","2","1","-1","0","ROZPOCET"]
[null,null,null,"VV",null,"značka IP12 se symbolem O1",null,null,null,null,null,null,null,null,null,null,null,null,null,null,null,null,null,null,null,null,null,null,null,null,null,null,null,null,null,null,null,null,null,null,null,null,null,null,null,"VV","2","1","-1","0","ROZPOCET"]
[null,null,null,"VV",null,"2,0",null,2,null,null,null,null,null,null,null,null,null,null,null,null,null,null,null,null,null,null,null,null,null,null,null,null,null,null,null,null,null,null,null,null,null,null,null,null,null,"VV","2","2","-1","1","ROZPOCET"]
[null,null,"56","M","404440040","značka dopravní svislá reflexní výstražná AL 3M A1 - A30, P1,P4 700 mm","kus",2,null,{"$f":"ROUND($I$416*$H$416,2)","v":0},"CS ÚRS 2014 02",null,null,"základní",null,null,2.0999999999999999E-3,{"$f":"$Q$416*$H$416","v":4.1999999999999997E-3},0,{"$f":"$S$416*$H$416","v":0},null,null,null,null,null,null,null,null,null,null,null,null,null,null,null,null,null,null,null,null,null,null,null,"8",null,"M","2",null,null,null,"ROZPOCET",null,null,null,null,null,{"$f":"IF($N$416=\"základní\",$J$416,0)","v":0},{"$f":"IF($N$416=\"snížená\",$J$416,0)","v":0},{"$f":"IF($N$416=\"zákl. přenesená\",$J$416,0)","v":0},{"$f":"IF($N$416=\"sníž. přenesená\",$J$416,0)","v":0},{"$f":"IF($N$416=\"nulová\",$J$416,0)","v":0},"1",{"$f":"ROUND($I$416*$H$416,2)","v":0},"4","-876136902"]
[null,null,null,"PP",null,"výrobky a tabule orientační pro návěstí a zabezpečovací zařízení silniční značky dopravní svislé FeZn  plech FeZn AL     plech Al NK, 3M   povrchová úprava reflexní fólií tř.1 trojúhelníkové značky A1 - A30, P1,P4 rozměr 700 mm AL- 3M  reflexní tř.1",null,null,null,null,null,null,null,null,null,null,null,null,null,null,null,null,null,null,null,null,null,null,null,null,null,null,null,null,null,null,null,null,null,null,null,null,null,null,null,"PP","2"]
[null,null,null,"VV",null,"k pol.914111111",null,null,null,null,null,null,null,null,null,null,null,null,null,null,null,null,null,null,null,null,null,null,null,null,null,null,null,null,null,null,null,null,null,null,null,null,null,null,null,"VV","2","1","-1","0","ROZPOCET"]
[null,null,null,"VV",null,"značka P4",null,null,null,null,null,null,null,null,null,null,null,null,null,null,null,null,null,null,null,null,null,null,null,null,null,null,null,null,null,null,null,null,null,null,null,null,null,null,null,"VV","2","1","-1","0","ROZPOCET"]
[null,null,null,"VV",null,"2,0",null,2,null,null,null,null,null,null,null,null,null,null,null,null,null,null,null,null,null,null,null,null,null,null,null,null,null,null,null,null,null,null,null,null,null,null,null,null,null,"VV","2","2","-1","1","ROZPOCET"]
[null,null,"57","M","404442320","značka svislá reflexní AL- 3M 500 x 500 mm","kus",2,null,{"$f":"ROUND($I$421*$H$421,2)","v":0},"CS ÚRS 2014 02",null,null,"základní",null,null,3.0999999999999999E-3,{"$f":"$Q$421*$H$421","v":6.1999999999999998E-3},0,{"$f":"$S$421*$H$421","v":0},null,null,null,null,null,null,null,null,null,null,null,null,null,null,null,null,null,null,null,null,null,null,null,"8",null,"M","2",null,null,null,"ROZPOCET",null,null,null,null,null,{"$f":"IF($N$421=\"základní\",$J$421,0)","v":0},{"$f":"IF($N$421=\"snížená\",$J$421,0)","v":0},{"$f":"IF($N$421=\"zákl. přenesená\",$J$421,0)","v":0},{"$f":"IF($N$421=\"sníž. přenesená\",$J$421,0)","v":0},{"$f":"IF($N$421=\"nulová\",$J$421,0)","v":0},"1",{"$f":"ROUND($I$421*$H$421,2)","v":0},"4","485641805"]
[null,null,null,"PP",null,"výrobky a tabule orientační pro návěstí a zabezpečovací zařízení silniční značky dopravní svislé FeZn  plech FeZn AL     plech Al NK, 3M   povrchová úprava reflexní fólií tř.1 čtvercové značky P2, P3, P8, IP1-7,IP10,E1,E2,E6,E9,E10,E12,IJ4 500 x 500 mm AL- 3M  reflexní tř.1",null,null,null,null,null,null,null,null,null,null,null,null,null,null,null,null,null,null,null,null,null,null,null,null,null,null,null,null,null,null,null,null,null,null,null,null,null,null,null,"PP","2"]
[null,null,null,"VV",null,"k pol.914111111",null,null,null,null,null,null,null,null,null,null,null,null,null,null,null,null,null,null,null,null,null,null,null,null,null,null,null,null,null,null,null,null,null,null,null,null,null,null,null,"VV","2","1","-1","0","ROZPOCET"]
[null,null,null,"VV",null,"značka P2",null,null,null,null,null,null,null,null,null,null,null,null,null,null,null,null,null,null,null,null,null,null,null,null,null,null,null,null,null,null,null,null,null,null,null,null,null,null,null,"VV","2","1","-1","0","ROZPOCET"]
[null,null,null,"VV",null,"2,0",null,2,null,null,null,null,null,null,null,null,null,null,null,null,null,null,null,null,null,null,null,null,null,null,null,null,null,null,null,null,null,null,null,null,null,null,null,null,null,"VV","2","2","-1","1","ROZPOCET"]
[null,null,"58","M","404452300","sloupek Zn 70 - 350","kus",6,null,{"$f":"ROUND($I$426*$H$426,2)","v":0},"CS ÚRS 2014 02",null,null,"základní",null,null,6.4999999999999997E-3,{"$f":"$Q$426*$H$426","v":3.9E-2},0,{"$f":"$S$426*$H$426","v":0},null,null,null,null,null,null,null,null,null,null,null,null,null,null,null,null,null,null,null,null,null,null,null,"8",null,"M","2",null,null,null,"ROZPOCET",null,null,null,null,null,{"$f":"IF($N$426=\"základní\",$J$426,0)","v":0},{"$f":"IF($N$426=\"snížená\",$J$426,0)","v":0},{"$f":"IF($N$426=\"zákl. přenesená\",$J$426,0)","v":0},{"$f":"IF($N$426=\"sníž. přenesená\",$J$426,0)","v":0},{"$f":"IF($N$426=\"nulová\",$J$426,0)","v":0},"1",{"$f":"ROUND($I$426*$H$426,2)","v":0},"4","1578259710"]
[null,null,null,"PP",null,"výrobky a tabule orientační pro návěstí a zabezpečovací zařízení silniční značky dopravní svislé sloupky Zn 70 - 350",null,null,null,null,null,null,null,null,null,null,null,null,null,null,null,null,null,null,null,null,null,null,null,null,null,null,null,null,null,null,null,null,null,null,null,null,null,null,null,"PP","2"]
[null,null,null,"VV",null,"k pol.914511111",null,null,null,null,null,null,null,null,null,null,null,null,null,null,null,null,null,null,null,null,null,null,null,null,null,null,null,null,null,null,null,null,null,null,null,null,null,null,null,"VV","2","1","-1","0","ROZPOCET"]
[null,null,null,"VV",null,"6,0",null,6,null,null,null,null,null,null,null,null,null,null,null,null,null,null,null,null,null,null,null,null,null,null,null,null,null,null,null,null,null,null,null,null,null,null,null,null,null,"VV","2","2","-1","1","ROZPOCET"]
[null,null,"59","K","915111111","Vodorovné dopravní značení šířky 125 mm bílou barvou dělící čáry souvislé","m",253,null,{"$f":"ROUND($I$430*$H$430,2)","v":0},"CS ÚRS 2014 02",null,null,"základní",null,null,7.4999999999999993E-5,{"$f":"$Q$430*$H$430","v":1.8974999999999999E-2},0,{"$f":"$S$430*$H$430","v":0},null,null,null,null,null,null,null,null,null,null,null,null,null,null,null,null,null,null,null,null,null,null,null,"4",null,"K","2",null,null,null,"ROZPOCET",null,null,null,null,null,{"$f":"IF($N$430=\"základní\",$J$430,0)","v":0},{"$f":"IF($N$430=\"snížená\",$J$430,0)","v":0},{"$f":"IF($N$430=\"zákl. přenesená\",$J$430,0)","v":0},{"$f":"IF($N$430=\"sníž. přenesená\",$J$430,0)","v":0},{"$f":"IF($N$430=\"nulová\",$J$430,0)","v":0},"1",{"$f":"ROUND($I$430*$H$430,2)","v":0},"4","-2090049492"]
[null,null,null,"PP",null,"Vodorovné dopravní značení stříkané barvou dělící čára šířky 125 mm souvislá bílá základní",null,null,null,null,null,null,null,null,null,null,null,null,null,null,null,null,null,null,null,null,null,null,null,null,null,null,null,null,null,null,null,null,null,null,null,null,null,null,null,"PP","2"]
[null,null,null,"PSC",null,"Poznámka k souboru cen:\n1. Ceny jsou určeny pro dělící čáry bílé souvislé č. V1a, bílé přerušované č. V2a, žluté souvislé     č. V12b, žluté přerušované č. V12c a vodící čáry bílé č. V4. 2. V cenách nejsou započteny náklady na:     a) předznačení, tyto se oceňují cenami souboru cen 915 6.-11 Předznačení pro vodorovné značení,     b) očištění vozovky, tyto se oceňují cenami souboru cen 938 90-9 . Odstranění bláta, prachu         nebo hlinitého nánosu s povrchu podkladu nebo krytu části C 01 tohoto katalogu. 3. Množství měrných jednotek se u cen 915 11 a 915 12 určuje v m a u cen 915 13 v m2 stříkané     plochy bez mezer. ",null,null,null,null,null,null,null,null,null,null,null,null,null,null,null,null,null,null,null,null,null,null,null,null,null,null,null,null,null,null,null,null,null,null,null,null,null,null,null,"PSC","2"]
[null,null,"60","K","915131111","Vodorovné dopravní značení bílou barvou přechody pro chodce, šipky, symboly","m2",13,null,{"$f":"ROUND($I$433*$H$433,2)","v":0},"CS ÚRS 2014 02",null,null,"základní",null,null,5.9999999999999995E-4,{"$f":"$Q$433*$H$433","v":7.7999999999999996E-3},0,{"$f":"$S$433*$H$433","v":0},null,null,null,null,null,null,null,null,null,null,null,null,null,null,null,null,null,null,null,null,null,null,null,"4",null,"K","2",null,null,null,"ROZPOCET",null,null,null,null,null,{"$f":"IF($N$433=\"základní\",$J$433,0)","v":0},{"$f":"IF($N$433=\"snížená\",$J$433,0)","v":0},{"$f":"IF($N$433=\"zákl. přenesená\",$J$433,0)","v":0},{"$f":"IF($N$433=\"sníž. přenesená\",$J$433,0)","v":0},{"$f":"IF($N$433=\"nulová\",$J$433,0)","v":0},"1",{"$f":"ROUND($I$433*$H$433,2)","v":0},"4","557626399"]
[null,null,null,"PP",null,"Vodorovné dopravní značení stříkané barvou přechody pro chodce, šipky, symboly bílé základní",null,null,null,null,null,null,null,null,null,null,null,null,null,null,null,null,null,null,null,null,null,null,null,null,null,null,null,null,null,null,null,null,null,null,null,null,null,null,null,"PP","2"]
[null,null,null,"PSC",null,"Poznámka k souboru cen:\n1. Ceny jsou určeny pro dělící čáry bílé souvislé č. V1a, bílé přerušované č. V2a, žluté souvislé     č. V12b, žluté přerušované č. V12c a vodící čáry bílé č. V4. 2. V cenách nejsou započteny náklady na:     a) předznačení, tyto se oceňují cenami souboru cen 915 6.-11 Předznačení pro vodorovné značení,     b) očištění vozovky, tyto se oceňují cenami souboru cen 938 90-9 . Odstranění bláta, prachu         nebo hlinitého nánosu s povrchu podkladu nebo krytu části C 01 tohoto katalogu. 3. Množství měrných jednotek se u cen 915 11 a 915 12 určuje v m a u cen 915 13 v m2 stříkané     plochy bez mezer. ",null,null,null,null,null,null,null,null,null,null,null,null,null,null,null,null,null,null,null,null,null,null,null,null,null,null,null,null,null,null,null,null,null,null,null,null,null,null,null,"PSC","2"]
[null,null,null,"VV",null,"značení stání pro imobilní",null,null,null,null,null,null,null,null,null,null,null,null,null,null,null,null,null,null,null,null,null,null,null,null,null,null,null,null,null,null,null,null,null,null,null,null,null,null,null,"VV","2","1","-1","0","ROZPOCET"]
[null,null,null,"VV",null,"6,0",null,6,null,null,null,null,null,null,null,null,null,null,null,null,null,null,null,null,null,null,null,null,null,null,null,null,null,null,null,null,null,null,null,null,null,null,null,null,null,"VV","2","2","-1","0","ROZPOCET"]
[null,null,null,"VV",null,"ostatní",null,null,null,null,null,null,null,null,null,null,null,null,null,null,null,null,null,null,null,null,null,null,null,null,null,null,null,null,null,null,null,null,null,null,null,null,null,null,null,"VV","2","1","-1","0","ROZPOCET"]
[null,null,null,"VV",null,"7,0",null,7,null,null,null,null,null,null,null,null,null,null,null,null,null,null,null,null,null,null,null,null,null,null,null,null,null,null,null,null,null,null,null,null,null,null,null,null,null,"VV","2","2","-1","0","ROZPOCET"]
[null,null,null,"VV",null,"Součet",null,13,null,null,null,null,null,null,null,null,null,null,null,null,null,null,null,null,null,null,null,null,null,null,null,null,null,null,null,null,null,null,null,null,null,null,null,null,null,"VV","2","4","-1","1","ROZPOCET"]
[null,null,"61","K","915611111","Předznačení vodorovného liniového značení","m",253,null,{"$f":"ROUND($I$441*$H$441,2)","v":0},"CS ÚRS 2014 02",null,null,"základní",null,null,3.7500000000000001E-6,{"$f":"$Q$441*$H$441","v":9.4875000000000005E-4},0,{"$f":"$S$441*$H$441","v":0},null,null,null,null,null,null,null,null,null,null,null,null,null,null,null,null,null,null,null,null,null,null,null,"4",null,"K","2",null,null,null,"ROZPOCET",null,null,null,null,null,{"$f":"IF($N$441=\"základní\",$J$441,0)","v":0},{"$f":"IF($N$441=\"snížená\",$J$441,0)","v":0},{"$f":"IF($N$441=\"zákl. přenesená\",$J$441,0)","v":0},{"$f":"IF($N$441=\"sníž. přenesená\",$J$441,0)","v":0},{"$f":"IF($N$441=\"nulová\",$J$441,0)","v":0},"1",{"$f":"ROUND($I$441*$H$441,2)","v":0},"4","-194046345"]
[null,null,null,"PP",null,"Předznačení pro vodorovné značení stříkané barvou nebo prováděné z nátěrových hmot liniové dělicí čáry, vodicí proužky",null,null,null,null,null,null,null,null,null,null,null,null,null,null,null,null,null,null,null,null,null,null,null,null,null,null,null,null,null,null,null,null,null,null,null,null,null,null,null,"PP","2"]
[null,null,null,"PSC",null,"Poznámka k souboru cen:\n1. Množství měrných jednotek se určuje:     a) pro cenu -1111 v m délky dělicí čáry nebo vodícího proužku (včetně mezer),     b) pro cenu -1112 v m2 natírané nebo stříkané plochy. ",null,null,null,null,null,null,null,null,null,null,null,null,null,null,null,null,null,null,null,null,null,null,null,null,null,null,null,null,null,null,null,null,null,null,null,null,null,null,null,"PSC","2"]
[null,null,"62","K","915621111","Předznačení vodorovného plošného značení","m2",13,null,{"$f":"ROUND($I$444*$H$444,2)","v":0},"CS ÚRS 2014 02",null,null,"základní",null,null,9.38E-6,{"$f":"$Q$444*$H$444","v":1.2194E-4},0,{"$f":"$S$444*$H$444","v":0},null,null,null,null,null,null,null,null,null,null,null,null,null,null,null,null,null,null,null,null,null,null,null,"4",null,"K","2",null,null,null,"ROZPOCET",null,null,null,null,null,{"$f":"IF($N$444=\"základní\",$J$444,0)","v":0},{"$f":"IF($N$444=\"snížená\",$J$444,0)","v":0},{"$f":"IF($N$444=\"zákl. přenesená\",$J$444,0)","v":0},{"$f":"IF($N$444=\"sníž. přenesená\",$J$444,0)","v":0},{"$f":"IF($N$444=\"nulová\",$J$444,0)","v":0},"1",{"$f":"ROUND($I$444*$H$444,2)","v":0},"4","232006287"]
[null,null,null,"PP",null,"Předznačení pro vodorovné značení stříkané barvou nebo prováděné z nátěrových hmot plošné šipky, symboly, nápisy",null,null,null,null,null,null,null,null,null,null,null,null,null,null,null,null,null,null,null,null,null,null,null,null,null,null,null,null,null,null,null,null,null,null,null,null,null,null,null,"PP","2"]
[null,null,null,"PSC",null,"Poznámka k souboru cen:\n1. Množství měrných jednotek se určuje:     a) pro cenu -1111 v m délky dělicí čáry nebo vodícího proužku (včetně mezer),     b) pro cenu -1112 v m2 natírané nebo stříkané plochy. ",null,null,null,null,null,null,null,null,null,null,null,null,null,null,null,null,null,null,null,null,null,null,null,null,null,null,null,null,null,null,null,null,null,null,null,null,null,null,null,"PSC","2"]
[null,null,null,"VV",null,"pro pol.915131111",null,null,null,null,null,null,null,null,null,null,null,null,null,null,null,null,null,null,null,null,null,null,null,null,null,null,null,null,null,null,null,null,null,null,null,null,null,null,null,"VV","2","1","-1","0","ROZPOCET"]
[null,null,null,"VV",null,"13,0",null,13,null,null,null,null,null,null,null,null,null,null,null,null,null,null,null,null,null,null,null,null,null,null,null,null,null,null,null,null,null,null,null,null,null,null,null,null,null,"VV","2","2","-1","1","ROZPOCET"]
[null,null,"63","K","938909311","Čištění vozovek metením strojně podkladu nebo krytu betonového nebo živičného","m2",300,null,{"$f":"ROUND($I$449*$H$449,2)","v":0},"CS ÚRS 2014 02",null,null,"základní",null,null,0,{"$f":"$Q$449*$H$449","v":0},0,{"$f":"$S$449*$H$449","v":0},null,null,null,null,null,null,null,null,null,null,null,null,null,null,null,null,null,null,null,null,null,null,null,"4",null,"K","2",null,null,null,"ROZPOCET",null,null,null,null,null,{"$f":"IF($N$449=\"základní\",$J$449,0)","v":0},{"$f":"IF($N$449=\"snížená\",$J$449,0)","v":0},{"$f":"IF($N$449=\"zákl. přenesená\",$J$449,0)","v":0},{"$f":"IF($N$449=\"sníž. přenesená\",$J$449,0)","v":0},{"$f":"IF($N$449=\"nulová\",$J$449,0)","v":0},"1",{"$f":"ROUND($I$449*$H$449,2)","v":0},"4","1859162774"]
[null,null,null,"PP",null,"Čištění vozovek metením bláta, prachu nebo hlinitého nánosu s odklizením na hromady na vzdálenost do 20 m nebo naložením na dopravní prostředek strojně povrchu podkladu nebo krytu betonového nebo živičného",null,null,null,null,null,null,null,null,null,null,null,null,null,null,null,null,null,null,null,null,null,null,null,null,null,null,null,null,null,null,null,null,null,null,null,null,null,null,null,"PP","2"]
[null,null,null,"PSC",null,"Poznámka k souboru cen:\n1. Ceny jsou určeny pro očištění:     a) povrchu stávající vozovky,     b) povrchu rozestavěné trvalé vozovky, předepíše-li projekt užívat nově zřizovanou vozovku po         dobu výstavby ještě před zřízením konečného závěrečného krytu. ",null,null,null,null,null,null,null,null,null,null,null,null,null,null,null,null,null,null,null,null,null,null,null,null,null,null,null,null,null,null,null,null,null,null,null,null,null,null,null,"PSC","2"]
[null,null,null,"VV",null,"253,0*1,0",null,253,null,null,null,null,null,null,null,null,null,null,null,null,null,null,null,null,null,null,null,null,null,null,null,null,null,null,null,null,null,null,null,null,null,null,null,null,null,"VV","2","2","-1","0","ROZPOCET"]
[null,null,null,"VV",null,"6,0*3",null,18,null,null,null,null,null,null,null,null,null,null,null,null,null,null,null,null,null,null,null,null,null,null,null,null,null,null,null,null,null,null,null,null,null,null,null,null,null,"VV","2","2","-1","0","ROZPOCET"]
[null,null,null,"VV",null,"29,0",null,29,null,null,null,null,null,null,null,null,null,null,null,null,null,null,null,null,null,null,null,null,null,null,null,null,null,null,null,null,null,null,null,null,null,null,null,null,null,"VV","2","2","-1","0","ROZPOCET"]
[null,null,null,"VV",null,"Součet",null,300,null,null,null,null,null,null,null,null,null,null,null,null,null,null,null,null,null,null,null,null,null,null,null,null,null,null,null,null,null,null,null,null,null,null,null,null,null,"VV","2","4","-1","1","ROZPOCET"]
[null,null,"64","K","919731123","Zarovnání styčné plochy podkladu nebo krytu živičného tl do 200 mm","m",40,null,{"$f":"ROUND($I$456*$H$456,2)","v":0},"CS ÚRS 2014 02",null,null,"základní",null,null,0,{"$f":"$Q$456*$H$456","v":0},0,{"$f":"$S$456*$H$456","v":0},null,null,null,null,null,null,null,null,null,null,null,null,null,null,null,null,null,null,null,null,null,null,null,"4",null,"K","2",null,null,null,"ROZPOCET",null,null,null,null,null,{"$f":"IF($N$456=\"základní\",$J$456,0)","v":0},{"$f":"IF($N$456=\"snížená\",$J$456,0)","v":0},{"$f":"IF($N$456=\"zákl. přenesená\",$J$456,0)","v":0},{"$f":"IF($N$456=\"sníž. přenesená\",$J$456,0)","v":0},{"$f":"IF($N$456=\"nulová\",$J$456,0)","v":0},"1",{"$f":"ROUND($I$456*$H$456,2)","v":0},"4","1442637441"]
[null,null,null,"PP",null,"Zarovnání styčné plochy podkladu nebo krytu podél vybourané části komunikace nebo zpevněné plochy živičné tl. přes 100 do 200 mm",null,null,null,null,null,null,null,null,null,null,null,null,null,null,null,null,null,null,null,null,null,null,null,null,null,null,null,null,null,null,null,null,null,null,null,null,null,null,null,"PP","2"]
[null,null,null,"PSC",null,"Poznámka k souboru cen:\n1. Pro volbu cen je rozhodující maximální tloušťka zarovnané styčné plochy. 2. Náklady na vodorovné přemístění suti zbylé po zarovnání styčné plochy se samostatně neoceňují,     tyto náklady jsou započteny ve vodorovném přemístění suti prováděném při odstraňování podkladů nebo     krytů. ",null,null,null,null,null,null,null,null,null,null,null,null,null,null,null,null,null,null,null,null,null,null,null,null,null,null,null,null,null,null,null,null,null,null,null,null,null,null,null,"PSC","2"]
[null,null,null,"VV",null,"dle technické zprávy",null,null,null,null,null,null,null,null,null,null,null,null,null,null,null,null,null,null,null,null,null,null,null,null,null,null,null,null,null,null,null,null,null,null,null,null,null,null,null,"VV","2","1","-1","0","ROZPOCET"]
[null,null,null,"VV",null,"40,0",null,40,null,null,null,null,null,null,null,null,null,null,null,null,null,null,null,null,null,null,null,null,null,null,null,null,null,null,null,null,null,null,null,null,null,null,null,null,null,"VV","2","2","-1","1","ROZPOCET"]
[null,null,"65","K","916131213","Osazení silničního obrubníku betonového stojatého s boční opěrou do lože z betonu prostého","m",320,null,{"$f":"ROUND($I$461*$H$461,2)","v":0},"CS ÚRS 2014 02",null,null,"základní",null,null,0.15539952000000001,{"$f":"$Q$461*$H$461","v":49.727846400000004},0,{"$f":"$S$461*$H$461","v":0},null,null,null,null,null,null,null,null,null,null,null,null,null,null,null,null,null,null,null,null,null,null,null,"4",null,"K","2",null,null,null,"ROZPOCET",null,null,null,null,null,{"$f":"IF($N$461=\"základní\",$J$461,0)","v":0},{"$f":"IF($N$461=\"snížená\",$J$461,0)","v":0},{"$f":"IF($N$461=\"zákl. přenesená\",$J$461,0)","v":0},{"$f":"IF($N$461=\"sníž. přenesená\",$J$461,0)","v":0},{"$f":"IF($N$461=\"nulová\",$J$461,0)","v":0},"1",{"$f":"ROUND($I$461*$H$461,2)","v":0},"4","2024600535"]
[null,null,null,"PP",null,"Osazení silničního obrubníku betonového se zřízením lože, s vyplněním a zatřením spár cementovou maltou stojatého s boční opěrou z betonu prostého tř. C 12/15, do lože z betonu prostého téže značky",null,null,null,null,null,null,null,null,null,null,null,null,null,null,null,null,null,null,null,null,null,null,null,null,null,null,null,null,null,null,null,null,null,null,null,null,null,null,null,"PP","2"]
[null,null,null,"PSC",null,"Poznámka k souboru cen:\n1. V cenách silničních obrubníků ležatých i stojatých jsou započteny:     a) pro osazení do lože z kameniva těženého i náklady na dodání hmot pro lože tl. 80 až 100 mm,     b) pro osazení do lože z betonu prostého i náklady na dodání hmot pro lože tl. 80 až 100 mm; v         cenách -1113 a -1213 též náklady na zřízení bočních opěr. 2. Část lože z betonu prostého přesahující tl. 100 mm se oceňuje cenou 916 99-1121 Lože pod     obrubníky, krajníky nebo obruby z dlažebních kostek. 3. V cenách nejsou započteny náklady na dodání obrubníků, tyto se oceňují ve specifikaci. ",null,null,null,null,null,null,null,null,null,null,null,null,null,null,null,null,null,null,null,null,null,null,null,null,null,null,null,null,null,null,null,null,null,null,null,null,null,null,null,"PSC","2"]
[null,null,null,"VV",null,"dle specifikace prací v technické zprávě",null,null,null,null,null,null,null,null,null,null,null,null,null,null,null,null,null,null,null,null,null,null,null,null,null,null,null,null,null,null,null,null,null,null,null,null,null,null,null,"VV","2","1","-1","0","ROZPOCET"]
[null,null,null,"VV",null,"320,0",null,320,null,null,null,null,null,null,null,null,null,null,null,null,null,null,null,null,null,null,null,null,null,null,null,null,null,null,null,null,null,null,null,null,null,null,null,null,null,"VV","2","2","-1","1","ROZPOCET"]
[null,null,"66","K","916231213","Osazení chodníkového obrubníku betonového stojatého s boční opěrou do lože z betonu prostého","m",75,null,{"$f":"ROUND($I$466*$H$466,2)","v":0},"CS ÚRS 2014 02",null,null,"základní",null,null,0.12949959999999999,{"$f":"$Q$466*$H$466","v":9.7124699999999997},0,{"$f":"$S$466*$H$466","v":0},null,null,null,null,null,null,null,null,null,null,null,null,null,null,null,null,null,null,null,null,null,null,null,"4",null,"K","2",null,null,null,"ROZPOCET",null,null,null,null,null,{"$f":"IF($N$466=\"základní\",$J$466,0)","v":0},{"$f":"IF($N$466=\"snížená\",$J$466,0)","v":0},{"$f":"IF($N$466=\"zákl. přenesená\",$J$466,0)","v":0},{"$f":"IF($N$466=\"sníž. přenesená\",$J$466,0)","v":0},{"$f":"IF($N$466=\"nulová\",$J$466,0)","v":0},"1",{"$f":"ROUND($I$466*$H$466,2)","v":0},"4","1343023888"]
[null,null,null,"PP",null,"Osazení chodníkového obrubníku betonového se zřízením lože, s vyplněním a zatřením spár cementovou maltou stojatého s boční opěrou z betonu prostého tř. C 12/15, do lože z betonu prostého téže značky",null,null,null,null,null,null,null,null,null,null,null,null,null,null,null,null,null,null,null,null,null,null,null,null,null,null,null,null,null,null,null,null,null,null,null,null,null,null,null,"PP","2"]
[null,null,null,"PSC",null,"Poznámka k souboru cen:\n1. V cenách chodníkových obrubníků ležatých i stojatých jsou započteny pro osazení     a) do lože z kameniva těženého i náklady na dodání hmot pro lože tl. 80 až 100 mm,     b) do lože z betonu prostého i náklady na dodání hmot pro lože tl. 80 až 100 mm; v cenách -1113         a -1213 též náklady na zřízení bočních opěr. 2. Část lože z betonu prostého přesahující tl. 100 mm se oceňuje cenou 916 99-1121 Lože pod     obrubníky, krajníky nebo obruby z dlažebních kostek. 3. V cenách nejsou započteny náklady na dodání obrubníků, tyto se oceňují ve specifikaci. ",null,null,null,null,null,null,null,null,null,null,null,null,null,null,null,null,null,null,null,null,null,null,null,null,null,null,null,null,null,null,null,null,null,null,null,null,null,null,null,"PSC","2"]
[null,null,null,"VV",null,"dle specifikace prací v technické zprávě",null,null,null,null,null,null,null,null,null,null,null,null,null,null,null,null,null,null,null,null,null,null,null,null,null,null,null,null,null,null,null,null,null,null,null,null,null,null,null,"VV","2","1","-1","0","ROZPOCET"]
[null,null,null,"VV",null,"75,0",null,75,null,null,null,null,null,null,null,null,null,null,null,null,null,null,null,null,null,null,null,null,null,null,null,null,null,null,null,null,null,null,null,null,null,null,null,null,null,"VV","2","2","-1","1","ROZPOCET"]
[null,null,"67","M","592 001_R","obrubník betonový silniční, přírodní 100x15x30 cm - dodávka, doprava","kus",324,null,{"$f":"ROUND($I$471*$H$471,2)","v":0},null,null,null,"základní",null,null,0.10199999999999999,{"$f":"$Q$471*$H$471","v":33.047999999999995},0,{"$f":"$S$471*$H$471","v":0},null,null,null,null,null,null,null,null,null,null,null,null,null,null,null,null,null,null,null,null,null,null,null,"8",null,"M","2",null,null,null,"ROZPOCET",null,null,null,null,null,{"$f":"IF($N$471=\"základní\",$J$471,0)","v":0},{"$f":"IF($N$471=\"snížená\",$J$471,0)","v":0},{"$f":"IF($N$471=\"zákl. přenesená\",$J$471,0)","v":0},{"$f":"IF($N$471=\"sníž. přenesená\",$J$471,0)","v":0},{"$f":"IF($N$471=\"nulová\",$J$471,0)","v":0},"1",{"$f":"ROUND($I$471*$H$471,2)","v":0},"4","499471561"]
[null,null,null,"PP",null,"obrubník betonový silniční, přírodní 100x15x30 cm - dodávka, doprava",null,null,null,null,null,null,null,null,null,null,null,null,null,null,null,null,null,null,null,null,null,null,null,null,null,null,null,null,null,null,null,null,null,null,null,null,null,null,null,"PP","2"]
[null,null,null,"VV",null,"zprůměrovaná cena za přímý i obloukový obrubník",null,null,null,null,null,null,null,null,null,null,null,null,null,null,null,null,null,null,null,null,null,null,null,null,null,null,null,null,null,null,null,null,null,null,null,null,null,null,null,"VV","2","1","-1","0","ROZPOCET"]
[null,null,null,"VV",null,"ztratné 1%",null,null,null,null,null,null,null,null,null,null,null,null,null,null,null,null,null,null,null,null,null,null,null,null,null,null,null,null,null,null,null,null,null,null,null,null,null,null,null,"VV","2","1","-1","0","ROZPOCET"]
[null,null,null,"VV",null,"pol.916131213",null,null,null,null,null,null,null,null,null,null,null,null,null,null,null,null,null,null,null,null,null,null,null,null,null,null,null,null,null,null,null,null,null,null,null,null,null,null,null,"VV","2","1","-1","0","ROZPOCET"]
[null,null,null,"VV",null,"320,0*1,01+0,8",null,324,null,null,null,null,null,null,null,null,null,null,null,null,null,null,null,null,null,null,null,null,null,null,null,null,null,null,null,null,null,null,null,null,null,null,null,null,null,"VV","2","2","-1","1","ROZPOCET"]
[null,null,"68","M","592 002_R","obrubník betonový 50x5x20 cm přírodní","kus",151.5,null,{"$f":"ROUND($I$477*$H$477,2)","v":0},null,null,null,"základní",null,null,1.0999999999999999E-2,{"$f":"$Q$477*$H$477","v":1.6664999999999999},0,{"$f":"$S$477*$H$477","v":0},null,null,null,null,null,null,null,null,null,null,null,null,null,null,null,null,null,null,null,null,null,null,null,"8",null,"M","2",null,null,null,"ROZPOCET",null,null,null,null,null,{"$f":"IF($N$477=\"základní\",$J$477,0)","v":0},{"$f":"IF($N$477=\"snížená\",$J$477,0)","v":0},{"$f":"IF($N$477=\"zákl. přenesená\",$J$477,0)","v":0},{"$f":"IF($N$477=\"sníž. přenesená\",$J$477,0)","v":0},{"$f":"IF($N$477=\"nulová\",$J$477,0)","v":0},"1",{"$f":"ROUND($I$477*$H$477,2)","v":0},"4","-1802494022"]
[null,null,null,"VV",null,"ztratné 1%",null,null,null,null,null,null,null,null,null,null,null,null,null,null,null,null,null,null,null,null,null,null,null,null,null,null,null,null,null,null,null,null,null,null,null,null,null,null,null,"VV","2","1","-1","0","ROZPOCET"]
[null,null,null,"VV",null,"dle pol.916231213",null,null,null,null,null,null,null,null,null,null,null,null,null,null,null,null,null,null,null,null,null,null,null,null,null,null,null,null,null,null,null,null,null,null,null,null,null,null,null,"VV","2","1","-1","0","ROZPOCET"]
[null,null,null,"VV",null,"75,0/0,5*1,01",null,151.5,null,null,null,null,null,null,null,null,null,null,null,null,null,null,null,null,null,null,null,null,null,null,null,null,null,null,null,null,null,null,null,null,null,null,null,null,null,"VV","2","2","-1","1","ROZPOCET"]
[null,null,"69","K","919726202","Geotextilie pro vyztužení, separaci a filtraci tkaná z PP podélná pevnost v tahu do 50 kN/m","m2",620,null,{"$f":"ROUND($I$481*$H$481,2)","v":0},"CS ÚRS 2014 02",null,null,"základní",null,null,3.5750000000000002E-4,{"$f":"$Q$481*$H$481","v":0.22165000000000001},0,{"$f":"$S$481*$H$481","v":0},null,null,null,null,null,null,null,null,null,null,null,null,null,null,null,null,null,null,null,null,null,null,null,"4",null,"K","2",null,null,null,"ROZPOCET",null,null,null,null,null,{"$f":"IF($N$481=\"základní\",$J$481,0)","v":0},{"$f":"IF($N$481=\"snížená\",$J$481,0)","v":0},{"$f":"IF($N$481=\"zákl. přenesená\",$J$481,0)","v":0},{"$f":"IF($N$481=\"sníž. přenesená\",$J$481,0)","v":0},{"$f":"IF($N$481=\"nulová\",$J$481,0)","v":0},"1",{"$f":"ROUND($I$481*$H$481,2)","v":0},"4","-607689868"]
[null,null,null,"PP",null,"Geotextilie tkaná pro vyztužení, separaci nebo filtraci z polypropylenu, podélná pevnost v tahu přes 15 do 50 kN/m",null,null,null,null,null,null,null,null,null,null,null,null,null,null,null,null,null,null,null,null,null,null,null,null,null,null,null,null,null,null,null,null,null,null,null,null,null,null,null,"PP","2"]
[null,null,null,"PSC",null,"Poznámka k souboru cen:\n1. V cenách jsou započteny i náklady na položení a dodání geotextilie včetně přesahů. ",null,null,null,null,null,null,null,null,null,null,null,null,null,null,null,null,null,null,null,null,null,null,null,null,null,null,null,null,null,null,null,null,null,null,null,null,null,null,null,"PSC","2"]
[null,null,null,"VV",null,"živičná plocha",null,null,null,null,null,null,null,null,null,null,null,null,null,null,null,null,null,null,null,null,null,null,null,null,null,null,null,null,null,null,null,null,null,null,null,null,null,null,null,"VV","2","1","-1","0","ROZPOCET"]
[null,null,null,"VV",null,"dle specifikace prací v technické zprávě",null,null,null,null,null,null,null,null,null,null,null,null,null,null,null,null,null,null,null,null,null,null,null,null,null,null,null,null,null,null,null,null,null,null,null,null,null,null,null,"VV","2","1","-1","0","ROZPOCET"]
[null,null,null,"VV",null,"620,0",null,620,null,null,null,null,null,null,null,null,null,null,null,null,null,null,null,null,null,null,null,null,null,null,null,null,null,null,null,null,null,null,null,null,null,null,null,null,null,"VV","2","2","-1","1","ROZPOCET"]
[null,null,null,"D","93","Různé dokončovací konstrukce a práce inženýrských staveb",null,null,null,{"$f":"$BK$487","v":0},null,null,null,null,null,{"$f":"SUM($P$488:$P$502)","v":0},null,{"$f":"SUM($R$488:$R$502)","v":5.16E-2},null,{"$f":"SUM($T$488:$T$502)","v":0},null,null,null,null,null,null,null,null,null,null,null,null,null,null,null,null,null,null,null,null,null,null,null,"1",null,"D","2",null,null,null,"ROZPOCET",null,null,null,null,null,null,null,null,null,null,null,{"$f":"SUM($BK$488:$BK$502)","v":0}]
[null,null,"70","K","9300010_R","Montáž plastových půlených kabelových chrániček","m",60,null,{"$f":"ROUND($I$488*$H$488,2)","v":0},null,null,null,"základní",null,null,0,{"$f":"$Q$488*$H$488","v":0},0,{"$f":"$S$488*$H$488","v":0},null,null,null,null,null,null,null,null,null,null,null,null,null,null,null,null,null,null,null,null,null,null,null,"4",null,"K","3",null,null,null,"ROZPOCET",null,null,null,null,null,{"$f":"IF($N$488=\"základní\",$J$488,0)","v":0},{"$f":"IF($N$488=\"snížená\",$J$488,0)","v":0},{"$f":"IF($N$488=\"zákl. přenesená\",$J$488,0)","v":0},{"$f":"IF($N$488=\"sníž. přenesená\",$J$488,0)","v":0},{"$f":"IF($N$488=\"nulová\",$J$488,0)","v":0},"1",{"$f":"ROUND($I$488*$H$488,2)","v":0},"4","-1295866649"]
[null,null,null,"PP",null,"Montáž a obetonování kabelových chráničk",null,null,null,null,null,null,null,null,null,null,null,null,null,null,null,null,null,null,null,null,null,null,null,null,null,null,null,null,null,null,null,null,null,null,null,null,null,null,null,"PP","3"]
[null,null,null,"VV",null,"dle specifikace v technické zprávě",null,null,null,null,null,null,null,null,null,null,null,null,null,null,null,null,null,null,null,null,null,null,null,null,null,null,null,null,null,null,null,null,null,null,null,null,null,null,null,"VV","3","1","-1","0","ROZPOCET"]
[null,null,null,"VV",null,"60,0",null,60,null,null,null,null,null,null,null,null,null,null,null,null,null,null,null,null,null,null,null,null,null,null,null,null,null,null,null,null,null,null,null,null,null,null,null,null,null,"VV","3","2","-1","1","ROZPOCET"]
[null,null,"71","M","9300011_R","plastová kabelová půlená chránička DN 100 mm",null,60,null,{"$f":"ROUND($I$492*$H$492,2)","v":0},null,null,null,"základní",null,null,8.0000000000000004E-4,{"$f":"$Q$492*$H$492","v":4.8000000000000001E-2},0,{"$f":"$S$492*$H$492","v":0},null,null,null,null,null,null,null,null,null,null,null,null,null,null,null,null,null,null,null,null,null,null,null,"8",null,"M","3",null,null,null,"ROZPOCET",null,null,null,null,null,{"$f":"IF($N$492=\"základní\",$J$492,0)","v":0},{"$f":"IF($N$492=\"snížená\",$J$492,0)","v":0},{"$f":"IF($N$492=\"zákl. přenesená\",$J$492,0)","v":0},{"$f":"IF($N$492=\"sníž. přenesená\",$J$492,0)","v":0},{"$f":"IF($N$492=\"nulová\",$J$492,0)","v":0},"1",{"$f":"ROUND($I$492*$H$492,2)","v":0},"4","142875203"]
[null,null,null,"VV",null,"k pol.9300010_R",null,null,null,null,null,null,null,null,null,null,null,null,null,null,null,null,null,null,null,null,null,null,null,null,null,null,null,null,null,null,null,null,null,null,null,null,null,null,null,"VV","3","1","-1","0","ROZPOCET"]
[null,null,null,"VV",null,"60,0",null,60,null,null,null,null,null,null,null,null,null,null,null,null,null,null,null,null,null,null,null,null,null,null,null,null,null,null,null,null,null,null,null,null,null,null,null,null,null,"VV","3","2","-1","1","ROZPOCET"]
[null,null,"72","K","899623151","Obetonování potrubí nebo zdiva stok betonem prostým tř. C 16/20 otevřený výkop","m3",12.6,null,{"$f":"ROUND($I$495*$H$495,2)","v":0},"CS ÚRS 2014 02",null,null,"základní",null,null,0,{"$f":"$Q$495*$H$495","v":0},0,{"$f":"$S$495*$H$495","v":0},null,null,null,null,null,null,null,null,null,null,null,null,null,null,null,null,null,null,null,null,null,null,null,"4",null,"K","3",null,null,null,"ROZPOCET",null,null,null,null,null,{"$f":"IF($N$495=\"základní\",$J$495,0)","v":0},{"$f":"IF($N$495=\"snížená\",$J$495,0)","v":0},{"$f":"IF($N$495=\"zákl. přenesená\",$J$495,0)","v":0},{"$f":"IF($N$495=\"sníž. přenesená\",$J$495,0)","v":0},{"$f":"IF($N$495=\"nulová\",$J$495,0)","v":0},"1",{"$f":"ROUND($I$495*$H$495,2)","v":0},"4","-998337553"]
[null,null,null,"PP",null,"Obetonování potrubí nebo zdiva stok betonem prostým v otevřeném výkopu, beton tř. C 16/20",null,null,null,null,null,null,null,null,null,null,null,null,null,null,null,null,null,null,null,null,null,null,null,null,null,null,null,null,null,null,null,null,null,null,null,null,null,null,null,"PP","3"]
[null,null,null,"PSC",null,"Poznámka k souboru cen:\n1. Obetonování zdiva stok ve štole se oceňuje cenami souboru cen 359 31-02 Výplň za rubem cihelného     zdiva stok části A 03 tohoto katalogu. ",null,null,null,null,null,null,null,null,null,null,null,null,null,null,null,null,null,null,null,null,null,null,null,null,null,null,null,null,null,null,null,null,null,null,null,null,null,null,null,"PSC","3"]
[null,null,null,"VV",null,"obetonování chráničet",null,null,null,null,null,null,null,null,null,null,null,null,null,null,null,null,null,null,null,null,null,null,null,null,null,null,null,null,null,null,null,null,null,null,null,null,null,null,null,"VV","3","1","-1","0","ROZPOCET"]
[null,null,null,"VV",null,"0,21 m3/1 bm chráničky",null,null,null,null,null,null,null,null,null,null,null,null,null,null,null,null,null,null,null,null,null,null,null,null,null,null,null,null,null,null,null,null,null,null,null,null,null,null,null,"VV","3","1","-1","0","ROZPOCET"]
[null,null,null,"VV",null,"60,0*0,21",null,12.6,null,null,null,null,null,null,null,null,null,null,null,null,null,null,null,null,null,null,null,null,null,null,null,null,null,null,null,null,null,null,null,null,null,null,null,null,null,"VV","3","2","-1","1","ROZPOCET"]
[null,null,"73","K","460490011","Krytí kabelů výstražnou fólií šířky 20 cm","m",60,null,{"$f":"ROUND($I$501*$H$501,2)","v":0},"CS ÚRS 2014 02",null,null,"základní",null,null,6.0000000000000002E-5,{"$f":"$Q$501*$H$501","v":3.5999999999999999E-3},0,{"$f":"$S$501*$H$501","v":0},null,null,null,null,null,null,null,null,null,null,null,null,null,null,null,null,null,null,null,null,null,null,null,"4",null,"K","3",null,null,null,"ROZPOCET",null,null,null,null,null,{"$f":"IF($N$501=\"základní\",$J$501,0)","v":0},{"$f":"IF($N$501=\"snížená\",$J$501,0)","v":0},{"$f":"IF($N$501=\"zákl. přenesená\",$J$501,0)","v":0},{"$f":"IF($N$501=\"sníž. přenesená\",$J$501,0)","v":0},{"$f":"IF($N$501=\"nulová\",$J$501,0)","v":0},"1",{"$f":"ROUND($I$501*$H$501,2)","v":0},"4","-1785109960"]
[null,null,null,"PP",null,"Krytí kabelů, spojek, koncovek a odbočnic kabelů výstražnou fólií z PVC včetně vyrovnání povrchu rýhy, rozvinutí a uložení fólie do rýhy, fólie šířky do 20cm",null,null,null,null,null,null,null,null,null,null,null,null,null,null,null,null,null,null,null,null,null,null,null,null,null,null,null,null,null,null,null,null,null,null,null,null,null,null,null,"PP","3"]
[null,null,null,"D","99","Přesun hmot a sutí",null,null,null,{"$f":"$BK$503","v":0},null,null,null,null,null,{"$f":"SUM($P$504:$P$540)","v":0},null,{"$f":"SUM($R$504:$R$540)","v":0},null,{"$f":"SUM($T$504:$T$540)","v":0},null,null,null,null,null,null,null,null,null,null,null,null,null,null,null,null,null,null,null,null,null,null,null,"1",null,"D","1",null,null,null,"ROZPOCET",null,null,null,null,null,null,null,null,null,null,null,{"$f":"SUM($BK$504:$BK$540)","v":0}]
[null,null,"74","K","997221571","Vodorovná doprava vybouraných hmot do 1 km","t",87.75,null,{"$f":"ROUND($I$504*$H$504,2)","v":0},"CS ÚRS 2014 02",null,null,"základní",null,null,0,{"$f":"$Q$504*$H$504","v":0},0,{"$f":"$S$504*$H$504","v":0},null,null,null,null,null,null,null,null,null,null,null,null,null,null,null,null,null,null,null,null,null,null,null,"4",null,"K","2",null,null,null,"ROZPOCET",null,null,null,null,null,{"$f":"IF($N$504=\"základní\",$J$504,0)","v":0},{"$f":"IF($N$504=\"snížená\",$J$504,0)","v":0},{"$f":"IF($N$504=\"zákl. přenesená\",$J$504,0)","v":0},{"$f":"IF($N$504=\"sníž. přenesená\",$J$504,0)","v":0},{"$f":"IF($N$504=\"nulová\",$J$504,0)","v":0},"1",{"$f":"ROUND($I$504*$H$504,2)","v":0},"4","-1824964574"]
[null,null,null,"PP",null,"Vodorovná doprava vybouraných hmot bez naložení, ale se složením a s hrubým urovnáním na vzdálenost do 1 km",null,null,null,null,null,null,null,null,null,null,null,null,null,null,null,null,null,null,null,null,null,null,null,null,null,null,null,null,null,null,null,null,null,null,null,null,null,null,null,"PP","2"]
[null,null,null,"PSC",null,"Poznámka k souboru cen:\n1. Ceny nelze použít pro vodorovnou dopravu vybouraných hmot po železnici, po vodě nebo neobvyklými     dopravními prostředky. 2. Je-li na dopravní dráze pro vodorovnou dopravu vybouraných hmot překážka, pro kterou je nutno     vybourané hmoty překládat z jednoho dopravního prostředku na druhý, oceňuje se tato doprava     v každém úseku samostatně. ",null,null,null,null,null,null,null,null,null,null,null,null,null,null,null,null,null,null,null,null,null,null,null,null,null,null,null,null,null,null,null,null,null,null,null,null,null,null,null,"PSC","2"]
[null,null,null,"VV",null,"suť pol.113106123 (odd.11)",null,null,null,null,null,null,null,null,null,null,null,null,null,null,null,null,null,null,null,null,null,null,null,null,null,null,null,null,null,null,null,null,null,null,null,null,null,null,null,"VV","2","1","-1","0","ROZPOCET"]
[null,null,null,"VV",null,"28,6",null,28.6,null,null,null,null,null,null,null,null,null,null,null,null,null,null,null,null,null,null,null,null,null,null,null,null,null,null,null,null,null,null,null,null,null,null,null,null,null,"VV","2","2","-1","0","ROZPOCET"]
[null,null,null,"VV",null,"suť pol.113202111+113204111 (odd.11)",null,null,null,null,null,null,null,null,null,null,null,null,null,null,null,null,null,null,null,null,null,null,null,null,null,null,null,null,null,null,null,null,null,null,null,null,null,null,null,"VV","2","1","-1","0","ROZPOCET"]
[null,null,null,"VV",null,"55,35+3,8",null,59.15,null,null,null,null,null,null,null,null,null,null,null,null,null,null,null,null,null,null,null,null,null,null,null,null,null,null,null,null,null,null,null,null,null,null,null,null,null,"VV","2","2","-1","0","ROZPOCET"]
[null,null,null,"VV",null,"Součet",null,87.75,null,null,null,null,null,null,null,null,null,null,null,null,null,null,null,null,null,null,null,null,null,null,null,null,null,null,null,null,null,null,null,null,null,null,null,null,null,"VV","2","4","-1","1","ROZPOCET"]
[null,null,"75","K","997221579","Příplatek ZKD 1 km u vodorovné dopravy vybouraných hmot","t",1228.5,null,{"$f":"ROUND($I$512*$H$512,2)","v":0},"CS ÚRS 2014 02",null,null,"základní",null,null,0,{"$f":"$Q$512*$H$512","v":0},0,{"$f":"$S$512*$H$512","v":0},null,null,null,null,null,null,null,null,null,null,null,null,null,null,null,null,null,null,null,null,null,null,null,"4",null,"K","2",null,null,null,"ROZPOCET",null,null,null,null,null,{"$f":"IF($N$512=\"základní\",$J$512,0)","v":0},{"$f":"IF($N$512=\"snížená\",$J$512,0)","v":0},{"$f":"IF($N$512=\"zákl. přenesená\",$J$512,0)","v":0},{"$f":"IF($N$512=\"sníž. přenesená\",$J$512,0)","v":0},{"$f":"IF($N$512=\"nulová\",$J$512,0)","v":0},"1",{"$f":"ROUND($I$512*$H$512,2)","v":0},"4","812357564"]
[null,null,null,"PP",null,"Vodorovná doprava vybouraných hmot bez naložení, ale se složením a s hrubým urovnáním na vzdálenost Příplatek k ceně za každý další i započatý 1 km přes 1 km",null,null,null,null,null,null,null,null,null,null,null,null,null,null,null,null,null,null,null,null,null,null,null,null,null,null,null,null,null,null,null,null,null,null,null,null,null,null,null,"PP","2"]
[null,null,null,"PSC",null,"Poznámka k souboru cen:\n1. Ceny nelze použít pro vodorovnou dopravu vybouraných hmot po železnici, po vodě nebo neobvyklými     dopravními prostředky. 2. Je-li na dopravní dráze pro vodorovnou dopravu vybouraných hmot překážka, pro kterou je nutno     vybourané hmoty překládat z jednoho dopravního prostředku na druhý, oceňuje se tato doprava     v každém úseku samostatně. ",null,null,null,null,null,null,null,null,null,null,null,null,null,null,null,null,null,null,null,null,null,null,null,null,null,null,null,null,null,null,null,null,null,null,null,null,null,null,null,"PSC","2"]
[null,null,null,"VV",null,"celková vzdálenost 15 km",null,null,null,null,null,null,null,null,null,null,null,null,null,null,null,null,null,null,null,null,null,null,null,null,null,null,null,null,null,null,null,null,null,null,null,null,null,null,null,"VV","2","1","-1","0","ROZPOCET"]
[null,null,null,"VV",null,"pol.997221571",null,null,null,null,null,null,null,null,null,null,null,null,null,null,null,null,null,null,null,null,null,null,null,null,null,null,null,null,null,null,null,null,null,null,null,null,null,null,null,"VV","2","1","-1","0","ROZPOCET"]
[null,null,null,"VV",null,"87,75*(15-1)",null,1228.5,null,null,null,null,null,null,null,null,null,null,null,null,null,null,null,null,null,null,null,null,null,null,null,null,null,null,null,null,null,null,null,null,null,null,null,null,null,"VV","2","2","-1","1","ROZPOCET"]
[null,null,"76","K","997221551","Vodorovná doprava suti ze sypkých materiálů do 1 km","t",177.69,null,{"$f":"ROUND($I$518*$H$518,2)","v":0},"CS ÚRS 2014 02",null,null,"základní",null,null,0,{"$f":"$Q$518*$H$518","v":0},0,{"$f":"$S$518*$H$518","v":0},null,null,null,null,null,null,null,null,null,null,null,null,null,null,null,null,null,null,null,null,null,null,null,"4",null,"K","2",null,null,null,"ROZPOCET",null,null,null,null,null,{"$f":"IF($N$518=\"základní\",$J$518,0)","v":0},{"$f":"IF($N$518=\"snížená\",$J$518,0)","v":0},{"$f":"IF($N$518=\"zákl. přenesená\",$J$518,0)","v":0},{"$f":"IF($N$518=\"sníž. přenesená\",$J$518,0)","v":0},{"$f":"IF($N$518=\"nulová\",$J$518,0)","v":0},"1",{"$f":"ROUND($I$518*$H$518,2)","v":0},"4","-380617351"]
[null,null,null,"PP",null,"Vodorovná doprava suti bez naložení, ale se složením a s hrubým urovnáním ze sypkých materiálů, na vzdálenost do 1 km",null,null,null,null,null,null,null,null,null,null,null,null,null,null,null,null,null,null,null,null,null,null,null,null,null,null,null,null,null,null,null,null,null,null,null,null,null,null,null,"PP","2"]
[null,null,null,"PSC",null,"Poznámka k souboru cen:\n1. Ceny nelze použít pro vodorovnou dopravu suti po železnici, po vodě nebo neobvyklými dopravními     prostředky. 2. Je-li na dopravní dráze pro vodorovnou dopravu suti překážka, pro kterou je nutno suť překládat     z jednoho dopravního prostředku na druhý, oceňuje se tato doprava v každém úseku samostatně. 3. Ceny 997 22-155 jsou určeny pro sypký materiál, např. kamenivo a hmoty kamenitého charakteru     stmelené vápnem, cementem nebo živicí. 4. Ceny 997 22-156 jsou určeny pro drobný kusový materiál (dlažební kostky, lomový kámen). ",null,null,null,null,null,null,null,null,null,null,null,null,null,null,null,null,null,null,null,null,null,null,null,null,null,null,null,null,null,null,null,null,null,null,null,null,null,null,null,"PSC","2"]
[null,null,null,"VV",null,"suť pol.113107181+113154332 (odd.11)",null,null,null,null,null,null,null,null,null,null,null,null,null,null,null,null,null,null,null,null,null,null,null,null,null,null,null,null,null,null,null,null,null,null,null,null,null,null,null,"VV","2","1","-1","0","ROZPOCET"]
[null,null,null,"VV",null,"9,8+167,89",null,177.69,null,null,null,null,null,null,null,null,null,null,null,null,null,null,null,null,null,null,null,null,null,null,null,null,null,null,null,null,null,null,null,null,null,null,null,null,null,"VV","2","2","-1","1","ROZPOCET"]
[null,null,"77","K","997221559","Příplatek ZKD 1 km u vodorovné dopravy suti ze sypkých materiálů","t",2487.66,null,{"$f":"ROUND($I$523*$H$523,2)","v":0},"CS ÚRS 2014 02",null,null,"základní",null,null,0,{"$f":"$Q$523*$H$523","v":0},0,{"$f":"$S$523*$H$523","v":0},null,null,null,null,null,null,null,null,null,null,null,null,null,null,null,null,null,null,null,null,null,null,null,"4",null,"K","2",null,null,null,"ROZPOCET",null,null,null,null,null,{"$f":"IF($N$523=\"základní\",$J$523,0)","v":0},{"$f":"IF($N$523=\"snížená\",$J$523,0)","v":0},{"$f":"IF($N$523=\"zákl. přenesená\",$J$523,0)","v":0},{"$f":"IF($N$523=\"sníž. přenesená\",$J$523,0)","v":0},{"$f":"IF($N$523=\"nulová\",$J$523,0)","v":0},"1",{"$f":"ROUND($I$523*$H$523,2)","v":0},"4","-797848358"]
[null,null,null,"PP",null,"Vodorovná doprava suti bez naložení, ale se složením a s hrubým urovnáním Příplatek k ceně za každý další i započatý 1 km přes 1 km",null,null,null,null,null,null,null,null,null,null,null,null,null,null,null,null,null,null,null,null,null,null,null,null,null,null,null,null,null,null,null,null,null,null,null,null,null,null,null,"PP","2"]
[null,null,null,"PSC",null,"Poznámka k souboru cen:\n1. Ceny nelze použít pro vodorovnou dopravu suti po železnici, po vodě nebo neobvyklými dopravními     prostředky. 2. Je-li na dopravní dráze pro vodorovnou dopravu suti překážka, pro kterou je nutno suť překládat     z jednoho dopravního prostředku na druhý, oceňuje se tato doprava v každém úseku samostatně. 3. Ceny 997 22-155 jsou určeny pro sypký materiál, např. kamenivo a hmoty kamenitého charakteru     stmelené vápnem, cementem nebo živicí. 4. Ceny 997 22-156 jsou určeny pro drobný kusový materiál (dlažební kostky, lomový kámen). ",null,null,null,null,null,null,null,null,null,null,null,null,null,null,null,null,null,null,null,null,null,null,null,null,null,null,null,null,null,null,null,null,null,null,null,null,null,null,null,"PSC","2"]
[null,null,null,"VV",null,"celkem 15 km",null,null,null,null,null,null,null,null,null,null,null,null,null,null,null,null,null,null,null,null,null,null,null,null,null,null,null,null,null,null,null,null,null,null,null,null,null,null,null,"VV","2","1","-1","0","ROZPOCET"]
[null,null,null,"VV",null,"pol.997221551",null,null,null,null,null,null,null,null,null,null,null,null,null,null,null,null,null,null,null,null,null,null,null,null,null,null,null,null,null,null,null,null,null,null,null,null,null,null,null,"VV","2","1","-1","0","ROZPOCET"]
[null,null,null,"VV",null,"177,69*(15-1)",null,2487.66,null,null,null,null,null,null,null,null,null,null,null,null,null,null,null,null,null,null,null,null,null,null,null,null,null,null,null,null,null,null,null,null,null,null,null,null,null,"VV","2","2","-1","1","ROZPOCET"]
[null,null,"78","K","9972218_R","Poplatek za uložení betonového kusového odpadu na skládce (skládkovné)","t",87.57,null,{"$f":"ROUND($I$529*$H$529,2)","v":0},null,null,null,"základní",null,null,0,{"$f":"$Q$529*$H$529","v":0},0,{"$f":"$S$529*$H$529","v":0},null,null,null,null,null,null,null,null,null,null,null,null,null,null,null,null,null,null,null,null,null,null,null,"4",null,"K","2",null,null,null,"ROZPOCET",null,null,null,null,null,{"$f":"IF($N$529=\"základní\",$J$529,0)","v":0},{"$f":"IF($N$529=\"snížená\",$J$529,0)","v":0},{"$f":"IF($N$529=\"zákl. přenesená\",$J$529,0)","v":0},{"$f":"IF($N$529=\"sníž. přenesená\",$J$529,0)","v":0},{"$f":"IF($N$529=\"nulová\",$J$529,0)","v":0},"1",{"$f":"ROUND($I$529*$H$529,2)","v":0},"4","-793592350"]
[null,null,null,"PP",null,"Poplatek za uložení betonového kusového odpadu na skládce (skládkovné)",null,null,null,null,null,null,null,null,null,null,null,null,null,null,null,null,null,null,null,null,null,null,null,null,null,null,null,null,null,null,null,null,null,null,null,null,null,null,null,"PP","2"]
[null,null,null,"VV",null,"dle pol.997221571",null,null,null,null,null,null,null,null,null,null,null,null,null,null,null,null,null,null,null,null,null,null,null,null,null,null,null,null,null,null,null,null,null,null,null,null,null,null,null,"VV","2","1","-1","0","ROZPOCET"]
[null,null,null,"VV",null,"87,57",null,87.57,null,null,null,null,null,null,null,null,null,null,null,null,null,null,null,null,null,null,null,null,null,null,null,null,null,null,null,null,null,null,null,null,null,null,null,null,null,"VV","2","2","-1","1","ROZPOCET"]
[null,null,"79","K","997221845","Poplatek za uložení odpadu z asfaltových povrchů na skládce (skládkovné)","t",177.69,null,{"$f":"ROUND($I$533*$H$533,2)","v":0},"CS ÚRS 2014 02",null,null,"základní",null,null,0,{"$f":"$Q$533*$H$533","v":0},0,{"$f":"$S$533*$H$533","v":0},null,null,null,null,null,null,null,null,null,null,null,null,null,null,null,null,null,null,null,null,null,null,null,"4",null,"K","2",null,null,null,"ROZPOCET",null,null,null,null,null,{"$f":"IF($N$533=\"základní\",$J$533,0)","v":0},{"$f":"IF($N$533=\"snížená\",$J$533,0)","v":0},{"$f":"IF($N$533=\"zákl. přenesená\",$J$533,0)","v":0},{"$f":"IF($N$533=\"sníž. přenesená\",$J$533,0)","v":0},{"$f":"IF($N$533=\"nulová\",$J$533,0)","v":0},"1",{"$f":"ROUND($I$533*$H$533,2)","v":0},"4","-1722650309"]
[null,null,null,"PP",null,"Poplatek za uložení stavebního odpadu na skládce (skládkovné) z asfaltových povrchů",null,null,null,null,null,null,null,null,null,null,null,null,null,null,null,null,null,null,null,null,null,null,null,null,null,null,null,null,null,null,null,null,null,null,null,null,null,null,null,"PP","2"]
[null,null,null,"PSC",null,"Poznámka k souboru cen:\n1. Ceny uvedené v souboru cen lze po dohodě upravit podle místních podmínek. 2. Uložení odpadů neuvedených v souboru cen se oceňuje individuálně. 3. V cenách je započítán poplatek za ukládání odpadu dle zákona 185/2001 Sb. 4. Případné drcení stavebního odpadu lze ocenit cenami souboru cen 997 00-60 Drcení stavebního     odpadu z katalogu 800-6 Demolice objektů. ",null,null,null,null,null,null,null,null,null,null,null,null,null,null,null,null,null,null,null,null,null,null,null,null,null,null,null,null,null,null,null,null,null,null,null,null,null,null,null,"PSC","2"]
[null,null,null,"VV",null,"pol.997221551",null,null,null,null,null,null,null,null,null,null,null,null,null,null,null,null,null,null,null,null,null,null,null,null,null,null,null,null,null,null,null,null,null,null,null,null,null,null,null,"VV","2","1","-1","0","ROZPOCET"]
[null,null,null,"VV",null,"177,69",null,177.69,null,null,null,null,null,null,null,null,null,null,null,null,null,null,null,null,null,null,null,null,null,null,null,null,null,null,null,null,null,null,null,null,null,null,null,null,null,"VV","2","2","-1","1","ROZPOCET"]
[null,null,"80","K","998225111","Přesun hmot pro pozemní komunikace s krytem z kamene, monolitickým betonovým nebo živičným","t",376.28199999999998,null,{"$f":"ROUND($I$538*$H$538,2)","v":0},"CS ÚRS 2014 02",null,null,"základní",null,null,0,{"$f":"$Q$538*$H$538","v":0},0,{"$f":"$S$538*$H$538","v":0},null,null,null,null,null,null,null,null,null,null,null,null,null,null,null,null,null,null,null,null,null,null,null,"4",null,"K","2",null,null,null,"ROZPOCET",null,null,null,null,null,{"$f":"IF($N$538=\"základní\",$J$538,0)","v":0},{"$f":"IF($N$538=\"snížená\",$J$538,0)","v":0},{"$f":"IF($N$538=\"zákl. přenesená\",$J$538,0)","v":0},{"$f":"IF($N$538=\"sníž. přenesená\",$J$538,0)","v":0},{"$f":"IF($N$538=\"nulová\",$J$538,0)","v":0},"1",{"$f":"ROUND($I$538*$H$538,2)","v":0},"4","-1375860109"]
[null,null,null,"PP",null,"Přesun hmot pro komunikace s krytem z kameniva, monolitickým betonovým nebo živičným dopravní vzdálenost do 200 m jakékoliv délky objektu",null,null,null,null,null,null,null,null,null,null,null,null,null,null,null,null,null,null,null,null,null,null,null,null,null,null,null,null,null,null,null,null,null,null,null,null,null,null,null,"PP","2"]
[null,null,null,"PSC",null,"Poznámka k souboru cen:\n1. Ceny lze použít i pro plochy letišť s krytem monolitickým betonovým nebo živičným. ",null,null,null,null,null,null,null,null,null,null,null,null,null,null,null,null,null,null,null,null,null,null,null,null,null,null,null,null,null,null,null,null,null,null,null,null,null,null,null,"PSC","2"]

{"sheet":"SO511 - SO 511  Přeložka ...","index":2,"n_rows":274,"n_cols":65,"rows_kept":274,"cut":false,"hidden":false,"merged":[[78,4,78,7],[80,4,80,7],[25,4,25,7],[46,4,46,7],[48,4,48,7],[50,4,50,7],[76,4,76,7],[0,6,0,7],[1,11,1,21],[6,4,6,7],[8,4,8,7],[10,4,10,7]]}
[null,null,null,"List obsahuje:",null,"1) Krycí list soupisu","2) Rekapitulace",null,null,"3) Soupis prací","Zpět na list:","Rekapitulace stavby"]
[null,null,null,null,null,null,null,null,null,null,null,null,null,null,null,null,null,null,null,null,null,null,null,null,null,null,null,null,null,null,null,null,null,null,null,null,null,null,null,null,null,null,null,null,null,"{FF285C7C-12BB-4059-B31F-89B3DAE50A8D}"]
[null,null,null,null,null,null,null,null,null,null,null,null,null,null,null,null,null,null,null,null,null,null,null,null,null,null,null,null,null,null,null,null,null,null,null,null,null,null,null,null,null,null,null,null,null,"2"]
[null,null,null,"KRYCÍ LIST SOUPISU",null,null,null,null,null,null,null,null,"v ---  níže se nacházejí doplnkové a pomocné údaje k sestavám  --- v",null,null,null,null,null,null,null,null,null,null,null,null,null,null,null,null,null,null,null,null,null,null,null,null,null,null,null,null,null,null,null,null,"False"]
[]
[null,null,null,"Stavba:"]
[null,null,null,null,{"$f":"'Rekapitulace stavby'!$K$6","v":"Město Sokolov - Záchytné parkoviště Michal"}]
[null,null,null,"Objekt:"]
[null,null,null,null,"1.E - 1.ETAPA"]
[null,null,null,"Soupis:"]
[null,null,null,null,"SO511 - SO 511  Přeložka VTL plynovodu"]
[]
[null,null,null,"KSO:",null,"827 52",null,null,"CC-CZ:","7941-26"]
[null,null,null,"Místo:",null,"Sokolov",null,null,"Datum:",{"$f":"'Rekapitulace stavby'!$AN$8","v":"09.09.2014"}]
[]
[null,null,null,"Zadavatel:",null,null,null,null,"IČ:"]
[null,null,null,null,"Město Sokolov",null,null,null,"DIČ:"]
[]
[null,null,null,"Uchazeč:",null,null,null,null,"IČ:",{"$f":"IF('Rekapitulace stavby'!$AN$13=\"Vyplň údaj\",\"\",IF('Rekapitulace stavby'!$AN$13=\"\",\"\",'Rekapitulace stavby'!$AN$13))","v":""}]
[null,null,null,null,{"$f":"IF('Rekapitulace stavby'!$E$14=\"Vyplň údaj\",\"\",IF('Rekapitulace stavby'!$E$14=\"\",\"\",'Rekapitulace stavby'!$E$14))","v":""},null,null,null,"DIČ:",{"$f":"IF('Rekapitulace stavby'!$AN$14=\"Vyplň údaj\",\"\",IF('Rekapitulace stavby'!$AN$14=\"\",\"\",'Rekapitulace stavby'!$AN$14))","v":""}]
[]
[null,null,null,"Projektant:",null,null,null,null,"IČ:","18224920"]
[null,null,null,null,"BPO spol. s r.o., Lidická 1239, 363 17 Ostrov",null,null,null,"DIČ:","CZ18224920"]
[]
[null,null,null,"Poznámka:"]
[]
[]
[]
[null,null,null,"Cena bez DPH",null,null,null,null,null,{"$f":"ROUND($J$89,2)","v":0}]
[]
[null,null,null,null,null,"Základ daně",null,null,"Sazba daně","Výše daně"]
[null,null,null,"DPH","základní",{"$f":"ROUND(SUM($BE$89:$BE$274),2)","v":0},null,null,0.21,{"$f":"ROUND(SUM($BE$89:$BE$274)*$I$32,2)","v":0}]
[null,null,null,null,"snížená",{"$f":"ROUND(SUM($BF$89:$BF$274),2)","v":0},null,null,0.15,{"$f":"ROUND(SUM($BF$89:$BF$274)*$I$33,2)","v":0}]
[null,null,null,null,"zákl. přenesená",{"$f":"ROUND(SUM($BG$89:$BG$274),2)","v":0},null,null,0.21,0]
[null,null,null,null,"sníž. přenesená",{"$f":"ROUND(SUM($BH$89:$BH$274),2)","v":0},null,null,0.15,0]
[null,null,null,null,"nulová",{"$f":"ROUND(SUM($BI$89:$BI$274),2)","v":0},null,null,0,0]
[]
[null,null,null,"Cena s DPH",null,null,"v","CZK",null,{"$f":"ROUND(SUM($J$29:$J$36),2)","v":0}]
[]
[]
[]
[]
[]
[null,null,"REKAPITULACE ČLENĚNÍ SOUPISU PRACÍ"]
[]
[null,null,"Stavba:"]
[null,null,null,null,{"$f":"$E$7","v":"Město Sokolov - Záchytné parkoviště Michal"}]
[null,null,"Objekt:"]
[null,null,null,null,"1.E - 1.ETAPA"]
[null,null,"Soupis:"]
[null,null,null,null,{"$f":"$E$11","v":"SO511 - SO 511  Přeložka VTL plynovodu"}]
[]
[null,null,"Místo:",null,null,{"$f":"$F$14","v":"Sokolov"},null,null,"Datum:",{"$f":"IF($J$14=\"\",\"\",$J$14)","v":"09.09.2014"}]
[]
[null,null,"Zadavatel:",null,null,{"$f":"$E$17","v":"Město Sokolov"},null,null,"Projektant:",{"$f":"$E$23","v":"BPO spol. s r.o., Lidická 1239, 363 17 Ostrov"}]
[null,null,"Uchazeč:",null,null,{"$f":"IF($E$20=\"\",\"\",$E$20)","v":""}]
[]
[null,null,"Kód dílu - Popis",null,null,null,null,null,null,"Cena celkem [CZK]"]
[]
[null,null,"Náklady soupisu celkem",null,null,null,null,null,null,{"$f":"ROUND($J$89,2)","v":0},null,null,null,null,null,null,null,null,null,null,null,null,null,null,null,null,null,null,null,null,null,null,null,null,null,null,null,null,null,null,null,null,null,null,null,null,"-1"]
[null,null,null,"HSV -  Práce a dodávky HSV",null,null,null,null,null,{"$f":"ROUND($J$90,2)","v":0}]
[null,null,null,"    1 -  Zemní práce",null,null,null,null,null,{"$f":"ROUND($J$91,2)","v":0}]
[null,null,null,"    8 -  Trubní vedení",null,null,null,null,null,{"$f":"ROUND($J$167,2)","v":0}]
[null,null,null,"    9 -  Ostatní konstrukce a práce-bourání",null,null,null,null,null,{"$f":"ROUND($J$175,2)","v":0}]
[null,null,null,"      99 -  Přesun hmot",null,null,null,null,null,{"$f":"ROUND($J$176,2)","v":0}]
[null,null,null,"M -  Práce a dodávky M",null,null,null,null,null,{"$f":"ROUND($J$180,2)","v":0}]
[null,null,null,"    23-M -  Montáže potrubí",null,null,null,null,null,{"$f":"ROUND($J$181,2)","v":0}]
[]
[]
[]
[]
[]
[]
[null,null,"SOUPIS PRACÍ"]
[]
[null,null,"Stavba:"]
[null,null,null,null,{"$f":"$E$7","v":"Město Sokolov - Záchytné parkoviště Michal"}]
[null,null,"Objekt:"]
[null,null,null,null,"1.E - 1.ETAPA"]
[null,null,"Soupis:"]
[null,null,null,null,{"$f":"$E$11","v":"SO511 - SO 511  Přeložka VTL plynovodu"}]
[]
[null,null,"Místo:",null,null,{"$f":"$F$14","v":"Sokolov"},null,null,"Datum:",{"$f":"IF($J$14=\"\",\"\",$J$14)","v":"09.09.2014"}]
[]
[null,null,"Zadavatel:",null,null,{"$f":"$E$17","v":"Město Sokolov"},null,null,"Projektant:",{"$f":"$E$23","v":"BPO spol. s r.o., Lidická 1239, 363 17 Ostrov"}]
[null,null,"Uchazeč:",null,null,{"$f":"IF($E$20=\"\",\"\",$E$20)","v":""}]
[]
[null,null,"PČ","Typ","Kód","Popis","MJ","Množství","J.cena [CZK]","Cena celkem\n[CZK]","Cenová soustava",null,"Poznámka","DPH","J. Nh [h]","Nh celkem [h]","J. hmotnost\n[t]","Hmotnost\ncelkem [t]","J. suť [t]","Suť Celkem [t]"]
[null,null,"Náklady soupisu celkem",null,null,null,null,null,null,{"$f":"$BK$89","v":0},null,null,null,null,null,{"$f":"$P$90+$P$180","v":0},null,{"$f":"$R$90+$R$180","v":17.144758307396},null,{"$f":"$T$90+$T$180","v":0},null,null,null,null,null,null,null,null,null,null,null,null,null,null,null,null,null,null,null,null,null,null,null,null,null,"D","-1",null,null,null,null,null,null,null,null,null,null,null,null,null,null,null,{"$f":"$BK$90+$BK$180","v":0}]
[null,null,null,"D","HSV"," Práce a dodávky HSV",null,null,null,{"$f":"$BK$90","v":0},null,null,null,null,null,{"$f":"$P$91+$P$167+$P$175","v":0},null,{"$f":"$R$91+$R$167+$R$175","v":15.567177144},null,{"$f":"$T$91+$T$167+$T$175","v":0},null,null,null,null,null,null,null,null,null,null,null,null,null,null,null,null,null,null,null,null,null,null,null,"1",null,"D","0",null,null,null,"ROZPOCET",null,null,null,null,null,null,null,null,null,null,null,{"$f":"$BK$91+$BK$167+$BK$175","v":0}]
[null,null,null,"D","1"," Zemní práce",null,null,null,{"$f":"$BK$91","v":0},null,null,null,null,null,{"$f":"SUM($P$92:$P$166)","v":0},null,{"$f":"SUM($R$92:$R$166)","v":15.524445144},null,{"$f":"SUM($T$92:$T$166)","v":0},null,null,null,null,null,null,null,null,null,null,null,null,null,null,null,null,null,null,null,null,null,null,null,"1",null,"D","1",null,null,null,"ROZPOCET",null,null,null,null,null,null,null,null,null,null,null,{"$f":"SUM($BK$92:$BK$166)","v":0}]
[null,null,"1","K","115101201","Čerpání vody na dopravní výšku do 10 m průměrný přítok do 500 l/min","hod",24,null,{"$f":"ROUND($I$92*$H$92,2)","v":0},"CS ÚRS 2014 02",null,null,"základní",null,null,0,{"$f":"$Q$92*$H$92","v":0},0,{"$f":"$S$92*$H$92","v":0},null,null,null,null,null,null,null,null,null,null,null,null,null,null,null,null,null,null,null,null,null,null,null,"4",null,"K","2",null,null,null,"ROZPOCET",null,null,null,null,null,{"$f":"IF($N$92=\"základní\",$J$92,0)","v":0},{"$f":"IF($N$92=\"snížená\",$J$92,0)","v":0},{"$f":"IF($N$92=\"zákl. přenesená\",$J$92,0)","v":0},{"$f":"IF($N$92=\"sníž. přenesená\",$J$92,0)","v":0},{"$f":"IF($N$92=\"nulová\",$J$92,0)","v":0},"1",{"$f":"ROUND($I$92*$H$92,2)","v":0},"4","-816998484"]
[null,null,null,"PP",null,"Čerpání vody na dopravní výšku do 10 m s uvažovaným průměrným přítokem do 500 l/min",null,null,null,null,null,null,null,null,null,null,null,null,null,null,null,null,null,null,null,null,null,null,null,null,null,null,null,null,null,null,null,null,null,null,null,null,null,null,null,"PP","2"]
[null,null,null,"PSC",null,"Poznámka k souboru cen:\n1. Ceny jsou určeny pro čerpání ve dne, v noci, v pracovní dny i ve dnech pracovního klidu 2. Ceny nelze použít pro čerpání vody při snižování hladiny podzemní vody soustavou čerpacích     jehel; toto snižování hladiny vody se oceňuje cenami souborů cen:     a) 115 20-12 Čerpací jehla,     b) 115 20-13 Montáž a demontáž zařízení čerpací a odsávací stanice,     c) 115 20-14 Montáž, opotřebení a demontáž sběrného potrubí,     d) 115 20-15 Montáž a demontáž odpadního potrubí,     e) 115 20-16 Odsávání a čerpání vody sběrným potrubím. 3. V cenách jsou započteny i náklady na odpadní potrubí v délce do 20 m, na lešení pod čerpadla a     pod odpadní potrubí. Pro převedení vody na vzdálenost větší než 20 m se použijí položky souboru cen     115 00-11 Převedení vody potrubím tohoto katalogu. 4. V cenách nejsou započteny náklady na zřízení čerpacích jímek nebo projektovaných studní:     a) kopaných; tyto se oceňují příslušnými cenami části A 02 Zemní práce pro objekty oborů 821 až         828,     b) vrtaných; tyto se oceňují příslušnými cenami katalogu 800-2 Zvláštní zakládání objektů. 5. Doba, po kterou nejsou čerpadla v činnosti, se neoceňuje. Výjimkou je přerušení čerpání vody na     dobu do 15 minut jednotlivě; toto přerušení se od doby čerpání neodečítá. 6. Dopravní výškou vody se rozumí svislá vzdálenost mezi hladinou vody v jímce sníženou čerpáním a     vodorovnou rovinou proloženou osou nejvyššího bodu výtlačného potrubí. 7. Množství jednotek se určuje v hodinách doby, po kterou je jednotlivé čerpadlo, popř. celý soubor     čerpadel v činnosti. 8. Počet měrných jednotek se určí samostatně za každé čerpací místo (jámu, studnu, šachtu) ",null,null,null,null,null,null,null,null,null,null,null,null,null,null,null,null,null,null,null,null,null,null,null,null,null,null,null,null,null,null,null,null,null,null,null,null,null,null,null,"PSC","2"]
[null,null,null,"VV",null,"24",null,24,null,null,null,null,null,null,null,null,null,null,null,null,null,null,null,null,null,null,null,null,null,null,null,null,null,null,null,null,null,null,null,null,null,null,null,null,null,"VV","2","2","-1","1","ROZPOCET"]
[null,null,"2","K","115101301","Pohotovost čerpací soupravy pro dopravní výšku do 10 m přítok do 500 l/min","den",3,null,{"$f":"ROUND($I$96*$H$96,2)","v":0},"CS ÚRS 2014 02",null,null,"základní",null,null,0,{"$f":"$Q$96*$H$96","v":0},0,{"$f":"$S$96*$H$96","v":0},null,null,null,null,null,null,null,null,null,null,null,null,null,null,null,null,null,null,null,null,null,null,null,"4",null,"K","2",null,null,null,"ROZPOCET",null,null,null,null,null,{"$f":"IF($N$96=\"základní\",$J$96,0)","v":0},{"$f":"IF($N$96=\"snížená\",$J$96,0)","v":0},{"$f":"IF($N$96=\"zákl. přenesená\",$J$96,0)","v":0},{"$f":"IF($N$96=\"sníž. přenesená\",$J$96,0)","v":0},{"$f":"IF($N$96=\"nulová\",$J$96,0)","v":0},"1",{"$f":"ROUND($I$96*$H$96,2)","v":0},"4","-710837555"]
[null,null,null,"PP",null,"Pohotovost záložní čerpací soupravy pro dopravní výšku do 10 m s uvažovaným průměrným přítokem do 500 l/min",null,null,null,null,null,null,null,null,null,null,null,null,null,null,null,null,null,null,null,null,null,null,null,null,null,null,null,null,null,null,null,null,null,null,null,null,null,null,null,"PP","2"]
[null,null,null,"PSC",null,"Poznámka k souboru cen:\n1. V ceně nejsou započteny náklady na sací a výtlačné potrubí, příp. na odpadní žlaby a náklady na     lešení pod čerpadlo a pod potrubí nebo pod odpadní žlaby, na energii a na záložní zdroje energie. 2. Oceňují se všechny kalendářní dny od skončení montáže do započetí demontáže čerpací soupravy s     odečtením kalendářních dnů, ve kterých je tato souprava v činnosti. 3. Pohotovost záložní čerpací soupravy se oceňuje jen se souhlasem investora a to tehdy, mohla-li     by porucha v čerpání ohrozit bezpečnost pracujících nebo budované dílo, příp. termín výstavby. 4. Dopravní výškou vody se rozumí svislá vzdálenost mezi hladinou vody v jímce sníženou čerpáním a     vodorovnou rovinou, proloženou osou nejvyššího bodu výtlačného potrubí. 5. Počet měrných jednotek se určí samostatně za každé čerpací místo (jámu, studnu, šachtu) 6. Pokud projekt předepíše zřízení samostatného sacího nebo výtlačného potrubí, oceňují se tyto     náklady cenami souboru cen 115 00-11 Převedení vody potrubím. ",null,null,null,null,null,null,null,null,null,null,null,null,null,null,null,null,null,null,null,null,null,null,null,null,null,null,null,null,null,null,null,null,null,null,null,null,null,null,null,"PSC","2"]
[null,null,null,"VV",null,"3",null,3,null,null,null,null,null,null,null,null,null,null,null,null,null,null,null,null,null,null,null,null,null,null,null,null,null,null,null,null,null,null,null,null,null,null,null,null,null,"VV","2","2","-1","1","ROZPOCET"]
[null,null,"3","K","119001421","Dočasné zajištění kabelů a kabelových tratí ze 3 volně ložených kabelů","m",3,null,{"$f":"ROUND($I$100*$H$100,2)","v":0},"CS ÚRS 2014 02",null,null,"základní",null,null,3.58698E-2,{"$f":"$Q$100*$H$100","v":0.10760939999999999},0,{"$f":"$S$100*$H$100","v":0},null,null,null,null,null,null,null,null,null,null,null,null,null,null,null,null,null,null,null,null,null,null,null,"4",null,"K","2",null,null,null,"ROZPOCET",null,null,null,null,null,{"$f":"IF($N$100=\"základní\",$J$100,0)","v":0},{"$f":"IF($N$100=\"snížená\",$J$100,0)","v":0},{"$f":"IF($N$100=\"zákl. přenesená\",$J$100,0)","v":0},{"$f":"IF($N$100=\"sníž. přenesená\",$J$100,0)","v":0},{"$f":"IF($N$100=\"nulová\",$J$100,0)","v":0},"1",{"$f":"ROUND($I$100*$H$100,2)","v":0},"4","-31952464"]
[null,null,null,"PP",null,"Dočasné zajištění podzemního potrubí nebo vedení ve výkopišti ve stavu i poloze , ve kterých byla na začátku zemních prací a to s podepřením, vzepřením nebo vyvěšením, příp. s ochranným bedněním, se zřízením a odstraněním za jišťovací konstrukce, s opotřebením hmot kabelů a kabelových tratí z volně ložených kabelů a to do 3 kabelů",null,null,null,null,null,null,null,null,null,null,null,null,null,null,null,null,null,null,null,null,null,null,null,null,null,null,null,null,null,null,null,null,null,null,null,null,null,null,null,"PP","2"]
[null,null,null,"PSC",null,"Poznámka k souboru cen:\n1. Ceny nelze použít pro dočasné zajištění potrubí v provozu pod tlakem přes 1 MPa a potrubí nebo     jiných vedení v provozu u nichž investor zakazuje použít při vykopávce kovové nástroje nebo nářadí. 2. Ztížení vykopávky v blízkosti vedení, potrubí a stok ve výkopišti nebo podél jeho stěn se     oceňuje cenami souboru cen 120 00- . . a 130 00- . . Příplatky za ztížení vykopávky. Dočasné     zajištění potrubí větších rozměrů než DN 500 se oceňuje individuálně. ",null,null,null,null,null,null,null,null,null,null,null,null,null,null,null,null,null,null,null,null,null,null,null,null,null,null,null,null,null,null,null,null,null,null,null,null,null,null,null,"PSC","2"]
[null,null,null,"VV",null,"3",null,3,null,null,null,null,null,null,null,null,null,null,null,null,null,null,null,null,null,null,null,null,null,null,null,null,null,null,null,null,null,null,null,null,null,null,null,null,null,"VV","2","2","-1","1","ROZPOCET"]
[null,null,"4","K","121101101","Sejmutí ornice s přemístěním na vzdálenost do 50 m","m3",37.6,null,{"$f":"ROUND($I$104*$H$104,2)","v":0},"CS ÚRS 2014 02",null,null,"základní",null,null,0,{"$f":"$Q$104*$H$104","v":0},0,{"$f":"$S$104*$H$104","v":0},null,null,null,null,null,null,null,null,null,null,null,null,null,null,null,null,null,null,null,null,null,null,null,"4",null,"K","2",null,null,null,"ROZPOCET",null,null,null,null,null,{"$f":"IF($N$104=\"základní\",$J$104,0)","v":0},{"$f":"IF($N$104=\"snížená\",$J$104,0)","v":0},{"$f":"IF($N$104=\"zákl. přenesená\",$J$104,0)","v":0},{"$f":"IF($N$104=\"sníž. přenesená\",$J$104,0)","v":0},{"$f":"IF($N$104=\"nulová\",$J$104,0)","v":0},"1",{"$f":"ROUND($I$104*$H$104,2)","v":0},"4","-1632024929"]
[null,null,null,"PP",null,"Sejmutí ornice nebo lesní půdy s vodorovným přemístěním na hromady v místě upotřebení nebo na dočasné či trvalé skládky se složením, na vzdálenost do 50 m",null,null,null,null,null,null,null,null,null,null,null,null,null,null,null,null,null,null,null,null,null,null,null,null,null,null,null,null,null,null,null,null,null,null,null,null,null,null,null,"PP","2"]
[null,null,null,"PSC",null,"Poznámka k souboru cen:\n1. V cenách jsou započteny i náklady na příp. nutné naložení sejmuté ornice na dopravní prostředek. 2. V cenách nejsou započteny náklady na odstranění nevhodných přimísenin (kamenů, kořenů apod.);     tyto práce se ocení individuálně. 3. Množství ornice odebírané ze skládek se do objemu vykopávek pro volbu cen podle množství     nezapočítává. Ceny souboru cen 122 . 0-11 Odkopávky a prokopávky nezapažené, se volí pro ornici     odebíranou z projektovaných dočasných skládek;     a) na staveništi podle součtu objemu ze všech skládek,     b) mimo staveniště podle objemu každé skládky zvlášť. 4. Uložení ornice na skládky se oceňuje podle ustanovení v poznámkách č. 1 a 2 k ceně 171 20-1201     Uložení sypaniny na skládky. Složení ornice na hromady v místě upotřebení se neoceňuje. 5. Odebírá-li se ornice z projektované dočasné skládky, oceňuje se její naložení a přemístění podle     čl. 3172 Všeobecných podmínek tohoto katalogu. 6. Přemísťuje-li se ornice na vzdálenost větší něž 250 m, vzdálenost 50 m se pro určení vzdálenosti     vodorovného přemístění neodečítá a ocení se sejmutí a přemístění bez ohledu na ustanovení pozn. č.     1 takto:     a) sejmutí ornice na vzdálenost 50m cenou 121 10-1101;     b) naložení příslušnou cenou souboru cen 167 10- . .     c) vodorovné přemístění cenami souboru cen 162 . 0- . . Vodorovné přemístění výkopku. 7. Sejmutí podorničí se oceňuje cenami odkopávek s přihlédnutím k ustanovení čl. 3112 Všeobecných     podmínek tohoto katalogu. ",null,null,null,null,null,null,null,null,null,null,null,null,null,null,null,null,null,null,null,null,null,null,null,null,null,null,null,null,null,null,null,null,null,null,null,null,null,null,null,"PSC","2"]
[null,null,null,"VV",null,"41*4*0,2+6*2*0,2*2",null,37.6,null,null,null,null,null,null,null,null,null,null,null,null,null,null,null,null,null,null,null,null,null,null,null,null,null,null,null,null,null,null,null,null,null,null,null,null,null,"VV","2","2","-1","1","ROZPOCET"]
[null,null,"5","K","130001101","Příplatek za ztížení vykopávky v blízkosti podzemního vedení","m3",1.92,null,{"$f":"ROUND($I$108*$H$108,2)","v":0},"CS ÚRS 2014 02",null,null,"základní",null,null,0,{"$f":"$Q$108*$H$108","v":0},0,{"$f":"$S$108*$H$108","v":0},null,null,null,null,null,null,null,null,null,null,null,null,null,null,null,null,null,null,null,null,null,null,null,"4",null,"K","2",null,null,null,"ROZPOCET",null,null,null,null,null,{"$f":"IF($N$108=\"základní\",$J$108,0)","v":0},{"$f":"IF($N$108=\"snížená\",$J$108,0)","v":0},{"$f":"IF($N$108=\"zákl. přenesená\",$J$108,0)","v":0},{"$f":"IF($N$108=\"sníž. přenesená\",$J$108,0)","v":0},{"$f":"IF($N$108=\"nulová\",$J$108,0)","v":0},"1",{"$f":"ROUND($I$108*$H$108,2)","v":0},"4","-1917712098"]
[null,null,null,"PP",null,"Příplatek k cenám hloubených vykopávek za ztížení vykopávky v blízkosti podzemního vedení nebo výbušnin pro jakoukoliv třídu horniny",null,null,null,null,null,null,null,null,null,null,null,null,null,null,null,null,null,null,null,null,null,null,null,null,null,null,null,null,null,null,null,null,null,null,null,null,null,null,null,"PP","2"]
[null,null,null,"PSC",null,"Poznámka k souboru cen:\n1. Cena je určena:     a) i pro soubor cen 123 . 0-21 Vykopávky zářezů se šikmými stěnami pro podzemní vedení části A         02,     b) pro podzemní vedení procházející hloubenou vykopávkou nebo uložené ve stěně výkopu při         jakékoliv hloubce vedení pod původním terénem nebo jeho výšce nade dnem výkopu a jakémkoliv směru         vedení ke stranám výkopu;     c) pro výbušniny nezaložené dodavatelem. 2. Cenu lze použít i tehdy, narazí-li se na vedení nebo výbušninu až při vykopávce a to pro     zbývající objem výkopu, který je projektantem nebo investorem označen, v němž by toto nebo jiné     nepředvídané vedení nebo výbušnina mohlo být uloženo. Toto ustanovení neplatí pro objem hornin tř.     6 a 7. 3. Cenu nelze použít pro ztížení vykopávky v blízkosti podzemních vedení nebo výbušnin, u nichž je     projektem zakázáno použít při vykopávce kovové nástroje nebo nářadí. 4. Množství ztížení vykopávky v blízkosti     a) podzemního vedení, jehož půdorysná a výšková poloha         - je v projektu uvedena, se určí jako objem myšleného hranolu, jehož průřez je pravidelný             čtyřúhelník jehož horní vodorovná a obě svislé strany jsou ve vzdálenosti 0,5 m a dolní vodorovná             hrana ve vzdálenosti 1 m od přilehlého vnějšího líce vedení, příp. jeho obalu a délka se rovná             osové délce vedení ve výkopišti nebo délce vedení ve stěně výkopu. Vymezí-li projekt větší prostor,             v němž je nutno při vykopávce postupovat opatrně, lze použít cena pro celý objem výkopu v tomto             prostoru. Od takto zjištěného množství se odečítá objem vedení i s příp. se vyskytujícím obalem;         - není v projektu uvedena, avšak která podle projektu nebo sdělení investora jsou             pravděpodobně ve výkopišti uložena, se rovná objemu výkopu, který je projektantem nebo investorem             označen.     b) výbušniny, určí vždy projektant nebo investor, ať je v projektu uvedeno či neuvedeno. 5. Je-li vedení uloženo ve výkopišti tak, že se vykopávka v celém výše popsaném objemu nevykopává,     např. blízko stěn nebo dna výkopu, oceňuje se ztížení vykopávky jen pro tu část objemu, v níž se     ztížená vykopávka provádí. 6. Jsou-li ve výkopišti dvě vedení položena tak blízko sebe, že se výše uvedené objemy pro obě     vedení pronikají, určí se množství ztížení vykopávky tak, aby se pronik započetl jen jednou. 7. Objem ztížení vykopávky se od celkového objemu výkopu neodečítá. 8. Dočasné zajištění různých podzemních vedení ve výkopišti se oceňuje cenami souboru cen 119 00-14     Dočasné zajištění podzemního potrubí nebo vedení ve výkopišti. ",null,null,null,null,null,null,null,null,null,null,null,null,null,null,null,null,null,null,null,null,null,null,null,null,null,null,null,null,null,null,null,null,null,null,null,null,null,null,null,"PSC","2"]
[null,null,null,"VV",null,"3*0,8*0,8",null,1.92,null,null,null,null,null,null,null,null,null,null,null,null,null,null,null,null,null,null,null,null,null,null,null,null,null,null,null,null,null,null,null,null,null,null,null,null,null,"VV","2","2","-1","1","ROZPOCET"]
[null,null,"6","K","131201201","Hloubení jam zapažených v hornině tř. 3 objemu do 100 m3","m3",68.790000000000006,null,{"$f":"ROUND($I$112*$H$112,2)","v":0},"CS ÚRS 2014 02",null,null,"základní",null,null,0,{"$f":"$Q$112*$H$112","v":0},0,{"$f":"$S$112*$H$112","v":0},null,null,null,null,null,null,null,null,null,null,null,null,null,null,null,null,null,null,null,null,null,null,null,"4",null,"K","2",null,null,null,"ROZPOCET",null,null,null,null,null,{"$f":"IF($N$112=\"základní\",$J$112,0)","v":0},{"$f":"IF($N$112=\"snížená\",$J$112,0)","v":0},{"$f":"IF($N$112=\"zákl. přenesená\",$J$112,0)","v":0},{"$f":"IF($N$112=\"sníž. přenesená\",$J$112,0)","v":0},{"$f":"IF($N$112=\"nulová\",$J$112,0)","v":0},"1",{"$f":"ROUND($I$112*$H$112,2)","v":0},"4","-1197057986"]
[null,null,null,"PP",null,"Hloubení zapažených jam a zářezů s urovnáním dna do předepsaného profilu a spádu v hornině tř. 3 do 100 m3",null,null,null,null,null,null,null,null,null,null,null,null,null,null,null,null,null,null,null,null,null,null,null,null,null,null,null,null,null,null,null,null,null,null,null,null,null,null,null,"PP","2"]
[null,null,null,"PSC",null,"Poznámka k souboru cen:\n1. V cenách jsou započteny i náklady na případné nutné přemístění výkopku ve výkopišti a na     přehození výkopku na přilehlém terénu na vzdálenost do 3 m od okraje jámy nebo naložení na dopravní     prostředek. 2. Hloubení zapažených jam hloubky přes 16 m se oceňuje individuálně. 3. Náklady na svislé přemístění výkopku nad 1 m hloubky se určí dle ustanovení článku č. 3161     všeobecných podmínek katalogu. ",null,null,null,null,null,null,null,null,null,null,null,null,null,null,null,null,null,null,null,null,null,null,null,null,null,null,null,null,null,null,null,null,null,null,null,null,null,null,null,"PSC","2"]
[null,null,null,"VV",null,"68,79",null,68.790000000000006,null,null,null,null,null,null,null,null,null,null,null,null,null,null,null,null,null,null,null,null,null,null,null,null,null,null,null,null,null,null,null,null,null,null,null,null,null,"VV","2","2","-1","1","ROZPOCET"]
[null,null,"7","K","131201209","Příplatek za lepivost u hloubení jam zapažených v hornině tř. 3","m3",22.93,null,{"$f":"ROUND($I$116*$H$116,2)","v":0},"CS ÚRS 2014 02",null,null,"základní",null,null,0,{"$f":"$Q$116*$H$116","v":0},0,{"$f":"$S$116*$H$116","v":0},null,null,null,null,null,null,null,null,null,null,null,null,null,null,null,null,null,null,null,null,null,null,null,"4",null,"K","2",null,null,null,"ROZPOCET",null,null,null,null,null,{"$f":"IF($N$116=\"základní\",$J$116,0)","v":0},{"$f":"IF($N$116=\"snížená\",$J$116,0)","v":0},{"$f":"IF($N$116=\"zákl. přenesená\",$J$116,0)","v":0},{"$f":"IF($N$116=\"sníž. přenesená\",$J$116,0)","v":0},{"$f":"IF($N$116=\"nulová\",$J$116,0)","v":0},"1",{"$f":"ROUND($I$116*$H$116,2)","v":0},"4","1693705910"]
[null,null,null,"PP",null,"Hloubení zapažených jam a zářezů s urovnáním dna do předepsaného profilu a spádu Příplatek k cenám za lepivost horniny tř. 3",null,null,null,null,null,null,null,null,null,null,null,null,null,null,null,null,null,null,null,null,null,null,null,null,null,null,null,null,null,null,null,null,null,null,null,null,null,null,null,"PP","2"]
[null,null,null,"PSC",null,"Poznámka k souboru cen:\n1. V cenách jsou započteny i náklady na případné nutné přemístění výkopku ve výkopišti a na     přehození výkopku na přilehlém terénu na vzdálenost do 3 m od okraje jámy nebo naložení na dopravní     prostředek. 2. Hloubení zapažených jam hloubky přes 16 m se oceňuje individuálně. 3. Náklady na svislé přemístění výkopku nad 1 m hloubky se určí dle ustanovení článku č. 3161     všeobecných podmínek katalogu. ",null,null,null,null,null,null,null,null,null,null,null,null,null,null,null,null,null,null,null,null,null,null,null,null,null,null,null,null,null,null,null,null,null,null,null,null,null,null,null,"PSC","2"]
[null,null,null,"VV",null,"68,79/3",null,22.93,null,null,null,null,null,null,null,null,null,null,null,null,null,null,null,null,null,null,null,null,null,null,null,null,null,null,null,null,null,null,null,null,null,null,null,null,null,"VV","2","2","-1","1","ROZPOCET"]
[null,null,"8","K","132201201","Hloubení rýh š do 2000 mm v hornině tř. 3 objemu do 100 m3","m3",46.56,null,{"$f":"ROUND($I$120*$H$120,2)","v":0},"CS ÚRS 2014 02",null,null,"základní",null,null,0,{"$f":"$Q$120*$H$120","v":0},0,{"$f":"$S$120*$H$120","v":0},null,null,null,null,null,null,null,null,null,null,null,null,null,null,null,null,null,null,null,null,null,null,null,"4",null,"K","2",null,null,null,"ROZPOCET",null,null,null,null,null,{"$f":"IF($N$120=\"základní\",$J$120,0)","v":0},{"$f":"IF($N$120=\"snížená\",$J$120,0)","v":0},{"$f":"IF($N$120=\"zákl. přenesená\",$J$120,0)","v":0},{"$f":"IF($N$120=\"sníž. přenesená\",$J$120,0)","v":0},{"$f":"IF($N$120=\"nulová\",$J$120,0)","v":0},"1",{"$f":"ROUND($I$120*$H$120,2)","v":0},"4","-1955776558"]
[null,null,null,"PP",null,"Hloubení zapažených i nezapažených rýh šířky přes 600 do 2 000 mm s urovnáním dna do předepsaného profilu a spádu v hornině tř. 3 do 100 m3",null,null,null,null,null,null,null,null,null,null,null,null,null,null,null,null,null,null,null,null,null,null,null,null,null,null,null,null,null,null,null,null,null,null,null,null,null,null,null,"PP","2"]
[null,null,null,"PSC",null,"Poznámka k souboru cen:\n1. V cenách jsou započteny i náklady na případné nutné přemístění výkopku ve výkopišti na     vzdálenost do 3 m a na přehození výkopku na přilehlém terénu na vzdálenost do 5 m od okraje jámy     nebo naložení na dopravní prostředek. 2. Hloubení rýh při lesnicko-technických melioracích se oceňuje:     a) ve stržích cenami platnými pro objem výkopu do 100 m3, i když skutečný objem výkopu je větší,     b) mimo strže pro příčná a podélná zpevnění dna a břehů pod obrysem výkopu pro koryta vodotečí,         zejména pro konstrukce těles, stupňů, boků, předprahů, prahů, odháněk, výhonů a pro základy zdí,         dlažeb, rovnanin, plůtků a hatí, pro jakoukoliv šířku rýhy, při objemu do 100 m3 cenami příslušnými         pro objem výkopu do 100 m3 a při jakémkoliv objemu výkopu přes 100 m3 cenami příslušnými pro objem         výkopu přes 100 do 1 000 m3. 3. Náklady na svislé přemístění výkopku nad 1 m hloubky se určí dle ustanovení článku č. 3161     všeobecných podmínek katalogu. 4. Předepisuje-li projekt hloubit rýhy 5 až 7 bez použití trhavin, oceňuje se toto hloubení:     a) v suchu nebo mokru cenami 138 40-1201, 138 50-1201 a 138 60-1201 Dolamování hloubených         vykopávek,     b) v tekoucí vodě při jakékoliv její rychlosti individuálně. 5. Ceny nelze použít pro hloubení rýh a hloubky přes 16 m. Tyto práce se oceňují individuálně. ",null,null,null,null,null,null,null,null,null,null,null,null,null,null,null,null,null,null,null,null,null,null,null,null,null,null,null,null,null,null,null,null,null,null,null,null,null,null,null,"PSC","2"]
[null,null,null,"VV",null,"11*0,8*1,2+6*2*1,5*2",null,46.56,null,null,null,null,null,null,null,null,null,null,null,null,null,null,null,null,null,null,null,null,null,null,null,null,null,null,null,null,null,null,null,null,null,null,null,null,null,"VV","2","2","-1","1","ROZPOCET"]
[null,null,"9","K","132201209","Příplatek za lepivost k hloubení rýh š do 2000 mm v hornině tř. 3","m3",15.52,null,{"$f":"ROUND($I$124*$H$124,2)","v":0},"CS ÚRS 2014 02",null,null,"základní",null,null,0,{"$f":"$Q$124*$H$124","v":0},0,{"$f":"$S$124*$H$124","v":0},null,null,null,null,null,null,null,null,null,null,null,null,null,null,null,null,null,null,null,null,null,null,null,"4",null,"K","2",null,null,null,"ROZPOCET",null,null,null,null,null,{"$f":"IF($N$124=\"základní\",$J$124,0)","v":0},{"$f":"IF($N$124=\"snížená\",$J$124,0)","v":0},{"$f":"IF($N$124=\"zákl. přenesená\",$J$124,0)","v":0},{"$f":"IF($N$124=\"sníž. přenesená\",$J$124,0)","v":0},{"$f":"IF($N$124=\"nulová\",$J$124,0)","v":0},"1",{"$f":"ROUND($I$124*$H$124,2)","v":0},"4","-607889111"]
[null,null,null,"PP",null,"Hloubení zapažených i nezapažených rýh šířky přes 600 do 2 000 mm s urovnáním dna do předepsaného profilu a spádu v hornině tř. 3 Příplatek k cenám za lepivost horniny tř. 3",null,null,null,null,null,null,null,null,null,null,null,null,null,null,null,null,null,null,null,null,null,null,null,null,null,null,null,null,null,null,null,null,null,null,null,null,null,null,null,"PP","2"]
[null,null,null,"PSC",null,"Poznámka k souboru cen:\n1. V cenách jsou započteny i náklady na případné nutné přemístění výkopku ve výkopišti na     vzdálenost do 3 m a na přehození výkopku na přilehlém terénu na vzdálenost do 5 m od okraje jámy     nebo naložení na dopravní prostředek. 2. Hloubení rýh při lesnicko-technických melioracích se oceňuje:     a) ve stržích cenami platnými pro objem výkopu do 100 m3, i když skutečný objem výkopu je větší,     b) mimo strže pro příčná a podélná zpevnění dna a břehů pod obrysem výkopu pro koryta vodotečí,         zejména pro konstrukce těles, stupňů, boků, předprahů, prahů, odháněk, výhonů a pro základy zdí,         dlažeb, rovnanin, plůtků a hatí, pro jakoukoliv šířku rýhy, při objemu do 100 m3 cenami příslušnými         pro objem výkopu do 100 m3 a při jakémkoliv objemu výkopu přes 100 m3 cenami příslušnými pro objem         výkopu přes 100 do 1 000 m3. 3. Náklady na svislé přemístění výkopku nad 1 m hloubky se určí dle ustanovení článku č. 3161     všeobecných podmínek katalogu. 4. Předepisuje-li projekt hloubit rýhy 5 až 7 bez použití trhavin, oceňuje se toto hloubení:     a) v suchu nebo mokru cenami 138 40-1201, 138 50-1201 a 138 60-1201 Dolamování hloubených         vykopávek,     b) v tekoucí vodě při jakékoliv její rychlosti individuálně. 5. Ceny nelze použít pro hloubení rýh a hloubky přes 16 m. Tyto práce se oceňují individuálně. ",null,null,null,null,null,null,null,null,null,null,null,null,null,null,null,null,null,null,null,null,null,null,null,null,null,null,null,null,null,null,null,null,null,null,null,null,null,null,null,"PSC","2"]
[null,null,null,"VV",null,"46,560/3",null,15.52,null,null,null,null,null,null,null,null,null,null,null,null,null,null,null,null,null,null,null,null,null,null,null,null,null,null,null,null,null,null,null,null,null,null,null,null,null,"VV","2","2","-1","1","ROZPOCET"]
[null,null,"10","K","151101101","Zřízení příložného pažení a rozepření stěn rýh hl do 2 m","m2",54.4,null,{"$f":"ROUND($I$128*$H$128,2)","v":0},"CS ÚRS 2014 02",null,null,"základní",null,null,6.9550999999999999E-4,{"$f":"$Q$128*$H$128","v":3.7835743999999998E-2},0,{"$f":"$S$128*$H$128","v":0},null,null,null,null,null,null,null,null,null,null,null,null,null,null,null,null,null,null,null,null,null,null,null,"4",null,"K","2",null,null,null,"ROZPOCET",null,null,null,null,null,{"$f":"IF($N$128=\"základní\",$J$128,0)","v":0},{"$f":"IF($N$128=\"snížená\",$J$128,0)","v":0},{"$f":"IF($N$128=\"zákl. přenesená\",$J$128,0)","v":0},{"$f":"IF($N$128=\"sníž. přenesená\",$J$128,0)","v":0},{"$f":"IF($N$128=\"nulová\",$J$128,0)","v":0},"1",{"$f":"ROUND($I$128*$H$128,2)","v":0},"4","-1543321838"]
[null,null,null,"PP",null,"Zřízení pažení a rozepření stěn rýh pro podzemní vedení pro všechny šířky rýhy příložné pro jakoukoliv mezerovitost, hloubky do 2 m",null,null,null,null,null,null,null,null,null,null,null,null,null,null,null,null,null,null,null,null,null,null,null,null,null,null,null,null,null,null,null,null,null,null,null,null,null,null,null,"PP","2"]
[null,null,null,"PSC",null,"Poznámka k souboru cen:\n1. Ceny jsou určeny pro roubení a rozepření stěn i jiných výkopů se svislými stěnami, pokud jsou     tyto výkopy pro podzemní vedení rozměru do 1 250 mm. 2. Plocha mezer mezi pažinami příložného pažení se od plochy příložného pažení neodečítá;     nezapažené plochy u pažení zátažného nebo hnaného se od plochy pažení odečítají. 3. Předepisuje-li projekt:     a) ponechat pažení ve výkopu, oceňuje se toto pažení cenami souboru cen 151 . 0-19 Pažení stěn         s ponecháním a rozepření stěn cenami souboru cen 151 . 0-13 Zřízení rozepření zapažených stěn         výkopů,     b) vzepření stěn, oceňuje se toto odstranění pažení stěn výkopu cenami souboru cen 151 . 0-12         Pažení stěn a vzepření stěn cenami souboru cen 151 . 0-14 odstranění vzepření stěn,     c) kotvení stěn, oceňuje se toto Odstranění pažení stěn cenami souboru cen 151 . 0-12 Pažení         stěn a kotvení stěn příslušnými cenami katalogu 800-2 Zvláštní zakládání objektů. ",null,null,null,null,null,null,null,null,null,null,null,null,null,null,null,null,null,null,null,null,null,null,null,null,null,null,null,null,null,null,null,null,null,null,null,null,null,null,null,"PSC","2"]
[null,null,null,"VV",null,"2*6*1,7*2+2*2*1,7*2",null,54.4,null,null,null,null,null,null,null,null,null,null,null,null,null,null,null,null,null,null,null,null,null,null,null,null,null,null,null,null,null,null,null,null,null,null,null,null,null,"VV","2","2","-1","1","ROZPOCET"]
[null,null,"11","K","151101111","Odstranění příložného pažení a rozepření stěn rýh hl do 2 m","m2",54.4,null,{"$f":"ROUND($I$132*$H$132,2)","v":0},"CS ÚRS 2014 02",null,null,"základní",null,null,0,{"$f":"$Q$132*$H$132","v":0},0,{"$f":"$S$132*$H$132","v":0},null,null,null,null,null,null,null,null,null,null,null,null,null,null,null,null,null,null,null,null,null,null,null,"4",null,"K","2",null,null,null,"ROZPOCET",null,null,null,null,null,{"$f":"IF($N$132=\"základní\",$J$132,0)","v":0},{"$f":"IF($N$132=\"snížená\",$J$132,0)","v":0},{"$f":"IF($N$132=\"zákl. přenesená\",$J$132,0)","v":0},{"$f":"IF($N$132=\"sníž. přenesená\",$J$132,0)","v":0},{"$f":"IF($N$132=\"nulová\",$J$132,0)","v":0},"1",{"$f":"ROUND($I$132*$H$132,2)","v":0},"4","1753418865"]
[null,null,null,"PP",null,"Odstranění pažení a rozepření stěn rýh pro podzemní vedení s uložením materiálu na vzdálenost do 3 m od kraje výkopu příložné, hloubky do 2 m",null,null,null,null,null,null,null,null,null,null,null,null,null,null,null,null,null,null,null,null,null,null,null,null,null,null,null,null,null,null,null,null,null,null,null,null,null,null,null,"PP","2"]
[null,null,null,"VV",null,"54,4",null,54.4,null,null,null,null,null,null,null,null,null,null,null,null,null,null,null,null,null,null,null,null,null,null,null,null,null,null,null,null,null,null,null,null,null,null,null,null,null,"VV","2","2","-1","1","ROZPOCET"]
[null,null,"12","K","161101101","Svislé přemístění výkopku z horniny tř. 1 až 4 hl výkopu do 2,5 m","m3",3.6960000000000002,null,{"$f":"ROUND($I$135*$H$135,2)","v":0},"CS ÚRS 2014 02",null,null,"základní",null,null,0,{"$f":"$Q$135*$H$135","v":0},0,{"$f":"$S$135*$H$135","v":0},null,null,null,null,null,null,null,null,null,null,null,null,null,null,null,null,null,null,null,null,null,null,null,"4",null,"K","2",null,null,null,"ROZPOCET",null,null,null,null,null,{"$f":"IF($N$135=\"základní\",$J$135,0)","v":0},{"$f":"IF($N$135=\"snížená\",$J$135,0)","v":0},{"$f":"IF($N$135=\"zákl. přenesená\",$J$135,0)","v":0},{"$f":"IF($N$135=\"sníž. přenesená\",$J$135,0)","v":0},{"$f":"IF($N$135=\"nulová\",$J$135,0)","v":0},"1",{"$f":"ROUND($I$135*$H$135,2)","v":0},"4","871801220"]
[null,null,null,"PP",null,"Svislé přemístění výkopku bez naložení do dopravní nádoby avšak s vyprázdněním dopravní nádoby na hromadu nebo do dopravního prostředku z horniny tř. 1 až 4, při hloubce výkopu přes 1 do 2,5 m",null,null,null,null,null,null,null,null,null,null,null,null,null,null,null,null,null,null,null,null,null,null,null,null,null,null,null,null,null,null,null,null,null,null,null,null,null,null,null,"PP","2"]
[null,null,null,"PSC",null,"Poznámka k souboru cen:\n1. Ceny -1151 až -1158 lze použít i pro svislé přemístění materiálu a stavební suti z konstrukcí ze     zdiva cihelného nebo kamenného, z betonu prostého, prokládaného, železového i předpjatého, pokud     tyto konstrukce byly vybourány ve výkopišti. 2. Ceny pro hloubku přes 1 do 2,5 m, přes 2,5 m do 4 m atd. jsou určeny pro svislé přemístění     výkopku od 0 do 2,5 m, od 0 do 4 m atd. 3. Množství materiálu i stavební suti z rozbouraných konstrukcí pro přemístění se rovná objemu     konstrukcí před rozbouráním. ",null,null,null,null,null,null,null,null,null,null,null,null,null,null,null,null,null,null,null,null,null,null,null,null,null,null,null,null,null,null,null,null,null,null,null,null,null,null,null,"PSC","2"]
[null,null,null,"VV",null,"3,696",null,3.6960000000000002,null,null,null,null,null,null,null,null,null,null,null,null,null,null,null,null,null,null,null,null,null,null,null,null,null,null,null,null,null,null,null,null,null,null,null,null,null,"VV","2","2","-1","1","ROZPOCET"]
[null,null,"13","K","162701105","Vodorovné přemístění do 10000 m výkopku/sypaniny z horniny tř. 1 až 4","m3",3.6960000000000002,null,{"$f":"ROUND($I$139*$H$139,2)","v":0},"CS ÚRS 2014 02",null,null,"základní",null,null,0,{"$f":"$Q$139*$H$139","v":0},0,{"$f":"$S$139*$H$139","v":0},null,null,null,null,null,null,null,null,null,null,null,null,null,null,null,null,null,null,null,null,null,null,null,"4",null,"K","2",null,null,null,"ROZPOCET",null,null,null,null,null,{"$f":"IF($N$139=\"základní\",$J$139,0)","v":0},{"$f":"IF($N$139=\"snížená\",$J$139,0)","v":0},{"$f":"IF($N$139=\"zákl. přenesená\",$J$139,0)","v":0},{"$f":"IF($N$139=\"sníž. přenesená\",$J$139,0)","v":0},{"$f":"IF($N$139=\"nulová\",$J$139,0)","v":0},"1",{"$f":"ROUND($I$139*$H$139,2)","v":0},"4","1570147616"]
[null,null,null,"PP",null,"Vodorovné přemístění výkopku nebo sypaniny po suchu na obvyklém dopravním prostředku, bez naložení výkopku, avšak se složením bez rozhrnutí z horniny tř. 1 až 4 na vzdálenost přes 9 000 do 10 000 m",null,null,null,null,null,null,null,null,null,null,null,null,null,null,null,null,null,null,null,null,null,null,null,null,null,null,null,null,null,null,null,null,null,null,null,null,null,null,null,"PP","2"]
[null,null,null,"PSC",null,"Poznámka k souboru cen:\n1. Ceny nelze použít, předepisuje-li projekt přemístit výkopek na místo nepřístupné obvyklým     dopravním prostředkům; toto přemístění se oceňuje individuálně. 2. V cenách jsou započteny i náhrady za jízdu loženého vozidla v terénu ve výkopišti nebo na     násypišti. 3. V cenách nejsou započteny náklady na rozhrnutí výkopku na násypišti; toto rozhrnutí se oceňuje     cenami souboru cen 171 . 0- . . Uložení sypaniny do násypů a 171 20-1201Uložení sypaniny na skládky. 4. Je-li na dopravní dráze pro vodorovné přemístění nějaká překážka, pro kterou je nutno překládat     výkopek z jednoho obvyklého dopravního prostředku na jiný obvyklý doprav- ní prostředek, oceňuje se     toto lomené vodorovné přemístění výkopku v každém úseku samostatně příslušnou cenou tohoto souboru     cen a překládání výkopku cenami souboru cen 167 10-3 . Nakládání neulehlého výkopku z hromad s     ohledem na ustanovení pozn. číslo 5. 5. Přemísťuje-li se výkopek z dočasných skládek vzdálených do 50 m, neoceňuje se nakládání výkopku,     i když se provádí. Toto ustanovení neplatí, vylučuje-li projekt použití dozeru. 6. V cenách vodorovného přemístění sypaniny nejsou započteny náklady na dodávku materiálu, tyto se     oceňují ve specifikaci. ",null,null,null,null,null,null,null,null,null,null,null,null,null,null,null,null,null,null,null,null,null,null,null,null,null,null,null,null,null,null,null,null,null,null,null,null,null,null,null,"PSC","2"]
[null,null,null,"VV",null,"3,696",null,3.6960000000000002,null,null,null,null,null,null,null,null,null,null,null,null,null,null,null,null,null,null,null,null,null,null,null,null,null,null,null,null,null,null,null,null,null,null,null,null,null,"VV","2","2","-1","1","ROZPOCET"]
[null,null,"14","K","162701109","Příplatek k vodorovnému přemístění výkopku/sypaniny z horniny tř. 1 až 4 ZKD 1000 m přes 10000 m","m3",18.48,null,{"$f":"ROUND($I$143*$H$143,2)","v":0},"CS ÚRS 2014 02",null,null,"základní",null,null,0,{"$f":"$Q$143*$H$143","v":0},0,{"$f":"$S$143*$H$143","v":0},null,null,null,null,null,null,null,null,null,null,null,null,null,null,null,null,null,null,null,null,null,null,null,"4",null,"K","2",null,null,null,"ROZPOCET",null,null,null,null,null,{"$f":"IF($N$143=\"základní\",$J$143,0)","v":0},{"$f":"IF($N$143=\"snížená\",$J$143,0)","v":0},{"$f":"IF($N$143=\"zákl. přenesená\",$J$143,0)","v":0},{"$f":"IF($N$143=\"sníž. přenesená\",$J$143,0)","v":0},{"$f":"IF($N$143=\"nulová\",$J$143,0)","v":0},"1",{"$f":"ROUND($I$143*$H$143,2)","v":0},"4","1378729727"]
[null,null,null,"PP",null,"Vodorovné přemístění výkopku nebo sypaniny po suchu na obvyklém dopravním prostředku, bez naložení výkopku, avšak se složením bez rozhrnutí z horniny tř. 1 až 4 na vzdálenost Příplatek k ceně za každých dalších i započatých 1 000 m",null,null,null,null,null,null,null,null,null,null,null,null,null,null,null,null,null,null,null,null,null,null,null,null,null,null,null,null,null,null,null,null,null,null,null,null,null,null,null,"PP","2"]
[null,null,null,"PSC",null,"Poznámka k souboru cen:\n1. Ceny nelze použít, předepisuje-li projekt přemístit výkopek na místo nepřístupné obvyklým     dopravním prostředkům; toto přemístění se oceňuje individuálně. 2. V cenách jsou započteny i náhrady za jízdu loženého vozidla v terénu ve výkopišti nebo na     násypišti. 3. V cenách nejsou započteny náklady na rozhrnutí výkopku na násypišti; toto rozhrnutí se oceňuje     cenami souboru cen 171 . 0- . . Uložení sypaniny do násypů a 171 20-1201Uložení sypaniny na skládky. 4. Je-li na dopravní dráze pro vodorovné přemístění nějaká překážka, pro kterou je nutno překládat     výkopek z jednoho obvyklého dopravního prostředku na jiný obvyklý doprav- ní prostředek, oceňuje se     toto lomené vodorovné přemístění výkopku v každém úseku samostatně příslušnou cenou tohoto souboru     cen a překládání výkopku cenami souboru cen 167 10-3 . Nakládání neulehlého výkopku z hromad s     ohledem na ustanovení pozn. číslo 5. 5. Přemísťuje-li se výkopek z dočasných skládek vzdálených do 50 m, neoceňuje se nakládání výkopku,     i když se provádí. Toto ustanovení neplatí, vylučuje-li projekt použití dozeru. 6. V cenách vodorovného přemístění sypaniny nejsou započteny náklady na dodávku materiálu, tyto se     oceňují ve specifikaci. ",null,null,null,null,null,null,null,null,null,null,null,null,null,null,null,null,null,null,null,null,null,null,null,null,null,null,null,null,null,null,null,null,null,null,null,null,null,null,null,"PSC","2"]
[null,null,null,"VV",null,"celkem 15 km",null,null,null,null,null,null,null,null,null,null,null,null,null,null,null,null,null,null,null,null,null,null,null,null,null,null,null,null,null,null,null,null,null,null,null,null,null,null,null,"VV","2","1","-1","0","ROZPOCET"]
[null,null,null,"VV",null,"3,696*(15-10)",null,18.48,null,null,null,null,null,null,null,null,null,null,null,null,null,null,null,null,null,null,null,null,null,null,null,null,null,null,null,null,null,null,null,null,null,null,null,null,null,"VV","2","2","-1","1","ROZPOCET"]
[null,null,"15","K","10001001","Poplatek za uložení odpadu ze sypaniny na skládce (skládkovné)","t",5.5439999999999996,null,{"$f":"ROUND($I$148*$H$148,2)","v":0},null,null,null,"základní",null,null,0,{"$f":"$Q$148*$H$148","v":0},0,{"$f":"$S$148*$H$148","v":0},null,null,null,null,null,null,null,null,null,null,null,null,null,null,null,null,null,null,null,null,null,null,null,"4",null,"K","2",null,null,null,"ROZPOCET",null,null,null,null,null,{"$f":"IF($N$148=\"základní\",$J$148,0)","v":0},{"$f":"IF($N$148=\"snížená\",$J$148,0)","v":0},{"$f":"IF($N$148=\"zákl. přenesená\",$J$148,0)","v":0},{"$f":"IF($N$148=\"sníž. přenesená\",$J$148,0)","v":0},{"$f":"IF($N$148=\"nulová\",$J$148,0)","v":0},"1",{"$f":"ROUND($I$148*$H$148,2)","v":0},"4","-1427526688"]
[null,null,null,"PP",null,"Uložení sypaniny poplatek za uložení sypaniny na skládce (skládkovné)",null,null,null,null,null,null,null,null,null,null,null,null,null,null,null,null,null,null,null,null,null,null,null,null,null,null,null,null,null,null,null,null,null,null,null,null,null,null,null,"PP","2"]
[null,null,null,"PSC",null,"Poznámka k souboru cen:\n1. Cena -1201 je určena i pro:     a) uložení výkopku nebo ornice na dočasné skládky předepsané projektem tak, že na 1 m2         projektem určené plochy této skládky připadá přes 2 m3 výkopku nebo ornice; v opačném případě se         uložení neoceňuje. Množství výkopku nebo ornice připadající na 1 m2 skládky se určí jako podíl         množství výkopku nebo ornice, měřeného v rostlém stavu a projektem určené plochy dočasné skládky;     b) zasypání koryt vodotečí a prohlubní v terénu bez předepsaného zhutnění sypaniny;     c) uložení výkopku pod vodou do prohlubní ve dně vodotečí nebo nádrží. 2. Cenu -1201 nelze použít pro uložení výkopku nebo ornice:     a) při vykopávkách pro podzemní vedení podél hrany výkopu, z něhož byl výkopek získán, a to ani         tehdy, jestliže se výkopek po vyhození z výkopu na povrch území ještě dále přemisťuje na hromady         podél výkopu;     b) na dočasné skládky, které nejsou předepsány projektem;     c) na dočasné skládky předepsané projektem tak, že na 1 m2 projektem určené plochy této skládky         připadají nejvýše 2 m3 výkopku nebo ornice (viz. též poznámku č. 1 a);     d) na dočasné skládky, oceňuje-li se cenou 121 10-1101 Sejmutí ornice nebo lesní půdy do 50 m,         nebo oceňuje-li se vodorovné přemístění výkopku do 20 m a 50 m cenami 162 20-1101, 162 20-1102, 162         20-1151 a 162 20-1152. V těchto případech se uložení výkopku nebo ornice na dočasnou skládku         neoceňuje.     e) na trvalé skládky s předepsaným zhutněním; toto uložení výkopku se oceňuje cenami souboru         cen 171 . 0- . . Uložení sypaniny do násypů. 3. V ceně -1201 jsou započteny i náklady na rozprostření sypaniny ve vrstvách s hrubým urovnáním na     skládce. 4. V ceně -1201 nejsou započteny náklady na získání skládek ani na poplatky za skládku. 5. Množství jednotek uložení výkopku (sypaniny) se určí v m3 uloženého výkopku (sypaniny),v rostlém     stavu zpravidla ve výkopišti. 6. Cenu -1211 lze po dohodě upravit podle místních podmínek. ",null,null,null,null,null,null,null,null,null,null,null,null,null,null,null,null,null,null,null,null,null,null,null,null,null,null,null,null,null,null,null,null,null,null,null,null,null,null,null,"PSC","2"]
[null,null,null,"VV",null,"3,696*1,5",null,5.5439999999999996,null,null,null,null,null,null,null,null,null,null,null,null,null,null,null,null,null,null,null,null,null,null,null,null,null,null,null,null,null,null,null,null,null,null,null,null,null,"VV","2","2","-1","1","ROZPOCET"]
[null,null,"16","K","174201101","Zásyp jam, šachet rýh nebo kolem objektů sypaninou bez zhutnění","m3",103.854,null,{"$f":"ROUND($I$152*$H$152,2)","v":0},"CS ÚRS 2014 02",null,null,"základní",null,null,0,{"$f":"$Q$152*$H$152","v":0},0,{"$f":"$S$152*$H$152","v":0},null,null,null,null,null,null,null,null,null,null,null,null,null,null,null,null,null,null,null,null,null,null,null,"4",null,"K","2",null,null,null,"ROZPOCET",null,null,null,null,null,{"$f":"IF($N$152=\"základní\",$J$152,0)","v":0},{"$f":"IF($N$152=\"snížená\",$J$152,0)","v":0},{"$f":"IF($N$152=\"zákl. přenesená\",$J$152,0)","v":0},{"$f":"IF($N$152=\"sníž. přenesená\",$J$152,0)","v":0},{"$f":"IF($N$152=\"nulová\",$J$152,0)","v":0},"1",{"$f":"ROUND($I$152*$H$152,2)","v":0},"4","-1517256114"]
[null,null,null,"PP",null,"Zásyp sypaninou z jakékoliv horniny s uložením výkopku ve vrstvách bez zhutnění jam, šachet, rýh nebo kolem objektů v těchto vykopávkách",null,null,null,null,null,null,null,null,null,null,null,null,null,null,null,null,null,null,null,null,null,null,null,null,null,null,null,null,null,null,null,null,null,null,null,null,null,null,null,"PP","2"]
[null,null,null,"PSC",null,"Poznámka k souboru cen:\n1. Ceny 174 10- . . jsou určeny pro zhutněné zásypy s mírou zhutnění:     a) z hornin soudržných do 100 % PS,     b) z hornin nesoudržných do I(d) 0,9,     c) z hornin kamenitých pro jakoukoliv míru zhutnění. 2. Je-li projektem předepsáno vyšší zhutnění, podle bodu a) a b) poznámky č 1., ocení se zásyp     individuálně. 3. Ceny nelze použít pro zásyp rýh pro drenážní trativody pro lesnicko-technické meliorace a     zemědělské. Zásyp těchto rýh se oceňuje cenami souboru cen 174 20-3 . části A 03 Zemní práce pro     objekty oborů 831 až 833. Nezhutněný zásyp odvodňovacích kanálů z betonových a železobetonových     trub v polních a lučních tratích se oceňuje cenou -1101 Zásyp sypaninou rýh bez ohledu na šířku     kanálu; cena obsahuje i náklady na ruční nezhutněný zásyp výšky do 200 mm nad vrchol potrubí. 4. V cenách 10-1101, 10-1103, 20-1101 a 20-1103 je započteno přemístění sypaniny ze vzdálenosti 10     m od kraje výkopu nebo zasypávaného prostoru, měřeno k těžišti skládky. 5. V ceně 10-1102 je započteno přemístění sypaniny ze vzdálenosti 15 m od hrany zasypávaného     prostoru, měřeno k těžišti skládky. 6. Objem zásypu je rozdíl objemu výkopu a objemu do něho vestavěných konstrukcí nebo uložených     vedení i s jejich obklady a podklady (tento objem se nazývá objemem horniny vytlačené konstrukcí).     Objem potrubí do DN 180, příp. i s obalem, se od objemu zásypu neodečítá. Pro stanovení objemu     zásypu se od objemu výkopu odečítá i objem obsypu potrubí oceňovaný cenami souboru cen 175 10-11     Obsyp potrubí, přichází-li v úvahu . 7. Odklizení zbylého výkopku po provedení zásypu zářezů se šikmými stěnami pro podzemní vedení nebo     zásypu jam a rýh pro podzemní vedení se oceňuje, je-li objem zbylého výkopku:     a) do 1 m3 na 1 m vedení a jedná se o výkopek neulehlý - cenami souboru cen 167 10-110         Nakládání výkopku nebo sypaniny a 162 . 0-1 . Vodorovné přemístění výkopku. V případě, že se jedná         o výkopek ulehlý - rozpojení a naložení výkopku cenami souboru cen 122 . 0-1 . souboru cen 162 .         0-1 . Vodorovné přemístění výkopku;     b) přes 1 m3 na 1 m vedení, jestliže projekt předepíše, že se zbylý výkopek bude odklízet         zároveň s prováděním vykopávky, pouze přemístění výkopku cenami souboru cen 162 . 0-1 . Vodorovné         přemístění výkopku. Při zmíněném objemu zbylého výkopku se neoceňuje ani naložení ani rozpojení         výkopku. Jestliže se zbylý výkopek neodklízí, nýbrž rozprostírá podél výkopu a nad výkopem, platí         poznámka č. 8. 8. Rozprostření zbylého výkopku podél výkopu a nad výkopem po provedení zásypů zářezů se šikmými     stěnami pro podzemní vedení nebo zásypu jam a rýh pro podzemní vedení se oceňuje:     a) cenou 171 20-1101 Uložení sypaniny do nezhutněných násypů, není-li projektem předepsáno         zhutnění rozprostřeného zbylého výkopku,     b) cenou 171 10-1111 Uložení sypaniny do násypů z hornin sypkých, je-li předepsáno zhutnění         rozprostřeného zbylého výkopku, a to v objemu vypočteném podle poznámky č.6, příp. zmenšeném o         objem výkopku, který byl již odklizen. 9. Míru zhutnění předepisuje projekt. ",null,null,null,null,null,null,null,null,null,null,null,null,null,null,null,null,null,null,null,null,null,null,null,null,null,null,null,null,null,null,null,null,null,null,null,null,null,null,null,"PSC","2"]
[null,null,null,"VV",null,"68,790+46,560-23*0,8*0,42-3,14*0,2*0,2*30",null,103.854,null,null,null,null,null,null,null,null,null,null,null,null,null,null,null,null,null,null,null,null,null,null,null,null,null,null,null,null,null,null,null,null,null,null,null,null,null,"VV","2","2","-1","1","ROZPOCET"]
[null,null,"17","K","175101101","Obsypání potrubí bez prohození sypaniny z hornin tř. 1 až 4 uloženým do 3 m od kraje výkopu","m3",8.0139999999999993,null,{"$f":"ROUND($I$156*$H$156,2)","v":0},"CS ÚRS 2014 02",null,null,"základní",null,null,0,{"$f":"$Q$156*$H$156","v":0},0,{"$f":"$S$156*$H$156","v":0},null,null,null,null,null,null,null,null,null,null,null,null,null,null,null,null,null,null,null,null,null,null,null,"4",null,"K","2",null,null,null,"ROZPOCET",null,null,null,null,null,{"$f":"IF($N$156=\"základní\",$J$156,0)","v":0},{"$f":"IF($N$156=\"snížená\",$J$156,0)","v":0},{"$f":"IF($N$156=\"zákl. přenesená\",$J$156,0)","v":0},{"$f":"IF($N$156=\"sníž. přenesená\",$J$156,0)","v":0},{"$f":"IF($N$156=\"nulová\",$J$156,0)","v":0},"1",{"$f":"ROUND($I$156*$H$156,2)","v":0},"4","-1609172378"]
[null,null,null,"PP",null,"Obsypání potrubí sypaninou z vhodných hornin tř. 1 až 4 nebo materiálem připraveným podél výkopu ve vzdálenosti do 3 m od jeho kraje, pro jakoukoliv hloubku výkopu a míru zhutnění bez prohození sypaniny",null,null,null,null,null,null,null,null,null,null,null,null,null,null,null,null,null,null,null,null,null,null,null,null,null,null,null,null,null,null,null,null,null,null,null,null,null,null,null,"PP","2"]
[null,null,null,"PSC",null,"Poznámka k souboru cen:\n1. Objem obsypu na 1 m délky potrubí se rovná šířce dna výkopu násobené součtem vnějšího průměru     potrubí příp. i s obalem a projektované tloušťky obsypu nad, případně i pod potrubím. Pro odečítání     objemu potrubí se započítávají všechny vestavěné konstrukce nebo uložené vedení i s jejich obklady     a podklady (tento objem se nazývá objemem horniny vytlačené konstrukcí). 2. Míru zhutnění předepisuje projekt. 3. V cenách nejsou zahrnuty náklady na nakupovanou sypaninu. Tato se oceňuje ve specifikaci. ",null,null,null,null,null,null,null,null,null,null,null,null,null,null,null,null,null,null,null,null,null,null,null,null,null,null,null,null,null,null,null,null,null,null,null,null,null,null,null,"PSC","2"]
[null,null,null,"VV",null,"11*0,8*0,42-3,14*0,1*0,1*23+6*1*0,42*2",null,8.0139999999999993,null,null,null,null,null,null,null,null,null,null,null,null,null,null,null,null,null,null,null,null,null,null,null,null,null,null,null,null,null,null,null,null,null,null,null,null,null,"VV","2","2","-1","1","ROZPOCET"]
[null,null,"18","M","583373100","štěrkopísek frakce 0-4 třída B","t",15.379,null,{"$f":"ROUND($I$160*$H$160,2)","v":0},"CS ÚRS 2014 02",null,null,"základní",null,null,1,{"$f":"$Q$160*$H$160","v":15.379},0,{"$f":"$S$160*$H$160","v":0},null,null,null,null,null,null,null,null,null,null,null,null,null,null,null,null,null,null,null,null,null,null,null,"8",null,"M","2",null,null,null,"ROZPOCET",null,null,null,null,null,{"$f":"IF($N$160=\"základní\",$J$160,0)","v":0},{"$f":"IF($N$160=\"snížená\",$J$160,0)","v":0},{"$f":"IF($N$160=\"zákl. přenesená\",$J$160,0)","v":0},{"$f":"IF($N$160=\"sníž. přenesená\",$J$160,0)","v":0},{"$f":"IF($N$160=\"nulová\",$J$160,0)","v":0},"1",{"$f":"ROUND($I$160*$H$160,2)","v":0},"4","-383907385"]
[null,null,null,"PP",null,"kamenivo přírodní těžené pro stavební účely  PTK  (drobné, hrubé, štěrkopísky) štěrkopísky ČSN 72  1511-2 frakce   0-4   Horní Řasnice",null,null,null,null,null,null,null,null,null,null,null,null,null,null,null,null,null,null,null,null,null,null,null,null,null,null,null,null,null,null,null,null,null,null,null,null,null,null,null,"PP","2"]
[null,null,null,"VV",null,"8,014*1,01*1,9",null,15.379,null,null,null,null,null,null,null,null,null,null,null,null,null,null,null,null,null,null,null,null,null,null,null,null,null,null,null,null,null,null,null,null,null,null,null,null,null,"VV","2","2","-1","1","ROZPOCET"]
[null,null,"19","K","181301103","Rozprostření ornice tl vrstvy do 200 mm pl do 500 m2 v rovině nebo ve svahu do 1:5","m2",44,null,{"$f":"ROUND($I$163*$H$163,2)","v":0},"CS ÚRS 2014 02",null,null,"základní",null,null,0,{"$f":"$Q$163*$H$163","v":0},0,{"$f":"$S$163*$H$163","v":0},null,null,null,null,null,null,null,null,null,null,null,null,null,null,null,null,null,null,null,null,null,null,null,"4",null,"K","2",null,null,null,"ROZPOCET",null,null,null,null,null,{"$f":"IF($N$163=\"základní\",$J$163,0)","v":0},{"$f":"IF($N$163=\"snížená\",$J$163,0)","v":0},{"$f":"IF($N$163=\"zákl. přenesená\",$J$163,0)","v":0},{"$f":"IF($N$163=\"sníž. přenesená\",$J$163,0)","v":0},{"$f":"IF($N$163=\"nulová\",$J$163,0)","v":0},"1",{"$f":"ROUND($I$163*$H$163,2)","v":0},"4","-1279705119"]
[null,null,null,"PP",null,"Rozprostření a urovnání ornice v rovině nebo ve svahu sklonu do 1:5 při souvislé ploše do 500 m2, tl. vrstvy přes 150 do 200 mm",null,null,null,null,null,null,null,null,null,null,null,null,null,null,null,null,null,null,null,null,null,null,null,null,null,null,null,null,null,null,null,null,null,null,null,null,null,null,null,"PP","2"]
[null,null,null,"PSC",null,"Poznámka k souboru cen:\n1. V ceně jsou započteny i náklady na případné nutné přemístění hromad nebo dočasných skládek na     místo spotřeby ze vzdálenosti do 30 m. 2. V ceně nejsou započteny náklady na získání ornice; toto získání se oceňuje cenami souboru cen     121 10-11 Sejmutí ornice. 3. Případné nakládání ornice, v souvislosti s pozn. č. 3 se oceňuje cenami souboru cen 167 10-11     Nakládání, skládání a překládání neulehlého výkopku nebo sypaniny. 4. Jsou-li hromady nebo dočasné skládky ornice umístěny podle projektu ve vzdálenosti přes 30 m od     místa spotřeby, oceňuje se její přemístění cenami souboru cen 162 . 0-1 . Vodorovné přemístění     výkopku, přičemž se vzdálenost 30 m, uvedená v popisu cen, neodečítá. ",null,null,null,null,null,null,null,null,null,null,null,null,null,null,null,null,null,null,null,null,null,null,null,null,null,null,null,null,null,null,null,null,null,null,null,null,null,null,null,"PSC","2"]
[null,null,null,"VV",null,"11*4",null,44,null,null,null,null,null,null,null,null,null,null,null,null,null,null,null,null,null,null,null,null,null,null,null,null,null,null,null,null,null,null,null,null,null,null,null,null,null,"VV","2","2","-1","1","ROZPOCET"]
[null,null,null,"D","8"," Trubní vedení",null,null,null,{"$f":"$BK$167","v":0},null,null,null,null,null,{"$f":"SUM($P$168:$P$174)","v":0},null,{"$f":"SUM($R$168:$R$174)","v":4.2731999999999999E-2},null,{"$f":"SUM($T$168:$T$174)","v":0},null,null,null,null,null,null,null,null,null,null,null,null,null,null,null,null,null,null,null,null,null,null,null,"1",null,"D","1",null,null,null,"ROZPOCET",null,null,null,null,null,null,null,null,null,null,null,{"$f":"SUM($BK$168:$BK$174)","v":0}]
[null,null,"20","K","894401211","Osazení betonových dílců pro šachty skruží rovných","kus",3,null,{"$f":"ROUND($I$168*$H$168,2)","v":0},"CS ÚRS 2014 02",null,null,"základní",null,null,1.4244E-2,{"$f":"$Q$168*$H$168","v":4.2731999999999999E-2},0,{"$f":"$S$168*$H$168","v":0},null,null,null,null,null,null,null,null,null,null,null,null,null,null,null,null,null,null,null,null,null,null,null,"4",null,"K","2",null,null,null,"ROZPOCET",null,null,null,null,null,{"$f":"IF($N$168=\"základní\",$J$168,0)","v":0},{"$f":"IF($N$168=\"snížená\",$J$168,0)","v":0},{"$f":"IF($N$168=\"zákl. přenesená\",$J$168,0)","v":0},{"$f":"IF($N$168=\"sníž. přenesená\",$J$168,0)","v":0},{"$f":"IF($N$168=\"nulová\",$J$168,0)","v":0},"1",{"$f":"ROUND($I$168*$H$168,2)","v":0},"4","1327677899"]
[null,null,null,"PP",null,"Osazení betonových dílců pro šachty skruží rovných",null,null,null,null,null,null,null,null,null,null,null,null,null,null,null,null,null,null,null,null,null,null,null,null,null,null,null,null,null,null,null,null,null,null,null,null,null,null,null,"PP","2"]
[null,null,null,"PSC",null,"Poznámka k souboru cen:\n1. V cenách nejsou započteny náklady na dodání betonových dílců; dílce se oceňují ve specifikaci. ",null,null,null,null,null,null,null,null,null,null,null,null,null,null,null,null,null,null,null,null,null,null,null,null,null,null,null,null,null,null,null,null,null,null,null,null,null,null,null,"PSC","2"]
[null,null,null,"VV",null,"3",null,3,null,null,null,null,null,null,null,null,null,null,null,null,null,null,null,null,null,null,null,null,null,null,null,null,null,null,null,null,null,null,null,null,null,null,null,null,null,"VV","2","2","-1","1","ROZPOCET"]
[null,null,"21","M","900010001","Skruž betonová 80-60","kus",3,null,{"$f":"ROUND($I$172*$H$172,2)","v":0},null,null,null,"základní",null,null,0,{"$f":"$Q$172*$H$172","v":0},0,{"$f":"$S$172*$H$172","v":0},null,null,null,null,null,null,null,null,null,null,null,null,null,null,null,null,null,null,null,null,null,null,null,"8",null,"M","2",null,null,null,"ROZPOCET",null,null,null,null,null,{"$f":"IF($N$172=\"základní\",$J$172,0)","v":0},{"$f":"IF($N$172=\"snížená\",$J$172,0)","v":0},{"$f":"IF($N$172=\"zákl. přenesená\",$J$172,0)","v":0},{"$f":"IF($N$172=\"sníž. přenesená\",$J$172,0)","v":0},{"$f":"IF($N$172=\"nulová\",$J$172,0)","v":0},"1",{"$f":"ROUND($I$172*$H$172,2)","v":0},"4","1288996104"]
[null,null,null,"PP",null,"Skruž betonová 80*60",null,null,null,null,null,null,null,null,null,null,null,null,null,null,null,null,null,null,null,null,null,null,null,null,null,null,null,null,null,null,null,null,null,null,null,null,null,null,null,"PP","2"]
[null,null,null,"VV",null,"3",null,3,null,null,null,null,null,null,null,null,null,null,null,null,null,null,null,null,null,null,null,null,null,null,null,null,null,null,null,null,null,null,null,null,null,null,null,null,null,"VV","2","2","-1","1","ROZPOCET"]
[null,null,null,"D","9"," Ostatní konstrukce a práce-bourání",null,null,null,{"$f":"$BK$175","v":0},null,null,null,null,null,{"$f":"$P$176","v":0},null,{"$f":"$R$176","v":0},null,{"$f":"$T$176","v":0},null,null,null,null,null,null,null,null,null,null,null,null,null,null,null,null,null,null,null,null,null,null,null,"1",null,"D","1",null,null,null,"ROZPOCET",null,null,null,null,null,null,null,null,null,null,null,{"$f":"$BK$176","v":0}]
[null,null,null,"D","99"," Přesun hmot",null,null,null,{"$f":"$BK$176","v":0},null,null,null,null,null,{"$f":"SUM($P$177:$P$179)","v":0},null,{"$f":"SUM($R$177:$R$179)","v":0},null,{"$f":"SUM($T$177:$T$179)","v":0},null,null,null,null,null,null,null,null,null,null,null,null,null,null,null,null,null,null,null,null,null,null,null,"1",null,"D","2",null,null,null,"ROZPOCET",null,null,null,null,null,null,null,null,null,null,null,{"$f":"SUM($BK$177:$BK$179)","v":0}]
[null,null,"22","K","998272201","Přesun hmot pro trubní vedení z ocelových trub svařovaných otevřený výkop","t",15.579000000000001,null,{"$f":"ROUND($I$177*$H$177,2)","v":0},"CS ÚRS 2014 02",null,null,"základní",null,null,0,{"$f":"$Q$177*$H$177","v":0},0,{"$f":"$S$177*$H$177","v":0},null,null,null,null,null,null,null,null,null,null,null,null,null,null,null,null,null,null,null,null,null,null,null,"4",null,"K","3",null,null,null,"ROZPOCET",null,null,null,null,null,{"$f":"IF($N$177=\"základní\",$J$177,0)","v":0},{"$f":"IF($N$177=\"snížená\",$J$177,0)","v":0},{"$f":"IF($N$177=\"zákl. přenesená\",$J$177,0)","v":0},{"$f":"IF($N$177=\"sníž. přenesená\",$J$177,0)","v":0},{"$f":"IF($N$177=\"nulová\",$J$177,0)","v":0},"1",{"$f":"ROUND($I$177*$H$177,2)","v":0},"4","1407845079"]
[null,null,null,"PP",null,"Přesun hmot pro trubní vedení z ocelových trub svařovaných pro vodovody, plynovody, teplovody, shybky, produktovody v otevřeném výkopu dopravní vzdálenost do 15 m",null,null,null,null,null,null,null,null,null,null,null,null,null,null,null,null,null,null,null,null,null,null,null,null,null,null,null,null,null,null,null,null,null,null,null,null,null,null,null,"PP","3"]
[null,null,null,"PSC",null,"Poznámka k souboru cen:\n1. Tyto ceny jsou určeny pro konstrukce na trubním vedení, které mají stejnou materiálovou     charakteristiku (jsou z oceli), nelze je však použít pro vlastní ocelové potrubí, jehož montáž se     oceňuje podle katalogu 23-M Montáže potrubí. 2. Cenu -2201 lze použít i pro potrubí uložené nad zemí. 3. Položky přesunu hmot nelze užít pro zeminu, sypaniny, štěrkopísek, kamenivo ap. Případná     manipulace s tímto materiálem se oceňuje souborem cen 162 .0-11 Vodorovné přemístění výkopku nebo     sypaniny katalogu 800-1 Zemní práce. ",null,null,null,null,null,null,null,null,null,null,null,null,null,null,null,null,null,null,null,null,null,null,null,null,null,null,null,null,null,null,null,null,null,null,null,null,null,null,null,"PSC","3"]
[null,null,null,"D","M"," Práce a dodávky M",null,null,null,{"$f":"$BK$180","v":0},null,null,null,null,null,{"$f":"$P$181","v":0},null,{"$f":"$R$181","v":1.577581163396},null,{"$f":"$T$181","v":0},null,null,null,null,null,null,null,null,null,null,null,null,null,null,null,null,null,null,null,null,null,null,null,"3",null,"D","0",null,null,null,"ROZPOCET",null,null,null,null,null,null,null,null,null,null,null,{"$f":"$BK$181","v":0}]
[null,null,null,"D","23-M"," Montáže potrubí",null,null,null,{"$f":"$BK$181","v":0},null,null,null,null,null,{"$f":"SUM($P$182:$P$274)","v":0},null,{"$f":"SUM($R$182:$R$274)","v":1.577581163396},null,{"$f":"SUM($T$182:$T$274)","v":0},null,null,null,null,null,null,null,null,null,null,null,null,null,null,null,null,null,null,null,null,null,null,null,"3",null,"D","1",null,null,null,"ROZPOCET",null,null,null,null,null,null,null,null,null,null,null,{"$f":"SUM($BK$182:$BK$274)","v":0}]
[null,null,"23","K","230011101","Montáž potrubí trouby ocelové hladké tř.11-13 D 219 mm, tl 6,3 mm","m",41,null,{"$f":"ROUND($I$182*$H$182,2)","v":0},"CS ÚRS 2014 02",null,null,"základní",null,null,1.5296400000000001E-4,{"$f":"$Q$182*$H$182","v":6.2715240000000005E-3},0,{"$f":"$S$182*$H$182","v":0},null,null,null,null,null,null,null,null,null,null,null,null,null,null,null,null,null,null,null,null,null,null,null,"64",null,"K","2",null,null,null,"ROZPOCET",null,null,null,null,null,{"$f":"IF($N$182=\"základní\",$J$182,0)","v":0},{"$f":"IF($N$182=\"snížená\",$J$182,0)","v":0},{"$f":"IF($N$182=\"zákl. přenesená\",$J$182,0)","v":0},{"$f":"IF($N$182=\"sníž. přenesená\",$J$182,0)","v":0},{"$f":"IF($N$182=\"nulová\",$J$182,0)","v":0},"1",{"$f":"ROUND($I$182*$H$182,2)","v":0},"64","-215219828"]
[null,null,null,"PP",null,"Montáž potrubí z trub ocelových hladkých tř. 11 až 13 D 219 mm, tl. 6,3 mm",null,null,null,null,null,null,null,null,null,null,null,null,null,null,null,null,null,null,null,null,null,null,null,null,null,null,null,null,null,null,null,null,null,null,null,null,null,null,null,"PP","2"]
[null,null,null,"VV",null,"41",null,41,null,null,null,null,null,null,null,null,null,null,null,null,null,null,null,null,null,null,null,null,null,null,null,null,null,null,null,null,null,null,null,null,null,null,null,null,null,"VV","2","2","-1","1","ROZPOCET"]
[null,null,"24","M","142000001","trubka ocelová bezešvá D219 tl 4,5 mm, izol. PE N-v, mat. L245 NB s at.3.1, ČSN EN 102 08, 102 04, DIN 30670","m",41.41,null,{"$f":"ROUND($I$185*$H$185,2)","v":0},null,null,null,"základní",null,null,3.3099999999999997E-2,{"$f":"$Q$185*$H$185","v":1.3706709999999998},0,{"$f":"$S$185*$H$185","v":0},null,null,null,null,null,null,null,null,null,null,null,null,null,null,null,null,null,null,null,null,null,null,null,"128",null,"M","2",null,null,null,"ROZPOCET",null,null,null,null,null,{"$f":"IF($N$185=\"základní\",$J$185,0)","v":0},{"$f":"IF($N$185=\"snížená\",$J$185,0)","v":0},{"$f":"IF($N$185=\"zákl. přenesená\",$J$185,0)","v":0},{"$f":"IF($N$185=\"sníž. přenesená\",$J$185,0)","v":0},{"$f":"IF($N$185=\"nulová\",$J$185,0)","v":0},"1",{"$f":"ROUND($I$185*$H$185,2)","v":0},"128","1736475221"]
[null,null,null,"VV",null,"41*1,01",null,41.41,null,null,null,null,null,null,null,null,null,null,null,null,null,null,null,null,null,null,null,null,null,null,null,null,null,null,null,null,null,null,null,null,null,null,null,null,null,"VV","2","2","-1","1","ROZPOCET"]
[null,null,"25","K","230024101","Montáž trubní díly přivařovací tř.11-13 do 50 kg D 219 mm tl 6,3 mm","kus",3,null,{"$f":"ROUND($I$187*$H$187,2)","v":0},"CS ÚRS 2014 02",null,null,"základní",null,null,9.1618999999999999E-4,{"$f":"$Q$187*$H$187","v":2.7485700000000001E-3},0,{"$f":"$S$187*$H$187","v":0},null,null,null,null,null,null,null,null,null,null,null,null,null,null,null,null,null,null,null,null,null,null,null,"64",null,"K","2",null,null,null,"ROZPOCET",null,null,null,null,null,{"$f":"IF($N$187=\"základní\",$J$187,0)","v":0},{"$f":"IF($N$187=\"snížená\",$J$187,0)","v":0},{"$f":"IF($N$187=\"zákl. přenesená\",$J$187,0)","v":0},{"$f":"IF($N$187=\"sníž. přenesená\",$J$187,0)","v":0},{"$f":"IF($N$187=\"nulová\",$J$187,0)","v":0},"1",{"$f":"ROUND($I$187*$H$187,2)","v":0},"64","1906886865"]
[null,null,null,"PP",null,"Montáž trubních dílů přivařovacích hmotnosti přes 10 do 50 kg tř. 11 až 13 D 219 mm, tl. 6,3 mm",null,null,null,null,null,null,null,null,null,null,null,null,null,null,null,null,null,null,null,null,null,null,null,null,null,null,null,null,null,null,null,null,null,null,null,null,null,null,null,"PP","2"]
[null,null,null,"VV",null,"3",null,3,null,null,null,null,null,null,null,null,null,null,null,null,null,null,null,null,null,null,null,null,null,null,null,null,null,null,null,null,null,null,null,null,null,null,null,null,null,"VV","2","2","-1","1","ROZPOCET"]
[null,null,"26","M","316530212","Trubkový oblouk DN 200 - 5 D - 45° mat. L 245 NB, izol. PE N-v; s at. 3.1; ČSN EN 102 08; 102 04;DIN 30 670","kus",2,null,{"$f":"ROUND($I$190*$H$190,2)","v":0},null,null,null,"základní",null,null,0,{"$f":"$Q$190*$H$190","v":0},0,{"$f":"$S$190*$H$190","v":0},null,null,null,null,null,null,null,null,null,null,null,null,null,null,null,null,null,null,null,null,null,null,null,"128",null,"M","2",null,null,null,"ROZPOCET",null,null,null,null,null,{"$f":"IF($N$190=\"základní\",$J$190,0)","v":0},{"$f":"IF($N$190=\"snížená\",$J$190,0)","v":0},{"$f":"IF($N$190=\"zákl. přenesená\",$J$190,0)","v":0},{"$f":"IF($N$190=\"sníž. přenesená\",$J$190,0)","v":0},{"$f":"IF($N$190=\"nulová\",$J$190,0)","v":0},"1",{"$f":"ROUND($I$190*$H$190,2)","v":0},"128","-164692863"]
[null,null,null,"PP",null,"Trubkový oblouk DN 200 - 5 D - 45° mat. L 245 NB, izol. PE N-v; s at. 3.1; ČSN EN 102 08; 102 04;DIN 30 670",null,null,null,null,null,null,null,null,null,null,null,null,null,null,null,null,null,null,null,null,null,null,null,null,null,null,null,null,null,null,null,null,null,null,null,null,null,null,null,"PP","2"]
[null,null,null,"VV",null,"2",null,2,null,null,null,null,null,null,null,null,null,null,null,null,null,null,null,null,null,null,null,null,null,null,null,null,null,null,null,null,null,null,null,null,null,null,null,null,null,"VV","2","2","-1","1","ROZPOCET"]
[null,null,"27","M","316530213","Trubkový oblouk DN 200 - 5 D - 48° mat. L 245 NB, izol. PE N-v; s at. 3.1; ČSN EN 102 08; 102 04;DIN 30 670","kus",1,null,{"$f":"ROUND($I$193*$H$193,2)","v":0},null,null,null,"základní",null,null,0,{"$f":"$Q$193*$H$193","v":0},0,{"$f":"$S$193*$H$193","v":0},null,null,null,null,null,null,null,null,null,null,null,null,null,null,null,null,null,null,null,null,null,null,null,"128",null,"M","2",null,null,null,"ROZPOCET",null,null,null,null,null,{"$f":"IF($N$193=\"základní\",$J$193,0)","v":0},{"$f":"IF($N$193=\"snížená\",$J$193,0)","v":0},{"$f":"IF($N$193=\"zákl. přenesená\",$J$193,0)","v":0},{"$f":"IF($N$193=\"sníž. přenesená\",$J$193,0)","v":0},{"$f":"IF($N$193=\"nulová\",$J$193,0)","v":0},"1",{"$f":"ROUND($I$193*$H$193,2)","v":0},"128","2024625257"]
[null,null,null,"PP",null,"Trubkový oblouk DN 200 - 5 D - 48° mat. L 245 NB, izol. PE N-v; s at. 3.1; ČSN EN 102 08; 102 04;DIN 30 670",null,null,null,null,null,null,null,null,null,null,null,null,null,null,null,null,null,null,null,null,null,null,null,null,null,null,null,null,null,null,null,null,null,null,null,null,null,null,null,"PP","2"]
[null,null,null,"VV",null,"1",null,1,null,null,null,null,null,null,null,null,null,null,null,null,null,null,null,null,null,null,null,null,null,null,null,null,null,null,null,null,null,null,null,null,null,null,null,null,null,"VV","2","2","-1","1","ROZPOCET"]
[null,null,"28","K","230082100","Demontáž potrubí do šrotu do 50 kg D 219 mm, tl 6,3 mm","kus",13.667,null,{"$f":"ROUND($I$196*$H$196,2)","v":0},"CS ÚRS 2014 02",null,null,"základní",null,null,1.75188E-4,{"$f":"$Q$196*$H$196","v":2.3942943960000001E-3},0,{"$f":"$S$196*$H$196","v":0},null,null,null,null,null,null,null,null,null,null,null,null,null,null,null,null,null,null,null,null,null,null,null,"64",null,"K","2",null,null,null,"ROZPOCET",null,null,null,null,null,{"$f":"IF($N$196=\"základní\",$J$196,0)","v":0},{"$f":"IF($N$196=\"snížená\",$J$196,0)","v":0},{"$f":"IF($N$196=\"zákl. přenesená\",$J$196,0)","v":0},{"$f":"IF($N$196=\"sníž. přenesená\",$J$196,0)","v":0},{"$f":"IF($N$196=\"nulová\",$J$196,0)","v":0},"1",{"$f":"ROUND($I$196*$H$196,2)","v":0},"64","1151624337"]
[null,null,null,"PP",null,"Demontáž ocelového potrubí do šrotu hmotnosti přes 10 do 50 kg připojovací rozměr D 219, tl. 6,3 mm",null,null,null,null,null,null,null,null,null,null,null,null,null,null,null,null,null,null,null,null,null,null,null,null,null,null,null,null,null,null,null,null,null,null,null,null,null,null,null,"PP","2"]
[null,null,null,"VV",null,"41/3",null,13.667,null,null,null,null,null,null,null,null,null,null,null,null,null,null,null,null,null,null,null,null,null,null,null,null,null,null,null,null,null,null,null,null,null,null,null,null,null,"VV","2","2","-1","1","ROZPOCET"]
[null,null,"29","M","286530021","Výstražná fólie","m",12,null,{"$f":"ROUND($I$199*$H$199,2)","v":0},null,null,null,"základní",null,null,0,{"$f":"$Q$199*$H$199","v":0},0,{"$f":"$S$199*$H$199","v":0},null,null,null,null,null,null,null,null,null,null,null,null,null,null,null,null,null,null,null,null,null,null,null,"128",null,"M","2",null,null,null,"ROZPOCET",null,null,null,null,null,{"$f":"IF($N$199=\"základní\",$J$199,0)","v":0},{"$f":"IF($N$199=\"snížená\",$J$199,0)","v":0},{"$f":"IF($N$199=\"zákl. přenesená\",$J$199,0)","v":0},{"$f":"IF($N$199=\"sníž. přenesená\",$J$199,0)","v":0},{"$f":"IF($N$199=\"nulová\",$J$199,0)","v":0},"1",{"$f":"ROUND($I$199*$H$199,2)","v":0},"128","-1153716435"]
[null,null,null,"PP",null,"Výstražná fólie",null,null,null,null,null,null,null,null,null,null,null,null,null,null,null,null,null,null,null,null,null,null,null,null,null,null,null,null,null,null,null,null,null,null,null,null,null,null,null,"PP","2"]
[null,null,null,"VV",null,"12",null,12,null,null,null,null,null,null,null,null,null,null,null,null,null,null,null,null,null,null,null,null,null,null,null,null,null,null,null,null,null,null,null,null,null,null,null,null,null,"VV","2","2","-1","1","ROZPOCET"]
[null,null,"30","K","230120049","Čištění potrubí profukováním nebo proplachováním DN 200","m",41,null,{"$f":"ROUND($I$202*$H$202,2)","v":0},"CS ÚRS 2014 02",null,null,"základní",null,null,0,{"$f":"$Q$202*$H$202","v":0},0,{"$f":"$S$202*$H$202","v":0},null,null,null,null,null,null,null,null,null,null,null,null,null,null,null,null,null,null,null,null,null,null,null,"64",null,"K","2",null,null,null,"ROZPOCET",null,null,null,null,null,{"$f":"IF($N$202=\"základní\",$J$202,0)","v":0},{"$f":"IF($N$202=\"snížená\",$J$202,0)","v":0},{"$f":"IF($N$202=\"zákl. přenesená\",$J$202,0)","v":0},{"$f":"IF($N$202=\"sníž. přenesená\",$J$202,0)","v":0},{"$f":"IF($N$202=\"nulová\",$J$202,0)","v":0},"1",{"$f":"ROUND($I$202*$H$202,2)","v":0},"64","685778386"]
[null,null,null,"PP",null,"Čištění potrubí profukováním nebo proplachováním DN 200",null,null,null,null,null,null,null,null,null,null,null,null,null,null,null,null,null,null,null,null,null,null,null,null,null,null,null,null,null,null,null,null,null,null,null,null,null,null,null,"PP","2"]
[null,null,null,"VV",null,"41",null,41,null,null,null,null,null,null,null,null,null,null,null,null,null,null,null,null,null,null,null,null,null,null,null,null,null,null,null,null,null,null,null,null,null,null,null,null,null,"VV","2","2","-1","1","ROZPOCET"]
[null,null,"31","K","230120R49","Odplynění potrubí DN 200 vzduchem","kus",1000,null,{"$f":"ROUND($I$205*$H$205,2)","v":0},null,null,null,"základní",null,null,0,{"$f":"$Q$205*$H$205","v":0},0,{"$f":"$S$205*$H$205","v":0},null,null,null,null,null,null,null,null,null,null,null,null,null,null,null,null,null,null,null,null,null,null,null,"128",null,"K","2",null,null,null,"ROZPOCET",null,null,null,null,null,{"$f":"IF($N$205=\"základní\",$J$205,0)","v":0},{"$f":"IF($N$205=\"snížená\",$J$205,0)","v":0},{"$f":"IF($N$205=\"zákl. přenesená\",$J$205,0)","v":0},{"$f":"IF($N$205=\"sníž. přenesená\",$J$205,0)","v":0},{"$f":"IF($N$205=\"nulová\",$J$205,0)","v":0},"1",{"$f":"ROUND($I$205*$H$205,2)","v":0},"128","-1624735404"]
[null,null,null,"PP",null,"Odplynění potrubí DN 200 vzduchem",null,null,null,null,null,null,null,null,null,null,null,null,null,null,null,null,null,null,null,null,null,null,null,null,null,null,null,null,null,null,null,null,null,null,null,null,null,null,null,"PP","2"]
[null,null,null,"VV",null,"1000",null,1000,null,null,null,null,null,null,null,null,null,null,null,null,null,null,null,null,null,null,null,null,null,null,null,null,null,null,null,null,null,null,null,null,null,null,null,null,null,"VV","2","2","-1","1","ROZPOCET"]
[null,null,"32","K","2301610R1","Prozáření svaru iridiem","kus",11,null,{"$f":"ROUND($I$208*$H$208,2)","v":0},null,null,null,"základní",null,null,0,{"$f":"$Q$208*$H$208","v":0},0,{"$f":"$S$208*$H$208","v":0},null,null,null,null,null,null,null,null,null,null,null,null,null,null,null,null,null,null,null,null,null,null,null,"64",null,"K","2",null,null,null,"ROZPOCET",null,null,null,null,null,{"$f":"IF($N$208=\"základní\",$J$208,0)","v":0},{"$f":"IF($N$208=\"snížená\",$J$208,0)","v":0},{"$f":"IF($N$208=\"zákl. přenesená\",$J$208,0)","v":0},{"$f":"IF($N$208=\"sníž. přenesená\",$J$208,0)","v":0},{"$f":"IF($N$208=\"nulová\",$J$208,0)","v":0},"1",{"$f":"ROUND($I$208*$H$208,2)","v":0},"64","-2125548857"]
[null,null,null,"PP",null,"Prozáření svaru iridiem",null,null,null,null,null,null,null,null,null,null,null,null,null,null,null,null,null,null,null,null,null,null,null,null,null,null,null,null,null,null,null,null,null,null,null,null,null,null,null,"PP","2"]
[null,null,null,"VV",null,"11",null,11,null,null,null,null,null,null,null,null,null,null,null,null,null,null,null,null,null,null,null,null,null,null,null,null,null,null,null,null,null,null,null,null,null,null,null,null,null,"VV","2","2","-1","1","ROZPOCET"]
[null,null,"33","K","230200125","Nasunutí potrubní sekce do ocelové chráničky DN 400","m",30,null,{"$f":"ROUND($I$211*$H$211,2)","v":0},"CS ÚRS 2014 02",null,null,"základní",null,null,6.3393924999999999E-3,{"$f":"$Q$211*$H$211","v":0.190181775},0,{"$f":"$S$211*$H$211","v":0},null,null,null,null,null,null,null,null,null,null,null,null,null,null,null,null,null,null,null,null,null,null,null,"64",null,"K","2",null,null,null,"ROZPOCET",null,null,null,null,null,{"$f":"IF($N$211=\"základní\",$J$211,0)","v":0},{"$f":"IF($N$211=\"snížená\",$J$211,0)","v":0},{"$f":"IF($N$211=\"zákl. přenesená\",$J$211,0)","v":0},{"$f":"IF($N$211=\"sníž. přenesená\",$J$211,0)","v":0},{"$f":"IF($N$211=\"nulová\",$J$211,0)","v":0},"1",{"$f":"ROUND($I$211*$H$211,2)","v":0},"64","1743215071"]
[null,null,null,"PP",null,"Nasunutí potrubní sekce do ocelové chráničky jmenovitá světlost nasouvaného potrubí DN 400",null,null,null,null,null,null,null,null,null,null,null,null,null,null,null,null,null,null,null,null,null,null,null,null,null,null,null,null,null,null,null,null,null,null,null,null,null,null,null,"PP","2"]
[null,null,null,"PSC",null,"Poznámka k souboru cen:\n1. .V cenách jsou započteny i náklady na středící objímky. 2. .V cenách není započten materiál na utěsnění konců. ",null,null,null,null,null,null,null,null,null,null,null,null,null,null,null,null,null,null,null,null,null,null,null,null,null,null,null,null,null,null,null,null,null,null,null,null,null,null,null,"PSC","2"]
[null,null,null,"VV",null,"30",null,30,null,null,null,null,null,null,null,null,null,null,null,null,null,null,null,null,null,null,null,null,null,null,null,null,null,null,null,null,null,null,null,null,null,null,null,null,null,"VV","2","2","-1","1","ROZPOCET"]
[null,null,"34","M","143332300","chránička trubka ocelová  spirálově svařovaná hladká černá D426 tl 8 mm, mat. tř. A, ČSN EN 102 08, 102 04","m",30.3,null,{"$f":"ROUND($I$215*$H$215,2)","v":0},null,null,null,"základní",null,null,0,{"$f":"$Q$215*$H$215","v":0},0,{"$f":"$S$215*$H$215","v":0},null,null,null,null,null,null,null,null,null,null,null,null,null,null,null,null,null,null,null,null,null,null,null,"128",null,"M","2",null,null,null,"ROZPOCET",null,null,null,null,null,{"$f":"IF($N$215=\"základní\",$J$215,0)","v":0},{"$f":"IF($N$215=\"snížená\",$J$215,0)","v":0},{"$f":"IF($N$215=\"zákl. přenesená\",$J$215,0)","v":0},{"$f":"IF($N$215=\"sníž. přenesená\",$J$215,0)","v":0},{"$f":"IF($N$215=\"nulová\",$J$215,0)","v":0},"1",{"$f":"ROUND($I$215*$H$215,2)","v":0},"128","413218130"]
[null,null,null,"VV",null,"30*1,01",null,30.3,null,null,null,null,null,null,null,null,null,null,null,null,null,null,null,null,null,null,null,null,null,null,null,null,null,null,null,null,null,null,null,null,null,null,null,null,null,"VV","2","2","-1","1","ROZPOCET"]
[null,null,"35","M","286530179","manžety na chráničky 220x426\n","kus",2,null,{"$f":"ROUND($I$217*$H$217,2)","v":0},null,null,null,"základní",null,null,0,{"$f":"$Q$217*$H$217","v":0},0,{"$f":"$S$217*$H$217","v":0},null,null,null,null,null,null,null,null,null,null,null,null,null,null,null,null,null,null,null,null,null,null,null,"128",null,"M","2",null,null,null,"ROZPOCET",null,null,null,null,null,{"$f":"IF($N$217=\"základní\",$J$217,0)","v":0},{"$f":"IF($N$217=\"snížená\",$J$217,0)","v":0},{"$f":"IF($N$217=\"zákl. přenesená\",$J$217,0)","v":0},{"$f":"IF($N$217=\"sníž. přenesená\",$J$217,0)","v":0},{"$f":"IF($N$217=\"nulová\",$J$217,0)","v":0},"1",{"$f":"ROUND($I$217*$H$217,2)","v":0},"128","1154062576"]
[null,null,null,"PP",null,"manžety na chráničky 220x426\n",null,null,null,null,null,null,null,null,null,null,null,null,null,null,null,null,null,null,null,null,null,null,null,null,null,null,null,null,null,null,null,null,null,null,null,null,null,null,null,"PP","2"]
[null,null,null,"VV",null,"2",null,2,null,null,null,null,null,null,null,null,null,null,null,null,null,null,null,null,null,null,null,null,null,null,null,null,null,null,null,null,null,null,null,null,null,null,null,null,null,"VV","2","2","-1","1","ROZPOCET"]
[null,null,"36","M","286530181","Objímka středící DN 400/200 ","kus",15,null,{"$f":"ROUND($I$220*$H$220,2)","v":0},null,null,null,"základní",null,null,0,{"$f":"$Q$220*$H$220","v":0},0,{"$f":"$S$220*$H$220","v":0},null,null,null,null,null,null,null,null,null,null,null,null,null,null,null,null,null,null,null,null,null,null,null,"128",null,"M","2",null,null,null,"ROZPOCET",null,null,null,null,null,{"$f":"IF($N$220=\"základní\",$J$220,0)","v":0},{"$f":"IF($N$220=\"snížená\",$J$220,0)","v":0},{"$f":"IF($N$220=\"zákl. přenesená\",$J$220,0)","v":0},{"$f":"IF($N$220=\"sníž. přenesená\",$J$220,0)","v":0},{"$f":"IF($N$220=\"nulová\",$J$220,0)","v":0},"1",{"$f":"ROUND($I$220*$H$220,2)","v":0},"128","447830886"]
[null,null,null,"PP",null,"Objímka středící DN 400/200 ",null,null,null,null,null,null,null,null,null,null,null,null,null,null,null,null,null,null,null,null,null,null,null,null,null,null,null,null,null,null,null,null,null,null,null,null,null,null,null,"PP","2"]
[null,null,null,"VV",null,"15",null,15,null,null,null,null,null,null,null,null,null,null,null,null,null,null,null,null,null,null,null,null,null,null,null,null,null,null,null,null,null,null,null,null,null,null,null,null,null,"VV","2","2","-1","1","ROZPOCET"]
[null,null,"37","K","230220011","Montáž orientačního sloupku ON 13 2970","kus",1,null,{"$f":"ROUND($I$223*$H$223,2)","v":0},"CS ÚRS 2014 02",null,null,"základní",null,null,0,{"$f":"$Q$223*$H$223","v":0},0,{"$f":"$S$223*$H$223","v":0},null,null,null,null,null,null,null,null,null,null,null,null,null,null,null,null,null,null,null,null,null,null,null,"64",null,"K","2",null,null,null,"ROZPOCET",null,null,null,null,null,{"$f":"IF($N$223=\"základní\",$J$223,0)","v":0},{"$f":"IF($N$223=\"snížená\",$J$223,0)","v":0},{"$f":"IF($N$223=\"zákl. přenesená\",$J$223,0)","v":0},{"$f":"IF($N$223=\"sníž. přenesená\",$J$223,0)","v":0},{"$f":"IF($N$223=\"nulová\",$J$223,0)","v":0},"1",{"$f":"ROUND($I$223*$H$223,2)","v":0},"64","-1103219808"]
[null,null,null,"PP",null,"Montáž příslušenství plynovodů sloupku orientačního",null,null,null,null,null,null,null,null,null,null,null,null,null,null,null,null,null,null,null,null,null,null,null,null,null,null,null,null,null,null,null,null,null,null,null,null,null,null,null,"PP","2"]
[null,null,null,"PSC",null,"Poznámka k souboru cen:\n1. V ceně -0006 jsou započteny i náklady na podkladní betonovou desku. 2. V ceně -0011 nejsou započteny náklady na osazení štítku s nápisem a nátěr. ",null,null,null,null,null,null,null,null,null,null,null,null,null,null,null,null,null,null,null,null,null,null,null,null,null,null,null,null,null,null,null,null,null,null,null,null,null,null,null,"PSC","2"]
[null,null,null,"VV",null,"1",null,1,null,null,null,null,null,null,null,null,null,null,null,null,null,null,null,null,null,null,null,null,null,null,null,null,null,null,null,null,null,null,null,null,null,null,null,null,null,"VV","2","2","-1","1","ROZPOCET"]
[null,null,"38","M","31653004R","Orientační sloupky plastové vyztužené oc. trubkou","kus",1,null,{"$f":"ROUND($I$227*$H$227,2)","v":0},null,null,null,"základní",null,null,0,{"$f":"$Q$227*$H$227","v":0},0,{"$f":"$S$227*$H$227","v":0},null,null,null,null,null,null,null,null,null,null,null,null,null,null,null,null,null,null,null,null,null,null,null,"128",null,"M","2",null,null,null,"ROZPOCET",null,null,null,null,null,{"$f":"IF($N$227=\"základní\",$J$227,0)","v":0},{"$f":"IF($N$227=\"snížená\",$J$227,0)","v":0},{"$f":"IF($N$227=\"zákl. přenesená\",$J$227,0)","v":0},{"$f":"IF($N$227=\"sníž. přenesená\",$J$227,0)","v":0},{"$f":"IF($N$227=\"nulová\",$J$227,0)","v":0},"1",{"$f":"ROUND($I$227*$H$227,2)","v":0},"128","538083400"]
[null,null,null,"PP",null,"Orientační sloupky plastové vyztužené oc. trubkou",null,null,null,null,null,null,null,null,null,null,null,null,null,null,null,null,null,null,null,null,null,null,null,null,null,null,null,null,null,null,null,null,null,null,null,null,null,null,null,"PP","2"]
[null,null,null,"VV",null,"1",null,1,null,null,null,null,null,null,null,null,null,null,null,null,null,null,null,null,null,null,null,null,null,null,null,null,null,null,null,null,null,null,null,null,null,null,null,null,null,"VV","2","2","-1","1","ROZPOCET"]
[null,null,"39","K","230220031","Montáž čichačky na chráničku PN 38 6724","kus",2,null,{"$f":"ROUND($I$230*$H$230,2)","v":0},"CS ÚRS 2014 02",null,null,"základní",null,null,0,{"$f":"$Q$230*$H$230","v":0},0,{"$f":"$S$230*$H$230","v":0},null,null,null,null,null,null,null,null,null,null,null,null,null,null,null,null,null,null,null,null,null,null,null,"64",null,"K","2",null,null,null,"ROZPOCET",null,null,null,null,null,{"$f":"IF($N$230=\"základní\",$J$230,0)","v":0},{"$f":"IF($N$230=\"snížená\",$J$230,0)","v":0},{"$f":"IF($N$230=\"zákl. přenesená\",$J$230,0)","v":0},{"$f":"IF($N$230=\"sníž. přenesená\",$J$230,0)","v":0},{"$f":"IF($N$230=\"nulová\",$J$230,0)","v":0},"1",{"$f":"ROUND($I$230*$H$230,2)","v":0},"64","-1576788668"]
[null,null,null,"PP",null,"Montáž příslušenství plynovodů čichačky na chráničku plynovodu",null,null,null,null,null,null,null,null,null,null,null,null,null,null,null,null,null,null,null,null,null,null,null,null,null,null,null,null,null,null,null,null,null,null,null,null,null,null,null,"PP","2"]
[null,null,null,"PSC",null,"Poznámka k souboru cen:\n1. V ceně -0006 jsou započteny i náklady na podkladní betonovou desku. 2. V ceně -0011 nejsou započteny náklady na osazení štítku s nápisem a nátěr. ",null,null,null,null,null,null,null,null,null,null,null,null,null,null,null,null,null,null,null,null,null,null,null,null,null,null,null,null,null,null,null,null,null,null,null,null,null,null,null,"PSC","2"]
[null,null,null,"VV",null,"2",null,2,null,null,null,null,null,null,null,null,null,null,null,null,null,null,null,null,null,null,null,null,null,null,null,null,null,null,null,null,null,null,null,null,null,null,null,null,null,"VV","2","2","-1","1","ROZPOCET"]
[null,null,"40","M","286530184","Čichačka v nadzemním provedení","kus",2,null,{"$f":"ROUND($I$234*$H$234,2)","v":0},null,null,null,"základní",null,null,0,{"$f":"$Q$234*$H$234","v":0},0,{"$f":"$S$234*$H$234","v":0},null,null,null,null,null,null,null,null,null,null,null,null,null,null,null,null,null,null,null,null,null,null,null,"128",null,"M","2",null,null,null,"ROZPOCET",null,null,null,null,null,{"$f":"IF($N$234=\"základní\",$J$234,0)","v":0},{"$f":"IF($N$234=\"snížená\",$J$234,0)","v":0},{"$f":"IF($N$234=\"zákl. přenesená\",$J$234,0)","v":0},{"$f":"IF($N$234=\"sníž. přenesená\",$J$234,0)","v":0},{"$f":"IF($N$234=\"nulová\",$J$234,0)","v":0},"1",{"$f":"ROUND($I$234*$H$234,2)","v":0},"128","-182631652"]
[null,null,null,"PP",null,"Čichačka v nadzemním provedení",null,null,null,null,null,null,null,null,null,null,null,null,null,null,null,null,null,null,null,null,null,null,null,null,null,null,null,null,null,null,null,null,null,null,null,null,null,null,null,"PP","2"]
[null,null,null,"VV",null,"2",null,2,null,null,null,null,null,null,null,null,null,null,null,null,null,null,null,null,null,null,null,null,null,null,null,null,null,null,null,null,null,null,null,null,null,null,null,null,null,"VV","2","2","-1","1","ROZPOCET"]
[null,null,"41","K","230230051","Hlavní tlaková zkouška vzduchem 4,0 MPa DN 200","m",41,null,{"$f":"ROUND($I$237*$H$237,2)","v":0},"CS ÚRS 2014 02",null,null,"základní",null,null,0,{"$f":"$Q$237*$H$237","v":0},0,{"$f":"$S$237*$H$237","v":0},null,null,null,null,null,null,null,null,null,null,null,null,null,null,null,null,null,null,null,null,null,null,null,"64",null,"K","2",null,null,null,"ROZPOCET",null,null,null,null,null,{"$f":"IF($N$237=\"základní\",$J$237,0)","v":0},{"$f":"IF($N$237=\"snížená\",$J$237,0)","v":0},{"$f":"IF($N$237=\"zákl. přenesená\",$J$237,0)","v":0},{"$f":"IF($N$237=\"sníž. přenesená\",$J$237,0)","v":0},{"$f":"IF($N$237=\"nulová\",$J$237,0)","v":0},"1",{"$f":"ROUND($I$237*$H$237,2)","v":0},"64","73455235"]
[null,null,null,"PP",null,"Tlakové zkoušky hlavní vzduchem 4,0 MPa DN 200",null,null,null,null,null,null,null,null,null,null,null,null,null,null,null,null,null,null,null,null,null,null,null,null,null,null,null,null,null,null,null,null,null,null,null,null,null,null,null,"PP","2"]
[null,null,null,"PSC",null,"Poznámka k souboru cen:\n1. V cenách jsou započteny i náklady na:     a) přípravu potrubí k tlakové zkoušce,     b) napojení kompresorů,     c) zhotovení a montáž přepouštěcích obtoků,     d) tlakování potrubí s přepouštěním,     e) demontáž přepouštěcích obtoků a tlakových komor,     f) provizorní uzavření odzkoušeného úseku. 2. V cenách nejsou započteny náklady na:     a) propojení jednotlivých úseků po provedené zkoušce, toto se oceňuje cenami části A20 Montáž         plynovodů a plynovodních přípojek. 3. Uvedený tlak v popisech cen -0016 až -0073 je projektovaný tlak plynovodu. ",null,null,null,null,null,null,null,null,null,null,null,null,null,null,null,null,null,null,null,null,null,null,null,null,null,null,null,null,null,null,null,null,null,null,null,null,null,null,null,"PSC","2"]
[null,null,null,"VV",null,"41",null,41,null,null,null,null,null,null,null,null,null,null,null,null,null,null,null,null,null,null,null,null,null,null,null,null,null,null,null,null,null,null,null,null,null,null,null,null,null,"VV","2","2","-1","1","ROZPOCET"]
[null,null,"42","K","230230076","Čištění potrubí PN 38 6416 DN 200","m",41,null,{"$f":"ROUND($I$241*$H$241,2)","v":0},"CS ÚRS 2014 02",null,null,"základní",null,null,0,{"$f":"$Q$241*$H$241","v":0},0,{"$f":"$S$241*$H$241","v":0},null,null,null,null,null,null,null,null,null,null,null,null,null,null,null,null,null,null,null,null,null,null,null,"64",null,"K","2",null,null,null,"ROZPOCET",null,null,null,null,null,{"$f":"IF($N$241=\"základní\",$J$241,0)","v":0},{"$f":"IF($N$241=\"snížená\",$J$241,0)","v":0},{"$f":"IF($N$241=\"zákl. přenesená\",$J$241,0)","v":0},{"$f":"IF($N$241=\"sníž. přenesená\",$J$241,0)","v":0},{"$f":"IF($N$241=\"nulová\",$J$241,0)","v":0},"1",{"$f":"ROUND($I$241*$H$241,2)","v":0},"64","-438776273"]
[null,null,null,"PP",null,"Čištění potrubí DN 200",null,null,null,null,null,null,null,null,null,null,null,null,null,null,null,null,null,null,null,null,null,null,null,null,null,null,null,null,null,null,null,null,null,null,null,null,null,null,null,"PP","2"]
[null,null,null,"PSC",null,"Poznámka k souboru cen:\n1. Ceny jsou stanoveny za provedení jednoho čištění. Při vyžádaném vícenásobném čištění se cena     stanoví násobkem počtu provedení čištění. 2. V cenách jsou započteny náklady na:     a) přípravu potrubí k čištění,     b) napojení kompresorů,     c) zhotovení a montáž přepouštěcích obtoků,     d) demontáž přepouštěcích obtoků,     e) provizorní uzavření vyčištěného úseku,     f) přepouštění tlaku ze sousedního zásobního úseku. ",null,null,null,null,null,null,null,null,null,null,null,null,null,null,null,null,null,null,null,null,null,null,null,null,null,null,null,null,null,null,null,null,null,null,null,null,null,null,null,"PSC","2"]
[null,null,null,"VV",null,"41",null,41,null,null,null,null,null,null,null,null,null,null,null,null,null,null,null,null,null,null,null,null,null,null,null,null,null,null,null,null,null,null,null,null,null,null,null,null,null,"VV","2","2","-1","1","ROZPOCET"]
[null,null,"43","K","230250034","Montáž propojovacích objektů POCH","kus",1,null,{"$f":"ROUND($I$245*$H$245,2)","v":0},"CS ÚRS 2014 02",null,null,"základní",null,null,5.3140000000000001E-3,{"$f":"$Q$245*$H$245","v":5.3140000000000001E-3},0,{"$f":"$S$245*$H$245","v":0},null,null,null,null,null,null,null,null,null,null,null,null,null,null,null,null,null,null,null,null,null,null,null,"64",null,"K","2",null,null,null,"ROZPOCET",null,null,null,null,null,{"$f":"IF($N$245=\"základní\",$J$245,0)","v":0},{"$f":"IF($N$245=\"snížená\",$J$245,0)","v":0},{"$f":"IF($N$245=\"zákl. přenesená\",$J$245,0)","v":0},{"$f":"IF($N$245=\"sníž. přenesená\",$J$245,0)","v":0},{"$f":"IF($N$245=\"nulová\",$J$245,0)","v":0},"1",{"$f":"ROUND($I$245*$H$245,2)","v":0},"64","-210302622"]
[null,null,null,"PP",null,"Montáž objektů propojovacích POCH",null,null,null,null,null,null,null,null,null,null,null,null,null,null,null,null,null,null,null,null,null,null,null,null,null,null,null,null,null,null,null,null,null,null,null,null,null,null,null,"PP","2"]
[null,null,null,"VV",null,"1",null,1,null,null,null,null,null,null,null,null,null,null,null,null,null,null,null,null,null,null,null,null,null,null,null,null,null,null,null,null,null,null,null,null,null,null,null,null,null,"VV","2","2","-1","1","ROZPOCET"]
[null,null,"44","M","316R20010","POCH","kus",1,null,{"$f":"ROUND($I$248*$H$248,2)","v":0},null,null,null,"základní",null,null,0,{"$f":"$Q$248*$H$248","v":0},0,{"$f":"$S$248*$H$248","v":0},null,null,null,null,null,null,null,null,null,null,null,null,null,null,null,null,null,null,null,null,null,null,null,"256",null,"M","2",null,null,null,"ROZPOCET",null,null,null,null,null,{"$f":"IF($N$248=\"základní\",$J$248,0)","v":0},{"$f":"IF($N$248=\"snížená\",$J$248,0)","v":0},{"$f":"IF($N$248=\"zákl. přenesená\",$J$248,0)","v":0},{"$f":"IF($N$248=\"sníž. přenesená\",$J$248,0)","v":0},{"$f":"IF($N$248=\"nulová\",$J$248,0)","v":0},"1",{"$f":"ROUND($I$248*$H$248,2)","v":0},"64","700144083"]
[null,null,null,"PP",null,"POCH",null,null,null,null,null,null,null,null,null,null,null,null,null,null,null,null,null,null,null,null,null,null,null,null,null,null,null,null,null,null,null,null,null,null,null,null,null,null,null,"PP","2"]
[null,null,null,"VV",null,"1",null,1,null,null,null,null,null,null,null,null,null,null,null,null,null,null,null,null,null,null,null,null,null,null,null,null,null,null,null,null,null,null,null,null,null,null,null,null,null,"VV","2","2","-1","1","ROZPOCET"]
[null,null,"45","K","230R00001","Propoj DN 200/200 bez plynu - garanční svar","kus",2,null,{"$f":"ROUND($I$251*$H$251,2)","v":0},null,null,null,"základní",null,null,0,{"$f":"$Q$251*$H$251","v":0},0,{"$f":"$S$251*$H$251","v":0},null,null,null,null,null,null,null,null,null,null,null,null,null,null,null,null,null,null,null,null,null,null,null,"128",null,"K","2",null,null,null,"ROZPOCET",null,null,null,null,null,{"$f":"IF($N$251=\"základní\",$J$251,0)","v":0},{"$f":"IF($N$251=\"snížená\",$J$251,0)","v":0},{"$f":"IF($N$251=\"zákl. přenesená\",$J$251,0)","v":0},{"$f":"IF($N$251=\"sníž. přenesená\",$J$251,0)","v":0},{"$f":"IF($N$251=\"nulová\",$J$251,0)","v":0},"1",{"$f":"ROUND($I$251*$H$251,2)","v":0},"128","-691048008"]
[null,null,null,"PP",null,"Propoj DN 200/200 bez plynu - garanční svar",null,null,null,null,null,null,null,null,null,null,null,null,null,null,null,null,null,null,null,null,null,null,null,null,null,null,null,null,null,null,null,null,null,null,null,null,null,null,null,"PP","2"]
[null,null,null,"VV",null,"2",null,2,null,null,null,null,null,null,null,null,null,null,null,null,null,null,null,null,null,null,null,null,null,null,null,null,null,null,null,null,null,null,null,null,null,null,null,null,null,"VV","2","2","-1","1","ROZPOCET"]
[null,null,"46","M","316530258","Balonovací hrdlo na ocel DN 200","kus",4,null,{"$f":"ROUND($I$254*$H$254,2)","v":0},null,null,null,"základní",null,null,0,{"$f":"$Q$254*$H$254","v":0},0,{"$f":"$S$254*$H$254","v":0},null,null,null,null,null,null,null,null,null,null,null,null,null,null,null,null,null,null,null,null,null,null,null,"128",null,"M","2",null,null,null,"ROZPOCET",null,null,null,null,null,{"$f":"IF($N$254=\"základní\",$J$254,0)","v":0},{"$f":"IF($N$254=\"snížená\",$J$254,0)","v":0},{"$f":"IF($N$254=\"zákl. přenesená\",$J$254,0)","v":0},{"$f":"IF($N$254=\"sníž. přenesená\",$J$254,0)","v":0},{"$f":"IF($N$254=\"nulová\",$J$254,0)","v":0},"1",{"$f":"ROUND($I$254*$H$254,2)","v":0},"128","11877513"]
[null,null,null,"PP",null,"Balonovací hrdlo na ocel DN 200",null,null,null,null,null,null,null,null,null,null,null,null,null,null,null,null,null,null,null,null,null,null,null,null,null,null,null,null,null,null,null,null,null,null,null,null,null,null,null,"PP","2"]
[null,null,null,"VV",null,"4",null,4,null,null,null,null,null,null,null,null,null,null,null,null,null,null,null,null,null,null,null,null,null,null,null,null,null,null,null,null,null,null,null,null,null,null,null,null,null,"VV","2","2","-1","1","ROZPOCET"]
[null,null,"47","K","230R30077","Elektrojiskrová zkouška","m",41,null,{"$f":"ROUND($I$257*$H$257,2)","v":0},null,null,null,"základní",null,null,0,{"$f":"$Q$257*$H$257","v":0},0,{"$f":"$S$257*$H$257","v":0},null,null,null,null,null,null,null,null,null,null,null,null,null,null,null,null,null,null,null,null,null,null,null,"64",null,"K","2",null,null,null,"ROZPOCET",null,null,null,null,null,{"$f":"IF($N$257=\"základní\",$J$257,0)","v":0},{"$f":"IF($N$257=\"snížená\",$J$257,0)","v":0},{"$f":"IF($N$257=\"zákl. přenesená\",$J$257,0)","v":0},{"$f":"IF($N$257=\"sníž. přenesená\",$J$257,0)","v":0},{"$f":"IF($N$257=\"nulová\",$J$257,0)","v":0},"1",{"$f":"ROUND($I$257*$H$257,2)","v":0},"64","-1682809878"]
[null,null,null,"PP",null,"Elektrojiskrová zkouška",null,null,null,null,null,null,null,null,null,null,null,null,null,null,null,null,null,null,null,null,null,null,null,null,null,null,null,null,null,null,null,null,null,null,null,null,null,null,null,"PP","2"]
[null,null,null,"VV",null,"41",null,41,null,null,null,null,null,null,null,null,null,null,null,null,null,null,null,null,null,null,null,null,null,null,null,null,null,null,null,null,null,null,null,null,null,null,null,null,null,"VV","2","2","-1","1","ROZPOCET"]
[null,null,"48","K","P2300001","Montáž smršťovací manžety na DN 200","kus",6,null,{"$f":"ROUND($I$260*$H$260,2)","v":0},null,null,null,"základní",null,null,0,{"$f":"$Q$260*$H$260","v":0},0,{"$f":"$S$260*$H$260","v":0},null,null,null,null,null,null,null,null,null,null,null,null,null,null,null,null,null,null,null,null,null,null,null,"64",null,"K","2",null,null,null,"ROZPOCET",null,null,null,null,null,{"$f":"IF($N$260=\"základní\",$J$260,0)","v":0},{"$f":"IF($N$260=\"snížená\",$J$260,0)","v":0},{"$f":"IF($N$260=\"zákl. přenesená\",$J$260,0)","v":0},{"$f":"IF($N$260=\"sníž. přenesená\",$J$260,0)","v":0},{"$f":"IF($N$260=\"nulová\",$J$260,0)","v":0},"1",{"$f":"ROUND($I$260*$H$260,2)","v":0},"64","361274552"]
[null,null,null,"PP",null,"Montáž smršťovací manžety na DN 200",null,null,null,null,null,null,null,null,null,null,null,null,null,null,null,null,null,null,null,null,null,null,null,null,null,null,null,null,null,null,null,null,null,null,null,null,null,null,null,"PP","2"]
[null,null,null,"VV",null,"6",null,6,null,null,null,null,null,null,null,null,null,null,null,null,null,null,null,null,null,null,null,null,null,null,null,null,null,null,null,null,null,null,null,null,null,null,null,null,null,"VV","2","2","-1","1","ROZPOCET"]
[null,null,"49","M","31623001R","Smršťovací manžeta ","kus",6,null,{"$f":"ROUND($I$263*$H$263,2)","v":0},null,null,null,"základní",null,null,0,{"$f":"$Q$263*$H$263","v":0},0,{"$f":"$S$263*$H$263","v":0},null,null,null,null,null,null,null,null,null,null,null,null,null,null,null,null,null,null,null,null,null,null,null,"128",null,"M","2",null,null,null,"ROZPOCET",null,null,null,null,null,{"$f":"IF($N$263=\"základní\",$J$263,0)","v":0},{"$f":"IF($N$263=\"snížená\",$J$263,0)","v":0},{"$f":"IF($N$263=\"zákl. přenesená\",$J$263,0)","v":0},{"$f":"IF($N$263=\"sníž. přenesená\",$J$263,0)","v":0},{"$f":"IF($N$263=\"nulová\",$J$263,0)","v":0},"1",{"$f":"ROUND($I$263*$H$263,2)","v":0},"128","1694175830"]
[null,null,null,"PP",null,"Smršťovací manžeta ",null,null,null,null,null,null,null,null,null,null,null,null,null,null,null,null,null,null,null,null,null,null,null,null,null,null,null,null,null,null,null,null,null,null,null,null,null,null,null,"PP","2"]
[null,null,null,"VV",null,"6",null,6,null,null,null,null,null,null,null,null,null,null,null,null,null,null,null,null,null,null,null,null,null,null,null,null,null,null,null,null,null,null,null,null,null,null,null,null,null,"VV","2","2","-1","1","ROZPOCET"]
[null,null,"50","M","31623002R","Spoj. pásek ","kus",4,null,{"$f":"ROUND($I$266*$H$266,2)","v":0},null,null,null,"základní",null,null,0,{"$f":"$Q$266*$H$266","v":0},0,{"$f":"$S$266*$H$266","v":0},null,null,null,null,null,null,null,null,null,null,null,null,null,null,null,null,null,null,null,null,null,null,null,"128",null,"M","2",null,null,null,"ROZPOCET",null,null,null,null,null,{"$f":"IF($N$266=\"základní\",$J$266,0)","v":0},{"$f":"IF($N$266=\"snížená\",$J$266,0)","v":0},{"$f":"IF($N$266=\"zákl. přenesená\",$J$266,0)","v":0},{"$f":"IF($N$266=\"sníž. přenesená\",$J$266,0)","v":0},{"$f":"IF($N$266=\"nulová\",$J$266,0)","v":0},"1",{"$f":"ROUND($I$266*$H$266,2)","v":0},"128","864156153"]
[null,null,null,"PP",null,"Spoj. pásek ",null,null,null,null,null,null,null,null,null,null,null,null,null,null,null,null,null,null,null,null,null,null,null,null,null,null,null,null,null,null,null,null,null,null,null,null,null,null,null,"PP","2"]
[null,null,null,"VV",null,"4",null,4,null,null,null,null,null,null,null,null,null,null,null,null,null,null,null,null,null,null,null,null,null,null,null,null,null,null,null,null,null,null,null,null,null,null,null,null,null,"VV","2","2","-1","1","ROZPOCET"]
[null,null,"51","K","P2300002","Doizolování potrubí ","m2",3,null,{"$f":"ROUND($I$269*$H$269,2)","v":0},null,null,null,"základní",null,null,0,{"$f":"$Q$269*$H$269","v":0},0,{"$f":"$S$269*$H$269","v":0},null,null,null,null,null,null,null,null,null,null,null,null,null,null,null,null,null,null,null,null,null,null,null,"64",null,"K","2",null,null,null,"ROZPOCET",null,null,null,null,null,{"$f":"IF($N$269=\"základní\",$J$269,0)","v":0},{"$f":"IF($N$269=\"snížená\",$J$269,0)","v":0},{"$f":"IF($N$269=\"zákl. přenesená\",$J$269,0)","v":0},{"$f":"IF($N$269=\"sníž. přenesená\",$J$269,0)","v":0},{"$f":"IF($N$269=\"nulová\",$J$269,0)","v":0},"1",{"$f":"ROUND($I$269*$H$269,2)","v":0},"64","1112236875"]
[null,null,null,"PP",null,"Doizolování potrubí ",null,null,null,null,null,null,null,null,null,null,null,null,null,null,null,null,null,null,null,null,null,null,null,null,null,null,null,null,null,null,null,null,null,null,null,null,null,null,null,"PP","2"]
[null,null,null,"VV",null,"3",null,3,null,null,null,null,null,null,null,null,null,null,null,null,null,null,null,null,null,null,null,null,null,null,null,null,null,null,null,null,null,null,null,null,null,null,null,null,null,"VV","2","2","-1","1","ROZPOCET"]
[null,null,"52","M","31623003R","Páska 10 cm, nátěr a tmel","m2",3,null,{"$f":"ROUND($I$272*$H$272,2)","v":0},null,null,null,"základní",null,null,0,{"$f":"$Q$272*$H$272","v":0},0,{"$f":"$S$272*$H$272","v":0},null,null,null,null,null,null,null,null,null,null,null,null,null,null,null,null,null,null,null,null,null,null,null,"128",null,"M","2",null,null,null,"ROZPOCET",null,null,null,null,null,{"$f":"IF($N$272=\"základní\",$J$272,0)","v":0},{"$f":"IF($N$272=\"snížená\",$J$272,0)","v":0},{"$f":"IF($N$272=\"zákl. přenesená\",$J$272,0)","v":0},{"$f":"IF($N$272=\"sníž. přenesená\",$J$272,0)","v":0},{"$f":"IF($N$272=\"nulová\",$J$272,0)","v":0},"1",{"$f":"ROUND($I$272*$H$272,2)","v":0},"128","-127163297"]
[null,null,null,"PP",null,"Páska 10 cm, nátěr a tmel",null,null,null,null,null,null,null,null,null,null,null,null,null,null,null,null,null,null,null,null,null,null,null,null,null,null,null,null,null,null,null,null,null,null,null,null,null,null,null,"PP","2"]
[null,null,null,"VV",null,"3",null,3,null,null,null,null,null,null,null,null,null,null,null,null,null,null,null,null,null,null,null,null,null,null,null,null,null,null,null,null,null,null,null,null,null,null,null,null,null,"VV","2","2","-1","1","ROZPOCET"]

{"sheet":"VON-1E - Vedlejší rozpočr...","index":3,"n_rows":103,"n_cols":65,"rows_kept":103,"cut":false,"hidden":false,"merged":[[75,4,75,7],[77,4,77,7],[25,4,25,7],[46,4,46,7],[48,4,48,7],[50,4,50,7],[73,4,73,7],[0,6,0,7],[1,11,1,21],[6,4,6,7],[8,4,8,7],[10,4,10,7]]}
[null,null,null,"List obsahuje:",null,"1) Krycí list soupisu","2) Rekapitulace",null,null,"3) Soupis prací","Zpět na list:","Rekapitulace stavby"]
[null,null,null,null,null,null,null,null,null,null,null,null,null,null,null,null,null,null,null,null,null,null,null,null,null,null,null,null,null,null,null,null,null,null,null,null,null,null,null,null,null,null,null,null,null,"{35FD886D-B9A4-457C-9FC2-B59FD72BA824}"]
[null,null,null,null,null,null,null,null,null,null,null,null,null,null,null,null,null,null,null,null,null,null,null,null,null,null,null,null,null,null,null,null,null,null,null,null,null,null,null,null,null,null,null,null,null,"2"]
[null,null,null,"KRYCÍ LIST SOUPISU",null,null,null,null,null,null,null,null,"v ---  níže se nacházejí doplnkové a pomocné údaje k sestavám  --- v",null,null,null,null,null,null,null,null,null,null,null,null,null,null,null,null,null,null,null,null,null,null,null,null,null,null,null,null,null,null,null,null,"False"]
[]
[null,null,null,"Stavba:"]
[null,null,null,null,{"$f":"'Rekapitulace stavby'!$K$6","v":"Město Sokolov - Záchytné parkoviště Michal"}]
[null,null,null,"Objekt:"]
[null,null,null,null,"1.E - 1.ETAPA"]
[null,null,null,"Soupis:"]
[null,null,null,null,"VON-1E - Vedlejší rozpočrové náklady (VRN) a Ostatní náklady (ON)"]
[]
[null,null,null,"KSO:",null,"822 29",null,null,"CC-CZ:","7941-26"]
[null,null,null,"Místo:",null,"Sokolov",null,null,"Datum:",{"$f":"'Rekapitulace stavby'!$AN$8","v":"09.09.2014"}]
[]
[null,null,null,"Zadavatel:",null,null,null,null,"IČ:"]
[null,null,null,null,"Město Sokolov",null,null,null,"DIČ:"]
[]
[null,null,null,"Uchazeč:",null,null,null,null,"IČ:",{"$f":"IF('Rekapitulace stavby'!$AN$13=\"Vyplň údaj\",\"\",IF('Rekapitulace stavby'!$AN$13=\"\",\"\",'Rekapitulace stavby'!$AN$13))","v":""}]
[null,null,null,null,{"$f":"IF('Rekapitulace stavby'!$E$14=\"Vyplň údaj\",\"\",IF('Rekapitulace stavby'!$E$14=\"\",\"\",'Rekapitulace stavby'!$E$14))","v":""},null,null,null,"DIČ:",{"$f":"IF('Rekapitulace stavby'!$AN$14=\"Vyplň údaj\",\"\",IF('Rekapitulace stavby'!$AN$14=\"\",\"\",'Rekapitulace stavby'!$AN$14))","v":""}]
[]
[null,null,null,"Projektant:",null,null,null,null,"IČ:","18224920"]
[null,null,null,null,"BPO spol. s r.o., Lidická 1239, 363 17 Ostrov",null,null,null,"DIČ:","CZ18224920"]
[]
[null,null,null,"Poznámka:"]
[]
[]
[]
[null,null,null,"Cena bez DPH",null,null,null,null,null,{"$f":"ROUND($J$86,2)","v":0}]
[]
[null,null,null,null,null,"Základ daně",null,null,"Sazba daně","Výše daně"]
[null,null,null,"DPH","základní",{"$f":"ROUND(SUM($BE$86:$BE$103),2)","v":0},null,null,0.21,{"$f":"ROUND(SUM($BE$86:$BE$103)*$I$32,2)","v":0}]
[null,null,null,null,"snížená",{"$f":"ROUND(SUM($BF$86:$BF$103),2)","v":0},null,null,0.15,{"$f":"ROUND(SUM($BF$86:$BF$103)*$I$33,2)","v":0}]
[null,null,null,null,"zákl. přenesená",{"$f":"ROUND(SUM($BG$86:$BG$103),2)","v":0},null,null,0.21,0]
[null,null,null,null,"sníž. přenesená",{"$f":"ROUND(SUM($BH$86:$BH$103),2)","v":0},null,null,0.15,0]
[null,null,null,null,"nulová",{"$f":"ROUND(SUM($BI$86:$BI$103),2)","v":0},null,null,0,0]
[]
[null,null,null,"Cena s DPH",null,null,"v","CZK",null,{"$f":"ROUND(SUM($J$29:$J$36),2)","v":0}]
[]
[]
[]
[]
[]
[null,null,"REKAPITULACE ČLENĚNÍ SOUPISU PRACÍ"]
[]
[null,null,"Stavba:"]
[null,null,null,null,{"$f":"$E$7","v":"Město Sokolov - Záchytné parkoviště Michal"}]
[null,null,"Objekt:"]
[null,null,null,null,"1.E - 1.ETAPA"]
[null,null,"Soupis:"]
[null,null,null,null,{"$f":"$E$11","v":"VON-1E - Vedlejší rozpočrové náklady (VRN) a Ostatní náklady (ON)"}]
[]
[null,null,"Místo:",null,null,{"$f":"$F$14","v":"Sokolov"},null,null,"Datum:",{"$f":"IF($J$14=\"\",\"\",$J$14)","v":"09.09.2014"}]
[]
[null,null,"Zadavatel:",null,null,{"$f":"$E$17","v":"Město Sokolov"},null,null,"Projektant:",{"$f":"$E$23","v":"BPO spol. s r.o., Lidická 1239, 363 17 Ostrov"}]
[null,null,"Uchazeč:",null,null,{"$f":"IF($E$20=\"\",\"\",$E$20)","v":""}]
[]
[null,null,"Kód dílu - Popis",null,null,null,null,null,null,"Cena celkem [CZK]"]
[]
[null,null,"Náklady soupisu celkem",null,null,null,null,null,null,{"$f":"ROUND($J$86,2)","v":0},null,null,null,null,null,null,null,null,null,null,null,null,null,null,null,null,null,null,null,null,null,null,null,null,null,null,null,null,null,null,null,null,null,null,null,null,"-1"]
[null,null,null,"VRN - Vedlejší rozpočtové náklady",null,null,null,null,null,{"$f":"ROUND($J$87,2)","v":0}]
[null,null,null,"    VRN 02 - Vedlejší rozpočtové náklady pro SO 122",null,null,null,null,null,{"$f":"ROUND($J$88,2)","v":0}]
[null,null,null,"    VRN 07 - Vedlejší rozpočtové náklady pro SO 511",null,null,null,null,null,{"$f":"ROUND($J$91,2)","v":0}]
[null,null,null,"ON - Ostatní náklady",null,null,null,null,null,{"$f":"ROUND($J$94,2)","v":0}]
[]
[]
[]
[]
[]
[]
[null,null,"SOUPIS PRACÍ"]
[]
[null,null,"Stavba:"]
[null,null,null,null,{"$f":"$E$7","v":"Město Sokolov - Záchytné parkoviště Michal"}]
[null,null,"Objekt:"]
[null,null,null,null,"1.E - 1.ETAPA"]
[null,null,"Soupis:"]
[null,null,null,null,{"$f":"$E$11","v":"VON-1E - Vedlejší rozpočrové náklady (VRN) a Ostatní náklady (ON)"}]
[]
[null,null,"Místo:",null,null,{"$f":"$F$14","v":"Sokolov"},null,null,"Datum:",{"$f":"IF($J$14=\"\",\"\",$J$14)","v":"09.09.2014"}]
[]
[null,null,"Zadavatel:",null,null,{"$f":"$E$17","v":"Město Sokolov"},null,null,"Projektant:",{"$f":"$E$23","v":"BPO spol. s r.o., Lidická 1239, 363 17 Ostrov"}]
[null,null,"Uchazeč:",null,null,{"$f":"IF($E$20=\"\",\"\",$E$20)","v":""}]
[]
[null,null,"PČ","Typ","Kód","Popis","MJ","Množství","J.cena [CZK]","Cena celkem\n[CZK]","Cenová soustava",null,"Poznámka","DPH","J. Nh [h]","Nh celkem [h]","J. hmotnost\n[t]","Hmotnost\ncelkem [t]","J. suť [t]","Suť Celkem [t]"]
[null,null,"Náklady soupisu celkem",null,null,null,null,null,null,{"$f":"$BK$86","v":0},null,null,null,null,null,{"$f":"$P$87+$P$94","v":0},null,{"$f":"$R$87+$R$94","v":0},null,{"$f":"$T$87+$T$94","v":0},null,null,null,null,null,null,null,null,null,null,null,null,null,null,null,null,null,null,null,null,null,null,null,null,null,"D","-1",null,null,null,null,null,null,null,null,null,null,null,null,null,null,null,{"$f":"$BK$87+$BK$94","v":0}]
[null,null,null,"D","VRN","Vedlejší rozpočtové náklady",null,null,null,{"$f":"$BK$87","v":0},null,null,null,null,null,{"$f":"$P$88+$P$91","v":0},null,{"$f":"$R$88+$R$91","v":0},null,{"$f":"$T$88+$T$91","v":0},null,null,null,null,null,null,null,null,null,null,null,null,null,null,null,null,null,null,null,null,null,null,null,"5",null,"D","0",null,null,null,"ROZPOCET",null,null,null,null,null,null,null,null,null,null,null,{"$f":"$BK$88+$BK$91","v":0}]
[null,null,null,"D","VRN 02","Vedlejší rozpočtové náklady pro SO 122",null,null,null,{"$f":"$BK$88","v":0},null,null,null,null,null,{"$f":"SUM($P$89:$P$90)","v":0},null,{"$f":"SUM($R$89:$R$90)","v":0},null,{"$f":"SUM($T$89:$T$90)","v":0},null,null,null,null,null,null,null,null,null,null,null,null,null,null,null,null,null,null,null,null,null,null,null,"5",null,"D","1",null,null,null,"ROZPOCET",null,null,null,null,null,null,null,null,null,null,null,{"$f":"SUM($BK$89:$BK$90)","v":0}]
[null,null,"1","K","01","Zařízení staveniště","%",null,null,{"$f":"ROUND($I$89*$H$89,2)","v":0},null,null,null,"základní",null,null,0,{"$f":"$Q$89*$H$89","v":0},0,{"$f":"$S$89*$H$89","v":0},null,null,null,null,null,null,null,null,null,null,null,null,null,null,null,null,null,null,null,null,null,null,null,"4",null,"K","2",null,null,null,"ROZPOCET",null,null,null,null,null,{"$f":"IF($N$89=\"základní\",$J$89,0)","v":0},{"$f":"IF($N$89=\"snížená\",$J$89,0)","v":0},{"$f":"IF($N$89=\"zákl. přenesená\",$J$89,0)","v":0},{"$f":"IF($N$89=\"sníž. přenesená\",$J$89,0)","v":0},{"$f":"IF($N$89=\"nulová\",$J$89,0)","v":0},"1",{"$f":"ROUND($I$89*$H$89,2)","v":0},"4","-666287452"]
[null,null,null,"PP",null,"Zařízení staveniště",null,null,null,null,null,null,null,null,null,null,null,null,null,null,null,null,null,null,null,null,null,null,null,null,null,null,null,null,null,null,null,null,null,null,null,null,null,null,null,"PP","2"]
[null,null,null,"D","VRN 07","Vedlejší rozpočtové náklady pro SO 511",null,null,null,{"$f":"$BK$91","v":0},null,null,null,null,null,{"$f":"SUM($P$92:$P$93)","v":0},null,{"$f":"SUM($R$92:$R$93)","v":0},null,{"$f":"SUM($T$92:$T$93)","v":0},null,null,null,null,null,null,null,null,null,null,null,null,null,null,null,null,null,null,null,null,null,null,null,"1",null,"D","1",null,null,null,"ROZPOCET",null,null,null,null,null,null,null,null,null,null,null,{"$f":"SUM($BK$92:$BK$93)","v":0}]
[null,null,"2","K","01","Zařízení staveniště","%",null,null,{"$f":"ROUND($I$92*$H$92,2)","v":0},null,null,null,"základní",null,null,0,{"$f":"$Q$92*$H$92","v":0},0,{"$f":"$S$92*$H$92","v":0},null,null,null,null,null,null,null,null,null,null,null,null,null,null,null,null,null,null,null,null,null,null,null,"4",null,"K","2",null,null,null,"ROZPOCET",null,null,null,null,null,{"$f":"IF($N$92=\"základní\",$J$92,0)","v":0},{"$f":"IF($N$92=\"snížená\",$J$92,0)","v":0},{"$f":"IF($N$92=\"zákl. přenesená\",$J$92,0)","v":0},{"$f":"IF($N$92=\"sníž. přenesená\",$J$92,0)","v":0},{"$f":"IF($N$92=\"nulová\",$J$92,0)","v":0},"1",{"$f":"ROUND($I$92*$H$92,2)","v":0},"4","-1372573530"]
[null,null,null,"PP",null,"Zařízení staveniště",null,null,null,null,null,null,null,null,null,null,null,null,null,null,null,null,null,null,null,null,null,null,null,null,null,null,null,null,null,null,null,null,null,null,null,null,null,null,null,"PP","2"]
[null,null,null,"D","ON","Ostatní náklady",null,null,null,{"$f":"$BK$94","v":0},null,null,null,null,null,{"$f":"SUM($P$95:$P$103)","v":0},null,{"$f":"SUM($R$95:$R$103)","v":0},null,{"$f":"SUM($T$95:$T$103)","v":0},null,null,null,null,null,null,null,null,null,null,null,null,null,null,null,null,null,null,null,null,null,null,null,"4",null,"D","0",null,null,null,"ROZPOCET",null,null,null,null,null,null,null,null,null,null,null,{"$f":"SUM($BK$95:$BK$103)","v":0}]
[null,null,"3","K","O-01","Velkoplošný informační billboard navržený v soulady s pravidly ROP SZ o velikosti min. 5,1m x 2,4 m","kus",1,null,{"$f":"ROUND($I$95*$H$95,2)","v":0},null,null,null,"základní",null,null,0,{"$f":"$Q$95*$H$95","v":0},0,{"$f":"$S$95*$H$95","v":0},null,null,null,null,null,null,null,null,null,null,null,null,null,null,null,null,null,null,null,null,null,null,null,"512",null,"K","1",null,null,null,"ROZPOCET",null,null,null,null,null,{"$f":"IF($N$95=\"základní\",$J$95,0)","v":0},{"$f":"IF($N$95=\"snížená\",$J$95,0)","v":0},{"$f":"IF($N$95=\"zákl. přenesená\",$J$95,0)","v":0},{"$f":"IF($N$95=\"sníž. přenesená\",$J$95,0)","v":0},{"$f":"IF($N$95=\"nulová\",$J$95,0)","v":0},"1",{"$f":"ROUND($I$95*$H$95,2)","v":0},"512","-1456198615"]
[null,null,"4","K","O-02","Koordinační a kompletační činnost dodavatele","Kč",1,null,{"$f":"ROUND($I$96*$H$96,2)","v":0},null,null,null,"základní",null,null,0,{"$f":"$Q$96*$H$96","v":0},0,{"$f":"$S$96*$H$96","v":0},null,null,null,null,null,null,null,null,null,null,null,null,null,null,null,null,null,null,null,null,null,null,null,"512",null,"K","1",null,null,null,"ROZPOCET",null,null,null,null,null,{"$f":"IF($N$96=\"základní\",$J$96,0)","v":0},{"$f":"IF($N$96=\"snížená\",$J$96,0)","v":0},{"$f":"IF($N$96=\"zákl. přenesená\",$J$96,0)","v":0},{"$f":"IF($N$96=\"sníž. přenesená\",$J$96,0)","v":0},{"$f":"IF($N$96=\"nulová\",$J$96,0)","v":0},"1",{"$f":"ROUND($I$96*$H$96,2)","v":0},"512","-842696635"]
[null,null,"5","K","O-03","Geodetické práce a zaměření skutečného procedení stavby + geodetický plán","kč",1,null,{"$f":"ROUND($I$97*$H$97,2)","v":0},null,null,null,"základní",null,null,0,{"$f":"$Q$97*$H$97","v":0},0,{"$f":"$S$97*$H$97","v":0},null,null,null,null,null,null,null,null,null,null,null,null,null,null,null,null,null,null,null,null,null,null,null,"512",null,"K","1",null,null,null,"ROZPOCET",null,null,null,null,null,{"$f":"IF($N$97=\"základní\",$J$97,0)","v":0},{"$f":"IF($N$97=\"snížená\",$J$97,0)","v":0},{"$f":"IF($N$97=\"zákl. přenesená\",$J$97,0)","v":0},{"$f":"IF($N$97=\"sníž. přenesená\",$J$97,0)","v":0},{"$f":"IF($N$97=\"nulová\",$J$97,0)","v":0},"1",{"$f":"ROUND($I$97*$H$97,2)","v":0},"512","1434158380"]
[null,null,"6","K","O-04","Vytýčení stávajících inženýrských sítí na staveništi a jejich ověření u správců","Kč",1,null,{"$f":"ROUND($I$98*$H$98,2)","v":0},null,null,null,"základní",null,null,0,{"$f":"$Q$98*$H$98","v":0},0,{"$f":"$S$98*$H$98","v":0},null,null,null,null,null,null,null,null,null,null,null,null,null,null,null,null,null,null,null,null,null,null,null,"512",null,"K","1",null,null,null,"ROZPOCET",null,null,null,null,null,{"$f":"IF($N$98=\"základní\",$J$98,0)","v":0},{"$f":"IF($N$98=\"snížená\",$J$98,0)","v":0},{"$f":"IF($N$98=\"zákl. přenesená\",$J$98,0)","v":0},{"$f":"IF($N$98=\"sníž. přenesená\",$J$98,0)","v":0},{"$f":"IF($N$98=\"nulová\",$J$98,0)","v":0},"1",{"$f":"ROUND($I$98*$H$98,2)","v":0},"512","1011816811"]
[null,null,"7","K","O-05","Zkoušky hutnění","Kč",1,null,{"$f":"ROUND($I$99*$H$99,2)","v":0},null,null,null,"základní",null,null,0,{"$f":"$Q$99*$H$99","v":0},0,{"$f":"$S$99*$H$99","v":0},null,null,null,null,null,null,null,null,null,null,null,null,null,null,null,null,null,null,null,null,null,null,null,"512",null,"K","1",null,null,null,"ROZPOCET",null,null,null,null,null,{"$f":"IF($N$99=\"základní\",$J$99,0)","v":0},{"$f":"IF($N$99=\"snížená\",$J$99,0)","v":0},{"$f":"IF($N$99=\"zákl. přenesená\",$J$99,0)","v":0},{"$f":"IF($N$99=\"sníž. přenesená\",$J$99,0)","v":0},{"$f":"IF($N$99=\"nulová\",$J$99,0)","v":0},"1",{"$f":"ROUND($I$99*$H$99,2)","v":0},"512","-1482214643"]
[null,null,"8","K","O-06","Zpracování dokumentace skutečného provádění stavby","Kč",1,null,{"$f":"ROUND($I$100*$H$100,2)","v":0},null,null,null,"základní",null,null,0,{"$f":"$Q$100*$H$100","v":0},0,{"$f":"$S$100*$H$100","v":0},null,null,null,null,null,null,null,null,null,null,null,null,null,null,null,null,null,null,null,null,null,null,null,"512",null,"K","1",null,null,null,"ROZPOCET",null,null,null,null,null,{"$f":"IF($N$100=\"základní\",$J$100,0)","v":0},{"$f":"IF($N$100=\"snížená\",$J$100,0)","v":0},{"$f":"IF($N$100=\"zákl. přenesená\",$J$100,0)","v":0},{"$f":"IF($N$100=\"sníž. přenesená\",$J$100,0)","v":0},{"$f":"IF($N$100=\"nulová\",$J$100,0)","v":0},"1",{"$f":"ROUND($I$100*$H$100,2)","v":0},"512","-551753705"]
[null,null,"9","K","O-07","Opatření k zajištění bezpečnosti účastníků realizace akce a veřejnosti (zejména zajištění staveniště, bezpečnostní tabulky, osvětlení výkopů)","Kč",1,null,{"$f":"ROUND($I$101*$H$101,2)","v":0},null,null,null,"základní",null,null,0,{"$f":"$Q$101*$H$101","v":0},0,{"$f":"$S$101*$H$101","v":0},null,null,null,null,null,null,null,null,null,null,null,null,null,null,null,null,null,null,null,null,null,null,null,"512",null,"K","1",null,null,null,"ROZPOCET",null,null,null,null,null,{"$f":"IF($N$101=\"základní\",$J$101,0)","v":0},{"$f":"IF($N$101=\"snížená\",$J$101,0)","v":0},{"$f":"IF($N$101=\"zákl. přenesená\",$J$101,0)","v":0},{"$f":"IF($N$101=\"sníž. přenesená\",$J$101,0)","v":0},{"$f":"IF($N$101=\"nulová\",$J$101,0)","v":0},"1",{"$f":"ROUND($I$101*$H$101,2)","v":0},"512","426153643"]
[null,null,"10","K","O-08","Dopravně inženýrská opatření (DIO) včetně projednání s Policií ČR - DI","Kč",1,null,{"$f":"ROUND($I$102*$H$102,2)","v":0},null,null,null,"základní",null,null,0,{"$f":"$Q$102*$H$102","v":0},0,{"$f":"$S$102*$H$102","v":0},null,null,null,null,null,null,null,null,null,null,null,null,null,null,null,null,null,null,null,null,null,null,null,"512",null,"K","1",null,null,null,"ROZPOCET",null,null,null,null,null,{"$f":"IF($N$102=\"základní\",$J$102,0)","v":0},{"$f":"IF($N$102=\"snížená\",$J$102,0)","v":0},{"$f":"IF($N$102=\"zákl. přenesená\",$J$102,0)","v":0},{"$f":"IF($N$102=\"sníž. přenesená\",$J$102,0)","v":0},{"$f":"IF($N$102=\"nulová\",$J$102,0)","v":0},"1",{"$f":"ROUND($I$102*$H$102,2)","v":0},"512","868944941"]
[null,null,"11","K","O-09","Revize plynovodu","Kč",1,null,{"$f":"ROUND($I$103*$H$103,2)","v":0},null,null,null,"základní",null,null,0,{"$f":"$Q$103*$H$103","v":0},0,{"$f":"$S$103*$H$103","v":0},null,null,null,null,null,null,null,null,null,null,null,null,null,null,null,null,null,null,null,null,null,null,null,"512",null,"K","1",null,null,null,"ROZPOCET",null,null,null,null,null,{"$f":"IF($N$103=\"základní\",$J$103,0)","v":0},{"$f":"IF($N$103=\"snížená\",$J$103,0)","v":0},{"$f":"IF($N$103=\"zákl. přenesená\",$J$103,0)","v":0},{"$f":"IF($N$103=\"sníž. přenesená\",$J$103,0)","v":0},{"$f":"IF($N$103=\"nulová\",$J$103,0)","v":0},"1",{"$f":"ROUND($I$103*$H$103,2)","v":0},"512","-821076763"]

{"sheet":"SO111 - SO 111  Parkoviště","index":4,"n_rows":739,"n_cols":65,"rows_kept":739,"cut":false,"hidden":false,"merged":[[84,4,84,7],[86,4,86,7],[25,4,25,7],[46,4,46,7],[48,4,48,7],[50,4,50,7],[82,4,82,7],[0,6,0,7],[1,11,1,21],[6,4,6,7],[8,4,8,7],[10,4,10,7]]}
[null,null,null,"List obsahuje:",null,"1) Krycí list soupisu","2) Rekapitulace",null,null,"3) Soupis prací","Zpět na list:","Rekapitulace stavby"]
[null,null,null,null,null,null,null,null,null,null,null,null,null,null,null,null,null,null,null,null,null,null,null,null,null,null,null,null,null,null,null,null,null,null,null,null,null,null,null,null,null,null,null,null,null,"{574DB0AE-F8E1-4219-8846-1B43C4A81494}"]
[null,null,null,null,null,null,null,null,null,null,null,null,null,null,null,null,null,null,null,null,null,null,null,null,null,null,null,null,null,null,null,null,null,null,null,null,null,null,null,null,null,null,null,null,null,"2"]
[null,null,null,"KRYCÍ LIST SOUPISU",null,null,null,null,null,null,null,null,"v ---  níže se nacházejí doplnkové a pomocné údaje k sestavám  --- v",null,null,null,null,null,null,null,null,null,null,null,null,null,null,null,null,null,null,null,null,null,null,null,null,null,null,null,null,null,null,null,null,"False"]
[]
[null,null,null,"Stavba:"]
[null,null,null,null,{"$f":"'Rekapitulace stavby'!$K$6","v":"Město Sokolov - Záchytné parkoviště Michal"}]
[null,null,null,"Objekt:"]
[null,null,null,null,"2.E - 2. ETAPA"]
[null,null,null,"Soupis:"]
[null,null,null,null,"SO111 - SO 111  Parkoviště"]
[]
[null,null,null,"KSO:",null,"822 29",null,null,"CC-CZ:","7641-26"]
[null,null,null,"Místo:",null,"Sokolov",null,null,"Datum:",{"$f":"'Rekapitulace stavby'!$AN$8","v":"09.09.2014"}]
[]
[null,null,null,"Zadavatel:",null,null,null,null,"IČ:"]
[null,null,null,null,"Město Sokolov",null,null,null,"DIČ:"]
[]
[null,null,null,"Uchazeč:",null,null,null,null,"IČ:",{"$f":"IF('Rekapitulace stavby'!$AN$13=\"Vyplň údaj\",\"\",IF('Rekapitulace stavby'!$AN$13=\"\",\"\",'Rekapitulace stavby'!$AN$13))","v":""}]
[null,null,null,null,{"$f":"IF('Rekapitulace stavby'!$E$14=\"Vyplň údaj\",\"\",IF('Rekapitulace stavby'!$E$14=\"\",\"\",'Rekapitulace stavby'!$E$14))","v":""},null,null,null,"DIČ:",{"$f":"IF('Rekapitulace stavby'!$AN$14=\"Vyplň údaj\",\"\",IF('Rekapitulace stavby'!$AN$14=\"\",\"\",'Rekapitulace stavby'!$AN$14))","v":""}]
[]
[null,null,null,"Projektant:",null,null,null,null,"IČ:","18224920"]
[null,null,null,null,"BPO spol. s r.o., Lidická 1239, 363 17 Ostrov",null,null,null,"DIČ:","CZ18224920"]
[]
[null,null,null,"Poznámka:"]
[]
[]
[]
[null,null,null,"Cena bez DPH",null,null,null,null,null,{"$f":"ROUND($J$95,2)","v":0}]
[]
[null,null,null,null,null,"Základ daně",null,null,"Sazba daně","Výše daně"]
[null,null,null,"DPH","základní",{"$f":"ROUND(SUM($BE$95:$BE$739),2)","v":0},null,null,0.21,{"$f":"ROUND(SUM($BE$95:$BE$739)*$I$32,2)","v":0}]
[null,null,null,null,"snížená",{"$f":"ROUND(SUM($BF$95:$BF$739),2)","v":0},null,null,0.15,{"$f":"ROUND(SUM($BF$95:$BF$739)*$I$33,2)","v":0}]
[null,null,null,null,"zákl. přenesená",{"$f":"ROUND(SUM($BG$95:$BG$739),2)","v":0},null,null,0.21,0]
[null,null,null,null,"sníž. přenesená",{"$f":"ROUND(SUM($BH$95:$BH$739),2)","v":0},null,null,0.15,0]
[null,null,null,null,"nulová",{"$f":"ROUND(SUM($BI$95:$BI$739),2)","v":0},null,null,0,0]
[]
[null,null,null,"Cena s DPH",null,null,"v","CZK",null,{"$f":"ROUND(SUM($J$29:$J$36),2)","v":0}]
[]
[]
[]
[]
[]
[null,null,"REKAPITULACE ČLENĚNÍ SOUPISU PRACÍ"]
[]
[null,null,"Stavba:"]
[null,null,null,null,{"$f":"$E$7","v":"Město Sokolov - Záchytné parkoviště Michal"}]
[null,null,"Objekt:"]
[null,null,null,null,"2.E - 2. ETAPA"]
[null,null,"Soupis:"]
[null,null,null,null,{"$f":"$E$11","v":"SO111 - SO 111  Parkoviště"}]
[]
[null,null,"Místo:",null,null,{"$f":"$F$14","v":"Sokolov"},null,null,"Datum:",{"$f":"IF($J$14=\"\",\"\",$J$14)","v":"09.09.2014"}]
[]
[null,null,"Zadavatel:",null,null,{"$f":"$E$17","v":"Město Sokolov"},null,null,"Projektant:",{"$f":"$E$23","v":"BPO spol. s r.o., Lidická 1239, 363 17 Ostrov"}]
[null,null,"Uchazeč:",null,null,{"$f":"IF($E$20=\"\",\"\",$E$20)","v":""}]
[]
[null,null,"Kód dílu - Popis",null,null,null,null,null,null,"Cena celkem [CZK]"]
[]
[null,null,"Náklady soupisu celkem",null,null,null,null,null,null,{"$f":"ROUND($J$95,2)","v":0},null,null,null,null,null,null,null,null,null,null,null,null,null,null,null,null,null,null,null,null,null,null,null,null,null,null,null,null,null,null,null,null,null,null,null,null,"-1"]
[null,null,null,"HSV - Práce a dodávky HSV",null,null,null,null,null,{"$f":"ROUND($J$96,2)","v":0}]
[null,null,null,"    1 - Zemní práce",null,null,null,null,null,{"$f":"ROUND($J$97,2)","v":0}]
[null,null,null,"    11 - Zemní práce - přípravné a přidružené práce",null,null,null,null,null,{"$f":"ROUND($J$394,2)","v":0}]
[null,null,null,"    45 - Vodorovné podkladní a vedlejší konstrukce inž. staveb",null,null,null,null,null,{"$f":"ROUND($J$403,2)","v":0}]
[null,null,null,"    2 - Zakládání",null,null,null,null,null,{"$f":"ROUND($J$410,2)","v":0}]
[null,null,null,"    56 - Podkladní vrstvy komunikací, letišť a ploch",null,null,null,null,null,{"$f":"ROUND($J$431,2)","v":0}]
[null,null,null,"    57 - Kryty pozemních komunikací letišť a ploch z kameniva nebo živičné",null,null,null,null,null,{"$f":"ROUND($J$464,2)","v":0}]
[null,null,null,"    59 - Kryty pozemních komunikací, letišť a ploch dlážděných (předlažby)",null,null,null,null,null,{"$f":"ROUND($J$481,2)","v":0}]
[null,null,null,"    8 - Trubní vedení",null,null,null,null,null,{"$f":"ROUND($J$503,2)","v":0}]
[null,null,null,"    91 - Doplňující konstrukce a práce pozemních komunikací, letišť a ploch",null,null,null,null,null,{"$f":"ROUND($J$537,2)","v":0}]
[null,null,null,"    93 - Různé dokončovací konstrukce a práce inženýrských staveb",null,null,null,null,null,{"$f":"ROUND($J$676,2)","v":0}]
[null,null,null,"    97 - Prorážení otvorů a ostatní bourací práce",null,null,null,null,null,{"$f":"ROUND($J$723,2)","v":0}]
[null,null,null,"    99 - Přesun hmot",null,null,null,null,null,{"$f":"ROUND($J$736,2)","v":0}]
[]
[]
[]
[]
[]
[]
[null,null,"SOUPIS PRACÍ"]
[]
[null,null,"Stavba:"]
[null,null,null,null,{"$f":"$E$7","v":"Město Sokolov - Záchytné parkoviště Michal"}]
[null,null,"Objekt:"]
[null,null,null,null,"2.E - 2. ETAPA"]
[null,null,"Soupis:"]
[null,null,null,null,{"$f":"$E$11","v":"SO111 - SO 111  Parkoviště"}]
[]
[null,null,"Místo:",null,null,{"$f":"$F$14","v":"Sokolov"},null,null,"Datum:",{"$f":"IF($J$14=\"\",\"\",$J$14)","v":"09.09.2014"}]
[]
[null,null,"Zadavatel:",null,null,{"$f":"$E$17","v":"Město Sokolov"},null,null,"Projektant:",{"$f":"$E$23","v":"BPO spol. s r.o., Lidická 1239, 363 17 Ostrov"}]
[null,null,"Uchazeč:",null,null,{"$f":"IF($E$20=\"\",\"\",$E$20)","v":""}]
[]
[null,null,"PČ","Typ","Kód","Popis","MJ","Množství","J.cena [CZK]","Cena celkem\n[CZK]","Cenová soustava",null,"Poznámka","DPH","J. Nh [h]","Nh celkem [h]","J. hmotnost\n[t]","Hmotnost\ncelkem [t]","J. suť [t]","Suť Celkem [t]"]
[null,null,"Náklady soupisu celkem",null,null,null,null,null,null,{"$f":"$BK$95","v":0},null,null,null,null,null,{"$f":"$P$96","v":0},null,{"$f":"$R$96","v":2474.9676954849997},null,{"$f":"$T$96","v":3.9000000000000004},null,null,null,null,null,null,null,null,null,null,null,null,null,null,null,null,null,null,null,null,null,null,null,null,null,"D","-1",null,null,null,null,null,null,null,null,null,null,null,null,null,null,null,{"$f":"$BK$96","v":0}]
[null,null,null,"D","HSV","Práce a dodávky HSV",null,null,null,{"$f":"$BK$96","v":0},null,null,null,null,null,{"$f":"$P$97+$P$394+$P$403+$P$410+$P$431+$P$464+$P$481+$P$503+$P$537+$P$676+$P$723+$P$736","v":0},null,{"$f":"$R$97+$R$394+$R$403+$R$410+$R$431+$R$464+$R$481+$R$503+$R$537+$R$676+$R$723+$R$736","v":2474.9676954849997},null,{"$f":"$T$97+$T$394+$T$403+$T$410+$T$431+$T$464+$T$481+$T$503+$T$537+$T$676+$T$723+$T$736","v":3.9000000000000004},null,null,null,null,null,null,null,null,null,null,null,null,null,null,null,null,null,null,null,null,null,null,null,"1",null,"D","0",null,null,null,"ROZPOCET",null,null,null,null,null,null,null,null,null,null,null,{"$f":"$BK$97+$BK$394+$BK$403+$BK$410+$BK$431+$BK$464+$BK$481+$BK$503+$BK$537+$BK$676+$BK$723+$BK$736","v":0}]
[null,null,null,"D","1","Zemní práce",null,null,null,{"$f":"$BK$97","v":0},null,null,null,null,null,{"$f":"SUM($P$98:$P$393)","v":0},null,{"$f":"SUM($R$98:$R$393)","v":31.545960000000001},null,{"$f":"SUM($T$98:$T$393)","v":0},null,null,null,null,null,null,null,null,null,null,null,null,null,null,null,null,null,null,null,null,null,null,null,"1",null,"D","1",null,null,null,"ROZPOCET",null,null,null,null,null,null,null,null,null,null,null,{"$f":"SUM($BK$98:$BK$393)","v":0}]
[null,null,"1","K","121101103","Sejmutí ornice s přemístěním na vzdálenost do 250 m","m3",1170,null,{"$f":"ROUND($I$98*$H$98,2)","v":0},"CS ÚRS 2014 02",null,null,"základní",null,null,0,{"$f":"$Q$98*$H$98","v":0},0,{"$f":"$S$98*$H$98","v":0},null,null,null,null,null,null,null,null,null,null,null,null,null,null,null,null,null,null,null,null,null,null,null,"4",null,"K","2",null,null,null,"ROZPOCET",null,null,null,null,null,{"$f":"IF($N$98=\"základní\",$J$98,0)","v":0},{"$f":"IF($N$98=\"snížená\",$J$98,0)","v":0},{"$f":"IF($N$98=\"zákl. přenesená\",$J$98,0)","v":0},{"$f":"IF($N$98=\"sníž. přenesená\",$J$98,0)","v":0},{"$f":"IF($N$98=\"nulová\",$J$98,0)","v":0},"1",{"$f":"ROUND($I$98*$H$98,2)","v":0},"4","-173594638"]
[null,null,null,"PP",null,"Sejmutí ornice nebo lesní půdy s vodorovným přemístěním na hromady v místě upotřebení nebo na dočasné či trvalé skládky se složením, na vzdálenost přes 100 do 250 m",null,null,null,null,null,null,null,null,null,null,null,null,null,null,null,null,null,null,null,null,null,null,null,null,null,null,null,null,null,null,null,null,null,null,null,null,null,null,null,"PP","2"]
[null,null,null,"PSC",null,"Poznámka k souboru cen:\n1. V cenách jsou započteny i náklady na příp. nutné naložení sejmuté ornice na dopravní prostředek. 2. V cenách nejsou započteny náklady na odstranění nevhodných přimísenin (kamenů, kořenů apod.);     tyto práce se ocení individuálně. 3. Množství ornice odebírané ze skládek se do objemu vykopávek pro volbu cen podle množství     nezapočítává. Ceny souboru cen 122 . 0-11 Odkopávky a prokopávky nezapažené, se volí pro ornici     odebíranou z projektovaných dočasných skládek;     a) na staveništi podle součtu objemu ze všech skládek,     b) mimo staveniště podle objemu každé skládky zvlášť. 4. Uložení ornice na skládky se oceňuje podle ustanovení v poznámkách č. 1 a 2 k ceně 171 20-1201     Uložení sypaniny na skládky. Složení ornice na hromady v místě upotřebení se neoceňuje. 5. Odebírá-li se ornice z projektované dočasné skládky, oceňuje se její naložení a přemístění podle     čl. 3172 Všeobecných podmínek tohoto katalogu. 6. Přemísťuje-li se ornice na vzdálenost větší něž 250 m, vzdálenost 50 m se pro určení vzdálenosti     vodorovného přemístění neodečítá a ocení se sejmutí a přemístění bez ohledu na ustanovení pozn. č.     1 takto:     a) sejmutí ornice na vzdálenost 50m cenou 121 10-1101;     b) naložení příslušnou cenou souboru cen 167 10- . .     c) vodorovné přemístění cenami souboru cen 162 . 0- . . Vodorovné přemístění výkopku. 7. Sejmutí podorničí se oceňuje cenami odkopávek s přihlédnutím k ustanovení čl. 3112 Všeobecných     podmínek tohoto katalogu. ",null,null,null,null,null,null,null,null,null,null,null,null,null,null,null,null,null,null,null,null,null,null,null,null,null,null,null,null,null,null,null,null,null,null,null,null,null,null,null,"PSC","2"]
[null,null,null,"VV",null,"tl. vrstvy 150 mm",null,null,null,null,null,null,null,null,null,null,null,null,null,null,null,null,null,null,null,null,null,null,null,null,null,null,null,null,null,null,null,null,null,null,null,null,null,null,null,"VV","2","1","-1","0","ROZPOCET"]
[null,null,null,"VV",null,"7800,0*0,15",null,1170,null,null,null,null,null,null,null,null,null,null,null,null,null,null,null,null,null,null,null,null,null,null,null,null,null,null,null,null,null,null,null,null,null,null,null,null,null,"VV","2","2","-1","1","ROZPOCET"]
[null,null,"2","K","122102204","Odkopávky a prokopávky nezapažené pro silnice objemu přes 5000 m3 v hornině tř. 1 a 2","m3",1297.5,null,{"$f":"ROUND($I$103*$H$103,2)","v":0},"CS ÚRS 2014 02",null,null,"základní",null,null,0,{"$f":"$Q$103*$H$103","v":0},0,{"$f":"$S$103*$H$103","v":0},null,null,null,null,null,null,null,null,null,null,null,null,null,null,null,null,null,null,null,null,null,null,null,"4",null,"K","2",null,null,null,"ROZPOCET",null,null,null,null,null,{"$f":"IF($N$103=\"základní\",$J$103,0)","v":0},{"$f":"IF($N$103=\"snížená\",$J$103,0)","v":0},{"$f":"IF($N$103=\"zákl. přenesená\",$J$103,0)","v":0},{"$f":"IF($N$103=\"sníž. přenesená\",$J$103,0)","v":0},{"$f":"IF($N$103=\"nulová\",$J$103,0)","v":0},"1",{"$f":"ROUND($I$103*$H$103,2)","v":0},"4","-713500443"]
[null,null,null,"PP",null,"Odkopávky a prokopávky nezapažené pro silnice s přemístěním výkopku v příčných profilech na vzdálenost do 15 m nebo s naložením na dopravní prostředek v horninách tř. 1 a 2 přes 5 000 m3",null,null,null,null,null,null,null,null,null,null,null,null,null,null,null,null,null,null,null,null,null,null,null,null,null,null,null,null,null,null,null,null,null,null,null,null,null,null,null,"PP","2"]
[null,null,null,"PSC",null,"Poznámka k souboru cen:\n1. Ceny jsou určeny pro vykopávky:     a) příkopů pro silnice a to i tehdy, jsou-li vykopávky příkopů prováděny samostatně,     b) v zemnících na suchu, jestliže tyto zemníky přímo souvisejí s odkopávkami nebo prokopávkami         pro spodní stavbu silnic. Vykopávky v ostatních zemnících se oceňují podle kapitoly. 3*2 Zemníky         Všeobecných podmínek tohoto katalogu.     c) při zahlubování silnic pro mimoúrovňové křížení a pro vykopávky pod mosty provedenými v         předepsaném předstihu. Část vykopávky mezi svislými rovinami proloženými vnějšími hranami mostu se         oceňují:         - při objemu do 1 000 m3 cenami pro množství do 100 m3         - při objemu přes 1 000 m3 cenami pro množství přes 100 do 1 000 m3.     d) pro sejmutí podorničí s přihlédnutím k ustanovení čl. 3112 Všeobecných podmínek katalogu. 2. Ceny nelze použít pro odkopávky a prokopávky v zapažených prostorách; tyto zemní práce se     oceňují podle čl. 3116 Všeobecných podmínek tohoto katalogu. 3. V cenách jsou započteny i náklady na vodorovné přemístění výkopku v příčných profilech na     přilehlých svazích a příkopech. Vzdálenosti příčného přemístění se nezahrnují do střední     vzdálenosti vodorovného přemístění výkopku. 4. Vodorovné přemístění výkopku z výkopiště na násypiště při jakékoliv šířce koruny se nepovažuje     za vodorovné přemístění výkopku v příčném profilu, je-li při odkopávce nebo prokopávce mezi     výkopištěm a násypištěm v příčném profilu dopravní nebo jiný pruh, na němž projekt vylučuje rušení     provozu prováděním zemních prací. Takové přemístění výkopku se oceňuje podle čl. 3162 Všeobecných     podmínek tohoto katalogu. 5. Přemístění výkopku v příčných profilech na vzdálenost přes 15 m se oceňuje cenami souboru cen     162 .0-1 . Vodorovné přemístění výkopku části A 01 Společné zemní práce tohoto katalogu ",null,null,null,null,null,null,null,null,null,null,null,null,null,null,null,null,null,null,null,null,null,null,null,null,null,null,null,null,null,null,null,null,null,null,null,null,null,null,null,"PSC","2"]
[null,null,null,"VV",null,"dle specifikace prací v technické zprávě",null,null,null,null,null,null,null,null,null,null,null,null,null,null,null,null,null,null,null,null,null,null,null,null,null,null,null,null,null,null,null,null,null,null,null,null,null,null,null,"VV","2","1","-1","0","ROZPOCET"]
[null,null,null,"VV",null,"25% celkových odkopávek",null,null,null,null,null,null,null,null,null,null,null,null,null,null,null,null,null,null,null,null,null,null,null,null,null,null,null,null,null,null,null,null,null,null,null,null,null,null,null,"VV","2","1","-1","0","ROZPOCET"]
[null,null,null,"VV",null,"5190,0*0,25",null,1297.5,null,null,null,null,null,null,null,null,null,null,null,null,null,null,null,null,null,null,null,null,null,null,null,null,null,null,null,null,null,null,null,null,null,null,null,null,null,"VV","2","2","-1","1","ROZPOCET"]
[null,null,"3","K","122202204","Odkopávky a prokopávky nezapažené pro silnice objemu přes 5000 m3 v hornině tř. 3","m3",3892.5,null,{"$f":"ROUND($I$109*$H$109,2)","v":0},"CS ÚRS 2014 02",null,null,"základní",null,null,0,{"$f":"$Q$109*$H$109","v":0},0,{"$f":"$S$109*$H$109","v":0},null,null,null,null,null,null,null,null,null,null,null,null,null,null,null,null,null,null,null,null,null,null,null,"4",null,"K","2",null,null,null,"ROZPOCET",null,null,null,null,null,{"$f":"IF($N$109=\"základní\",$J$109,0)","v":0},{"$f":"IF($N$109=\"snížená\",$J$109,0)","v":0},{"$f":"IF($N$109=\"zákl. přenesená\",$J$109,0)","v":0},{"$f":"IF($N$109=\"sníž. přenesená\",$J$109,0)","v":0},{"$f":"IF($N$109=\"nulová\",$J$109,0)","v":0},"1",{"$f":"ROUND($I$109*$H$109,2)","v":0},"4","-1268200233"]
[null,null,null,"PP",null,"Odkopávky a prokopávky nezapažené pro silnice s přemístěním výkopku v příčných profilech na vzdálenost do 15 m nebo s naložením na dopravní prostředek v hornině tř. 3 přes 5 000 m3",null,null,null,null,null,null,null,null,null,null,null,null,null,null,null,null,null,null,null,null,null,null,null,null,null,null,null,null,null,null,null,null,null,null,null,null,null,null,null,"PP","2"]
[null,null,null,"PSC",null,"Poznámka k souboru cen:\n1. Ceny jsou určeny pro vykopávky:     a) příkopů pro silnice a to i tehdy, jsou-li vykopávky příkopů prováděny samostatně,     b) v zemnících na suchu, jestliže tyto zemníky přímo souvisejí s odkopávkami nebo prokopávkami         pro spodní stavbu silnic. Vykopávky v ostatních zemnících se oceňují podle kapitoly. 3*2 Zemníky         Všeobecných podmínek tohoto katalogu.     c) při zahlubování silnic pro mimoúrovňové křížení a pro vykopávky pod mosty provedenými v         předepsaném předstihu. Část vykopávky mezi svislými rovinami proloženými vnějšími hranami mostu se         oceňují:         - při objemu do 1 000 m3 cenami pro množství do 100 m3         - při objemu přes 1 000 m3 cenami pro množství přes 100 do 1 000 m3.     d) pro sejmutí podorničí s přihlédnutím k ustanovení čl. 3112 Všeobecných podmínek katalogu. 2. Ceny nelze použít pro odkopávky a prokopávky v zapažených prostorách; tyto zemní práce se     oceňují podle čl. 3116 Všeobecných podmínek tohoto katalogu. 3. V cenách jsou započteny i náklady na vodorovné přemístění výkopku v příčných profilech na     přilehlých svazích a příkopech. Vzdálenosti příčného přemístění se nezahrnují do střední     vzdálenosti vodorovného přemístění výkopku. 4. Vodorovné přemístění výkopku z výkopiště na násypiště při jakékoliv šířce koruny se nepovažuje     za vodorovné přemístění výkopku v příčném profilu, je-li při odkopávce nebo prokopávce mezi     výkopištěm a násypištěm v příčném profilu dopravní nebo jiný pruh, na němž projekt vylučuje rušení     provozu prováděním zemních prací. Takové přemístění výkopku se oceňuje podle čl. 3162 Všeobecných     podmínek tohoto katalogu. 5. Přemístění výkopku v příčných profilech na vzdálenost přes 15 m se oceňuje cenami souboru cen     162 .0-1 . Vodorovné přemístění výkopku části A 01 Společné zemní práce tohoto katalogu ",null,null,null,null,null,null,null,null,null,null,null,null,null,null,null,null,null,null,null,null,null,null,null,null,null,null,null,null,null,null,null,null,null,null,null,null,null,null,null,"PSC","2"]
[null,null,null,"VV",null,"dle specifikace prací v technické zprávě",null,null,null,null,null,null,null,null,null,null,null,null,null,null,null,null,null,null,null,null,null,null,null,null,null,null,null,null,null,null,null,null,null,null,null,null,null,null,null,"VV","2","1","-1","0","ROZPOCET"]
[null,null,null,"VV",null,"75% celkových odkopávek",null,null,null,null,null,null,null,null,null,null,null,null,null,null,null,null,null,null,null,null,null,null,null,null,null,null,null,null,null,null,null,null,null,null,null,null,null,null,null,"VV","2","1","-1","0","ROZPOCET"]
[null,null,null,"VV",null,"5190,0*0,75",null,3892.5,null,null,null,null,null,null,null,null,null,null,null,null,null,null,null,null,null,null,null,null,null,null,null,null,null,null,null,null,null,null,null,null,null,null,null,null,null,"VV","2","2","-1","1","ROZPOCET"]
[null,null,"4","K","132201102","Hloubení rýh š do 600 mm v hornině tř. 3 objemu přes 100 m3","m3",50.4,null,{"$f":"ROUND($I$115*$H$115,2)","v":0},"CS ÚRS 2014 02",null,null,"základní",null,null,0,{"$f":"$Q$115*$H$115","v":0},0,{"$f":"$S$115*$H$115","v":0},null,null,null,null,null,null,null,null,null,null,null,null,null,null,null,null,null,null,null,null,null,null,null,"4",null,"K","2",null,null,null,"ROZPOCET",null,null,null,null,null,{"$f":"IF($N$115=\"základní\",$J$115,0)","v":0},{"$f":"IF($N$115=\"snížená\",$J$115,0)","v":0},{"$f":"IF($N$115=\"zákl. přenesená\",$J$115,0)","v":0},{"$f":"IF($N$115=\"sníž. přenesená\",$J$115,0)","v":0},{"$f":"IF($N$115=\"nulová\",$J$115,0)","v":0},"1",{"$f":"ROUND($I$115*$H$115,2)","v":0},"4","-687836108"]
[null,null,null,"PP",null,"Hloubení zapažených i nezapažených rýh šířky do 600 mm s urovnáním dna do předepsaného profilu a spádu v hornině tř. 3 přes 100 m3",null,null,null,null,null,null,null,null,null,null,null,null,null,null,null,null,null,null,null,null,null,null,null,null,null,null,null,null,null,null,null,null,null,null,null,null,null,null,null,"PP","2"]
[null,null,null,"PSC",null,"Poznámka k souboru cen:\n1. V cenách jsou započteny i náklady na přehození výkopku na přilehlém terénu na vzdálenost do 3 m     od podélné osy rýhy nebo naložení na dopravní prostředek. 2. Ceny jsou určeny pro rýhy:     a) šířky přes 200 do 300 mm a hloubky do 750 mm,     b) šířky přes 300 do 400 mm a hloubky do 1 000 mm,     c) šířky přes 400 do 500 mm a hloubky do 1 250 mm,     d) šířky přes 500 do 600 mm a hloubky do 1 500 mm. 3. Náklady na svislé přemístění výkopku nad 1 m hloubky se určí dle ustanovení článku č. 3161     všeobecných podmínek katalogu. ",null,null,null,null,null,null,null,null,null,null,null,null,null,null,null,null,null,null,null,null,null,null,null,null,null,null,null,null,null,null,null,null,null,null,null,null,null,null,null,"PSC","2"]
[null,null,null,"VV",null,"rýha pro drenáž",null,null,null,null,null,null,null,null,null,null,null,null,null,null,null,null,null,null,null,null,null,null,null,null,null,null,null,null,null,null,null,null,null,null,null,null,null,null,null,"VV","2","1","-1","0","ROZPOCET"]
[null,null,null,"VV",null,"0,3*0,3*560,0",null,50.4,null,null,null,null,null,null,null,null,null,null,null,null,null,null,null,null,null,null,null,null,null,null,null,null,null,null,null,null,null,null,null,null,null,null,null,null,null,"VV","2","2","-1","1","ROZPOCET"]
[null,null,"5","K","132201109","Příplatek za lepivost k hloubení rýh š do 600 mm v hornině tř. 3","m3",25.2,null,{"$f":"ROUND($I$120*$H$120,2)","v":0},"CS ÚRS 2014 02",null,null,"základní",null,null,0,{"$f":"$Q$120*$H$120","v":0},0,{"$f":"$S$120*$H$120","v":0},null,null,null,null,null,null,null,null,null,null,null,null,null,null,null,null,null,null,null,null,null,null,null,"4",null,"K","2",null,null,null,"ROZPOCET",null,null,null,null,null,{"$f":"IF($N$120=\"základní\",$J$120,0)","v":0},{"$f":"IF($N$120=\"snížená\",$J$120,0)","v":0},{"$f":"IF($N$120=\"zákl. přenesená\",$J$120,0)","v":0},{"$f":"IF($N$120=\"sníž. přenesená\",$J$120,0)","v":0},{"$f":"IF($N$120=\"nulová\",$J$120,0)","v":0},"1",{"$f":"ROUND($I$120*$H$120,2)","v":0},"4","-772221652"]
[null,null,null,"PP",null,"Hloubení zapažených i nezapažených rýh šířky do 600 mm s urovnáním dna do předepsaného profilu a spádu v hornině tř. 3 Příplatek k cenám za lepivost horniny tř. 3",null,null,null,null,null,null,null,null,null,null,null,null,null,null,null,null,null,null,null,null,null,null,null,null,null,null,null,null,null,null,null,null,null,null,null,null,null,null,null,"PP","2"]
[null,null,null,"PSC",null,"Poznámka k souboru cen:\n1. V cenách jsou započteny i náklady na přehození výkopku na přilehlém terénu na vzdálenost do 3 m     od podélné osy rýhy nebo naložení na dopravní prostředek. 2. Ceny jsou určeny pro rýhy:     a) šířky přes 200 do 300 mm a hloubky do 750 mm,     b) šířky přes 300 do 400 mm a hloubky do 1 000 mm,     c) šířky přes 400 do 500 mm a hloubky do 1 250 mm,     d) šířky přes 500 do 600 mm a hloubky do 1 500 mm. 3. Náklady na svislé přemístění výkopku nad 1 m hloubky se určí dle ustanovení článku č. 3161     všeobecných podmínek katalogu. ",null,null,null,null,null,null,null,null,null,null,null,null,null,null,null,null,null,null,null,null,null,null,null,null,null,null,null,null,null,null,null,null,null,null,null,null,null,null,null,"PSC","2"]
[null,null,null,"VV",null,"lepivost 50%",null,null,null,null,null,null,null,null,null,null,null,null,null,null,null,null,null,null,null,null,null,null,null,null,null,null,null,null,null,null,null,null,null,null,null,null,null,null,null,"VV","2","1","-1","0","ROZPOCET"]
[null,null,null,"VV",null,"pol.132201102",null,null,null,null,null,null,null,null,null,null,null,null,null,null,null,null,null,null,null,null,null,null,null,null,null,null,null,null,null,null,null,null,null,null,null,null,null,null,null,"VV","2","1","-1","0","ROZPOCET"]
[null,null,null,"VV",null,"50,4*0,5",null,25.2,null,null,null,null,null,null,null,null,null,null,null,null,null,null,null,null,null,null,null,null,null,null,null,null,null,null,null,null,null,null,null,null,null,null,null,null,null,"VV","2","2","-1","1","ROZPOCET"]
[null,null,"6","K","132202101","Hloubení rýh š do 600 mm ručním nebo pneum nářadím v soudržných horninách tř. 3","m3",36,null,{"$f":"ROUND($I$126*$H$126,2)","v":0},"CS ÚRS 2014 02",null,null,"základní",null,null,0,{"$f":"$Q$126*$H$126","v":0},0,{"$f":"$S$126*$H$126","v":0},null,null,null,null,null,null,null,null,null,null,null,null,null,null,null,null,null,null,null,null,null,null,null,"4",null,"K","2",null,null,null,"ROZPOCET",null,null,null,null,null,{"$f":"IF($N$126=\"základní\",$J$126,0)","v":0},{"$f":"IF($N$126=\"snížená\",$J$126,0)","v":0},{"$f":"IF($N$126=\"zákl. přenesená\",$J$126,0)","v":0},{"$f":"IF($N$126=\"sníž. přenesená\",$J$126,0)","v":0},{"$f":"IF($N$126=\"nulová\",$J$126,0)","v":0},"1",{"$f":"ROUND($I$126*$H$126,2)","v":0},"4","-1894621645"]
[null,null,null,"PP",null,"Hloubení zapažených i nezapažených rýh šířky do 600 mm ručním nebo pneumatickým nářadím s urovnáním dna do předepsaného profilu a spádu v horninách tř. 3 soudržných",null,null,null,null,null,null,null,null,null,null,null,null,null,null,null,null,null,null,null,null,null,null,null,null,null,null,null,null,null,null,null,null,null,null,null,null,null,null,null,"PP","2"]
[null,null,null,"PSC",null,"Poznámka k souboru cen:\n1. V cenách jsou započteny i náklady na přehození výkopku na přilehlém terénu na vzdálenost do 3 m     od podélné osy rýhy nebo naložení výkopku na dopravní prostředek. 2. V cenách 10-2101 až 40-2102 jsou započteny i náklady na i svislý přesun horniny po házečkách do     2 metrů. ",null,null,null,null,null,null,null,null,null,null,null,null,null,null,null,null,null,null,null,null,null,null,null,null,null,null,null,null,null,null,null,null,null,null,null,null,null,null,null,"PSC","2"]
[null,null,null,"VV",null,"odkrytí podzemních kabelů pro montáž",null,null,null,null,null,null,null,null,null,null,null,null,null,null,null,null,null,null,null,null,null,null,null,null,null,null,null,null,null,null,null,null,null,null,null,null,null,null,null,"VV","2","1","-1","0","ROZPOCET"]
[null,null,null,"VV",null,"půlených chrániček - dl.75 m",null,null,null,null,null,null,null,null,null,null,null,null,null,null,null,null,null,null,null,null,null,null,null,null,null,null,null,null,null,null,null,null,null,null,null,null,null,null,null,"VV","2","1","-1","0","ROZPOCET"]
[null,null,null,"VV",null,"průměrná hl. výkopu 0,5 m",null,null,null,null,null,null,null,null,null,null,null,null,null,null,null,null,null,null,null,null,null,null,null,null,null,null,null,null,null,null,null,null,null,null,null,null,null,null,null,"VV","2","1","-1","0","ROZPOCET"]
[null,null,null,"VV",null,"0,6*0,5*75,0",null,22.5,null,null,null,null,null,null,null,null,null,null,null,null,null,null,null,null,null,null,null,null,null,null,null,null,null,null,null,null,null,null,null,null,null,null,null,null,null,"VV","2","2","-1","0","ROZPOCET"]
[null,null,null,"VV",null,"odkrytí výtlačného potrubí splaškové",null,null,null,null,null,null,null,null,null,null,null,null,null,null,null,null,null,null,null,null,null,null,null,null,null,null,null,null,null,null,null,null,null,null,null,null,null,null,null,"VV","2","1","-1","0","ROZPOCET"]
[null,null,null,"VV",null,"kanalizace pro zateplení - dl.15 m",null,null,null,null,null,null,null,null,null,null,null,null,null,null,null,null,null,null,null,null,null,null,null,null,null,null,null,null,null,null,null,null,null,null,null,null,null,null,null,"VV","2","1","-1","0","ROZPOCET"]
[null,null,null,"VV",null,"průměrná hl. výkopu 1,5 m",null,null,null,null,null,null,null,null,null,null,null,null,null,null,null,null,null,null,null,null,null,null,null,null,null,null,null,null,null,null,null,null,null,null,null,null,null,null,null,"VV","2","1","-1","0","ROZPOCET"]
[null,null,null,"VV",null,"0,6*1,5*15,0",null,13.5,null,null,null,null,null,null,null,null,null,null,null,null,null,null,null,null,null,null,null,null,null,null,null,null,null,null,null,null,null,null,null,null,null,null,null,null,null,"VV","2","2","-1","0","ROZPOCET"]
[null,null,null,"VV",null,"Součet",null,36,null,null,null,null,null,null,null,null,null,null,null,null,null,null,null,null,null,null,null,null,null,null,null,null,null,null,null,null,null,null,null,null,null,null,null,null,null,"VV","2","4","-1","1","ROZPOCET"]
[null,null,"7","K","132202109","Příplatek za lepivost u hloubení rýh š do 600 mm ručním nebo pneum nářadím v hornině tř. 3","m3",18,null,{"$f":"ROUND($I$138*$H$138,2)","v":0},"CS ÚRS 2014 02",null,null,"základní",null,null,0,{"$f":"$Q$138*$H$138","v":0},0,{"$f":"$S$138*$H$138","v":0},null,null,null,null,null,null,null,null,null,null,null,null,null,null,null,null,null,null,null,null,null,null,null,"4",null,"K","2",null,null,null,"ROZPOCET",null,null,null,null,null,{"$f":"IF($N$138=\"základní\",$J$138,0)","v":0},{"$f":"IF($N$138=\"snížená\",$J$138,0)","v":0},{"$f":"IF($N$138=\"zákl. přenesená\",$J$138,0)","v":0},{"$f":"IF($N$138=\"sníž. přenesená\",$J$138,0)","v":0},{"$f":"IF($N$138=\"nulová\",$J$138,0)","v":0},"1",{"$f":"ROUND($I$138*$H$138,2)","v":0},"4","569178530"]
[null,null,null,"PP",null,"Hloubení zapažených i nezapažených rýh šířky do 600 mm ručním nebo pneumatickým nářadím s urovnáním dna do předepsaného profilu a spádu v horninách tř. 3 Příplatek k cenám za lepivost horniny tř. 3",null,null,null,null,null,null,null,null,null,null,null,null,null,null,null,null,null,null,null,null,null,null,null,null,null,null,null,null,null,null,null,null,null,null,null,null,null,null,null,"PP","2"]
[null,null,null,"PSC",null,"Poznámka k souboru cen:\n1. V cenách jsou započteny i náklady na přehození výkopku na přilehlém terénu na vzdálenost do 3 m     od podélné osy rýhy nebo naložení výkopku na dopravní prostředek. 2. V cenách 10-2101 až 40-2102 jsou započteny i náklady na i svislý přesun horniny po házečkách do     2 metrů. ",null,null,null,null,null,null,null,null,null,null,null,null,null,null,null,null,null,null,null,null,null,null,null,null,null,null,null,null,null,null,null,null,null,null,null,null,null,null,null,"PSC","2"]
[null,null,null,"VV",null,"lepivost 50%",null,null,null,null,null,null,null,null,null,null,null,null,null,null,null,null,null,null,null,null,null,null,null,null,null,null,null,null,null,null,null,null,null,null,null,null,null,null,null,"VV","2","1","-1","0","ROZPOCET"]
[null,null,null,"VV",null,"pol.132202101",null,null,null,null,null,null,null,null,null,null,null,null,null,null,null,null,null,null,null,null,null,null,null,null,null,null,null,null,null,null,null,null,null,null,null,null,null,null,null,"VV","2","1","-1","0","ROZPOCET"]
[null,null,null,"VV",null,"36,0*0,5",null,18,null,null,null,null,null,null,null,null,null,null,null,null,null,null,null,null,null,null,null,null,null,null,null,null,null,null,null,null,null,null,null,null,null,null,null,null,null,"VV","2","2","-1","1","ROZPOCET"]
[null,null,"8","K","132101203","Hloubení rýh š do 2000 mm v hornině tř. 1 a 2 objemu do 5000 m3","m3",26,null,{"$f":"ROUND($I$144*$H$144,2)","v":0},"CS ÚRS 2014 02",null,null,"základní",null,null,0,{"$f":"$Q$144*$H$144","v":0},0,{"$f":"$S$144*$H$144","v":0},null,null,null,null,null,null,null,null,null,null,null,null,null,null,null,null,null,null,null,null,null,null,null,"4",null,"K","2",null,null,null,"ROZPOCET",null,null,null,null,null,{"$f":"IF($N$144=\"základní\",$J$144,0)","v":0},{"$f":"IF($N$144=\"snížená\",$J$144,0)","v":0},{"$f":"IF($N$144=\"zákl. přenesená\",$J$144,0)","v":0},{"$f":"IF($N$144=\"sníž. přenesená\",$J$144,0)","v":0},{"$f":"IF($N$144=\"nulová\",$J$144,0)","v":0},"1",{"$f":"ROUND($I$144*$H$144,2)","v":0},"4","1618538753"]
[null,null,null,"PP",null,"Hloubení zapažených i nezapažených rýh šířky přes 600 do 2 000 mm s urovnáním dna do předepsaného profilu a spádu v horninách tř. 1 a 2 přes 1 000 do 5 000 m3",null,null,null,null,null,null,null,null,null,null,null,null,null,null,null,null,null,null,null,null,null,null,null,null,null,null,null,null,null,null,null,null,null,null,null,null,null,null,null,"PP","2"]
[null,null,null,"PSC",null,"Poznámka k souboru cen:\n1. V cenách jsou započteny i náklady na případné nutné přemístění výkopku ve výkopišti na     vzdálenost do 3 m a na přehození výkopku na přilehlém terénu na vzdálenost do 5 m od okraje jámy     nebo naložení na dopravní prostředek. 2. Hloubení rýh při lesnicko-technických melioracích se oceňuje:     a) ve stržích cenami platnými pro objem výkopu do 100 m3, i když skutečný objem výkopu je větší,     b) mimo strže pro příčná a podélná zpevnění dna a břehů pod obrysem výkopu pro koryta vodotečí,         zejména pro konstrukce těles, stupňů, boků, předprahů, prahů, odháněk, výhonů a pro základy zdí,         dlažeb, rovnanin, plůtků a hatí, pro jakoukoliv šířku rýhy, při objemu do 100 m3 cenami příslušnými         pro objem výkopu do 100 m3 a při jakémkoliv objemu výkopu přes 100 m3 cenami příslušnými pro objem         výkopu přes 100 do 1 000 m3. 3. Náklady na svislé přemístění výkopku nad 1 m hloubky se určí dle ustanovení článku č. 3161     všeobecných podmínek katalogu. 4. Předepisuje-li projekt hloubit rýhy 5 až 7 bez použití trhavin, oceňuje se toto hloubení:     a) v suchu nebo mokru cenami 138 40-1201, 138 50-1201 a 138 60-1201 Dolamování hloubených         vykopávek,     b) v tekoucí vodě při jakékoliv její rychlosti individuálně. 5. Ceny nelze použít pro hloubení rýh a hloubky přes 16 m. Tyto práce se oceňují individuálně. ",null,null,null,null,null,null,null,null,null,null,null,null,null,null,null,null,null,null,null,null,null,null,null,null,null,null,null,null,null,null,null,null,null,null,null,null,null,null,null,"PSC","2"]
[null,null,null,"VV",null,"25% z celkového výkopku",null,null,null,null,null,null,null,null,null,null,null,null,null,null,null,null,null,null,null,null,null,null,null,null,null,null,null,null,null,null,null,null,null,null,null,null,null,null,null,"VV","2","1","-1","0","ROZPOCET"]
[null,null,null,"VV",null,"rýha pro propustky",null,null,null,null,null,null,null,null,null,null,null,null,null,null,null,null,null,null,null,null,null,null,null,null,null,null,null,null,null,null,null,null,null,null,null,null,null,null,null,"VV","2","1","-1","0","ROZPOCET"]
[null,null,null,"VV",null,"(2,8+1,0)/2*0,9*8,0*0,25",null,3.42,null,null,null,null,null,null,null,null,null,null,null,null,null,null,null,null,null,null,null,null,null,null,null,null,null,null,null,null,null,null,null,null,null,null,null,null,null,"VV","2","2","-1","0","ROZPOCET"]
[null,null,null,"VV",null,"(3,2+1,2)/2*1,0*20,0*0,25",null,11,null,null,null,null,null,null,null,null,null,null,null,null,null,null,null,null,null,null,null,null,null,null,null,null,null,null,null,null,null,null,null,null,null,null,null,null,null,"VV","2","2","-1","0","ROZPOCET"]
[null,null,null,"VV",null,"0,08",null,0.08,null,null,null,null,null,null,null,null,null,null,null,null,null,null,null,null,null,null,null,null,null,null,null,null,null,null,null,null,null,null,null,null,null,null,null,null,null,"VV","2","2","-1","0","ROZPOCET"]
[null,null,null,"VV",null,"Mezisoučet A",null,14.5,null,null,null,null,null,null,null,null,null,null,null,null,null,null,null,null,null,null,null,null,null,null,null,null,null,null,null,null,null,null,null,null,null,null,null,null,null,"VV","2","3","-1","0","ROZPOCET"]
[null,null,null,"VV",null,"rýhy pro odvodnění vpustí",null,null,null,null,null,null,null,null,null,null,null,null,null,null,null,null,null,null,null,null,null,null,null,null,null,null,null,null,null,null,null,null,null,null,null,null,null,null,null,"VV","2","1","-1","0","ROZPOCET"]
[null,null,null,"VV",null,"průměrná hl. výkopu 1,5 m",null,null,null,null,null,null,null,null,null,null,null,null,null,null,null,null,null,null,null,null,null,null,null,null,null,null,null,null,null,null,null,null,null,null,null,null,null,null,null,"VV","2","1","-1","0","ROZPOCET"]
[null,null,null,"VV",null,"1,0*1,5*30,0*0,25+0,25",null,11.5,null,null,null,null,null,null,null,null,null,null,null,null,null,null,null,null,null,null,null,null,null,null,null,null,null,null,null,null,null,null,null,null,null,null,null,null,null,"VV","2","2","-1","0","ROZPOCET"]
[null,null,null,"VV",null,"Mezisoučet B",null,11.5,null,null,null,null,null,null,null,null,null,null,null,null,null,null,null,null,null,null,null,null,null,null,null,null,null,null,null,null,null,null,null,null,null,null,null,null,null,"VV","2","3","-1","0","ROZPOCET"]
[null,null,null,"VV",null,"Součet",null,26,null,null,null,null,null,null,null,null,null,null,null,null,null,null,null,null,null,null,null,null,null,null,null,null,null,null,null,null,null,null,null,null,null,null,null,null,null,"VV","2","4","-1","1","ROZPOCET"]
[null,null,"9","K","132201203","Hloubení rýh š do 2000 mm v hornině tř. 3 objemu do 5000 m3","m3",77.5,null,{"$f":"ROUND($I$158*$H$158,2)","v":0},"CS ÚRS 2014 02",null,null,"základní",null,null,0,{"$f":"$Q$158*$H$158","v":0},0,{"$f":"$S$158*$H$158","v":0},null,null,null,null,null,null,null,null,null,null,null,null,null,null,null,null,null,null,null,null,null,null,null,"4",null,"K","2",null,null,null,"ROZPOCET",null,null,null,null,null,{"$f":"IF($N$158=\"základní\",$J$158,0)","v":0},{"$f":"IF($N$158=\"snížená\",$J$158,0)","v":0},{"$f":"IF($N$158=\"zákl. přenesená\",$J$158,0)","v":0},{"$f":"IF($N$158=\"sníž. přenesená\",$J$158,0)","v":0},{"$f":"IF($N$158=\"nulová\",$J$158,0)","v":0},"1",{"$f":"ROUND($I$158*$H$158,2)","v":0},"4","-1594622436"]
[null,null,null,"PP",null,"Hloubení zapažených i nezapažených rýh šířky přes 600 do 2 000 mm s urovnáním dna do předepsaného profilu a spádu v hornině tř. 3 přes 1 000 do 5 000 m3",null,null,null,null,null,null,null,null,null,null,null,null,null,null,null,null,null,null,null,null,null,null,null,null,null,null,null,null,null,null,null,null,null,null,null,null,null,null,null,"PP","2"]
[null,null,null,"PSC",null,"Poznámka k souboru cen:\n1. V cenách jsou započteny i náklady na případné nutné přemístění výkopku ve výkopišti na     vzdálenost do 3 m a na přehození výkopku na přilehlém terénu na vzdálenost do 5 m od okraje jámy     nebo naložení na dopravní prostředek. 2. Hloubení rýh při lesnicko-technických melioracích se oceňuje:     a) ve stržích cenami platnými pro objem výkopu do 100 m3, i když skutečný objem výkopu je větší,     b) mimo strže pro příčná a podélná zpevnění dna a břehů pod obrysem výkopu pro koryta vodotečí,         zejména pro konstrukce těles, stupňů, boků, předprahů, prahů, odháněk, výhonů a pro základy zdí,         dlažeb, rovnanin, plůtků a hatí, pro jakoukoliv šířku rýhy, při objemu do 100 m3 cenami příslušnými         pro objem výkopu do 100 m3 a při jakémkoliv objemu výkopu přes 100 m3 cenami příslušnými pro objem         výkopu přes 100 do 1 000 m3. 3. Náklady na svislé přemístění výkopku nad 1 m hloubky se určí dle ustanovení článku č. 3161     všeobecných podmínek katalogu. 4. Předepisuje-li projekt hloubit rýhy 5 až 7 bez použití trhavin, oceňuje se toto hloubení:     a) v suchu nebo mokru cenami 138 40-1201, 138 50-1201 a 138 60-1201 Dolamování hloubených         vykopávek,     b) v tekoucí vodě při jakékoliv její rychlosti individuálně. 5. Ceny nelze použít pro hloubení rýh a hloubky přes 16 m. Tyto práce se oceňují individuálně. ",null,null,null,null,null,null,null,null,null,null,null,null,null,null,null,null,null,null,null,null,null,null,null,null,null,null,null,null,null,null,null,null,null,null,null,null,null,null,null,"PSC","2"]
[null,null,null,"VV",null,"75% z celkového výkopku",null,null,null,null,null,null,null,null,null,null,null,null,null,null,null,null,null,null,null,null,null,null,null,null,null,null,null,null,null,null,null,null,null,null,null,null,null,null,null,"VV","2","1","-1","0","ROZPOCET"]
[null,null,null,"VV",null,"rýha pro propustky",null,null,null,null,null,null,null,null,null,null,null,null,null,null,null,null,null,null,null,null,null,null,null,null,null,null,null,null,null,null,null,null,null,null,null,null,null,null,null,"VV","2","1","-1","0","ROZPOCET"]
[null,null,null,"VV",null,"(2,8+1,0)/2*0,9*8,0*0,75",null,10.26,null,null,null,null,null,null,null,null,null,null,null,null,null,null,null,null,null,null,null,null,null,null,null,null,null,null,null,null,null,null,null,null,null,null,null,null,null,"VV","2","2","-1","0","ROZPOCET"]
[null,null,null,"VV",null,"(3,2+1,2)/2*1,0*20,0*0,75",null,33,null,null,null,null,null,null,null,null,null,null,null,null,null,null,null,null,null,null,null,null,null,null,null,null,null,null,null,null,null,null,null,null,null,null,null,null,null,"VV","2","2","-1","0","ROZPOCET"]
[null,null,null,"VV",null,"0,24",null,0.24,null,null,null,null,null,null,null,null,null,null,null,null,null,null,null,null,null,null,null,null,null,null,null,null,null,null,null,null,null,null,null,null,null,null,null,null,null,"VV","2","2","-1","0","ROZPOCET"]
[null,null,null,"VV",null,"Mezisoučet A",null,43.5,null,null,null,null,null,null,null,null,null,null,null,null,null,null,null,null,null,null,null,null,null,null,null,null,null,null,null,null,null,null,null,null,null,null,null,null,null,"VV","2","3","-1","0","ROZPOCET"]
[null,null,null,"VV",null,"rýhy pro odvodnění vpustí",null,null,null,null,null,null,null,null,null,null,null,null,null,null,null,null,null,null,null,null,null,null,null,null,null,null,null,null,null,null,null,null,null,null,null,null,null,null,null,"VV","2","1","-1","0","ROZPOCET"]
[null,null,null,"VV",null,"průměrná hl. výkopu 1,5 m",null,null,null,null,null,null,null,null,null,null,null,null,null,null,null,null,null,null,null,null,null,null,null,null,null,null,null,null,null,null,null,null,null,null,null,null,null,null,null,"VV","2","1","-1","0","ROZPOCET"]
[null,null,null,"VV",null,"1,0*1,5*30,0*0,75+0,25",null,34,null,null,null,null,null,null,null,null,null,null,null,null,null,null,null,null,null,null,null,null,null,null,null,null,null,null,null,null,null,null,null,null,null,null,null,null,null,"VV","2","2","-1","0","ROZPOCET"]
[null,null,null,"VV",null,"Mezisoučet B",null,34,null,null,null,null,null,null,null,null,null,null,null,null,null,null,null,null,null,null,null,null,null,null,null,null,null,null,null,null,null,null,null,null,null,null,null,null,null,"VV","2","3","-1","0","ROZPOCET"]
[null,null,null,"VV",null,"Součet",null,77.5,null,null,null,null,null,null,null,null,null,null,null,null,null,null,null,null,null,null,null,null,null,null,null,null,null,null,null,null,null,null,null,null,null,null,null,null,null,"VV","2","4","-1","1","ROZPOCET"]
[null,null,"10","K","132201209","Příplatek za lepivost k hloubení rýh š do 2000 mm v hornině tř. 3","m3",38.75,null,{"$f":"ROUND($I$172*$H$172,2)","v":0},"CS ÚRS 2014 02",null,null,"základní",null,null,0,{"$f":"$Q$172*$H$172","v":0},0,{"$f":"$S$172*$H$172","v":0},null,null,null,null,null,null,null,null,null,null,null,null,null,null,null,null,null,null,null,null,null,null,null,"4",null,"K","2",null,null,null,"ROZPOCET",null,null,null,null,null,{"$f":"IF($N$172=\"základní\",$J$172,0)","v":0},{"$f":"IF($N$172=\"snížená\",$J$172,0)","v":0},{"$f":"IF($N$172=\"zákl. přenesená\",$J$172,0)","v":0},{"$f":"IF($N$172=\"sníž. přenesená\",$J$172,0)","v":0},{"$f":"IF($N$172=\"nulová\",$J$172,0)","v":0},"1",{"$f":"ROUND($I$172*$H$172,2)","v":0},"4","-1692566981"]
[null,null,null,"PP",null,"Hloubení zapažených i nezapažených rýh šířky přes 600 do 2 000 mm s urovnáním dna do předepsaného profilu a spádu v hornině tř. 3 Příplatek k cenám za lepivost horniny tř. 3",null,null,null,null,null,null,null,null,null,null,null,null,null,null,null,null,null,null,null,null,null,null,null,null,null,null,null,null,null,null,null,null,null,null,null,null,null,null,null,"PP","2"]
[null,null,null,"PSC",null,"Poznámka k souboru cen:\n1. V cenách jsou započteny i náklady na případné nutné přemístění výkopku ve výkopišti na     vzdálenost do 3 m a na přehození výkopku na přilehlém terénu na vzdálenost do 5 m od okraje jámy     nebo naložení na dopravní prostředek. 2. Hloubení rýh při lesnicko-technických melioracích se oceňuje:     a) ve stržích cenami platnými pro objem výkopu do 100 m3, i když skutečný objem výkopu je větší,     b) mimo strže pro příčná a podélná zpevnění dna a břehů pod obrysem výkopu pro koryta vodotečí,         zejména pro konstrukce těles, stupňů, boků, předprahů, prahů, odháněk, výhonů a pro základy zdí,         dlažeb, rovnanin, plůtků a hatí, pro jakoukoliv šířku rýhy, při objemu do 100 m3 cenami příslušnými         pro objem výkopu do 100 m3 a při jakémkoliv objemu výkopu přes 100 m3 cenami příslušnými pro objem         výkopu přes 100 do 1 000 m3. 3. Náklady na svislé přemístění výkopku nad 1 m hloubky se určí dle ustanovení článku č. 3161     všeobecných podmínek katalogu. 4. Předepisuje-li projekt hloubit rýhy 5 až 7 bez použití trhavin, oceňuje se toto hloubení:     a) v suchu nebo mokru cenami 138 40-1201, 138 50-1201 a 138 60-1201 Dolamování hloubených         vykopávek,     b) v tekoucí vodě při jakékoliv její rychlosti individuálně. 5. Ceny nelze použít pro hloubení rýh a hloubky přes 16 m. Tyto práce se oceňují individuálně. ",null,null,null,null,null,null,null,null,null,null,null,null,null,null,null,null,null,null,null,null,null,null,null,null,null,null,null,null,null,null,null,null,null,null,null,null,null,null,null,"PSC","2"]
[null,null,null,"VV",null,"lepivost 50%",null,null,null,null,null,null,null,null,null,null,null,null,null,null,null,null,null,null,null,null,null,null,null,null,null,null,null,null,null,null,null,null,null,null,null,null,null,null,null,"VV","2","1","-1","0","ROZPOCET"]
[null,null,null,"VV",null,"pol.132201203",null,null,null,null,null,null,null,null,null,null,null,null,null,null,null,null,null,null,null,null,null,null,null,null,null,null,null,null,null,null,null,null,null,null,null,null,null,null,null,"VV","2","1","-1","0","ROZPOCET"]
[null,null,null,"VV",null,"77,5*0,5",null,38.75,null,null,null,null,null,null,null,null,null,null,null,null,null,null,null,null,null,null,null,null,null,null,null,null,null,null,null,null,null,null,null,null,null,null,null,null,null,"VV","2","2","-1","1","ROZPOCET"]
[null,null,"11","K","171101103","Uložení sypaniny z hornin soudržných do násypů zhutněných do 100 % PS","m3",180,null,{"$f":"ROUND($I$178*$H$178,2)","v":0},"CS ÚRS 2014 02",null,null,"základní",null,null,0,{"$f":"$Q$178*$H$178","v":0},0,{"$f":"$S$178*$H$178","v":0},null,null,null,null,null,null,null,null,null,null,null,null,null,null,null,null,null,null,null,null,null,null,null,"4",null,"K","2",null,null,null,"ROZPOCET",null,null,null,null,null,{"$f":"IF($N$178=\"základní\",$J$178,0)","v":0},{"$f":"IF($N$178=\"snížená\",$J$178,0)","v":0},{"$f":"IF($N$178=\"zákl. přenesená\",$J$178,0)","v":0},{"$f":"IF($N$178=\"sníž. přenesená\",$J$178,0)","v":0},{"$f":"IF($N$178=\"nulová\",$J$178,0)","v":0},"1",{"$f":"ROUND($I$178*$H$178,2)","v":0},"4","-199604850"]
[null,null,null,"PP",null,"Uložení sypaniny do násypů s rozprostřením sypaniny ve vrstvách a s hrubým urovnáním zhutněných s uzavřením povrchu násypu z hornin soudržných s předepsanou mírou zhutnění v procentech výsledků zkoušek Proctor-Standard (dále jen PS) přes 96 do 100 % PS",null,null,null,null,null,null,null,null,null,null,null,null,null,null,null,null,null,null,null,null,null,null,null,null,null,null,null,null,null,null,null,null,null,null,null,null,null,null,null,"PP","2"]
[null,null,null,"PSC",null,"Poznámka k souboru cen:\n1. Ceny lze použít i pro sypaniny odebírané z hald, pro hlušinu apod. 2. Cenu 20-1101 lze použít i pro:     a) rozprostření zbylého výkopu na místě po zásypu jam a rýh pro podzemní vedení a zářezů pro         podzemní vedení; toto množství se určí v m3 uloženého výkopku, měřeného v rostlém stavu,     b) uložení výkopku do násypů pod vodou. 3. Ceny lze použít i pro uložení sypaniny s předepsaným zhutněním na trvalé skládky, do koryt     vodotečí a do prohlubní terénu. 4. Cenu 10-1131 lze použít i pro  ukládání sypaniny z hornin nesoudržných i soudržných společně bez     možnosti jejich roztřídění. 5. Ceny -1121 a -1131 lze použít jen tehdy, jestliže objem násypů, oceňovaných těmito cenami,     měřený podle ustanovení čl. 3571 Všeobecných podmínek katalogu nepřesáhne 100 000 m3na objektu.     Násypy, jejichž součet objemů přesáhne 100 000 m3 na objektu, se ocení individuálně. 6. Ceny jsou určeny pro míru zhutnění určenou projektem:     a) pro ceny  -1101 až -1105 v % výsledku zkoušky PS,     b) pro ceny -1111 a -1112 relativní ulehlostí I(d),     c) pro ceny  -1121 a -1131 stanovením technologie. 7. Ceny nelze použít:     a) pro uložení sypaniny do hrází; uložení netříděné sypaniny do hrází se oceňuje cenami souboru         cen 171 uložení netříděných sypanin do hrází části A 03, případně cenovými normativy podle části A         31,     b) pro uložení sypaniny do ochranných valů nebo těch jejich částí, jejichž šířka je menší než 3         m. Toto uložení se oceňuje cenami souboru cen 175 10-11 Obsyp objektů. 8. Cena 20-1101 neplatí pro uložení výkopku nebo ornice při vykopávkách pro podzemní vedení podél     hrany výkopu, z něhož byl výkopek získán a to ani tehdy, jestliže se výkopek po vyhození z     výkopiště na povrch území ještě dále přemísťuje na hromady  . podél výkopu. 9. Horninami soudržnými se rozumějí takové horniny, u nichž zdrojem pevnosti jsou molekulární a     chemické vazby mezi částicemi horniny. Jde o horniny, které jsou schopny plastických deformací. 10. Horninami nesoudržnými se rozumějí horniny, u nichž hlavním zdrojem pevnosti ve smyku je pouze     tření mezi jednotlivými oddělenými pevnými částicemi horniny. 11. Horninami sypkými se rozumějí horniny III. skupiny podle ČSN 72 1002 se zrnem do 125 mm.     Množství zrn velikosti přes 125 mm může být nejvýše 5 % objemu. 12. Horninami kamenitými se rozumějí nestmelené úlomkovité horniny skalní a sypké se zrny přes 125     mm. Množství zrn velikosti přes 125 mm musí být vyšší než 5 % objemu. 13. Ceny pro uložení soudržných hornin lze použít, jestliže jejich přirozená vlhkost při ukládání     do násypu není vyšší než 2 % optimální vlhkosti dle zkoušky PS na neredukovaný materiál. Je-li     vlhkost při ukládání sypaniny do násypu vyšší, ocení se uložení sypaniny individuálně. 14. Zajišťuje-li se předepsané zhutnění násypu přesypáním podle čl. 120 ČSN 73 3050, ocení se     odstranění přesypané části cenami 122 . 0-71 Odkopávky nebo prokopávky při pozemkových úpravách ",null,null,null,null,null,null,null,null,null,null,null,null,null,null,null,null,null,null,null,null,null,null,null,null,null,null,null,null,null,null,null,null,null,null,null,null,null,null,null,"PSC","2"]
[null,null,null,"VV",null,"dle specifikace prací v technické zprávě",null,null,null,null,null,null,null,null,null,null,null,null,null,null,null,null,null,null,null,null,null,null,null,null,null,null,null,null,null,null,null,null,null,null,null,null,null,null,null,"VV","2","1","-1","0","ROZPOCET"]
[null,null,null,"VV",null,"180,0",null,180,null,null,null,null,null,null,null,null,null,null,null,null,null,null,null,null,null,null,null,null,null,null,null,null,null,null,null,null,null,null,null,null,null,null,null,null,null,"VV","2","2","-1","1","ROZPOCET"]
[null,null,"12","K","175101101","Obsypání potrubí bez prohození sypaniny z hornin tř. 1 až 4 uloženým do 3 m od kraje výkopu","m3",44,null,{"$f":"ROUND($I$183*$H$183,2)","v":0},"CS ÚRS 2014 02",null,null,"základní",null,null,0,{"$f":"$Q$183*$H$183","v":0},0,{"$f":"$S$183*$H$183","v":0},null,null,null,null,null,null,null,null,null,null,null,null,null,null,null,null,null,null,null,null,null,null,null,"4",null,"K","2",null,null,null,"ROZPOCET",null,null,null,null,null,{"$f":"IF($N$183=\"základní\",$J$183,0)","v":0},{"$f":"IF($N$183=\"snížená\",$J$183,0)","v":0},{"$f":"IF($N$183=\"zákl. přenesená\",$J$183,0)","v":0},{"$f":"IF($N$183=\"sníž. přenesená\",$J$183,0)","v":0},{"$f":"IF($N$183=\"nulová\",$J$183,0)","v":0},"1",{"$f":"ROUND($I$183*$H$183,2)","v":0},"4","-460544949"]
[null,null,null,"PP",null,"Obsypání potrubí sypaninou z vhodných hornin tř. 1 až 4 nebo materiálem připraveným podél výkopu ve vzdálenosti do 3 m od jeho kraje, pro jakoukoliv hloubku výkopu a míru zhutnění bez prohození sypaniny",null,null,null,null,null,null,null,null,null,null,null,null,null,null,null,null,null,null,null,null,null,null,null,null,null,null,null,null,null,null,null,null,null,null,null,null,null,null,null,"PP","2"]
[null,null,null,"PSC",null,"Poznámka k souboru cen:\n1. Objem obsypu na 1 m délky potrubí se rovná šířce dna výkopu násobené součtem vnějšího průměru     potrubí příp. i s obalem a projektované tloušťky obsypu nad, případně i pod potrubím. Pro odečítání     objemu potrubí se započítávají všechny vestavěné konstrukce nebo uložené vedení i s jejich obklady     a podklady (tento objem se nazývá objemem horniny vytlačené konstrukcí). 2. Míru zhutnění předepisuje projekt. 3. V cenách nejsou zahrnuty náklady na nakupovanou sypaninu. Tato se oceňuje ve specifikaci. ",null,null,null,null,null,null,null,null,null,null,null,null,null,null,null,null,null,null,null,null,null,null,null,null,null,null,null,null,null,null,null,null,null,null,null,null,null,null,null,"PSC","2"]
[null,null,null,"VV",null,"obsyp zeminou",null,null,null,null,null,null,null,null,null,null,null,null,null,null,null,null,null,null,null,null,null,null,null,null,null,null,null,null,null,null,null,null,null,null,null,null,null,null,null,"VV","2","1","-1","0","ROZPOCET"]
[null,null,null,"VV",null,"obsyp propustku dl.8 m",null,null,null,null,null,null,null,null,null,null,null,null,null,null,null,null,null,null,null,null,null,null,null,null,null,null,null,null,null,null,null,null,null,null,null,null,null,null,null,"VV","2","1","-1","0","ROZPOCET"]
[null,null,null,"VV",null,"2,0",null,2,null,null,null,null,null,null,null,null,null,null,null,null,null,null,null,null,null,null,null,null,null,null,null,null,null,null,null,null,null,null,null,null,null,null,null,null,null,"VV","2","2","-1","0","ROZPOCET"]
[null,null,null,"VV",null,"obsyp propustku dl.20 m",null,null,null,null,null,null,null,null,null,null,null,null,null,null,null,null,null,null,null,null,null,null,null,null,null,null,null,null,null,null,null,null,null,null,null,null,null,null,null,"VV","2","1","-1","0","ROZPOCET"]
[null,null,null,"VV",null,"25,0",null,25,null,null,null,null,null,null,null,null,null,null,null,null,null,null,null,null,null,null,null,null,null,null,null,null,null,null,null,null,null,null,null,null,null,null,null,null,null,"VV","2","2","-1","0","ROZPOCET"]
[null,null,null,"VV",null,"Mezisoučet A",null,27,null,null,null,null,null,null,null,null,null,null,null,null,null,null,null,null,null,null,null,null,null,null,null,null,null,null,null,null,null,null,null,null,null,null,null,null,null,"VV","2","3","-1","0","ROZPOCET"]
[null,null,null,"VV",null,"obsyp pískem do 30 cm nad vrchol potrubí",null,null,null,null,null,null,null,null,null,null,null,null,null,null,null,null,null,null,null,null,null,null,null,null,null,null,null,null,null,null,null,null,null,null,null,null,null,null,null,"VV","2","1","-1","0","ROZPOCET"]
[null,null,null,"VV",null,"rýhy pro odvodnění vpustí",null,null,null,null,null,null,null,null,null,null,null,null,null,null,null,null,null,null,null,null,null,null,null,null,null,null,null,null,null,null,null,null,null,null,null,null,null,null,null,"VV","2","1","-1","0","ROZPOCET"]
[null,null,null,"VV",null,"1,0*(0,15+0,3)*30,0",null,13.5,null,null,null,null,null,null,null,null,null,null,null,null,null,null,null,null,null,null,null,null,null,null,null,null,null,null,null,null,null,null,null,null,null,null,null,null,null,"VV","2","2","-1","0","ROZPOCET"]
[null,null,null,"VV",null,"obsyp výtlačného potrubí splaškové",null,null,null,null,null,null,null,null,null,null,null,null,null,null,null,null,null,null,null,null,null,null,null,null,null,null,null,null,null,null,null,null,null,null,null,null,null,null,null,"VV","2","1","-1","0","ROZPOCET"]
[null,null,null,"VV",null,"kanalizace pro zateplení - dl.15 m",null,null,null,null,null,null,null,null,null,null,null,null,null,null,null,null,null,null,null,null,null,null,null,null,null,null,null,null,null,null,null,null,null,null,null,null,null,null,null,"VV","2","1","-1","0","ROZPOCET"]
[null,null,null,"VV",null,"0,6*(0,2+0,3)*15,0",null,4.5,null,null,null,null,null,null,null,null,null,null,null,null,null,null,null,null,null,null,null,null,null,null,null,null,null,null,null,null,null,null,null,null,null,null,null,null,null,"VV","2","2","-1","0","ROZPOCET"]
[null,null,null,"VV",null,"Mezisoučet B",null,18,null,null,null,null,null,null,null,null,null,null,null,null,null,null,null,null,null,null,null,null,null,null,null,null,null,null,null,null,null,null,null,null,null,null,null,null,null,"VV","2","3","-1","0","ROZPOCET"]
[null,null,null,"VV",null,"méně potrubí",null,null,null,null,null,null,null,null,null,null,null,null,null,null,null,null,null,null,null,null,null,null,null,null,null,null,null,null,null,null,null,null,null,null,null,null,null,null,null,"VV","2","1","-1","0","ROZPOCET"]
[null,null,null,"VV",null,"-3,14*0,075*0,075*30,0",null,-0.53,null,null,null,null,null,null,null,null,null,null,null,null,null,null,null,null,null,null,null,null,null,null,null,null,null,null,null,null,null,null,null,null,null,null,null,null,null,"VV","2","2","-1","0","ROZPOCET"]
[null,null,null,"VV",null,"-3,14*0,1*0,1*15,0+0,001",null,-0.47,null,null,null,null,null,null,null,null,null,null,null,null,null,null,null,null,null,null,null,null,null,null,null,null,null,null,null,null,null,null,null,null,null,null,null,null,null,"VV","2","2","-1","0","ROZPOCET"]
[null,null,null,"VV",null,"Mezisoučet C",null,-1,null,null,null,null,null,null,null,null,null,null,null,null,null,null,null,null,null,null,null,null,null,null,null,null,null,null,null,null,null,null,null,null,null,null,null,null,null,"VV","2","3","-1","0","ROZPOCET"]
[null,null,null,"VV",null,"Součet",null,44,null,null,null,null,null,null,null,null,null,null,null,null,null,null,null,null,null,null,null,null,null,null,null,null,null,null,null,null,null,null,null,null,null,null,null,null,null,"VV","2","4","-1","1","ROZPOCET"]
[null,null,"13","K","175101109","Příplatek k obsypání potrubí sypaninou uloženou do 3 m od kraje výkopu za prohození sypaniny","m3",27,null,{"$f":"ROUND($I$204*$H$204,2)","v":0},"CS ÚRS 2014 02",null,null,"základní",null,null,0,{"$f":"$Q$204*$H$204","v":0},0,{"$f":"$S$204*$H$204","v":0},null,null,null,null,null,null,null,null,null,null,null,null,null,null,null,null,null,null,null,null,null,null,null,"4",null,"K","2",null,null,null,"ROZPOCET",null,null,null,null,null,{"$f":"IF($N$204=\"základní\",$J$204,0)","v":0},{"$f":"IF($N$204=\"snížená\",$J$204,0)","v":0},{"$f":"IF($N$204=\"zákl. přenesená\",$J$204,0)","v":0},{"$f":"IF($N$204=\"sníž. přenesená\",$J$204,0)","v":0},{"$f":"IF($N$204=\"nulová\",$J$204,0)","v":0},"1",{"$f":"ROUND($I$204*$H$204,2)","v":0},"4","1606473538"]
[null,null,null,"PP",null,"Obsypání potrubí sypaninou z vhodných hornin tř. 1 až 4 nebo materiálem připraveným podél výkopu ve vzdálenosti do 3 m od jeho kraje, pro jakoukoliv hloubku výkopu a míru zhutnění Příplatek k ceně za prohození sypaniny",null,null,null,null,null,null,null,null,null,null,null,null,null,null,null,null,null,null,null,null,null,null,null,null,null,null,null,null,null,null,null,null,null,null,null,null,null,null,null,"PP","2"]
[null,null,null,"PSC",null,"Poznámka k souboru cen:\n1. Objem obsypu na 1 m délky potrubí se rovná šířce dna výkopu násobené součtem vnějšího průměru     potrubí příp. i s obalem a projektované tloušťky obsypu nad, případně i pod potrubím. Pro odečítání     objemu potrubí se započítávají všechny vestavěné konstrukce nebo uložené vedení i s jejich obklady     a podklady (tento objem se nazývá objemem horniny vytlačené konstrukcí). 2. Míru zhutnění předepisuje projekt. 3. V cenách nejsou zahrnuty náklady na nakupovanou sypaninu. Tato se oceňuje ve specifikaci. ",null,null,null,null,null,null,null,null,null,null,null,null,null,null,null,null,null,null,null,null,null,null,null,null,null,null,null,null,null,null,null,null,null,null,null,null,null,null,null,"PSC","2"]
[null,null,null,"VV",null,"pol.175101101 mezisoučet A",null,null,null,null,null,null,null,null,null,null,null,null,null,null,null,null,null,null,null,null,null,null,null,null,null,null,null,null,null,null,null,null,null,null,null,null,null,null,null,"VV","2","1","-1","0","ROZPOCET"]
[null,null,null,"VV",null,"27,0",null,27,null,null,null,null,null,null,null,null,null,null,null,null,null,null,null,null,null,null,null,null,null,null,null,null,null,null,null,null,null,null,null,null,null,null,null,null,null,"VV","2","2","-1","1","ROZPOCET"]
[null,null,"14","M","583313450","kamenivo těžené drobné frakce 0-4","t",31.513000000000002,null,{"$f":"ROUND($I$209*$H$209,2)","v":0},"CS ÚRS 2014 02",null,null,"základní",null,null,1,{"$f":"$Q$209*$H$209","v":31.513000000000002},0,{"$f":"$S$209*$H$209","v":0},null,null,null,null,null,null,null,null,null,null,null,null,null,null,null,null,null,null,null,null,null,null,null,"8",null,"M","2",null,null,null,"ROZPOCET",null,null,null,null,null,{"$f":"IF($N$209=\"základní\",$J$209,0)","v":0},{"$f":"IF($N$209=\"snížená\",$J$209,0)","v":0},{"$f":"IF($N$209=\"zákl. přenesená\",$J$209,0)","v":0},{"$f":"IF($N$209=\"sníž. přenesená\",$J$209,0)","v":0},{"$f":"IF($N$209=\"nulová\",$J$209,0)","v":0},"1",{"$f":"ROUND($I$209*$H$209,2)","v":0},"4","-1508507353"]
[null,null,null,"PP",null,"kamenivo přírodní těžené pro stavební účely  PTK  (drobné, hrubé, štěrkopísky) kamenivo těžené drobné D<=2 mm (ČSN EN 13043 ) D<=4 mm (ČSN EN 12620, ČSN EN 13139 ) d=0 mm, D<=6,3 mm (ČSN EN 13242) frakce  0-4  tříděná",null,null,null,null,null,null,null,null,null,null,null,null,null,null,null,null,null,null,null,null,null,null,null,null,null,null,null,null,null,null,null,null,null,null,null,null,null,null,null,"PP","2"]
[null,null,null,"VV",null,"hutnění 10%, ztratné 1%",null,null,null,null,null,null,null,null,null,null,null,null,null,null,null,null,null,null,null,null,null,null,null,null,null,null,null,null,null,null,null,null,null,null,null,null,null,null,null,"VV","2","1","-1","0","ROZPOCET"]
[null,null,null,"VV",null,"k pol.175101101 mezisoučet B+C",null,null,null,null,null,null,null,null,null,null,null,null,null,null,null,null,null,null,null,null,null,null,null,null,null,null,null,null,null,null,null,null,null,null,null,null,null,null,null,"VV","2","1","-1","0","ROZPOCET"]
[null,null,null,"VV",null,"(18,0-1,0)*1,67*1,11",null,31.513000000000002,null,null,null,null,null,null,null,null,null,null,null,null,null,null,null,null,null,null,null,null,null,null,null,null,null,null,null,null,null,null,null,null,null,null,null,null,null,"VV","2","2","-1","1","ROZPOCET"]
[null,null,"15","K","174101101","Zásyp jam, šachet rýh nebo kolem objektů sypaninou se zhutněním","m3",45,null,{"$f":"ROUND($I$214*$H$214,2)","v":0},"CS ÚRS 2014 02",null,null,"základní",null,null,0,{"$f":"$Q$214*$H$214","v":0},0,{"$f":"$S$214*$H$214","v":0},null,null,null,null,null,null,null,null,null,null,null,null,null,null,null,null,null,null,null,null,null,null,null,"4",null,"K","2",null,null,null,"ROZPOCET",null,null,null,null,null,{"$f":"IF($N$214=\"základní\",$J$214,0)","v":0},{"$f":"IF($N$214=\"snížená\",$J$214,0)","v":0},{"$f":"IF($N$214=\"zákl. přenesená\",$J$214,0)","v":0},{"$f":"IF($N$214=\"sníž. přenesená\",$J$214,0)","v":0},{"$f":"IF($N$214=\"nulová\",$J$214,0)","v":0},"1",{"$f":"ROUND($I$214*$H$214,2)","v":0},"4","1368200195"]
[null,null,null,"PP",null,"Zásyp sypaninou z jakékoliv horniny s uložením výkopku ve vrstvách se zhutněním jam, šachet, rýh nebo kolem objektů v těchto vykopávkách",null,null,null,null,null,null,null,null,null,null,null,null,null,null,null,null,null,null,null,null,null,null,null,null,null,null,null,null,null,null,null,null,null,null,null,null,null,null,null,"PP","2"]
[null,null,null,"PSC",null,"Poznámka k souboru cen:\n1. Ceny 174 10- . . jsou určeny pro zhutněné zásypy s mírou zhutnění:     a) z hornin soudržných do 100 % PS,     b) z hornin nesoudržných do I(d) 0,9,     c) z hornin kamenitých pro jakoukoliv míru zhutnění. 2. Je-li projektem předepsáno vyšší zhutnění, podle bodu a) a b) poznámky č 1., ocení se zásyp     individuálně. 3. Ceny nelze použít pro zásyp rýh pro drenážní trativody pro lesnicko-technické meliorace a     zemědělské. Zásyp těchto rýh se oceňuje cenami souboru cen 174 20-3 . části A 03 Zemní práce pro     objekty oborů 831 až 833. Nezhutněný zásyp odvodňovacích kanálů z betonových a železobetonových     trub v polních a lučních tratích se oceňuje cenou -1101 Zásyp sypaninou rýh bez ohledu na šířku     kanálu; cena obsahuje i náklady na ruční nezhutněný zásyp výšky do 200 mm nad vrchol potrubí. 4. V cenách 10-1101, 10-1103, 20-1101 a 20-1103 je započteno přemístění sypaniny ze vzdálenosti 10     m od kraje výkopu nebo zasypávaného prostoru, měřeno k těžišti skládky. 5. V ceně 10-1102 je započteno přemístění sypaniny ze vzdálenosti 15 m od hrany zasypávaného     prostoru, měřeno k těžišti skládky. 6. Objem zásypu je rozdíl objemu výkopu a objemu do něho vestavěných konstrukcí nebo uložených     vedení i s jejich obklady a podklady (tento objem se nazývá objemem horniny vytlačené konstrukcí).     Objem potrubí do DN 180, příp. i s obalem, se od objemu zásypu neodečítá. Pro stanovení objemu     zásypu se od objemu výkopu odečítá i objem obsypu potrubí oceňovaný cenami souboru cen 175 10-11     Obsyp potrubí, přichází-li v úvahu . 7. Odklizení zbylého výkopku po provedení zásypu zářezů se šikmými stěnami pro podzemní vedení nebo     zásypu jam a rýh pro podzemní vedení se oceňuje, je-li objem zbylého výkopku:     a) do 1 m3 na 1 m vedení a jedná se o výkopek neulehlý - cenami souboru cen 167 10-110         Nakládání výkopku nebo sypaniny a 162 . 0-1 . Vodorovné přemístění výkopku. V případě, že se jedná         o výkopek ulehlý - rozpojení a naložení výkopku cenami souboru cen 122 . 0-1 . souboru cen 162 .         0-1 . Vodorovné přemístění výkopku;     b) přes 1 m3 na 1 m vedení, jestliže projekt předepíše, že se zbylý výkopek bude odklízet         zároveň s prováděním vykopávky, pouze přemístění výkopku cenami souboru cen 162 . 0-1 . Vodorovné         přemístění výkopku. Při zmíněném objemu zbylého výkopku se neoceňuje ani naložení ani rozpojení         výkopku. Jestliže se zbylý výkopek neodklízí, nýbrž rozprostírá podél výkopu a nad výkopem, platí         poznámka č. 8. 8. Rozprostření zbylého výkopku podél výkopu a nad výkopem po provedení zásypů zářezů se šikmými     stěnami pro podzemní vedení nebo zásypu jam a rýh pro podzemní vedení se oceňuje:     a) cenou 171 20-1101 Uložení sypaniny do nezhutněných násypů, není-li projektem předepsáno         zhutnění rozprostřeného zbylého výkopku,     b) cenou 171 10-1111 Uložení sypaniny do násypů z hornin sypkých, je-li předepsáno zhutnění         rozprostřeného zbylého výkopku, a to v objemu vypočteném podle poznámky č.6, příp. zmenšeném o         objem výkopku, který byl již odklizen. 9. Míru zhutnění předepisuje projekt. ",null,null,null,null,null,null,null,null,null,null,null,null,null,null,null,null,null,null,null,null,null,null,null,null,null,null,null,null,null,null,null,null,null,null,null,null,null,null,null,"PSC","2"]
[null,null,null,"VV",null,"zásyp rýhy pro",null,null,null,null,null,null,null,null,null,null,null,null,null,null,null,null,null,null,null,null,null,null,null,null,null,null,null,null,null,null,null,null,null,null,null,null,null,null,null,"VV","2","1","-1","0","ROZPOCET"]
[null,null,null,"VV",null,"odvodnění vpustí ",null,null,null,null,null,null,null,null,null,null,null,null,null,null,null,null,null,null,null,null,null,null,null,null,null,null,null,null,null,null,null,null,null,null,null,null,null,null,null,"VV","2","1","-1","0","ROZPOCET"]
[null,null,null,"VV",null,"výkop - pol.132101203 mezisoučet B",null,null,null,null,null,null,null,null,null,null,null,null,null,null,null,null,null,null,null,null,null,null,null,null,null,null,null,null,null,null,null,null,null,null,null,null,null,null,null,"VV","2","1","-1","0","ROZPOCET"]
[null,null,null,"VV",null,"11,5",null,11.5,null,null,null,null,null,null,null,null,null,null,null,null,null,null,null,null,null,null,null,null,null,null,null,null,null,null,null,null,null,null,null,null,null,null,null,null,null,"VV","2","2","-1","0","ROZPOCET"]
[null,null,null,"VV",null,"výkop - pol.132201203 mezisoučet B",null,null,null,null,null,null,null,null,null,null,null,null,null,null,null,null,null,null,null,null,null,null,null,null,null,null,null,null,null,null,null,null,null,null,null,null,null,null,null,"VV","2","1","-1","0","ROZPOCET"]
[null,null,null,"VV",null,"34,0",null,34,null,null,null,null,null,null,null,null,null,null,null,null,null,null,null,null,null,null,null,null,null,null,null,null,null,null,null,null,null,null,null,null,null,null,null,null,null,"VV","2","2","-1","0","ROZPOCET"]
[null,null,null,"VV",null,"rýhy pro",null,null,null,null,null,null,null,null,null,null,null,null,null,null,null,null,null,null,null,null,null,null,null,null,null,null,null,null,null,null,null,null,null,null,null,null,null,null,null,"VV","2","1","-1","0","ROZPOCET"]
[null,null,null,"VV",null,"odkrytí výtlačného potrubí splaškové",null,null,null,null,null,null,null,null,null,null,null,null,null,null,null,null,null,null,null,null,null,null,null,null,null,null,null,null,null,null,null,null,null,null,null,null,null,null,null,"VV","2","1","-1","0","ROZPOCET"]
[null,null,null,"VV",null,"kanalizace pro zateplení - dl.15 m",null,null,null,null,null,null,null,null,null,null,null,null,null,null,null,null,null,null,null,null,null,null,null,null,null,null,null,null,null,null,null,null,null,null,null,null,null,null,null,"VV","2","1","-1","0","ROZPOCET"]
[null,null,null,"VV",null,"průměrná hl. výkopu 1,5 m",null,null,null,null,null,null,null,null,null,null,null,null,null,null,null,null,null,null,null,null,null,null,null,null,null,null,null,null,null,null,null,null,null,null,null,null,null,null,null,"VV","2","1","-1","0","ROZPOCET"]
[null,null,null,"VV",null,"0,6*1,5*15,0",null,13.5,null,null,null,null,null,null,null,null,null,null,null,null,null,null,null,null,null,null,null,null,null,null,null,null,null,null,null,null,null,null,null,null,null,null,null,null,null,"VV","2","2","-1","0","ROZPOCET"]
[null,null,null,"VV",null,"méně lože a obsyp potrubí",null,null,null,null,null,null,null,null,null,null,null,null,null,null,null,null,null,null,null,null,null,null,null,null,null,null,null,null,null,null,null,null,null,null,null,null,null,null,null,"VV","2","1","-1","0","ROZPOCET"]
[null,null,null,"VV",null,"pol.451572111+175101101mezisoučet B",null,null,null,null,null,null,null,null,null,null,null,null,null,null,null,null,null,null,null,null,null,null,null,null,null,null,null,null,null,null,null,null,null,null,null,null,null,null,null,"VV","2","1","-1","0","ROZPOCET"]
[null,null,null,"VV",null,"-(3,0+18,0)",null,-21,null,null,null,null,null,null,null,null,null,null,null,null,null,null,null,null,null,null,null,null,null,null,null,null,null,null,null,null,null,null,null,null,null,null,null,null,null,"VV","2","2","-1","0","ROZPOCET"]
[null,null,null,"VV",null,"zásyp rýh pro",null,null,null,null,null,null,null,null,null,null,null,null,null,null,null,null,null,null,null,null,null,null,null,null,null,null,null,null,null,null,null,null,null,null,null,null,null,null,null,"VV","2","1","-1","0","ROZPOCET"]
[null,null,null,"VV",null,"půlené chráničky - dl.75 m",null,null,null,null,null,null,null,null,null,null,null,null,null,null,null,null,null,null,null,null,null,null,null,null,null,null,null,null,null,null,null,null,null,null,null,null,null,null,null,"VV","2","1","-1","0","ROZPOCET"]
[null,null,null,"VV",null,"průměrná hl. výkopu 0,5 m",null,null,null,null,null,null,null,null,null,null,null,null,null,null,null,null,null,null,null,null,null,null,null,null,null,null,null,null,null,null,null,null,null,null,null,null,null,null,null,"VV","2","1","-1","0","ROZPOCET"]
[null,null,null,"VV",null,"0,6*0,5*75,0",null,22.5,null,null,null,null,null,null,null,null,null,null,null,null,null,null,null,null,null,null,null,null,null,null,null,null,null,null,null,null,null,null,null,null,null,null,null,null,null,"VV","2","2","-1","0","ROZPOCET"]
[null,null,null,"VV",null,"méně obetonování",null,null,null,null,null,null,null,null,null,null,null,null,null,null,null,null,null,null,null,null,null,null,null,null,null,null,null,null,null,null,null,null,null,null,null,null,null,null,null,"VV","2","1","-1","0","ROZPOCET"]
[null,null,null,"VV",null,"dle pol.899623151 (odd.93)",null,null,null,null,null,null,null,null,null,null,null,null,null,null,null,null,null,null,null,null,null,null,null,null,null,null,null,null,null,null,null,null,null,null,null,null,null,null,null,"VV","2","1","-1","0","ROZPOCET"]
[null,null,null,"VV",null,"-15,75",null,-15.75,null,null,null,null,null,null,null,null,null,null,null,null,null,null,null,null,null,null,null,null,null,null,null,null,null,null,null,null,null,null,null,null,null,null,null,null,null,"VV","2","2","-1","0","ROZPOCET"]
[null,null,null,"VV",null,"0,25",null,0.25,null,null,null,null,null,null,null,null,null,null,null,null,null,null,null,null,null,null,null,null,null,null,null,null,null,null,null,null,null,null,null,null,null,null,null,null,null,"VV","2","2","-1","0","ROZPOCET"]
[null,null,null,"VV",null,"Součet",null,45,null,null,null,null,null,null,null,null,null,null,null,null,null,null,null,null,null,null,null,null,null,null,null,null,null,null,null,null,null,null,null,null,null,null,null,null,null,"VV","2","4","-1","1","ROZPOCET"]
[null,null,"16","K","167101102","Nakládání výkopku z hornin tř. 1 až 4 přes 100 m3","m3",1204,null,{"$f":"ROUND($I$240*$H$240,2)","v":0},"CS ÚRS 2014 02",null,null,"základní",null,null,0,{"$f":"$Q$240*$H$240","v":0},0,{"$f":"$S$240*$H$240","v":0},null,null,null,null,null,null,null,null,null,null,null,null,null,null,null,null,null,null,null,null,null,null,null,"4",null,"K","2",null,null,null,"ROZPOCET",null,null,null,null,null,{"$f":"IF($N$240=\"základní\",$J$240,0)","v":0},{"$f":"IF($N$240=\"snížená\",$J$240,0)","v":0},{"$f":"IF($N$240=\"zákl. přenesená\",$J$240,0)","v":0},{"$f":"IF($N$240=\"sníž. přenesená\",$J$240,0)","v":0},{"$f":"IF($N$240=\"nulová\",$J$240,0)","v":0},"1",{"$f":"ROUND($I$240*$H$240,2)","v":0},"4","1412094313"]
[null,null,null,"PP",null,"Nakládání, skládání a překládání neulehlého výkopku nebo sypaniny nakládání, množství přes 100 m3, z hornin tř. 1 až 4",null,null,null,null,null,null,null,null,null,null,null,null,null,null,null,null,null,null,null,null,null,null,null,null,null,null,null,null,null,null,null,null,null,null,null,null,null,null,null,"PP","2"]
[null,null,null,"PSC",null,"Poznámka k souboru cen:\n1. Ceny -1101, -1151, -1102, -1152, -1103, -1153, jsou určeny pro nakládání, skládání a překládání     na obvyklý nebo z obvyklého dopravního prostředku. Pro nakládání z lodi nebo na loď jsou určeny     ceny -1105 a -1155. 2. Ceny -1105 a -1155 jsou určeny pro nakládání, překládání a vykládání na vzdálenost     a) do 20 m vodorovně; vodorovná vzdálenost se měří od těžnice lodi k těžnici druhé lodi, nebo         k těžišti hromady na břehu nebo k těžišti dopravního prostředku na suchu,     b) do 4 m svisle; svislá vzdálenost se měří od pracovní hladiny vody k úrovni srovna- ného         terénu v místě hromady nebo v místě dopravní plochy pro dopravní prostředek na suchu. Uvedenou         svislou vzdálenost 4 m lze zvětšit, a to nejvýše do 6 m, jestliže je vodorovná vzdálenost uvedená v         bodu a) kratší než 20 m nejméně o trojnásobek zvětšení výšky přes 4 m. 3. Množství měrných jednotek se určí v rostlém stavu horniny. ",null,null,null,null,null,null,null,null,null,null,null,null,null,null,null,null,null,null,null,null,null,null,null,null,null,null,null,null,null,null,null,null,null,null,null,null,null,null,null,"PSC","2"]
[null,null,null,"VV",null,"přebytečná zemina na skládku",null,null,null,null,null,null,null,null,null,null,null,null,null,null,null,null,null,null,null,null,null,null,null,null,null,null,null,null,null,null,null,null,null,null,null,null,null,null,null,"VV","2","1","-1","0","ROZPOCET"]
[null,null,null,"VV",null,"po výkopu a zásypu rýh",null,null,null,null,null,null,null,null,null,null,null,null,null,null,null,null,null,null,null,null,null,null,null,null,null,null,null,null,null,null,null,null,null,null,null,null,null,null,null,"VV","2","1","-1","0","ROZPOCET"]
[null,null,null,"VV",null,"pol.132202101",null,null,null,null,null,null,null,null,null,null,null,null,null,null,null,null,null,null,null,null,null,null,null,null,null,null,null,null,null,null,null,null,null,null,null,null,null,null,null,"VV","2","1","-1","0","ROZPOCET"]
[null,null,null,"VV",null,"36,0",null,36,null,null,null,null,null,null,null,null,null,null,null,null,null,null,null,null,null,null,null,null,null,null,null,null,null,null,null,null,null,null,null,null,null,null,null,null,null,"VV","2","2","-1","0","ROZPOCET"]
[null,null,null,"VV",null,"pol.132101203+132201203",null,null,null,null,null,null,null,null,null,null,null,null,null,null,null,null,null,null,null,null,null,null,null,null,null,null,null,null,null,null,null,null,null,null,null,null,null,null,null,"VV","2","1","-1","0","ROZPOCET"]
[null,null,null,"VV",null,"26,0+77,5",null,103.5,null,null,null,null,null,null,null,null,null,null,null,null,null,null,null,null,null,null,null,null,null,null,null,null,null,null,null,null,null,null,null,null,null,null,null,null,null,"VV","2","2","-1","0","ROZPOCET"]
[null,null,null,"VV",null,"méně 174101101",null,null,null,null,null,null,null,null,null,null,null,null,null,null,null,null,null,null,null,null,null,null,null,null,null,null,null,null,null,null,null,null,null,null,null,null,null,null,null,"VV","2","1","-1","0","ROZPOCET"]
[null,null,null,"VV",null,"-45,0",null,-45,null,null,null,null,null,null,null,null,null,null,null,null,null,null,null,null,null,null,null,null,null,null,null,null,null,null,null,null,null,null,null,null,null,null,null,null,null,"VV","2","2","-1","0","ROZPOCET"]
[null,null,null,"VV",null,"méně pol.175101101mezisoučet B",null,null,null,null,null,null,null,null,null,null,null,null,null,null,null,null,null,null,null,null,null,null,null,null,null,null,null,null,null,null,null,null,null,null,null,null,null,null,null,"VV","2","1","-1","0","ROZPOCET"]
[null,null,null,"VV",null,"-18,0",null,-18,null,null,null,null,null,null,null,null,null,null,null,null,null,null,null,null,null,null,null,null,null,null,null,null,null,null,null,null,null,null,null,null,null,null,null,null,null,"VV","2","2","-1","0","ROZPOCET"]
[null,null,null,"VV",null,"zemina pro krajnice",null,null,null,null,null,null,null,null,null,null,null,null,null,null,null,null,null,null,null,null,null,null,null,null,null,null,null,null,null,null,null,null,null,null,null,null,null,null,null,"VV","2","1","-1","0","ROZPOCET"]
[null,null,null,"VV",null,"pol.569903311",null,null,null,null,null,null,null,null,null,null,null,null,null,null,null,null,null,null,null,null,null,null,null,null,null,null,null,null,null,null,null,null,null,null,null,null,null,null,null,"VV","2","1","-1","0","ROZPOCET"]
[null,null,null,"VV",null,"34,0",null,34,null,null,null,null,null,null,null,null,null,null,null,null,null,null,null,null,null,null,null,null,null,null,null,null,null,null,null,null,null,null,null,null,null,null,null,null,null,"VV","2","2","-1","0","ROZPOCET"]
[null,null,null,"VV",null,"Mezisoučet A",null,110.5,null,null,null,null,null,null,null,null,null,null,null,null,null,null,null,null,null,null,null,null,null,null,null,null,null,null,null,null,null,null,null,null,null,null,null,null,null,"VV","2","3","-1","0","ROZPOCET"]
[null,null,null,"VV",null,"ornice z meziskládky k místu rozprostření",null,null,null,null,null,null,null,null,null,null,null,null,null,null,null,null,null,null,null,null,null,null,null,null,null,null,null,null,null,null,null,null,null,null,null,null,null,null,null,"VV","2","1","-1","0","ROZPOCET"]
[null,null,null,"VV",null,"pol.181301102+182301122",null,null,null,null,null,null,null,null,null,null,null,null,null,null,null,null,null,null,null,null,null,null,null,null,null,null,null,null,null,null,null,null,null,null,null,null,null,null,null,"VV","2","1","-1","0","ROZPOCET"]
[null,null,null,"VV",null,"(1650,0+400,0)*0,15",null,307.5,null,null,null,null,null,null,null,null,null,null,null,null,null,null,null,null,null,null,null,null,null,null,null,null,null,null,null,null,null,null,null,null,null,null,null,null,null,"VV","2","2","-1","0","ROZPOCET"]
[null,null,null,"VV",null,"Mezisoučet B",null,307.5,null,null,null,null,null,null,null,null,null,null,null,null,null,null,null,null,null,null,null,null,null,null,null,null,null,null,null,null,null,null,null,null,null,null,null,null,null,"VV","2","3","-1","0","ROZPOCET"]
[null,null,null,"VV",null,"ornice z meziskládky k odvozu na skládku",null,null,null,null,null,null,null,null,null,null,null,null,null,null,null,null,null,null,null,null,null,null,null,null,null,null,null,null,null,null,null,null,null,null,null,null,null,null,null,"VV","2","1","-1","0","ROZPOCET"]
[null,null,null,"VV",null,"pol.121101103",null,null,null,null,null,null,null,null,null,null,null,null,null,null,null,null,null,null,null,null,null,null,null,null,null,null,null,null,null,null,null,null,null,null,null,null,null,null,null,"VV","2","1","-1","0","ROZPOCET"]
[null,null,null,"VV",null,"1170,0",null,1170,null,null,null,null,null,null,null,null,null,null,null,null,null,null,null,null,null,null,null,null,null,null,null,null,null,null,null,null,null,null,null,null,null,null,null,null,null,"VV","2","2","-1","0","ROZPOCET"]
[null,null,null,"VV",null,"méně mezisoučet B",null,null,null,null,null,null,null,null,null,null,null,null,null,null,null,null,null,null,null,null,null,null,null,null,null,null,null,null,null,null,null,null,null,null,null,null,null,null,null,"VV","2","1","-1","0","ROZPOCET"]
[null,null,null,"VV",null,"-307,5",null,-307.5,null,null,null,null,null,null,null,null,null,null,null,null,null,null,null,null,null,null,null,null,null,null,null,null,null,null,null,null,null,null,null,null,null,null,null,null,null,"VV","2","2","-1","0","ROZPOCET"]
[null,null,null,"VV",null,"méně ornice potřebná pro SO 122",null,null,null,null,null,null,null,null,null,null,null,null,null,null,null,null,null,null,null,null,null,null,null,null,null,null,null,null,null,null,null,null,null,null,null,null,null,null,null,"VV","2","1","-1","0","ROZPOCET"]
[null,null,null,"VV",null,"-(180,0+330,0)*0,15",null,-76.5,null,null,null,null,null,null,null,null,null,null,null,null,null,null,null,null,null,null,null,null,null,null,null,null,null,null,null,null,null,null,null,null,null,null,null,null,null,"VV","2","2","-1","0","ROZPOCET"]
[null,null,null,"VV",null,"Mezisoučet C",null,786,null,null,null,null,null,null,null,null,null,null,null,null,null,null,null,null,null,null,null,null,null,null,null,null,null,null,null,null,null,null,null,null,null,null,null,null,null,"VV","2","3","-1","0","ROZPOCET"]
[null,null,null,"VV",null,"Součet",null,1204,null,null,null,null,null,null,null,null,null,null,null,null,null,null,null,null,null,null,null,null,null,null,null,null,null,null,null,null,null,null,null,null,null,null,null,null,null,"VV","2","4","-1","1","ROZPOCET"]
[null,null,"17","K","162301101","Vodorovné přemístění do 500 m výkopku/sypaniny z horniny tř. 1 až 4","m3",341.5,null,{"$f":"ROUND($I$270*$H$270,2)","v":0},"CS ÚRS 2014 02",null,null,"základní",null,null,0,{"$f":"$Q$270*$H$270","v":0},0,{"$f":"$S$270*$H$270","v":0},null,null,null,null,null,null,null,null,null,null,null,null,null,null,null,null,null,null,null,null,null,null,null,"4",null,"K","2",null,null,null,"ROZPOCET",null,null,null,null,null,{"$f":"IF($N$270=\"základní\",$J$270,0)","v":0},{"$f":"IF($N$270=\"snížená\",$J$270,0)","v":0},{"$f":"IF($N$270=\"zákl. přenesená\",$J$270,0)","v":0},{"$f":"IF($N$270=\"sníž. přenesená\",$J$270,0)","v":0},{"$f":"IF($N$270=\"nulová\",$J$270,0)","v":0},"1",{"$f":"ROUND($I$270*$H$270,2)","v":0},"4","-86016565"]
[null,null,null,"PP",null,"Vodorovné přemístění výkopku nebo sypaniny po suchu na obvyklém dopravním prostředku, bez naložení výkopku, avšak se složením bez rozhrnutí z horniny tř. 1 až 4 na vzdálenost přes 50 do 500 m",null,null,null,null,null,null,null,null,null,null,null,null,null,null,null,null,null,null,null,null,null,null,null,null,null,null,null,null,null,null,null,null,null,null,null,null,null,null,null,"PP","2"]
[null,null,null,"PSC",null,"Poznámka k souboru cen:\n1. Ceny nelze použít, předepisuje-li projekt přemístit výkopek na místo nepřístupné obvyklým     dopravním prostředkům; toto přemístění se oceňuje individuálně. 2. V cenách jsou započteny i náhrady za jízdu loženého vozidla v terénu ve výkopišti nebo na     násypišti. 3. V cenách nejsou započteny náklady na rozhrnutí výkopku na násypišti; toto rozhrnutí se oceňuje     cenami souboru cen 171 . 0- . . Uložení sypaniny do násypů a 171 20-1201Uložení sypaniny na skládky. 4. Je-li na dopravní dráze pro vodorovné přemístění nějaká překážka, pro kterou je nutno překládat     výkopek z jednoho obvyklého dopravního prostředku na jiný obvyklý doprav- ní prostředek, oceňuje se     toto lomené vodorovné přemístění výkopku v každém úseku samostatně příslušnou cenou tohoto souboru     cen a překládání výkopku cenami souboru cen 167 10-3 . Nakládání neulehlého výkopku z hromad s     ohledem na ustanovení pozn. číslo 5. 5. Přemísťuje-li se výkopek z dočasných skládek vzdálených do 50 m, neoceňuje se nakládání výkopku,     i když se provádí. Toto ustanovení neplatí, vylučuje-li projekt použití dozeru. 6. V cenách vodorovného přemístění sypaniny nejsou započteny náklady na dodávku materiálu, tyto se     oceňují ve specifikaci. ",null,null,null,null,null,null,null,null,null,null,null,null,null,null,null,null,null,null,null,null,null,null,null,null,null,null,null,null,null,null,null,null,null,null,null,null,null,null,null,"PSC","2"]
[null,null,null,"VV",null,"ornice z meziskládky k místu rozprostření",null,null,null,null,null,null,null,null,null,null,null,null,null,null,null,null,null,null,null,null,null,null,null,null,null,null,null,null,null,null,null,null,null,null,null,null,null,null,null,"VV","2","1","-1","0","ROZPOCET"]
[null,null,null,"VV",null,"pol.181301102+182301122",null,null,null,null,null,null,null,null,null,null,null,null,null,null,null,null,null,null,null,null,null,null,null,null,null,null,null,null,null,null,null,null,null,null,null,null,null,null,null,"VV","2","1","-1","0","ROZPOCET"]
[null,null,null,"VV",null,"(1650,0+400,0)*0,15",null,307.5,null,null,null,null,null,null,null,null,null,null,null,null,null,null,null,null,null,null,null,null,null,null,null,null,null,null,null,null,null,null,null,null,null,null,null,null,null,"VV","2","2","-1","0","ROZPOCET"]
[null,null,null,"VV",null,"zemina  pro krajnice ",null,null,null,null,null,null,null,null,null,null,null,null,null,null,null,null,null,null,null,null,null,null,null,null,null,null,null,null,null,null,null,null,null,null,null,null,null,null,null,"VV","2","1","-1","0","ROZPOCET"]
[null,null,null,"VV",null,"pol.569903311",null,null,null,null,null,null,null,null,null,null,null,null,null,null,null,null,null,null,null,null,null,null,null,null,null,null,null,null,null,null,null,null,null,null,null,null,null,null,null,"VV","2","1","-1","0","ROZPOCET"]
[null,null,null,"VV",null,"34,0",null,34,null,null,null,null,null,null,null,null,null,null,null,null,null,null,null,null,null,null,null,null,null,null,null,null,null,null,null,null,null,null,null,null,null,null,null,null,null,"VV","2","2","-1","0","ROZPOCET"]
[null,null,null,"VV",null,"Součet",null,341.5,null,null,null,null,null,null,null,null,null,null,null,null,null,null,null,null,null,null,null,null,null,null,null,null,null,null,null,null,null,null,null,null,null,null,null,null,null,"VV","2","4","-1","1","ROZPOCET"]
[null,null,"18","K","162701105","Vodorovné přemístění do 10000 m výkopku/sypaniny z horniny tř. 1 až 4","m3",5925,null,{"$f":"ROUND($I$280*$H$280,2)","v":0},"CS ÚRS 2014 02",null,null,"základní",null,null,0,{"$f":"$Q$280*$H$280","v":0},0,{"$f":"$S$280*$H$280","v":0},null,null,null,null,null,null,null,null,null,null,null,null,null,null,null,null,null,null,null,null,null,null,null,"4",null,"K","2",null,null,null,"ROZPOCET",null,null,null,null,null,{"$f":"IF($N$280=\"základní\",$J$280,0)","v":0},{"$f":"IF($N$280=\"snížená\",$J$280,0)","v":0},{"$f":"IF($N$280=\"zákl. přenesená\",$J$280,0)","v":0},{"$f":"IF($N$280=\"sníž. přenesená\",$J$280,0)","v":0},{"$f":"IF($N$280=\"nulová\",$J$280,0)","v":0},"1",{"$f":"ROUND($I$280*$H$280,2)","v":0},"4","1654129089"]
[null,null,null,"PP",null,"Vodorovné přemístění výkopku nebo sypaniny po suchu na obvyklém dopravním prostředku, bez naložení výkopku, avšak se složením bez rozhrnutí z horniny tř. 1 až 4 na vzdálenost přes 9 000 do 10 000 m",null,null,null,null,null,null,null,null,null,null,null,null,null,null,null,null,null,null,null,null,null,null,null,null,null,null,null,null,null,null,null,null,null,null,null,null,null,null,null,"PP","2"]
[null,null,null,"PSC",null,"Poznámka k souboru cen:\n1. Ceny nelze použít, předepisuje-li projekt přemístit výkopek na místo nepřístupné obvyklým     dopravním prostředkům; toto přemístění se oceňuje individuálně. 2. V cenách jsou započteny i náhrady za jízdu loženého vozidla v terénu ve výkopišti nebo na     násypišti. 3. V cenách nejsou započteny náklady na rozhrnutí výkopku na násypišti; toto rozhrnutí se oceňuje     cenami souboru cen 171 . 0- . . Uložení sypaniny do násypů a 171 20-1201Uložení sypaniny na skládky. 4. Je-li na dopravní dráze pro vodorovné přemístění nějaká překážka, pro kterou je nutno překládat     výkopek z jednoho obvyklého dopravního prostředku na jiný obvyklý doprav- ní prostředek, oceňuje se     toto lomené vodorovné přemístění výkopku v každém úseku samostatně příslušnou cenou tohoto souboru     cen a překládání výkopku cenami souboru cen 167 10-3 . Nakládání neulehlého výkopku z hromad s     ohledem na ustanovení pozn. číslo 5. 5. Přemísťuje-li se výkopek z dočasných skládek vzdálených do 50 m, neoceňuje se nakládání výkopku,     i když se provádí. Toto ustanovení neplatí, vylučuje-li projekt použití dozeru. 6. V cenách vodorovného přemístění sypaniny nejsou započteny náklady na dodávku materiálu, tyto se     oceňují ve specifikaci. ",null,null,null,null,null,null,null,null,null,null,null,null,null,null,null,null,null,null,null,null,null,null,null,null,null,null,null,null,null,null,null,null,null,null,null,null,null,null,null,"PSC","2"]
[null,null,null,"VV",null,"přebytečná zemina",null,null,null,null,null,null,null,null,null,null,null,null,null,null,null,null,null,null,null,null,null,null,null,null,null,null,null,null,null,null,null,null,null,null,null,null,null,null,null,"VV","2","1","-1","0","ROZPOCET"]
[null,null,null,"VV",null,"pol.122102204+122202204",null,null,null,null,null,null,null,null,null,null,null,null,null,null,null,null,null,null,null,null,null,null,null,null,null,null,null,null,null,null,null,null,null,null,null,null,null,null,null,"VV","2","1","-1","0","ROZPOCET"]
[null,null,null,"VV",null,"1297,5+3892,5",null,5190,null,null,null,null,null,null,null,null,null,null,null,null,null,null,null,null,null,null,null,null,null,null,null,null,null,null,null,null,null,null,null,null,null,null,null,null,null,"VV","2","2","-1","0","ROZPOCET"]
[null,null,null,"VV",null,"pol.132201102+132202101",null,null,null,null,null,null,null,null,null,null,null,null,null,null,null,null,null,null,null,null,null,null,null,null,null,null,null,null,null,null,null,null,null,null,null,null,null,null,null,"VV","2","1","-1","0","ROZPOCET"]
[null,null,null,"VV",null,"50,4+36,0",null,86.4,null,null,null,null,null,null,null,null,null,null,null,null,null,null,null,null,null,null,null,null,null,null,null,null,null,null,null,null,null,null,null,null,null,null,null,null,null,"VV","2","2","-1","0","ROZPOCET"]
[null,null,null,"VV",null,"pol.132101203+132201203",null,null,null,null,null,null,null,null,null,null,null,null,null,null,null,null,null,null,null,null,null,null,null,null,null,null,null,null,null,null,null,null,null,null,null,null,null,null,null,"VV","2","1","-1","0","ROZPOCET"]
[null,null,null,"VV",null,"26,0+77,6",null,103.6,null,null,null,null,null,null,null,null,null,null,null,null,null,null,null,null,null,null,null,null,null,null,null,null,null,null,null,null,null,null,null,null,null,null,null,null,null,"VV","2","2","-1","0","ROZPOCET"]
[null,null,null,"VV",null,"méně",null,null,null,null,null,null,null,null,null,null,null,null,null,null,null,null,null,null,null,null,null,null,null,null,null,null,null,null,null,null,null,null,null,null,null,null,null,null,null,"VV","2","1","-1","0","ROZPOCET"]
[null,null,null,"VV",null,"pol.171101103",null,null,null,null,null,null,null,null,null,null,null,null,null,null,null,null,null,null,null,null,null,null,null,null,null,null,null,null,null,null,null,null,null,null,null,null,null,null,null,"VV","2","1","-1","0","ROZPOCET"]
[null,null,null,"VV",null,"-180,0",null,-180,null,null,null,null,null,null,null,null,null,null,null,null,null,null,null,null,null,null,null,null,null,null,null,null,null,null,null,null,null,null,null,null,null,null,null,null,null,"VV","2","2","-1","0","ROZPOCET"]
[null,null,null,"VV",null,"pol.175101101mezisoučet A",null,null,null,null,null,null,null,null,null,null,null,null,null,null,null,null,null,null,null,null,null,null,null,null,null,null,null,null,null,null,null,null,null,null,null,null,null,null,null,"VV","2","1","-1","0","ROZPOCET"]
[null,null,null,"VV",null,"-27,0",null,-27,null,null,null,null,null,null,null,null,null,null,null,null,null,null,null,null,null,null,null,null,null,null,null,null,null,null,null,null,null,null,null,null,null,null,null,null,null,"VV","2","2","-1","0","ROZPOCET"]
[null,null,null,"VV",null,"pol.569903311",null,null,null,null,null,null,null,null,null,null,null,null,null,null,null,null,null,null,null,null,null,null,null,null,null,null,null,null,null,null,null,null,null,null,null,null,null,null,null,"VV","2","1","-1","0","ROZPOCET"]
[null,null,null,"VV",null,"-34,0",null,-34,null,null,null,null,null,null,null,null,null,null,null,null,null,null,null,null,null,null,null,null,null,null,null,null,null,null,null,null,null,null,null,null,null,null,null,null,null,"VV","2","2","-1","0","ROZPOCET"]
[null,null,null,"VV",null,"Mezisoučet",null,5139,null,null,null,null,null,null,null,null,null,null,null,null,null,null,null,null,null,null,null,null,null,null,null,null,null,null,null,null,null,null,null,null,null,null,null,null,null,"VV","2","3","-1","0","ROZPOCET"]
[null,null,null,"VV",null,"ornice z meziskládky k odvozu na skládku",null,null,null,null,null,null,null,null,null,null,null,null,null,null,null,null,null,null,null,null,null,null,null,null,null,null,null,null,null,null,null,null,null,null,null,null,null,null,null,"VV","2","1","-1","0","ROZPOCET"]
[null,null,null,"VV",null,"pol.121101103",null,null,null,null,null,null,null,null,null,null,null,null,null,null,null,null,null,null,null,null,null,null,null,null,null,null,null,null,null,null,null,null,null,null,null,null,null,null,null,"VV","2","1","-1","0","ROZPOCET"]
[null,null,null,"VV",null,"1170,0-307,5",null,862.5,null,null,null,null,null,null,null,null,null,null,null,null,null,null,null,null,null,null,null,null,null,null,null,null,null,null,null,null,null,null,null,null,null,null,null,null,null,"VV","2","2","-1","0","ROZPOCET"]
[null,null,null,"VV",null,"méně ornice potřebná pro SO 122",null,null,null,null,null,null,null,null,null,null,null,null,null,null,null,null,null,null,null,null,null,null,null,null,null,null,null,null,null,null,null,null,null,null,null,null,null,null,null,"VV","2","1","-1","0","ROZPOCET"]
[null,null,null,"VV",null,"-(180,0+330,0)*0,15",null,-76.5,null,null,null,null,null,null,null,null,null,null,null,null,null,null,null,null,null,null,null,null,null,null,null,null,null,null,null,null,null,null,null,null,null,null,null,null,null,"VV","2","2","-1","0","ROZPOCET"]
[null,null,null,"VV",null,"Součet",null,5925,null,null,null,null,null,null,null,null,null,null,null,null,null,null,null,null,null,null,null,null,null,null,null,null,null,null,null,null,null,null,null,null,null,null,null,null,null,"VV","2","4","-1","1","ROZPOCET"]
[null,null,"19","K","162701109","Příplatek k vodorovnému přemístění výkopku/sypaniny z horniny tř. 1 až 4 ZKD 1000 m přes 10000 m","m3",29625,null,{"$f":"ROUND($I$304*$H$304,2)","v":0},"CS ÚRS 2014 02",null,null,"základní",null,null,0,{"$f":"$Q$304*$H$304","v":0},0,{"$f":"$S$304*$H$304","v":0},null,null,null,null,null,null,null,null,null,null,null,null,null,null,null,null,null,null,null,null,null,null,null,"4",null,"K","2",null,null,null,"ROZPOCET",null,null,null,null,null,{"$f":"IF($N$304=\"základní\",$J$304,0)","v":0},{"$f":"IF($N$304=\"snížená\",$J$304,0)","v":0},{"$f":"IF($N$304=\"zákl. přenesená\",$J$304,0)","v":0},{"$f":"IF($N$304=\"sníž. přenesená\",$J$304,0)","v":0},{"$f":"IF($N$304=\"nulová\",$J$304,0)","v":0},"1",{"$f":"ROUND($I$304*$H$304,2)","v":0},"4","1455758197"]
[null,null,null,"PP",null,"Vodorovné přemístění výkopku nebo sypaniny po suchu na obvyklém dopravním prostředku, bez naložení výkopku, avšak se složením bez rozhrnutí z horniny tř. 1 až 4 na vzdálenost Příplatek k ceně za každých dalších i započatých 1 000 m",null,null,null,null,null,null,null,null,null,null,null,null,null,null,null,null,null,null,null,null,null,null,null,null,null,null,null,null,null,null,null,null,null,null,null,null,null,null,null,"PP","2"]
[null,null,null,"PSC",null,"Poznámka k souboru cen:\n1. Ceny nelze použít, předepisuje-li projekt přemístit výkopek na místo nepřístupné obvyklým     dopravním prostředkům; toto přemístění se oceňuje individuálně. 2. V cenách jsou započteny i náhrady za jízdu loženého vozidla v terénu ve výkopišti nebo na     násypišti. 3. V cenách nejsou započteny náklady na rozhrnutí výkopku na násypišti; toto rozhrnutí se oceňuje     cenami souboru cen 171 . 0- . . Uložení sypaniny do násypů a 171 20-1201Uložení sypaniny na skládky. 4. Je-li na dopravní dráze pro vodorovné přemístění nějaká překážka, pro kterou je nutno překládat     výkopek z jednoho obvyklého dopravního prostředku na jiný obvyklý doprav- ní prostředek, oceňuje se     toto lomené vodorovné přemístění výkopku v každém úseku samostatně příslušnou cenou tohoto souboru     cen a překládání výkopku cenami souboru cen 167 10-3 . Nakládání neulehlého výkopku z hromad s     ohledem na ustanovení pozn. číslo 5. 5. Přemísťuje-li se výkopek z dočasných skládek vzdálených do 50 m, neoceňuje se nakládání výkopku,     i když se provádí. Toto ustanovení neplatí, vylučuje-li projekt použití dozeru. 6. V cenách vodorovného přemístění sypaniny nejsou započteny náklady na dodávku materiálu, tyto se     oceňují ve specifikaci. ",null,null,null,null,null,null,null,null,null,null,null,null,null,null,null,null,null,null,null,null,null,null,null,null,null,null,null,null,null,null,null,null,null,null,null,null,null,null,null,"PSC","2"]
[null,null,null,"VV",null,"celkem 15 km",null,null,null,null,null,null,null,null,null,null,null,null,null,null,null,null,null,null,null,null,null,null,null,null,null,null,null,null,null,null,null,null,null,null,null,null,null,null,null,"VV","2","1","-1","0","ROZPOCET"]
[null,null,null,"VV",null,"5925,0*(15-10)",null,29625,null,null,null,null,null,null,null,null,null,null,null,null,null,null,null,null,null,null,null,null,null,null,null,null,null,null,null,null,null,null,null,null,null,null,null,null,null,"VV","2","2","-1","1","ROZPOCET"]
[null,null,"20","K","171201201","Uložení sypaniny na skládky","m3",5925,null,{"$f":"ROUND($I$309*$H$309,2)","v":0},"CS ÚRS 2014 02",null,null,"základní",null,null,0,{"$f":"$Q$309*$H$309","v":0},0,{"$f":"$S$309*$H$309","v":0},null,null,null,null,null,null,null,null,null,null,null,null,null,null,null,null,null,null,null,null,null,null,null,"4",null,"K","2",null,null,null,"ROZPOCET",null,null,null,null,null,{"$f":"IF($N$309=\"základní\",$J$309,0)","v":0},{"$f":"IF($N$309=\"snížená\",$J$309,0)","v":0},{"$f":"IF($N$309=\"zákl. přenesená\",$J$309,0)","v":0},{"$f":"IF($N$309=\"sníž. přenesená\",$J$309,0)","v":0},{"$f":"IF($N$309=\"nulová\",$J$309,0)","v":0},"1",{"$f":"ROUND($I$309*$H$309,2)","v":0},"4","-1752499938"]
[null,null,null,"PP",null,"Uložení sypaniny na skládky",null,null,null,null,null,null,null,null,null,null,null,null,null,null,null,null,null,null,null,null,null,null,null,null,null,null,null,null,null,null,null,null,null,null,null,null,null,null,null,"PP","2"]
[null,null,null,"PSC",null,"Poznámka k souboru cen:\n1. Cena -1201 je určena i pro:     a) uložení výkopku nebo ornice na dočasné skládky předepsané projektem tak, že na 1 m2         projektem určené plochy této skládky připadá přes 2 m3 výkopku nebo ornice; v opačném případě se         uložení neoceňuje. Množství výkopku nebo ornice připadající na 1 m2 skládky se určí jako podíl         množství výkopku nebo ornice, měřeného v rostlém stavu a projektem určené plochy dočasné skládky;     b) zasypání koryt vodotečí a prohlubní v terénu bez předepsaného zhutnění sypaniny;     c) uložení výkopku pod vodou do prohlubní ve dně vodotečí nebo nádrží. 2. Cenu -1201 nelze použít pro uložení výkopku nebo ornice:     a) při vykopávkách pro podzemní vedení podél hrany výkopu, z něhož byl výkopek získán, a to ani         tehdy, jestliže se výkopek po vyhození z výkopu na povrch území ještě dále přemisťuje na hromady         podél výkopu;     b) na dočasné skládky, které nejsou předepsány projektem;     c) na dočasné skládky předepsané projektem tak, že na 1 m2 projektem určené plochy této skládky         připadají nejvýše 2 m3 výkopku nebo ornice (viz. též poznámku č. 1 a);     d) na dočasné skládky, oceňuje-li se cenou 121 10-1101 Sejmutí ornice nebo lesní půdy do 50 m,         nebo oceňuje-li se vodorovné přemístění výkopku do 20 m a 50 m cenami 162 20-1101, 162 20-1102, 162         20-1151 a 162 20-1152. V těchto případech se uložení výkopku nebo ornice na dočasnou skládku         neoceňuje.     e) na trvalé skládky s předepsaným zhutněním; toto uložení výkopku se oceňuje cenami souboru         cen 171 . 0- . . Uložení sypaniny do násypů. 3. V ceně -1201 jsou započteny i náklady na rozprostření sypaniny ve vrstvách s hrubým urovnáním na     skládce. 4. V ceně -1201 nejsou započteny náklady na získání skládek ani na poplatky za skládku. 5. Množství jednotek uložení výkopku (sypaniny) se určí v m3 uloženého výkopku (sypaniny),v rostlém     stavu zpravidla ve výkopišti. 6. Cenu -1211 lze po dohodě upravit podle místních podmínek. ",null,null,null,null,null,null,null,null,null,null,null,null,null,null,null,null,null,null,null,null,null,null,null,null,null,null,null,null,null,null,null,null,null,null,null,null,null,null,null,"PSC","2"]
[null,null,"21","K","171201211","Poplatek za uložení odpadu ze sypaniny na skládce (skládkovné)","t",8887.5,null,{"$f":"ROUND($I$312*$H$312,2)","v":0},"CS ÚRS 2014 02",null,null,"základní",null,null,0,{"$f":"$Q$312*$H$312","v":0},0,{"$f":"$S$312*$H$312","v":0},null,null,null,null,null,null,null,null,null,null,null,null,null,null,null,null,null,null,null,null,null,null,null,"4",null,"K","2",null,null,null,"ROZPOCET",null,null,null,null,null,{"$f":"IF($N$312=\"základní\",$J$312,0)","v":0},{"$f":"IF($N$312=\"snížená\",$J$312,0)","v":0},{"$f":"IF($N$312=\"zákl. přenesená\",$J$312,0)","v":0},{"$f":"IF($N$312=\"sníž. přenesená\",$J$312,0)","v":0},{"$f":"IF($N$312=\"nulová\",$J$312,0)","v":0},"1",{"$f":"ROUND($I$312*$H$312,2)","v":0},"4","239728415"]
[null,null,null,"PP",null,"Uložení sypaniny poplatek za uložení sypaniny na skládce (skládkovné)",null,null,null,null,null,null,null,null,null,null,null,null,null,null,null,null,null,null,null,null,null,null,null,null,null,null,null,null,null,null,null,null,null,null,null,null,null,null,null,"PP","2"]
[null,null,null,"PSC",null,"Poznámka k souboru cen:\n1. Cena -1201 je určena i pro:     a) uložení výkopku nebo ornice na dočasné skládky předepsané projektem tak, že na 1 m2         projektem určené plochy této skládky připadá přes 2 m3 výkopku nebo ornice; v opačném případě se         uložení neoceňuje. Množství výkopku nebo ornice připadající na 1 m2 skládky se určí jako podíl         množství výkopku nebo ornice, měřeného v rostlém stavu a projektem určené plochy dočasné skládky;     b) zasypání koryt vodotečí a prohlubní v terénu bez předepsaného zhutnění sypaniny;     c) uložení výkopku pod vodou do prohlubní ve dně vodotečí nebo nádrží. 2. Cenu -1201 nelze použít pro uložení výkopku nebo ornice:     a) při vykopávkách pro podzemní vedení podél hrany výkopu, z něhož byl výkopek získán, a to ani         tehdy, jestliže se výkopek po vyhození z výkopu na povrch území ještě dále přemisťuje na hromady         podél výkopu;     b) na dočasné skládky, které nejsou předepsány projektem;     c) na dočasné skládky předepsané projektem tak, že na 1 m2 projektem určené plochy této skládky         připadají nejvýše 2 m3 výkopku nebo ornice (viz. též poznámku č. 1 a);     d) na dočasné skládky, oceňuje-li se cenou 121 10-1101 Sejmutí ornice nebo lesní půdy do 50 m,         nebo oceňuje-li se vodorovné přemístění výkopku do 20 m a 50 m cenami 162 20-1101, 162 20-1102, 162         20-1151 a 162 20-1152. V těchto případech se uložení výkopku nebo ornice na dočasnou skládku         neoceňuje.     e) na trvalé skládky s předepsaným zhutněním; toto uložení výkopku se oceňuje cenami souboru         cen 171 . 0- . . Uložení sypaniny do násypů. 3. V ceně -1201 jsou započteny i náklady na rozprostření sypaniny ve vrstvách s hrubým urovnáním na     skládce. 4. V ceně -1201 nejsou započteny náklady na získání skládek ani na poplatky za skládku. 5. Množství jednotek uložení výkopku (sypaniny) se určí v m3 uloženého výkopku (sypaniny),v rostlém     stavu zpravidla ve výkopišti. 6. Cenu -1211 lze po dohodě upravit podle místních podmínek. ",null,null,null,null,null,null,null,null,null,null,null,null,null,null,null,null,null,null,null,null,null,null,null,null,null,null,null,null,null,null,null,null,null,null,null,null,null,null,null,"PSC","2"]
[null,null,null,"VV",null,"5925,0*1,5",null,8887.5,null,null,null,null,null,null,null,null,null,null,null,null,null,null,null,null,null,null,null,null,null,null,null,null,null,null,null,null,null,null,null,null,null,null,null,null,null,"VV","2","2","-1","1","ROZPOCET"]
[null,null,"22","K","181951102","Úprava pláně v hornině tř. 1 až 4 se zhutněním","m2",5212,null,{"$f":"ROUND($I$316*$H$316,2)","v":0},"CS ÚRS 2014 02",null,null,"základní",null,null,0,{"$f":"$Q$316*$H$316","v":0},0,{"$f":"$S$316*$H$316","v":0},null,null,null,null,null,null,null,null,null,null,null,null,null,null,null,null,null,null,null,null,null,null,null,"4",null,"K","2",null,null,null,"ROZPOCET",null,null,null,null,null,{"$f":"IF($N$316=\"základní\",$J$316,0)","v":0},{"$f":"IF($N$316=\"snížená\",$J$316,0)","v":0},{"$f":"IF($N$316=\"zákl. přenesená\",$J$316,0)","v":0},{"$f":"IF($N$316=\"sníž. přenesená\",$J$316,0)","v":0},{"$f":"IF($N$316=\"nulová\",$J$316,0)","v":0},"1",{"$f":"ROUND($I$316*$H$316,2)","v":0},"4","-1606245419"]
[null,null,null,"PP",null,"Úprava pláně vyrovnáním výškových rozdílů v hornině tř. 1 až 4 se zhutněním",null,null,null,null,null,null,null,null,null,null,null,null,null,null,null,null,null,null,null,null,null,null,null,null,null,null,null,null,null,null,null,null,null,null,null,null,null,null,null,"PP","2"]
[null,null,null,"PSC",null,"Poznámka k souboru cen:\n1. Ceny jsou určeny pro urovnání všech nově zřizovaných ploch (v zářezech i na násypech)     vodorovných nebo ve sklonu do 1:5 pod zpevnění ploch jakéhokoliv druhu, pod humusování, (ne však     pro plochy zásypu rýh pro podzemní vedení), drnování apod. a dále, předepíše-li projekt urovnání     pláně z jiného důvodu. 2. Ceny nelze použít pro urovnání lavic (berem) šířky do 3 m přerušujících svahy, pro urovnání dna     silničních a železničních příkopů pro jakoukoliv šířku dna; toto urovnání se oceňuje cenami souboru     cen 182 .0-1 Svahování. 3. Urovnání ploch ve sklonu přes 1 : 5 se oceňuje cenami souboru cen 182 . 0-11 Svahování trvalých     svahů do projektovaných profilů. 4. Náklady na urovnání dna a stěn při čištění příkopů pozemních komunikací jsou započteny v cenách     souborů cen 938 90-2 . Čištění příkopů komunikací v suchu nebo ve vodě části A02 Zemní práce pro     objekty oborů 821 až 828. 5. Míru zhutnění určuje projekt. Ceny se zhutněním jsou určeny pro jakoukoliv míru zhutnění. ",null,null,null,null,null,null,null,null,null,null,null,null,null,null,null,null,null,null,null,null,null,null,null,null,null,null,null,null,null,null,null,null,null,null,null,null,null,null,null,"PSC","2"]
[null,null,null,"VV",null,"živičná plocha",null,null,null,null,null,null,null,null,null,null,null,null,null,null,null,null,null,null,null,null,null,null,null,null,null,null,null,null,null,null,null,null,null,null,null,null,null,null,null,"VV","2","1","-1","0","ROZPOCET"]
[null,null,null,"VV",null,"4970,0",null,4970,null,null,null,null,null,null,null,null,null,null,null,null,null,null,null,null,null,null,null,null,null,null,null,null,null,null,null,null,null,null,null,null,null,null,null,null,null,"VV","2","2","-1","0","ROZPOCET"]
[null,null,null,"VV",null,"chodníky",null,null,null,null,null,null,null,null,null,null,null,null,null,null,null,null,null,null,null,null,null,null,null,null,null,null,null,null,null,null,null,null,null,null,null,null,null,null,null,"VV","2","1","-1","0","ROZPOCET"]
[null,null,null,"VV",null,"230,0+12,0",null,242,null,null,null,null,null,null,null,null,null,null,null,null,null,null,null,null,null,null,null,null,null,null,null,null,null,null,null,null,null,null,null,null,null,null,null,null,null,"VV","2","2","-1","0","ROZPOCET"]
[null,null,null,"VV",null,"Součet",null,5212,null,null,null,null,null,null,null,null,null,null,null,null,null,null,null,null,null,null,null,null,null,null,null,null,null,null,null,null,null,null,null,null,null,null,null,null,null,"VV","2","4","-1","1","ROZPOCET"]
[null,null,"23","K","181951101","Úprava pláně v hornině tř. 1 až 4 bez zhutnění","m2",1650,null,{"$f":"ROUND($I$324*$H$324,2)","v":0},"CS ÚRS 2014 02",null,null,"základní",null,null,0,{"$f":"$Q$324*$H$324","v":0},0,{"$f":"$S$324*$H$324","v":0},null,null,null,null,null,null,null,null,null,null,null,null,null,null,null,null,null,null,null,null,null,null,null,"4",null,"K","2",null,null,null,"ROZPOCET",null,null,null,null,null,{"$f":"IF($N$324=\"základní\",$J$324,0)","v":0},{"$f":"IF($N$324=\"snížená\",$J$324,0)","v":0},{"$f":"IF($N$324=\"zákl. přenesená\",$J$324,0)","v":0},{"$f":"IF($N$324=\"sníž. přenesená\",$J$324,0)","v":0},{"$f":"IF($N$324=\"nulová\",$J$324,0)","v":0},"1",{"$f":"ROUND($I$324*$H$324,2)","v":0},"4","-1048281697"]
[null,null,null,"PP",null,"Úprava pláně vyrovnáním výškových rozdílů v hornině tř. 1 až 4 bez zhutnění",null,null,null,null,null,null,null,null,null,null,null,null,null,null,null,null,null,null,null,null,null,null,null,null,null,null,null,null,null,null,null,null,null,null,null,null,null,null,null,"PP","2"]
[null,null,null,"PSC",null,"Poznámka k souboru cen:\n1. Ceny jsou určeny pro urovnání všech nově zřizovaných ploch (v zářezech i na násypech)     vodorovných nebo ve sklonu do 1:5 pod zpevnění ploch jakéhokoliv druhu, pod humusování, (ne však     pro plochy zásypu rýh pro podzemní vedení), drnování apod. a dále, předepíše-li projekt urovnání     pláně z jiného důvodu. 2. Ceny nelze použít pro urovnání lavic (berem) šířky do 3 m přerušujících svahy, pro urovnání dna     silničních a železničních příkopů pro jakoukoliv šířku dna; toto urovnání se oceňuje cenami souboru     cen 182 .0-1 Svahování. 3. Urovnání ploch ve sklonu přes 1 : 5 se oceňuje cenami souboru cen 182 . 0-11 Svahování trvalých     svahů do projektovaných profilů. 4. Náklady na urovnání dna a stěn při čištění příkopů pozemních komunikací jsou započteny v cenách     souborů cen 938 90-2 . Čištění příkopů komunikací v suchu nebo ve vodě části A02 Zemní práce pro     objekty oborů 821 až 828. 5. Míru zhutnění určuje projekt. Ceny se zhutněním jsou určeny pro jakoukoliv míru zhutnění. ",null,null,null,null,null,null,null,null,null,null,null,null,null,null,null,null,null,null,null,null,null,null,null,null,null,null,null,null,null,null,null,null,null,null,null,null,null,null,null,"PSC","2"]
[null,null,null,"VV",null,"plochy s rozprostřenou ornicí",null,null,null,null,null,null,null,null,null,null,null,null,null,null,null,null,null,null,null,null,null,null,null,null,null,null,null,null,null,null,null,null,null,null,null,null,null,null,null,"VV","2","1","-1","0","ROZPOCET"]
[null,null,null,"VV",null,"1650,0",null,1650,null,null,null,null,null,null,null,null,null,null,null,null,null,null,null,null,null,null,null,null,null,null,null,null,null,null,null,null,null,null,null,null,null,null,null,null,null,"VV","2","2","-1","1","ROZPOCET"]
[null,null,"24","K","182101101","Svahování v zářezech v hornině tř. 1 až 4","m2",250,null,{"$f":"ROUND($I$329*$H$329,2)","v":0},"CS ÚRS 2014 02",null,null,"základní",null,null,0,{"$f":"$Q$329*$H$329","v":0},0,{"$f":"$S$329*$H$329","v":0},null,null,null,null,null,null,null,null,null,null,null,null,null,null,null,null,null,null,null,null,null,null,null,"4",null,"K","2",null,null,null,"ROZPOCET",null,null,null,null,null,{"$f":"IF($N$329=\"základní\",$J$329,0)","v":0},{"$f":"IF($N$329=\"snížená\",$J$329,0)","v":0},{"$f":"IF($N$329=\"zákl. přenesená\",$J$329,0)","v":0},{"$f":"IF($N$329=\"sníž. přenesená\",$J$329,0)","v":0},{"$f":"IF($N$329=\"nulová\",$J$329,0)","v":0},"1",{"$f":"ROUND($I$329*$H$329,2)","v":0},"4","727522202"]
[null,null,null,"PP",null,"Svahování trvalých svahů do projektovaných profilů s potřebným přemístěním výkopku při svahování v zářezech v hornině tř. 1 až 4",null,null,null,null,null,null,null,null,null,null,null,null,null,null,null,null,null,null,null,null,null,null,null,null,null,null,null,null,null,null,null,null,null,null,null,null,null,null,null,"PP","2"]
[null,null,null,"PSC",null,"Poznámka k souboru cen:\n1. Ceny jsou určeny pro svahování všech nově zřizovaných ploch výkopů nebo násypů ve sklonu přes 1     : 5 a pro úpravu lavic (berem) šířky do 3 m přerušujících svahy, pod jakékoliv zpevnění ploch, pod     humusování, drnování apod., pro úpravy dna a stěn silničních a železničních příkopů a pro úpravy     dna šířky do 1 m melioračních kanálů a vodotečí. 2. Ceny nelze použít pro urovnání stěn příkopů při čištění; toto urovnání se oceňuje cenami souboru     cen 938 90-2 . čištění příkopů komunikací v suchu nebo ve vodě A02 Zemní práce pro objekty oborů     821 až 828. 3. Úprava ploch vodorovných nebo ve sklonu do 1 : 5 s výjimkou ustanovení v poznámce č. 1 se     oceňuje cenami souboru cen 181 *0-11 Úprava pláně vyrovnáním výškových rozdílů. ",null,null,null,null,null,null,null,null,null,null,null,null,null,null,null,null,null,null,null,null,null,null,null,null,null,null,null,null,null,null,null,null,null,null,null,null,null,null,null,"PSC","2"]
[null,null,null,"VV",null,"příkop",null,null,null,null,null,null,null,null,null,null,null,null,null,null,null,null,null,null,null,null,null,null,null,null,null,null,null,null,null,null,null,null,null,null,null,null,null,null,null,"VV","2","1","-1","0","ROZPOCET"]
[null,null,null,"VV",null,"150,0",null,150,null,null,null,null,null,null,null,null,null,null,null,null,null,null,null,null,null,null,null,null,null,null,null,null,null,null,null,null,null,null,null,null,null,null,null,null,null,"VV","2","2","-1","0","ROZPOCET"]
[null,null,null,"VV",null,"ostatní",null,null,null,null,null,null,null,null,null,null,null,null,null,null,null,null,null,null,null,null,null,null,null,null,null,null,null,null,null,null,null,null,null,null,null,null,null,null,null,"VV","2","1","-1","0","ROZPOCET"]
[null,null,null,"VV",null,"100,0",null,100,null,null,null,null,null,null,null,null,null,null,null,null,null,null,null,null,null,null,null,null,null,null,null,null,null,null,null,null,null,null,null,null,null,null,null,null,null,"VV","2","2","-1","0","ROZPOCET"]
[null,null,null,"VV",null,"Součet",null,250,null,null,null,null,null,null,null,null,null,null,null,null,null,null,null,null,null,null,null,null,null,null,null,null,null,null,null,null,null,null,null,null,null,null,null,null,null,"VV","2","4","-1","1","ROZPOCET"]
[null,null,"25","K","182201101","Svahování násypů","m2",150,null,{"$f":"ROUND($I$337*$H$337,2)","v":0},"CS ÚRS 2014 02",null,null,"základní",null,null,0,{"$f":"$Q$337*$H$337","v":0},0,{"$f":"$S$337*$H$337","v":0},null,null,null,null,null,null,null,null,null,null,null,null,null,null,null,null,null,null,null,null,null,null,null,"4",null,"K","2",null,null,null,"ROZPOCET",null,null,null,null,null,{"$f":"IF($N$337=\"základní\",$J$337,0)","v":0},{"$f":"IF($N$337=\"snížená\",$J$337,0)","v":0},{"$f":"IF($N$337=\"zákl. přenesená\",$J$337,0)","v":0},{"$f":"IF($N$337=\"sníž. přenesená\",$J$337,0)","v":0},{"$f":"IF($N$337=\"nulová\",$J$337,0)","v":0},"1",{"$f":"ROUND($I$337*$H$337,2)","v":0},"4","372287706"]
[null,null,null,"PP",null,"Svahování trvalých svahů do projektovaných profilů s potřebným přemístěním výkopku při svahování násypů v jakékoliv hornině",null,null,null,null,null,null,null,null,null,null,null,null,null,null,null,null,null,null,null,null,null,null,null,null,null,null,null,null,null,null,null,null,null,null,null,null,null,null,null,"PP","2"]
[null,null,null,"PSC",null,"Poznámka k souboru cen:\n1. Ceny jsou určeny pro svahování všech nově zřizovaných ploch výkopů nebo násypů ve sklonu přes 1     : 5 a pro úpravu lavic (berem) šířky do 3 m přerušujících svahy, pod jakékoliv zpevnění ploch, pod     humusování, drnování apod., pro úpravy dna a stěn silničních a železničních příkopů a pro úpravy     dna šířky do 1 m melioračních kanálů a vodotečí. 2. Ceny nelze použít pro urovnání stěn příkopů při čištění; toto urovnání se oceňuje cenami souboru     cen 938 90-2 . čištění příkopů komunikací v suchu nebo ve vodě A02 Zemní práce pro objekty oborů     821 až 828. 3. Úprava ploch vodorovných nebo ve sklonu do 1 : 5 s výjimkou ustanovení v poznámce č. 1 se     oceňuje cenami souboru cen 181 *0-11 Úprava pláně vyrovnáním výškových rozdílů. ",null,null,null,null,null,null,null,null,null,null,null,null,null,null,null,null,null,null,null,null,null,null,null,null,null,null,null,null,null,null,null,null,null,null,null,null,null,null,null,"PSC","2"]
[null,null,"26","K","181301112","Rozprostření ornice tl vrstvy do 150 mm pl přes 500 m2 v rovině nebo ve svahu do 1:5","m2",1650,null,{"$f":"ROUND($I$340*$H$340,2)","v":0},"CS ÚRS 2014 02",null,null,"základní",null,null,0,{"$f":"$Q$340*$H$340","v":0},0,{"$f":"$S$340*$H$340","v":0},null,null,null,null,null,null,null,null,null,null,null,null,null,null,null,null,null,null,null,null,null,null,null,"4",null,"K","2",null,null,null,"ROZPOCET",null,null,null,null,null,{"$f":"IF($N$340=\"základní\",$J$340,0)","v":0},{"$f":"IF($N$340=\"snížená\",$J$340,0)","v":0},{"$f":"IF($N$340=\"zákl. přenesená\",$J$340,0)","v":0},{"$f":"IF($N$340=\"sníž. přenesená\",$J$340,0)","v":0},{"$f":"IF($N$340=\"nulová\",$J$340,0)","v":0},"1",{"$f":"ROUND($I$340*$H$340,2)","v":0},"4","-491879445"]
[null,null,null,"PP",null,"Rozprostření a urovnání ornice v rovině nebo ve svahu sklonu do 1:5 při souvislé ploše přes 500 m2, tl. vrstvy přes 100 do 150 mm",null,null,null,null,null,null,null,null,null,null,null,null,null,null,null,null,null,null,null,null,null,null,null,null,null,null,null,null,null,null,null,null,null,null,null,null,null,null,null,"PP","2"]
[null,null,null,"PSC",null,"Poznámka k souboru cen:\n1. V ceně jsou započteny i náklady na případné nutné přemístění hromad nebo dočasných skládek na     místo spotřeby ze vzdálenosti do 30 m. 2. V ceně nejsou započteny náklady na získání ornice; toto získání se oceňuje cenami souboru cen     121 10-11 Sejmutí ornice. 3. Případné nakládání ornice, v souvislosti s pozn. č. 3 se oceňuje cenami souboru cen 167 10-11     Nakládání, skládání a překládání neulehlého výkopku nebo sypaniny. 4. Jsou-li hromady nebo dočasné skládky ornice umístěny podle projektu ve vzdálenosti přes 30 m od     místa spotřeby, oceňuje se její přemístění cenami souboru cen 162 . 0-1 . Vodorovné přemístění     výkopku, přičemž se vzdálenost 30 m, uvedená v popisu cen, neodečítá. ",null,null,null,null,null,null,null,null,null,null,null,null,null,null,null,null,null,null,null,null,null,null,null,null,null,null,null,null,null,null,null,null,null,null,null,null,null,null,null,"PSC","2"]
[null,null,null,"VV",null,"dle pol.1819151101",null,null,null,null,null,null,null,null,null,null,null,null,null,null,null,null,null,null,null,null,null,null,null,null,null,null,null,null,null,null,null,null,null,null,null,null,null,null,null,"VV","2","1","-1","0","ROZPOCET"]
[null,null,null,"VV",null,"1650,0",null,1650,null,null,null,null,null,null,null,null,null,null,null,null,null,null,null,null,null,null,null,null,null,null,null,null,null,null,null,null,null,null,null,null,null,null,null,null,null,"VV","2","2","-1","1","ROZPOCET"]
[null,null,"27","K","182301122","Rozprostření ornice pl do 500 m2 ve svahu přes 1:5 tl vrstvy do 150 mm","m2",400,null,{"$f":"ROUND($I$345*$H$345,2)","v":0},"CS ÚRS 2014 02",null,null,"základní",null,null,0,{"$f":"$Q$345*$H$345","v":0},0,{"$f":"$S$345*$H$345","v":0},null,null,null,null,null,null,null,null,null,null,null,null,null,null,null,null,null,null,null,null,null,null,null,"4",null,"K","2",null,null,null,"ROZPOCET",null,null,null,null,null,{"$f":"IF($N$345=\"základní\",$J$345,0)","v":0},{"$f":"IF($N$345=\"snížená\",$J$345,0)","v":0},{"$f":"IF($N$345=\"zákl. přenesená\",$J$345,0)","v":0},{"$f":"IF($N$345=\"sníž. přenesená\",$J$345,0)","v":0},{"$f":"IF($N$345=\"nulová\",$J$345,0)","v":0},"1",{"$f":"ROUND($I$345*$H$345,2)","v":0},"4","-1139294108"]
[null,null,null,"PP",null,"Rozprostření a urovnání ornice ve svahu sklonu přes 1:5 při souvislé ploše do 500 m2, tl. vrstvy přes 100 do 150 mm",null,null,null,null,null,null,null,null,null,null,null,null,null,null,null,null,null,null,null,null,null,null,null,null,null,null,null,null,null,null,null,null,null,null,null,null,null,null,null,"PP","2"]
[null,null,null,"PSC",null,"Poznámka k souboru cen:\n1. V ceně jsou započteny i náklady na případné nutné přemístění hromad nebo dočasných skládek na     místo spotřeby ze vzdálenosti do 30 m. 2. V ceně nejsou započteny náklady na získání ornice; toto získání se oceňuje cenami souboru cen     121 10-11 Sejmutí ornice. 3. Případné nakládání ornice, v souvislosti s pozn. č. 3, se oceňuje cenami souboru cen 167 10-11     Nakládání, skládání a překládání neulehlého výkopku nebo sypaniny. 4. Jsou-li hromady nebo dočasné skládky ornice umístěny podle projektu ve vzdálenosti přes 30 m od     místa spotřeby, oceňuje se její přemístění cenami souboru cen 162 . 0-1 . Vodorovné přemístění     výkopku, přičemž se vzdálenost 30 m, uvedená v popisu cen, neodečítá. ",null,null,null,null,null,null,null,null,null,null,null,null,null,null,null,null,null,null,null,null,null,null,null,null,null,null,null,null,null,null,null,null,null,null,null,null,null,null,null,"PSC","2"]
[null,null,null,"VV",null,"dle pol.182101101+182201101",null,null,null,null,null,null,null,null,null,null,null,null,null,null,null,null,null,null,null,null,null,null,null,null,null,null,null,null,null,null,null,null,null,null,null,null,null,null,null,"VV","2","1","-1","0","ROZPOCET"]
[null,null,null,"VV",null,"250,0+150,0",null,400,null,null,null,null,null,null,null,null,null,null,null,null,null,null,null,null,null,null,null,null,null,null,null,null,null,null,null,null,null,null,null,null,null,null,null,null,null,"VV","2","2","-1","1","ROZPOCET"]
[null,null,"28","K","181411131","Založení parkového trávníku výsevem plochy do 1000 m2 v rovině a ve svahu do 1:5","m2",1650,null,{"$f":"ROUND($I$350*$H$350,2)","v":0},"CS ÚRS 2014 02",null,null,"základní",null,null,0,{"$f":"$Q$350*$H$350","v":0},0,{"$f":"$S$350*$H$350","v":0},null,null,null,null,null,null,null,null,null,null,null,null,null,null,null,null,null,null,null,null,null,null,null,"4",null,"K","2",null,null,null,"ROZPOCET",null,null,null,null,null,{"$f":"IF($N$350=\"základní\",$J$350,0)","v":0},{"$f":"IF($N$350=\"snížená\",$J$350,0)","v":0},{"$f":"IF($N$350=\"zákl. přenesená\",$J$350,0)","v":0},{"$f":"IF($N$350=\"sníž. přenesená\",$J$350,0)","v":0},{"$f":"IF($N$350=\"nulová\",$J$350,0)","v":0},"1",{"$f":"ROUND($I$350*$H$350,2)","v":0},"4","-1090989595"]
[null,null,null,"PP",null,"Založení trávníku na půdě předem připravené plochy do 1000 m2 výsevem včetně utažení parkového v rovině nebo na svahu do 1:5",null,null,null,null,null,null,null,null,null,null,null,null,null,null,null,null,null,null,null,null,null,null,null,null,null,null,null,null,null,null,null,null,null,null,null,null,null,null,null,"PP","2"]
[null,null,null,"PSC",null,"Poznámka k souboru cen:\n1. V cenách jsou započteny i náklady na pokosení, naložení a odvoz odpadu do 20 km se složením. 2. V cenách -1161 až -1164 nejsou započteny i náklady na zatravňovací textilii. 3. V cenách nejsou započteny náklady na:     a) přípravu půdy,     b) travní semeno, tyto náklady se oceňují ve specifikaci,     c) vypletí a zalévání; tyto práce se oceňují cenami části C02 souborů cen 185 80-42 Vypletí a         185 80-43 Zalití rostlin vodou,     d) srovnání terénu, tyto práce se oceňují souborem cen 181 1.-..Plošná úprava terénu. 4. V cenách o sklonu svahu přes 1:1 jsou uvažovány podmínky pro svahy běžně schůdné; bez použití     lezeckých technik. V případě použití lezeckých technik se tyto náklady oceňují individuálně. ",null,null,null,null,null,null,null,null,null,null,null,null,null,null,null,null,null,null,null,null,null,null,null,null,null,null,null,null,null,null,null,null,null,null,null,null,null,null,null,"PSC","2"]
[null,null,null,"VV",null,"dle pol.181301112",null,null,null,null,null,null,null,null,null,null,null,null,null,null,null,null,null,null,null,null,null,null,null,null,null,null,null,null,null,null,null,null,null,null,null,null,null,null,null,"VV","2","1","-1","0","ROZPOCET"]
[null,null,null,"VV",null,"1650,0",null,1650,null,null,null,null,null,null,null,null,null,null,null,null,null,null,null,null,null,null,null,null,null,null,null,null,null,null,null,null,null,null,null,null,null,null,null,null,null,"VV","2","2","-1","1","ROZPOCET"]
[null,null,"29","K","181411132","Založení parkového trávníku výsevem plochy do 1000 m2 ve svahu do 1:2","m2",400,null,{"$f":"ROUND($I$355*$H$355,2)","v":0},"CS ÚRS 2014 02",null,null,"základní",null,null,0,{"$f":"$Q$355*$H$355","v":0},0,{"$f":"$S$355*$H$355","v":0},null,null,null,null,null,null,null,null,null,null,null,null,null,null,null,null,null,null,null,null,null,null,null,"4",null,"K","2",null,null,null,"ROZPOCET",null,null,null,null,null,{"$f":"IF($N$355=\"základní\",$J$355,0)","v":0},{"$f":"IF($N$355=\"snížená\",$J$355,0)","v":0},{"$f":"IF($N$355=\"zákl. přenesená\",$J$355,0)","v":0},{"$f":"IF($N$355=\"sníž. přenesená\",$J$355,0)","v":0},{"$f":"IF($N$355=\"nulová\",$J$355,0)","v":0},"1",{"$f":"ROUND($I$355*$H$355,2)","v":0},"4","-1128694705"]
[null,null,null,"PP",null,"Založení trávníku na půdě předem připravené plochy do 1000 m2 výsevem včetně utažení parkového na svahu přes 1:5 do 1:2",null,null,null,null,null,null,null,null,null,null,null,null,null,null,null,null,null,null,null,null,null,null,null,null,null,null,null,null,null,null,null,null,null,null,null,null,null,null,null,"PP","2"]
[null,null,null,"PSC",null,"Poznámka k souboru cen:\n1. V cenách jsou započteny i náklady na pokosení, naložení a odvoz odpadu do 20 km se složením. 2. V cenách -1161 až -1164 nejsou započteny i náklady na zatravňovací textilii. 3. V cenách nejsou započteny náklady na:     a) přípravu půdy,     b) travní semeno, tyto náklady se oceňují ve specifikaci,     c) vypletí a zalévání; tyto práce se oceňují cenami části C02 souborů cen 185 80-42 Vypletí a         185 80-43 Zalití rostlin vodou,     d) srovnání terénu, tyto práce se oceňují souborem cen 181 1.-..Plošná úprava terénu. 4. V cenách o sklonu svahu přes 1:1 jsou uvažovány podmínky pro svahy běžně schůdné; bez použití     lezeckých technik. V případě použití lezeckých technik se tyto náklady oceňují individuálně. ",null,null,null,null,null,null,null,null,null,null,null,null,null,null,null,null,null,null,null,null,null,null,null,null,null,null,null,null,null,null,null,null,null,null,null,null,null,null,null,"PSC","2"]
[null,null,null,"VV",null,"dle pol.182301122",null,null,null,null,null,null,null,null,null,null,null,null,null,null,null,null,null,null,null,null,null,null,null,null,null,null,null,null,null,null,null,null,null,null,null,null,null,null,null,"VV","2","1","-1","0","ROZPOCET"]
[null,null,null,"VV",null,"400,0",null,400,null,null,null,null,null,null,null,null,null,null,null,null,null,null,null,null,null,null,null,null,null,null,null,null,null,null,null,null,null,null,null,null,null,null,null,null,null,"VV","2","2","-1","1","ROZPOCET"]
[null,null,"30","M","005724100","osivo směs travní parková","kg",32,null,{"$f":"ROUND($I$360*$H$360,2)","v":0},"CS ÚRS 2014 02",null,null,"základní",null,null,1E-3,{"$f":"$Q$360*$H$360","v":3.2000000000000001E-2},0,{"$f":"$S$360*$H$360","v":0},null,null,null,null,null,null,null,null,null,null,null,null,null,null,null,null,null,null,null,null,null,null,null,"8",null,"M","2",null,null,null,"ROZPOCET",null,null,null,null,null,{"$f":"IF($N$360=\"základní\",$J$360,0)","v":0},{"$f":"IF($N$360=\"snížená\",$J$360,0)","v":0},{"$f":"IF($N$360=\"zákl. přenesená\",$J$360,0)","v":0},{"$f":"IF($N$360=\"sníž. přenesená\",$J$360,0)","v":0},{"$f":"IF($N$360=\"nulová\",$J$360,0)","v":0},"1",{"$f":"ROUND($I$360*$H$360,2)","v":0},"4","2129080126"]
[null,null,null,"PP",null,"osiva pícnin směsi travní balení obvykle 25 kg parková",null,null,null,null,null,null,null,null,null,null,null,null,null,null,null,null,null,null,null,null,null,null,null,null,null,null,null,null,null,null,null,null,null,null,null,null,null,null,null,"PP","2"]
[null,null,null,"VV",null,"ztratné 3%",null,null,null,null,null,null,null,null,null,null,null,null,null,null,null,null,null,null,null,null,null,null,null,null,null,null,null,null,null,null,null,null,null,null,null,null,null,null,null,"VV","2","1","-1","0","ROZPOCET"]
[null,null,null,"VV",null,"pol.181411131+171411132",null,null,null,null,null,null,null,null,null,null,null,null,null,null,null,null,null,null,null,null,null,null,null,null,null,null,null,null,null,null,null,null,null,null,null,null,null,null,null,"VV","2","1","-1","0","ROZPOCET"]
[null,null,null,"VV",null,"(1650,0+400,0)*0,015*1,03+0,327",null,32,null,null,null,null,null,null,null,null,null,null,null,null,null,null,null,null,null,null,null,null,null,null,null,null,null,null,null,null,null,null,null,null,null,null,null,null,null,"VV","2","2","-1","1","ROZPOCET"]
[null,null,"31","K","185804312","Zalití rostlin vodou plocha přes 20 m2","m3",20.5,null,{"$f":"ROUND($I$365*$H$365,2)","v":0},"CS ÚRS 2014 02",null,null,"základní",null,null,0,{"$f":"$Q$365*$H$365","v":0},0,{"$f":"$S$365*$H$365","v":0},null,null,null,null,null,null,null,null,null,null,null,null,null,null,null,null,null,null,null,null,null,null,null,"4",null,"K","2",null,null,null,"ROZPOCET",null,null,null,null,null,{"$f":"IF($N$365=\"základní\",$J$365,0)","v":0},{"$f":"IF($N$365=\"snížená\",$J$365,0)","v":0},{"$f":"IF($N$365=\"zákl. přenesená\",$J$365,0)","v":0},{"$f":"IF($N$365=\"sníž. přenesená\",$J$365,0)","v":0},{"$f":"IF($N$365=\"nulová\",$J$365,0)","v":0},"1",{"$f":"ROUND($I$365*$H$365,2)","v":0},"4","50083640"]
[null,null,null,"PP",null,"Zalití rostlin vodou plochy záhonů jednotlivě přes 20 m2",null,null,null,null,null,null,null,null,null,null,null,null,null,null,null,null,null,null,null,null,null,null,null,null,null,null,null,null,null,null,null,null,null,null,null,null,null,null,null,"PP","2"]
[null,null,null,"VV",null,"pol.181411131+171411132",null,null,null,null,null,null,null,null,null,null,null,null,null,null,null,null,null,null,null,null,null,null,null,null,null,null,null,null,null,null,null,null,null,null,null,null,null,null,null,"VV","2","1","-1","0","ROZPOCET"]
[null,null,null,"VV",null,"(1650,0+400,0)*10*0,001",null,20.5,null,null,null,null,null,null,null,null,null,null,null,null,null,null,null,null,null,null,null,null,null,null,null,null,null,null,null,null,null,null,null,null,null,null,null,null,null,"VV","2","2","-1","1","ROZPOCET"]
[null,null,"32","K","185851121","Dovoz vody pro zálivku rostlin za vzdálenost do 1000 m","m3",20.5,null,{"$f":"ROUND($I$369*$H$369,2)","v":0},"CS ÚRS 2014 02",null,null,"základní",null,null,0,{"$f":"$Q$369*$H$369","v":0},0,{"$f":"$S$369*$H$369","v":0},null,null,null,null,null,null,null,null,null,null,null,null,null,null,null,null,null,null,null,null,null,null,null,"4",null,"K","2",null,null,null,"ROZPOCET",null,null,null,null,null,{"$f":"IF($N$369=\"základní\",$J$369,0)","v":0},{"$f":"IF($N$369=\"snížená\",$J$369,0)","v":0},{"$f":"IF($N$369=\"zákl. přenesená\",$J$369,0)","v":0},{"$f":"IF($N$369=\"sníž. přenesená\",$J$369,0)","v":0},{"$f":"IF($N$369=\"nulová\",$J$369,0)","v":0},"1",{"$f":"ROUND($I$369*$H$369,2)","v":0},"4","-1770312711"]
[null,null,null,"PP",null,"Dovoz vody pro zálivku rostlin na vzdálenost do 1000 m",null,null,null,null,null,null,null,null,null,null,null,null,null,null,null,null,null,null,null,null,null,null,null,null,null,null,null,null,null,null,null,null,null,null,null,null,null,null,null,"PP","2"]
[null,null,null,"PSC",null,"Poznámka k souboru cen:\n1. Ceny lze použít pouze tehdy, když není voda dostupná z vodovodního řádu. 2. V cenách jsou započteny i náklady na čerpání vody do cisterny. 3. V cenách nejsou započteny náklady na dodání vody. Tyto náklady se oceňují individuálně. ",null,null,null,null,null,null,null,null,null,null,null,null,null,null,null,null,null,null,null,null,null,null,null,null,null,null,null,null,null,null,null,null,null,null,null,null,null,null,null,"PSC","2"]
[null,null,"33","K","185851129","Příplatek k dovozu vody pro zálivku rostlin do 1000 m ZKD 1000 m","m3",82,null,{"$f":"ROUND($I$372*$H$372,2)","v":0},"CS ÚRS 2014 02",null,null,"základní",null,null,0,{"$f":"$Q$372*$H$372","v":0},0,{"$f":"$S$372*$H$372","v":0},null,null,null,null,null,null,null,null,null,null,null,null,null,null,null,null,null,null,null,null,null,null,null,"4",null,"K","2",null,null,null,"ROZPOCET",null,null,null,null,null,{"$f":"IF($N$372=\"základní\",$J$372,0)","v":0},{"$f":"IF($N$372=\"snížená\",$J$372,0)","v":0},{"$f":"IF($N$372=\"zákl. přenesená\",$J$372,0)","v":0},{"$f":"IF($N$372=\"sníž. přenesená\",$J$372,0)","v":0},{"$f":"IF($N$372=\"nulová\",$J$372,0)","v":0},"1",{"$f":"ROUND($I$372*$H$372,2)","v":0},"4","1078986356"]
[null,null,null,"PP",null,"Dovoz vody pro zálivku rostlin Příplatek k ceně za každých dalších i započatých 1000 m",null,null,null,null,null,null,null,null,null,null,null,null,null,null,null,null,null,null,null,null,null,null,null,null,null,null,null,null,null,null,null,null,null,null,null,null,null,null,null,"PP","2"]
[null,null,null,"PSC",null,"Poznámka k souboru cen:\n1. Ceny lze použít pouze tehdy, když není voda dostupná z vodovodního řádu. 2. V cenách jsou započteny i náklady na čerpání vody do cisterny. 3. V cenách nejsou započteny náklady na dodání vody. Tyto náklady se oceňují individuálně. ",null,null,null,null,null,null,null,null,null,null,null,null,null,null,null,null,null,null,null,null,null,null,null,null,null,null,null,null,null,null,null,null,null,null,null,null,null,null,null,"PSC","2"]
[null,null,null,"VV",null,"celkem 5 km",null,null,null,null,null,null,null,null,null,null,null,null,null,null,null,null,null,null,null,null,null,null,null,null,null,null,null,null,null,null,null,null,null,null,null,null,null,null,null,"VV","2","1","-1","0","ROZPOCET"]
[null,null,null,"VV",null,"20,5*(5-1)",null,82,null,null,null,null,null,null,null,null,null,null,null,null,null,null,null,null,null,null,null,null,null,null,null,null,null,null,null,null,null,null,null,null,null,null,null,null,null,"VV","2","2","-1","1","ROZPOCET"]
[null,null,"34","K","112201101","Odstranění pařezů D do 300 mm","kus",12,null,{"$f":"ROUND($I$377*$H$377,2)","v":0},"CS ÚRS 2014 02",null,null,"základní",null,null,8.0000000000000007E-5,{"$f":"$Q$377*$H$377","v":9.6000000000000013E-4},0,{"$f":"$S$377*$H$377","v":0},null,null,null,null,null,null,null,null,null,null,null,null,null,null,null,null,null,null,null,null,null,null,null,"4",null,"K","2",null,null,null,"ROZPOCET",null,null,null,null,null,{"$f":"IF($N$377=\"základní\",$J$377,0)","v":0},{"$f":"IF($N$377=\"snížená\",$J$377,0)","v":0},{"$f":"IF($N$377=\"zákl. přenesená\",$J$377,0)","v":0},{"$f":"IF($N$377=\"sníž. přenesená\",$J$377,0)","v":0},{"$f":"IF($N$377=\"nulová\",$J$377,0)","v":0},"1",{"$f":"ROUND($I$377*$H$377,2)","v":0},"4","1635741178"]
[null,null,null,"PP",null,"Odstranění pařezů s jejich vykopáním, vytrháním nebo odstřelením, s přesekáním kořenů průměru přes 100 do 300 mm",null,null,null,null,null,null,null,null,null,null,null,null,null,null,null,null,null,null,null,null,null,null,null,null,null,null,null,null,null,null,null,null,null,null,null,null,null,null,null,"PP","2"]
[null,null,null,"PSC",null,"Poznámka k souboru cen:\n1. Ceny lze použít i pro odstranění pařezů ze sesuté zeminy, vývratů a polomů. 2. V ceně jsou započteny i náklady na případné nutné odklizení pařezů na hromady na vzdálenost do     50 m nebo naložení na dopravní prostředek. 3. Mají-li se odstraňovat pařezy z pokáceného souvislého lesního porostu, lze počet pařezů stanovit     s přihlédnutím k tabulce v příloze č. 1. 4. Zásyp jam po pařezech se oceňuje cenami souboru cen 174 20-12 této části katalogu. 5. Průměr pařezu se měří v místě řezu kmene na základě dvojího na sebe kolmého měření a následného     zprůměrování naměřených hodnot. ",null,null,null,null,null,null,null,null,null,null,null,null,null,null,null,null,null,null,null,null,null,null,null,null,null,null,null,null,null,null,null,null,null,null,null,null,null,null,null,"PSC","2"]
[null,null,"35","K","162301421","Vodorovné přemístění pařezů do 5 km D do 300 mm","kus",12,null,{"$f":"ROUND($I$380*$H$380,2)","v":0},"CS ÚRS 2014 02",null,null,"základní",null,null,0,{"$f":"$Q$380*$H$380","v":0},0,{"$f":"$S$380*$H$380","v":0},null,null,null,null,null,null,null,null,null,null,null,null,null,null,null,null,null,null,null,null,null,null,null,"4",null,"K","2",null,null,null,"ROZPOCET",null,null,null,null,null,{"$f":"IF($N$380=\"základní\",$J$380,0)","v":0},{"$f":"IF($N$380=\"snížená\",$J$380,0)","v":0},{"$f":"IF($N$380=\"zákl. přenesená\",$J$380,0)","v":0},{"$f":"IF($N$380=\"sníž. přenesená\",$J$380,0)","v":0},{"$f":"IF($N$380=\"nulová\",$J$380,0)","v":0},"1",{"$f":"ROUND($I$380*$H$380,2)","v":0},"4","-1981241460"]
[null,null,null,"PP",null,"Vodorovné přemístění větví, kmenů nebo pařezů s naložením, složením a dopravou do 5000 m pařezů kmenů, průměru přes 100 do 300 mm",null,null,null,null,null,null,null,null,null,null,null,null,null,null,null,null,null,null,null,null,null,null,null,null,null,null,null,null,null,null,null,null,null,null,null,null,null,null,null,"PP","2"]
[null,null,null,"PSC",null,"Poznámka k souboru cen:\n1. Průměr kmene i pařezu se měří v místě řezu. 2. Měrná jednotka je 1 strom. ",null,null,null,null,null,null,null,null,null,null,null,null,null,null,null,null,null,null,null,null,null,null,null,null,null,null,null,null,null,null,null,null,null,null,null,null,null,null,null,"PSC","2"]
[null,null,"36","K","162301921","Příplatek k vodorovnému přemístění pařezů D 300 mm ZKD 5 km","kus",12,null,{"$f":"ROUND($I$383*$H$383,2)","v":0},"CS ÚRS 2014 02",null,null,"základní",null,null,0,{"$f":"$Q$383*$H$383","v":0},0,{"$f":"$S$383*$H$383","v":0},null,null,null,null,null,null,null,null,null,null,null,null,null,null,null,null,null,null,null,null,null,null,null,"4",null,"K","2",null,null,null,"ROZPOCET",null,null,null,null,null,{"$f":"IF($N$383=\"základní\",$J$383,0)","v":0},{"$f":"IF($N$383=\"snížená\",$J$383,0)","v":0},{"$f":"IF($N$383=\"zákl. přenesená\",$J$383,0)","v":0},{"$f":"IF($N$383=\"sníž. přenesená\",$J$383,0)","v":0},{"$f":"IF($N$383=\"nulová\",$J$383,0)","v":0},"1",{"$f":"ROUND($I$383*$H$383,2)","v":0},"4","-1306352916"]
[null,null,null,"PP",null,"Vodorovné přemístění větví, kmenů nebo pařezů s naložením, složením a dopravou Příplatek k cenám za každých dalších i započatých 5000 m přes 5000 m pařezů kmenů, průměru přes 100 do 300 mm",null,null,null,null,null,null,null,null,null,null,null,null,null,null,null,null,null,null,null,null,null,null,null,null,null,null,null,null,null,null,null,null,null,null,null,null,null,null,null,"PP","2"]
[null,null,null,"PSC",null,"Poznámka k souboru cen:\n1. Průměr kmene i pařezu se měří v místě řezu. 2. Měrná jednotka je 1 strom. ",null,null,null,null,null,null,null,null,null,null,null,null,null,null,null,null,null,null,null,null,null,null,null,null,null,null,null,null,null,null,null,null,null,null,null,null,null,null,null,"PSC","2"]
[null,null,null,"VV",null,"celkem 10 km",null,null,null,null,null,null,null,null,null,null,null,null,null,null,null,null,null,null,null,null,null,null,null,null,null,null,null,null,null,null,null,null,null,null,null,null,null,null,null,"VV","2","1","-1","0","ROZPOCET"]
[null,null,null,"VV",null,"12,0*(10,0-5,0)/5",null,12,null,null,null,null,null,null,null,null,null,null,null,null,null,null,null,null,null,null,null,null,null,null,null,null,null,null,null,null,null,null,null,null,null,null,null,null,null,"VV","2","2","-1","1","ROZPOCET"]
[null,null,"37","K","174201201","Zásyp jam po pařezech D pařezů do 300 mm","kus",12,null,{"$f":"ROUND($I$388*$H$388,2)","v":0},"CS ÚRS 2014 02",null,null,"základní",null,null,0,{"$f":"$Q$388*$H$388","v":0},0,{"$f":"$S$388*$H$388","v":0},null,null,null,null,null,null,null,null,null,null,null,null,null,null,null,null,null,null,null,null,null,null,null,"4",null,"K","2",null,null,null,"ROZPOCET",null,null,null,null,null,{"$f":"IF($N$388=\"základní\",$J$388,0)","v":0},{"$f":"IF($N$388=\"snížená\",$J$388,0)","v":0},{"$f":"IF($N$388=\"zákl. přenesená\",$J$388,0)","v":0},{"$f":"IF($N$388=\"sníž. přenesená\",$J$388,0)","v":0},{"$f":"IF($N$388=\"nulová\",$J$388,0)","v":0},"1",{"$f":"ROUND($I$388*$H$388,2)","v":0},"4","136506241"]
[null,null,null,"PP",null,"Zásyp jam po pařezech výkopkem z horniny získané při dobývání pařezů s hrubým urovnáním povrchu zasypávky průměru pařezu přes 100 do 300 mm",null,null,null,null,null,null,null,null,null,null,null,null,null,null,null,null,null,null,null,null,null,null,null,null,null,null,null,null,null,null,null,null,null,null,null,null,null,null,null,"PP","2"]
[null,null,null,"PSC",null,"Poznámka k souboru cen:\n1. Zásyp jam po pařezech průměru přes 100 do 300 mm se neoceňuje v případě, že se současně provádí     sejmutí ornice. 2. Nestačí-li pro zasypání jámy po pařezu výkopek získaný při dobývání pařezu a je-li projektem     předepsáno, oceňuje se se doplnění jámy do úrovně okolního terénu cenou 174 10-1101 Zásyp sypaninou     jam, šachet, rýh nebo kolem objektů. 3. Průměr pařezu se měří v místě řezu. ",null,null,null,null,null,null,null,null,null,null,null,null,null,null,null,null,null,null,null,null,null,null,null,null,null,null,null,null,null,null,null,null,null,null,null,null,null,null,null,"PSC","2"]
[null,null,"38","K","1 0100","Poplatek za dřevní hmotu ","m3",3,null,{"$f":"ROUND($I$391*$H$391,2)","v":0},null,null,null,"základní",null,null,0,{"$f":"$Q$391*$H$391","v":0},0,{"$f":"$S$391*$H$391","v":0},null,null,null,null,null,null,null,null,null,null,null,null,null,null,null,null,null,null,null,null,null,null,null,"4",null,"K","2",null,null,null,"ROZPOCET",null,null,null,null,null,{"$f":"IF($N$391=\"základní\",$J$391,0)","v":0},{"$f":"IF($N$391=\"snížená\",$J$391,0)","v":0},{"$f":"IF($N$391=\"zákl. přenesená\",$J$391,0)","v":0},{"$f":"IF($N$391=\"sníž. přenesená\",$J$391,0)","v":0},{"$f":"IF($N$391=\"nulová\",$J$391,0)","v":0},"1",{"$f":"ROUND($I$391*$H$391,2)","v":0},"4","757969243"]
[null,null,null,"PP",null,"Poplatek za dřevní hmotu ",null,null,null,null,null,null,null,null,null,null,null,null,null,null,null,null,null,null,null,null,null,null,null,null,null,null,null,null,null,null,null,null,null,null,null,null,null,null,null,"PP","2"]
[null,null,null,"VV",null,"0,25*12",null,3,null,null,null,null,null,null,null,null,null,null,null,null,null,null,null,null,null,null,null,null,null,null,null,null,null,null,null,null,null,null,null,null,null,null,null,null,null,"VV","2","2","-1","1","ROZPOCET"]
[null,null,null,"D","11","Zemní práce - přípravné a přidružené práce",null,null,null,{"$f":"$BK$394","v":0},null,null,null,null,null,{"$f":"SUM($P$395:$P$402)","v":0},null,{"$f":"SUM($R$395:$R$402)","v":0},null,{"$f":"SUM($T$395:$T$402)","v":3.9000000000000004},null,null,null,null,null,null,null,null,null,null,null,null,null,null,null,null,null,null,null,null,null,null,null,"1",null,"D","1",null,null,null,"ROZPOCET",null,null,null,null,null,null,null,null,null,null,null,{"$f":"SUM($BK$395:$BK$402)","v":0}]
[null,null,"39","K","113106123","Rozebrání dlažeb komunikací pro pěší ze zámkových dlaždic","m2",15,null,{"$f":"ROUND($I$395*$H$395,2)","v":0},"CS ÚRS 2014 02",null,null,"základní",null,null,0,{"$f":"$Q$395*$H$395","v":0},0.26,{"$f":"$S$395*$H$395","v":3.9000000000000004},null,null,null,null,null,null,null,null,null,null,null,null,null,null,null,null,null,null,null,null,null,null,null,"4",null,"K","2",null,null,null,"ROZPOCET",null,null,null,null,null,{"$f":"IF($N$395=\"základní\",$J$395,0)","v":0},{"$f":"IF($N$395=\"snížená\",$J$395,0)","v":0},{"$f":"IF($N$395=\"zákl. přenesená\",$J$395,0)","v":0},{"$f":"IF($N$395=\"sníž. přenesená\",$J$395,0)","v":0},{"$f":"IF($N$395=\"nulová\",$J$395,0)","v":0},"1",{"$f":"ROUND($I$395*$H$395,2)","v":0},"4","155664771"]
[null,null,null,"PP",null,"Rozebrání dlažeb a dílců komunikací pro pěší, vozovek a ploch s přemístěním hmot na skládku na vzdálenost do 3 m nebo s naložením na dopravní prostředek komunikací pro pěší s ložem z kameniva nebo živice a s výplní spár ze zámkové dlažby",null,null,null,null,null,null,null,null,null,null,null,null,null,null,null,null,null,null,null,null,null,null,null,null,null,null,null,null,null,null,null,null,null,null,null,null,null,null,null,"PP","2"]
[null,null,null,"PSC",null,"Poznámka k souboru cen:\n1. Ceny jsou určeny pro rozebrání dlažeb a dílců včetně odstranění lože. 2. Ceny nelze použít pro rozebrání dlažeb uložených do betonového lože nebo do cementové malty,     které se oceňují cenami -7130, -7131, -7132, -7170, -7171, -7172, -7230, -7231 a -7232 Odstranění     podkladů nebo krytů z betonu prostého; pro volbu těchto cen je rozhodující tloušťka bourané dlažby     včetně lože nebo podkladu. 3. U komunikací pro pěší a u vozovek a ploch menších než 50 m2 jsou ceny určeny pro ruční     rozebrání, u vozovek a ploch větších než 50 m2 pro rozebrání strojní. 4. V cenách nejsou započteny náklady na popř. nutné očištění:     a) dlažebních nebo mozaikových kostek, které se oceňuje cenami souboru cen 979 07-11 Očištění         vybouraných dlažebních kostek části C01 tohoto ceníku,     b) betonových, kameninových nebo kamenných desek nebo dlaždic, které se oceňuje cenami souboru         cen 979 0 . - . . Očištění vybouraných obrubníků, krajníků, desek nebo dílců části C01 tohoto         ceníku. 5. Přemístění vybourané dlažby včetně materiálu z lože a spár na vzdálenost přes 3 m se oceňuje     cenami souborů cen 997 22-1 Vodorovná doprava suti a vybouraných hmot. ",null,null,null,null,null,null,null,null,null,null,null,null,null,null,null,null,null,null,null,null,null,null,null,null,null,null,null,null,null,null,null,null,null,null,null,null,null,null,null,"PSC","2"]
[null,null,null,"VV",null,"stávající chodník",null,null,null,null,null,null,null,null,null,null,null,null,null,null,null,null,null,null,null,null,null,null,null,null,null,null,null,null,null,null,null,null,null,null,null,null,null,null,null,"VV","2","1","-1","0","ROZPOCET"]
[null,null,null,"VV",null,"dle specifikace prací v technické zprávě",null,null,null,null,null,null,null,null,null,null,null,null,null,null,null,null,null,null,null,null,null,null,null,null,null,null,null,null,null,null,null,null,null,null,null,null,null,null,null,"VV","2","1","-1","0","ROZPOCET"]
[null,null,null,"VV",null,"15,0",null,15,null,null,null,null,null,null,null,null,null,null,null,null,null,null,null,null,null,null,null,null,null,null,null,null,null,null,null,null,null,null,null,null,null,null,null,null,null,"VV","2","2","-1","1","ROZPOCET"]
[null,null,null,"VV",null,"poznámka : bourání podklaní vrstvy a lože je",null,null,null,null,null,null,null,null,null,null,null,null,null,null,null,null,null,null,null,null,null,null,null,null,null,null,null,null,null,null,null,null,null,null,null,null,null,null,null,"VV","2","1","-1","0","ROZPOCET"]
[null,null,null,"VV",null,"zahrnuto v odkopávkách",null,null,null,null,null,null,null,null,null,null,null,null,null,null,null,null,null,null,null,null,null,null,null,null,null,null,null,null,null,null,null,null,null,null,null,null,null,null,null,"VV","2","1","-1","0","ROZPOCET"]
[null,null,null,"D","45","Vodorovné podkladní a vedlejší konstrukce inž. staveb",null,null,null,{"$f":"$BK$403","v":0},null,null,null,null,null,{"$f":"SUM($P$404:$P$409)","v":0},null,{"$f":"SUM($R$404:$R$409)","v":0},null,{"$f":"SUM($T$404:$T$409)","v":0},null,null,null,null,null,null,null,null,null,null,null,null,null,null,null,null,null,null,null,null,null,null,null,"1",null,"D","1",null,null,null,"ROZPOCET",null,null,null,null,null,null,null,null,null,null,null,{"$f":"SUM($BK$404:$BK$409)","v":0}]
[null,null,"40","K","451572111","Lože pod potrubí otevřený výkop z kameniva drobného těženého","m3",3,null,{"$f":"ROUND($I$404*$H$404,2)","v":0},"CS ÚRS 2014 02",null,null,"základní",null,null,0,{"$f":"$Q$404*$H$404","v":0},0,{"$f":"$S$404*$H$404","v":0},null,null,null,null,null,null,null,null,null,null,null,null,null,null,null,null,null,null,null,null,null,null,null,"4",null,"K","2",null,null,null,"ROZPOCET",null,null,null,null,null,{"$f":"IF($N$404=\"základní\",$J$404,0)","v":0},{"$f":"IF($N$404=\"snížená\",$J$404,0)","v":0},{"$f":"IF($N$404=\"zákl. přenesená\",$J$404,0)","v":0},{"$f":"IF($N$404=\"sníž. přenesená\",$J$404,0)","v":0},{"$f":"IF($N$404=\"nulová\",$J$404,0)","v":0},"1",{"$f":"ROUND($I$404*$H$404,2)","v":0},"4","-601329253"]
[null,null,null,"PP",null,"Lože pod potrubí, stoky a drobné objekty v otevřeném výkopu z kameniva drobného těženého 0 až 4 mm",null,null,null,null,null,null,null,null,null,null,null,null,null,null,null,null,null,null,null,null,null,null,null,null,null,null,null,null,null,null,null,null,null,null,null,null,null,null,null,"PP","2"]
[null,null,null,"PSC",null,"Poznámka k souboru cen:\n1. Ceny -1111 a -1192 lze použít i pro zřízení sběrných vrstev nad drenážními trubkami. 2. V cenách -5111 a -1192 jsou započteny i náklady na prohození výkopku získaného při zemních     pracích. ",null,null,null,null,null,null,null,null,null,null,null,null,null,null,null,null,null,null,null,null,null,null,null,null,null,null,null,null,null,null,null,null,null,null,null,null,null,null,null,"PSC","2"]
[null,null,null,"VV",null,"dle specifikace prací v technické zprávě",null,null,null,null,null,null,null,null,null,null,null,null,null,null,null,null,null,null,null,null,null,null,null,null,null,null,null,null,null,null,null,null,null,null,null,null,null,null,null,"VV","2","1","-1","0","ROZPOCET"]
[null,null,null,"VV",null,"odvodnění uličních vpustí",null,null,null,null,null,null,null,null,null,null,null,null,null,null,null,null,null,null,null,null,null,null,null,null,null,null,null,null,null,null,null,null,null,null,null,null,null,null,null,"VV","2","1","-1","0","ROZPOCET"]
[null,null,null,"VV",null,"1,0*0,1*30,0",null,3,null,null,null,null,null,null,null,null,null,null,null,null,null,null,null,null,null,null,null,null,null,null,null,null,null,null,null,null,null,null,null,null,null,null,null,null,null,"VV","2","2","-1","1","ROZPOCET"]
[null,null,null,"D","2","Zakládání",null,null,null,{"$f":"$BK$410","v":0},null,null,null,null,null,{"$f":"SUM($P$411:$P$430)","v":0},null,{"$f":"SUM($R$411:$R$430)","v":64.459147999999999},null,{"$f":"SUM($T$411:$T$430)","v":0},null,null,null,null,null,null,null,null,null,null,null,null,null,null,null,null,null,null,null,null,null,null,null,"1",null,"D","1",null,null,null,"ROZPOCET",null,null,null,null,null,null,null,null,null,null,null,{"$f":"SUM($BK$411:$BK$430)","v":0}]
[null,null,"41","K","212532111","Lože pro trativody z kameniva hrubého drceného frakce 16 až 32 mm","m3",8.4,null,{"$f":"ROUND($I$411*$H$411,2)","v":0},"CS ÚRS 2014 02",null,null,"základní",null,null,1.63,{"$f":"$Q$411*$H$411","v":13.692},0,{"$f":"$S$411*$H$411","v":0},null,null,null,null,null,null,null,null,null,null,null,null,null,null,null,null,null,null,null,null,null,null,null,"4",null,"K","2",null,null,null,"ROZPOCET",null,null,null,null,null,{"$f":"IF($N$411=\"základní\",$J$411,0)","v":0},{"$f":"IF($N$411=\"snížená\",$J$411,0)","v":0},{"$f":"IF($N$411=\"zákl. přenesená\",$J$411,0)","v":0},{"$f":"IF($N$411=\"sníž. přenesená\",$J$411,0)","v":0},{"$f":"IF($N$411=\"nulová\",$J$411,0)","v":0},"1",{"$f":"ROUND($I$411*$H$411,2)","v":0},"4","-978628964"]
[null,null,null,"PP",null,"Lože pro trativody z kameniva hrubého drceného",null,null,null,null,null,null,null,null,null,null,null,null,null,null,null,null,null,null,null,null,null,null,null,null,null,null,null,null,null,null,null,null,null,null,null,null,null,null,null,"PP","2"]
[null,null,null,"PSC",null,"Poznámka k souboru cen:\n1. V cenách jsou započteny i náklady na vyčištění dna rýh a na urovnání povrchu lože. 2. V ceně materiálu jsou započteny i náklady na prohození výkopku. ",null,null,null,null,null,null,null,null,null,null,null,null,null,null,null,null,null,null,null,null,null,null,null,null,null,null,null,null,null,null,null,null,null,null,null,null,null,null,null,"PSC","2"]
[null,null,null,"VV",null,"drenážní trubky DN 160 mm pod komunikacemi",null,null,null,null,null,null,null,null,null,null,null,null,null,null,null,null,null,null,null,null,null,null,null,null,null,null,null,null,null,null,null,null,null,null,null,null,null,null,null,"VV","2","1","-1","0","ROZPOCET"]
[null,null,null,"VV",null,"délka dle specifikace prací v technické zprávě - 560 m",null,null,null,null,null,null,null,null,null,null,null,null,null,null,null,null,null,null,null,null,null,null,null,null,null,null,null,null,null,null,null,null,null,null,null,null,null,null,null,"VV","2","1","-1","0","ROZPOCET"]
[null,null,null,"VV",null,"0,05*0,3*560,0",null,8.4,null,null,null,null,null,null,null,null,null,null,null,null,null,null,null,null,null,null,null,null,null,null,null,null,null,null,null,null,null,null,null,null,null,null,null,null,null,"VV","2","2","-1","1","ROZPOCET"]
[null,null,"42","K","211531111","Výplň odvodňovacích žeber nebo trativodů kamenivem hrubým drceným frakce 16 až 63 mm","m3",30.745999999999999,null,{"$f":"ROUND($I$417*$H$417,2)","v":0},"CS ÚRS 2014 02",null,null,"základní",null,null,1.63,{"$f":"$Q$417*$H$417","v":50.115979999999993},0,{"$f":"$S$417*$H$417","v":0},null,null,null,null,null,null,null,null,null,null,null,null,null,null,null,null,null,null,null,null,null,null,null,"4",null,"K","2",null,null,null,"ROZPOCET",null,null,null,null,null,{"$f":"IF($N$417=\"základní\",$J$417,0)","v":0},{"$f":"IF($N$417=\"snížená\",$J$417,0)","v":0},{"$f":"IF($N$417=\"zákl. přenesená\",$J$417,0)","v":0},{"$f":"IF($N$417=\"sníž. přenesená\",$J$417,0)","v":0},{"$f":"IF($N$417=\"nulová\",$J$417,0)","v":0},"1",{"$f":"ROUND($I$417*$H$417,2)","v":0},"4","-1618936425"]
[null,null,null,"PP",null,"Výplň kamenivem do rýh odvodňovacích žeber nebo trativodů bez zhutnění, s úpravou povrchu výplně kamenivem hrubým drceným frakce 16 až 63 mm",null,null,null,null,null,null,null,null,null,null,null,null,null,null,null,null,null,null,null,null,null,null,null,null,null,null,null,null,null,null,null,null,null,null,null,null,null,null,null,"PP","2"]
[null,null,null,"PSC",null,"Poznámka k souboru cen:\n1. V ceně 51-1111 jsou započteny i náklady na průduchy vytvořené z lomového kamene. 2. V cenách 52-1111 až 58-1111 nejsou započteny náklady na zřízení průduchů; tyto práce se oceňují     cenami:     a) souboru cen 212 71-11 Trativody z trub z prostého betonu bez lože,     b) souboru cen 212 75-5 . Trativody bez lože z drenážních trubek. 3. Množství měrných jednotek se určuje v m3 vyplňovaného prostoru. Objem potrubí a lože se do     vyplňovaného prostoru nezapočítává. ",null,null,null,null,null,null,null,null,null,null,null,null,null,null,null,null,null,null,null,null,null,null,null,null,null,null,null,null,null,null,null,null,null,null,null,null,null,null,null,"PSC","2"]
[null,null,null,"VV",null,"drenáže pod komunikacemi",null,null,null,null,null,null,null,null,null,null,null,null,null,null,null,null,null,null,null,null,null,null,null,null,null,null,null,null,null,null,null,null,null,null,null,null,null,null,null,"VV","2","1","-1","0","ROZPOCET"]
[null,null,null,"VV",null,"(0,3-0,05)*0,3*560,0",null,42,null,null,null,null,null,null,null,null,null,null,null,null,null,null,null,null,null,null,null,null,null,null,null,null,null,null,null,null,null,null,null,null,null,null,null,null,null,"VV","2","2","-1","0","ROZPOCET"]
[null,null,null,"VV",null,"méně trubky DN 160 mm",null,null,null,null,null,null,null,null,null,null,null,null,null,null,null,null,null,null,null,null,null,null,null,null,null,null,null,null,null,null,null,null,null,null,null,null,null,null,null,"VV","2","1","-1","0","ROZPOCET"]
[null,null,null,"VV",null,"-3,14*0,08*0,08*560,0",null,-11.254,null,null,null,null,null,null,null,null,null,null,null,null,null,null,null,null,null,null,null,null,null,null,null,null,null,null,null,null,null,null,null,null,null,null,null,null,null,"VV","2","2","-1","0","ROZPOCET"]
[null,null,null,"VV",null,"Součet",null,30.745999999999999,null,null,null,null,null,null,null,null,null,null,null,null,null,null,null,null,null,null,null,null,null,null,null,null,null,null,null,null,null,null,null,null,null,null,null,null,null,"VV","2","4","-1","1","ROZPOCET"]
[null,null,"43","K","212755216","Trativody z drenážních trubek plastových flexibilních D 160 mm bez lože","m",560,null,{"$f":"ROUND($I$425*$H$425,2)","v":0},"CS ÚRS 2014 02",null,null,"základní",null,null,1.1628000000000001E-3,{"$f":"$Q$425*$H$425","v":0.65116800000000008},0,{"$f":"$S$425*$H$425","v":0},null,null,null,null,null,null,null,null,null,null,null,null,null,null,null,null,null,null,null,null,null,null,null,"4",null,"K","2",null,null,null,"ROZPOCET",null,null,null,null,null,{"$f":"IF($N$425=\"základní\",$J$425,0)","v":0},{"$f":"IF($N$425=\"snížená\",$J$425,0)","v":0},{"$f":"IF($N$425=\"zákl. přenesená\",$J$425,0)","v":0},{"$f":"IF($N$425=\"sníž. přenesená\",$J$425,0)","v":0},{"$f":"IF($N$425=\"nulová\",$J$425,0)","v":0},"1",{"$f":"ROUND($I$425*$H$425,2)","v":0},"4","-2113728502"]
[null,null,null,"PP",null,"Trativody bez lože z drenážních trubek plastových flexibilních D 160 mm",null,null,null,null,null,null,null,null,null,null,null,null,null,null,null,null,null,null,null,null,null,null,null,null,null,null,null,null,null,null,null,null,null,null,null,null,null,null,null,"PP","2"]
[null,null,null,"PSC",null,"Poznámka k souboru cen:\n1. Ceny jsou určeny pro uložení drenážních trubek do výkopu bez lože a obsypu. 2. Trativody včetně lože a obsypu trubek se ocení cenami souboru cen 212 75-2 . Trativody     z drenážních trubek katalogu 827-1 Vedení trubní dálková a přípojná – vodovody a kanalizace ",null,null,null,null,null,null,null,null,null,null,null,null,null,null,null,null,null,null,null,null,null,null,null,null,null,null,null,null,null,null,null,null,null,null,null,null,null,null,null,"PSC","2"]
[null,null,null,"VV",null,"dle specifikace prací v technické zprávě",null,null,null,null,null,null,null,null,null,null,null,null,null,null,null,null,null,null,null,null,null,null,null,null,null,null,null,null,null,null,null,null,null,null,null,null,null,null,null,"VV","2","1","-1","0","ROZPOCET"]
[null,null,null,"VV",null,"560,0",null,560,null,null,null,null,null,null,null,null,null,null,null,null,null,null,null,null,null,null,null,null,null,null,null,null,null,null,null,null,null,null,null,null,null,null,null,null,null,"VV","2","2","-1","1","ROZPOCET"]
[null,null,"44","K","21 0010_R","Napojení trativodů do stávajících uličních vpustí","kus",12,null,{"$f":"ROUND($I$430*$H$430,2)","v":0},null,null,null,"základní",null,null,0,{"$f":"$Q$430*$H$430","v":0},0,{"$f":"$S$430*$H$430","v":0},null,null,null,null,null,null,null,null,null,null,null,null,null,null,null,null,null,null,null,null,null,null,null,"4",null,"K","2",null,null,null,"ROZPOCET",null,null,null,null,null,{"$f":"IF($N$430=\"základní\",$J$430,0)","v":0},{"$f":"IF($N$430=\"snížená\",$J$430,0)","v":0},{"$f":"IF($N$430=\"zákl. přenesená\",$J$430,0)","v":0},{"$f":"IF($N$430=\"sníž. přenesená\",$J$430,0)","v":0},{"$f":"IF($N$430=\"nulová\",$J$430,0)","v":0},"1",{"$f":"ROUND($I$430*$H$430,2)","v":0},"4","1683184026"]
[null,null,null,"D","56","Podkladní vrstvy komunikací, letišť a ploch",null,null,null,{"$f":"$BK$431","v":0},null,null,null,null,null,{"$f":"SUM($P$432:$P$463)","v":0},null,{"$f":"SUM($R$432:$R$463)","v":1878.66},null,{"$f":"SUM($T$432:$T$463)","v":0},null,null,null,null,null,null,null,null,null,null,null,null,null,null,null,null,null,null,null,null,null,null,null,"1",null,"D","1",null,null,null,"ROZPOCET",null,null,null,null,null,null,null,null,null,null,null,{"$f":"SUM($BK$432:$BK$463)","v":0}]
[null,null,"45","K","564251111","Podklad nebo podsyp ze štěrkopísku ŠP tl 150 mm","m2",242,null,{"$f":"ROUND($I$432*$H$432,2)","v":0},"CS ÚRS 2014 02",null,null,"základní",null,null,0,{"$f":"$Q$432*$H$432","v":0},0,{"$f":"$S$432*$H$432","v":0},null,null,null,null,null,null,null,null,null,null,null,null,null,null,null,null,null,null,null,null,null,null,null,"4",null,"K","2",null,null,null,"ROZPOCET",null,null,null,null,null,{"$f":"IF($N$432=\"základní\",$J$432,0)","v":0},{"$f":"IF($N$432=\"snížená\",$J$432,0)","v":0},{"$f":"IF($N$432=\"zákl. přenesená\",$J$432,0)","v":0},{"$f":"IF($N$432=\"sníž. přenesená\",$J$432,0)","v":0},{"$f":"IF($N$432=\"nulová\",$J$432,0)","v":0},"1",{"$f":"ROUND($I$432*$H$432,2)","v":0},"4","822025163"]
[null,null,null,"PP",null,"Podklad nebo podsyp ze štěrkopísku ŠP s rozprostřením, vlhčením a zhutněním, po zhutnění tl. 150 mm",null,null,null,null,null,null,null,null,null,null,null,null,null,null,null,null,null,null,null,null,null,null,null,null,null,null,null,null,null,null,null,null,null,null,null,null,null,null,null,"PP","2"]
[null,null,null,"VV",null,"chodník",null,null,null,null,null,null,null,null,null,null,null,null,null,null,null,null,null,null,null,null,null,null,null,null,null,null,null,null,null,null,null,null,null,null,null,null,null,null,null,"VV","2","1","-1","0","ROZPOCET"]
[null,null,null,"VV",null,"dle specifikace prací v technické zprávě",null,null,null,null,null,null,null,null,null,null,null,null,null,null,null,null,null,null,null,null,null,null,null,null,null,null,null,null,null,null,null,null,null,null,null,null,null,null,null,"VV","2","1","-1","0","ROZPOCET"]
[null,null,null,"VV",null,"230,0+12,0",null,242,null,null,null,null,null,null,null,null,null,null,null,null,null,null,null,null,null,null,null,null,null,null,null,null,null,null,null,null,null,null,null,null,null,null,null,null,null,"VV","2","2","-1","1","ROZPOCET"]
[null,null,"46","K","564861111","Podklad ze štěrkodrtě ŠD tl 200 mm","m2",4970,null,{"$f":"ROUND($I$437*$H$437,2)","v":0},"CS ÚRS 2014 02",null,null,"základní",null,null,0.378,{"$f":"$Q$437*$H$437","v":1878.66},0,{"$f":"$S$437*$H$437","v":0},null,null,null,null,null,null,null,null,null,null,null,null,null,null,null,null,null,null,null,null,null,null,null,"4",null,"K","2",null,null,null,"ROZPOCET",null,null,null,null,null,{"$f":"IF($N$437=\"základní\",$J$437,0)","v":0},{"$f":"IF($N$437=\"snížená\",$J$437,0)","v":0},{"$f":"IF($N$437=\"zákl. přenesená\",$J$437,0)","v":0},{"$f":"IF($N$437=\"sníž. přenesená\",$J$437,0)","v":0},{"$f":"IF($N$437=\"nulová\",$J$437,0)","v":0},"1",{"$f":"ROUND($I$437*$H$437,2)","v":0},"4","761532378"]
[null,null,null,"PP",null,"Podklad ze štěrkodrti ŠD s rozprostřením a zhutněním, po zhutnění tl. 200 mm",null,null,null,null,null,null,null,null,null,null,null,null,null,null,null,null,null,null,null,null,null,null,null,null,null,null,null,null,null,null,null,null,null,null,null,null,null,null,null,"PP","2"]
[null,null,null,"VV",null,"živičná plocha",null,null,null,null,null,null,null,null,null,null,null,null,null,null,null,null,null,null,null,null,null,null,null,null,null,null,null,null,null,null,null,null,null,null,null,null,null,null,null,"VV","2","1","-1","0","ROZPOCET"]
[null,null,null,"VV",null,"dle specifikace prací v technické zprávě",null,null,null,null,null,null,null,null,null,null,null,null,null,null,null,null,null,null,null,null,null,null,null,null,null,null,null,null,null,null,null,null,null,null,null,null,null,null,null,"VV","2","1","-1","0","ROZPOCET"]
[null,null,null,"VV",null,"4970,0",null,4970,null,null,null,null,null,null,null,null,null,null,null,null,null,null,null,null,null,null,null,null,null,null,null,null,null,null,null,null,null,null,null,null,null,null,null,null,null,"VV","2","2","-1","1","ROZPOCET"]
[null,null,"47","K","565145121","Asfaltový beton vrstva podkladní ACP 16 (obalované kamenivo OKS) tl 60 mm š přes 3 m","m2",4970,null,{"$f":"ROUND($I$442*$H$442,2)","v":0},"CS ÚRS 2014 02",null,null,"základní",null,null,0,{"$f":"$Q$442*$H$442","v":0},0,{"$f":"$S$442*$H$442","v":0},null,null,null,null,null,null,null,null,null,null,null,null,null,null,null,null,null,null,null,null,null,null,null,"4",null,"K","2",null,null,null,"ROZPOCET",null,null,null,null,null,{"$f":"IF($N$442=\"základní\",$J$442,0)","v":0},{"$f":"IF($N$442=\"snížená\",$J$442,0)","v":0},{"$f":"IF($N$442=\"zákl. přenesená\",$J$442,0)","v":0},{"$f":"IF($N$442=\"sníž. přenesená\",$J$442,0)","v":0},{"$f":"IF($N$442=\"nulová\",$J$442,0)","v":0},"1",{"$f":"ROUND($I$442*$H$442,2)","v":0},"4","1808431655"]
[null,null,null,"PP",null,"Asfaltový beton vrstva podkladní ACP 16 (obalované kamenivo střednězrnné - OKS) s rozprostřením a zhutněním v pruhu šířky přes 3 m, po zhutnění tl. 60 mm",null,null,null,null,null,null,null,null,null,null,null,null,null,null,null,null,null,null,null,null,null,null,null,null,null,null,null,null,null,null,null,null,null,null,null,null,null,null,null,"PP","2"]
[null,null,null,"PSC",null,"Poznámka k souboru cen:\n1. ČSN EN 13108-1 připouští pro ACP 16 pouze tl. 50 až 80 mm. ",null,null,null,null,null,null,null,null,null,null,null,null,null,null,null,null,null,null,null,null,null,null,null,null,null,null,null,null,null,null,null,null,null,null,null,null,null,null,null,"PSC","2"]
[null,null,null,"VV",null,"živičná plocha",null,null,null,null,null,null,null,null,null,null,null,null,null,null,null,null,null,null,null,null,null,null,null,null,null,null,null,null,null,null,null,null,null,null,null,null,null,null,null,"VV","2","1","-1","0","ROZPOCET"]
[null,null,null,"VV",null,"dle specifikace prací v technické zprávě",null,null,null,null,null,null,null,null,null,null,null,null,null,null,null,null,null,null,null,null,null,null,null,null,null,null,null,null,null,null,null,null,null,null,null,null,null,null,null,"VV","2","1","-1","0","ROZPOCET"]
[null,null,null,"VV",null,"4970,0",null,4970,null,null,null,null,null,null,null,null,null,null,null,null,null,null,null,null,null,null,null,null,null,null,null,null,null,null,null,null,null,null,null,null,null,null,null,null,null,"VV","2","2","-1","1","ROZPOCET"]
[null,null,"48","K","564952111","Podklad z mechanicky zpevněného kameniva MZK tl 150 mm","m2",4970,null,{"$f":"ROUND($I$448*$H$448,2)","v":0},"CS ÚRS 2014 02",null,null,"základní",null,null,0,{"$f":"$Q$448*$H$448","v":0},0,{"$f":"$S$448*$H$448","v":0},null,null,null,null,null,null,null,null,null,null,null,null,null,null,null,null,null,null,null,null,null,null,null,"4",null,"K","2",null,null,null,"ROZPOCET",null,null,null,null,null,{"$f":"IF($N$448=\"základní\",$J$448,0)","v":0},{"$f":"IF($N$448=\"snížená\",$J$448,0)","v":0},{"$f":"IF($N$448=\"zákl. přenesená\",$J$448,0)","v":0},{"$f":"IF($N$448=\"sníž. přenesená\",$J$448,0)","v":0},{"$f":"IF($N$448=\"nulová\",$J$448,0)","v":0},"1",{"$f":"ROUND($I$448*$H$448,2)","v":0},"4","1289085206"]
[null,null,null,"PP",null,"Podklad z mechanicky zpevněného kameniva MZK (minerální beton) s rozprostřením a s hutněním, po zhutnění tl. 150 mm",null,null,null,null,null,null,null,null,null,null,null,null,null,null,null,null,null,null,null,null,null,null,null,null,null,null,null,null,null,null,null,null,null,null,null,null,null,null,null,"PP","2"]
[null,null,null,"PSC",null,"Poznámka k souboru cen:\n1. ČSN 73 6126-1 připouští pro MZK max. tl. 300 mm. 2. V cenách nejsou započteny náklady na:     a) ochranu povrchu podkladu filtračním postřikem, který se oceňuje cenami souboru cen 573 11-11,     b) spojovací postřk před pokládkou asfaltových směsí, který se oceňuje cenami sooboru cen 572         2.. ",null,null,null,null,null,null,null,null,null,null,null,null,null,null,null,null,null,null,null,null,null,null,null,null,null,null,null,null,null,null,null,null,null,null,null,null,null,null,null,"PSC","2"]
[null,null,null,"VV",null,"živičná plocha",null,null,null,null,null,null,null,null,null,null,null,null,null,null,null,null,null,null,null,null,null,null,null,null,null,null,null,null,null,null,null,null,null,null,null,null,null,null,null,"VV","2","1","-1","0","ROZPOCET"]
[null,null,null,"VV",null,"dle specifikace prací v technické zprávě",null,null,null,null,null,null,null,null,null,null,null,null,null,null,null,null,null,null,null,null,null,null,null,null,null,null,null,null,null,null,null,null,null,null,null,null,null,null,null,"VV","2","1","-1","0","ROZPOCET"]
[null,null,null,"VV",null,"4970,0",null,4970,null,null,null,null,null,null,null,null,null,null,null,null,null,null,null,null,null,null,null,null,null,null,null,null,null,null,null,null,null,null,null,null,null,null,null,null,null,"VV","2","2","-1","1","ROZPOCET"]
[null,null,"49","K","564851111","Podklad ze štěrkodrtě ŠD tl 150 mm","m2",2982,null,{"$f":"ROUND($I$454*$H$454,2)","v":0},"CS ÚRS 2014 02",null,null,"základní",null,null,0,{"$f":"$Q$454*$H$454","v":0},0,{"$f":"$S$454*$H$454","v":0},null,null,null,null,null,null,null,null,null,null,null,null,null,null,null,null,null,null,null,null,null,null,null,"4",null,"K","2",null,null,null,"ROZPOCET",null,null,null,null,null,{"$f":"IF($N$454=\"základní\",$J$454,0)","v":0},{"$f":"IF($N$454=\"snížená\",$J$454,0)","v":0},{"$f":"IF($N$454=\"zákl. přenesená\",$J$454,0)","v":0},{"$f":"IF($N$454=\"sníž. přenesená\",$J$454,0)","v":0},{"$f":"IF($N$454=\"nulová\",$J$454,0)","v":0},"1",{"$f":"ROUND($I$454*$H$454,2)","v":0},"4","-646760055"]
[null,null,null,"PP",null,"Podklad ze štěrkodrti ŠD s rozprostřením a zhutněním, po zhutnění tl. 150 mm",null,null,null,null,null,null,null,null,null,null,null,null,null,null,null,null,null,null,null,null,null,null,null,null,null,null,null,null,null,null,null,null,null,null,null,null,null,null,null,"PP","2"]
[null,null,null,"VV",null,"předpoklad : cca 60% plochy",null,null,null,null,null,null,null,null,null,null,null,null,null,null,null,null,null,null,null,null,null,null,null,null,null,null,null,null,null,null,null,null,null,null,null,null,null,null,null,"VV","2","1","-1","0","ROZPOCET"]
[null,null,null,"VV",null,"4970,0*0,6",null,2982,null,null,null,null,null,null,null,null,null,null,null,null,null,null,null,null,null,null,null,null,null,null,null,null,null,null,null,null,null,null,null,null,null,null,null,null,null,"VV","2","2","-1","1","ROZPOCET"]
[null,null,"50","K","569903311","Zřízení zemních krajnic se zhutněním","m3",34,null,{"$f":"ROUND($I$458*$H$458,2)","v":0},"CS ÚRS 2014 02",null,null,"základní",null,null,0,{"$f":"$Q$458*$H$458","v":0},0,{"$f":"$S$458*$H$458","v":0},null,null,null,null,null,null,null,null,null,null,null,null,null,null,null,null,null,null,null,null,null,null,null,"4",null,"K","2",null,null,null,"ROZPOCET",null,null,null,null,null,{"$f":"IF($N$458=\"základní\",$J$458,0)","v":0},{"$f":"IF($N$458=\"snížená\",$J$458,0)","v":0},{"$f":"IF($N$458=\"zákl. přenesená\",$J$458,0)","v":0},{"$f":"IF($N$458=\"sníž. přenesená\",$J$458,0)","v":0},{"$f":"IF($N$458=\"nulová\",$J$458,0)","v":0},"1",{"$f":"ROUND($I$458*$H$458,2)","v":0},"4","932282109"]
[null,null,null,"PP",null,"Zřízení zemních krajnic z hornin jakékoliv třídy se zhutněním",null,null,null,null,null,null,null,null,null,null,null,null,null,null,null,null,null,null,null,null,null,null,null,null,null,null,null,null,null,null,null,null,null,null,null,null,null,null,null,"PP","2"]
[null,null,null,"PSC",null,"Poznámka k souboru cen:\n1. Ceny jsou určeny pro jakoukoliv tloušťku krajnice. 2. V cenách nejsou započteny náklady na opatření zeminy a její přemístění k místu zabudování, které     se oceňují podle ustanovení čl. 3111 Všeobecných podmínek části A 01 tohoto katalogu. ",null,null,null,null,null,null,null,null,null,null,null,null,null,null,null,null,null,null,null,null,null,null,null,null,null,null,null,null,null,null,null,null,null,null,null,null,null,null,null,"PSC","2"]
[null,null,null,"VV",null,"0,5*0,5*84,0",null,21,null,null,null,null,null,null,null,null,null,null,null,null,null,null,null,null,null,null,null,null,null,null,null,null,null,null,null,null,null,null,null,null,null,null,null,null,null,"VV","2","2","-1","0","ROZPOCET"]
[null,null,null,"VV",null,"1,0*0,5*(10,0+16,0)",null,13,null,null,null,null,null,null,null,null,null,null,null,null,null,null,null,null,null,null,null,null,null,null,null,null,null,null,null,null,null,null,null,null,null,null,null,null,null,"VV","2","2","-1","0","ROZPOCET"]
[null,null,null,"VV",null,"Součet",null,34,null,null,null,null,null,null,null,null,null,null,null,null,null,null,null,null,null,null,null,null,null,null,null,null,null,null,null,null,null,null,null,null,null,null,null,null,null,"VV","2","4","-1","1","ROZPOCET"]
[null,null,null,"D","57","Kryty pozemních komunikací letišť a ploch z kameniva nebo živičné",null,null,null,{"$f":"$BK$464","v":0},null,null,null,null,null,{"$f":"SUM($P$465:$P$480)","v":0},null,{"$f":"SUM($R$465:$R$480)","v":35.933099999999996},null,{"$f":"SUM($T$465:$T$480)","v":0},null,null,null,null,null,null,null,null,null,null,null,null,null,null,null,null,null,null,null,null,null,null,null,"1",null,"D","1",null,null,null,"ROZPOCET",null,null,null,null,null,null,null,null,null,null,null,{"$f":"SUM($BK$465:$BK$480)","v":0}]
[null,null,"51","K","577134121","Asfaltový beton vrstva obrusná ACO 11 (ABS) tř. I tl 40 mm š přes 3 m z nemodifikovaného asfaltu","m2",4970,null,{"$f":"ROUND($I$465*$H$465,2)","v":0},"CS ÚRS 2014 02",null,null,"základní",null,null,0,{"$f":"$Q$465*$H$465","v":0},0,{"$f":"$S$465*$H$465","v":0},null,null,null,null,null,null,null,null,null,null,null,null,null,null,null,null,null,null,null,null,null,null,null,"4",null,"K","2",null,null,null,"ROZPOCET",null,null,null,null,null,{"$f":"IF($N$465=\"základní\",$J$465,0)","v":0},{"$f":"IF($N$465=\"snížená\",$J$465,0)","v":0},{"$f":"IF($N$465=\"zákl. přenesená\",$J$465,0)","v":0},{"$f":"IF($N$465=\"sníž. přenesená\",$J$465,0)","v":0},{"$f":"IF($N$465=\"nulová\",$J$465,0)","v":0},"1",{"$f":"ROUND($I$465*$H$465,2)","v":0},"4","395934904"]
[null,null,null,"PP",null,"Asfaltový beton vrstva obrusná ACO 11 (ABS) s rozprostřením a se zhutněním z nemodifikovaného asfaltu v pruhu šířky přes 3 m tř. I, po zhutnění tl. 40 mm",null,null,null,null,null,null,null,null,null,null,null,null,null,null,null,null,null,null,null,null,null,null,null,null,null,null,null,null,null,null,null,null,null,null,null,null,null,null,null,"PP","2"]
[null,null,null,"PSC",null,"Poznámka k souboru cen:\n1. ČSN EN 13108-1 připouští pro ACO 11 pouze tl. 35 až 50 mm. ",null,null,null,null,null,null,null,null,null,null,null,null,null,null,null,null,null,null,null,null,null,null,null,null,null,null,null,null,null,null,null,null,null,null,null,null,null,null,null,"PSC","2"]
[null,null,null,"VV",null,"živičná plocha",null,null,null,null,null,null,null,null,null,null,null,null,null,null,null,null,null,null,null,null,null,null,null,null,null,null,null,null,null,null,null,null,null,null,null,null,null,null,null,"VV","2","1","-1","0","ROZPOCET"]
[null,null,null,"VV",null,"dle specifikace prací v technické zprávě",null,null,null,null,null,null,null,null,null,null,null,null,null,null,null,null,null,null,null,null,null,null,null,null,null,null,null,null,null,null,null,null,null,null,null,null,null,null,null,"VV","2","1","-1","0","ROZPOCET"]
[null,null,null,"VV",null,"4970,0",null,4970,null,null,null,null,null,null,null,null,null,null,null,null,null,null,null,null,null,null,null,null,null,null,null,null,null,null,null,null,null,null,null,null,null,null,null,null,null,"VV","2","2","-1","1","ROZPOCET"]
[null,null,"52","K","573231111","Postřik živičný spojovací ze silniční emulze v množství do 0,7 kg/m2","m2",4970,null,{"$f":"ROUND($I$471*$H$471,2)","v":0},"CS ÚRS 2014 02",null,null,"základní",null,null,7.1000000000000002E-4,{"$f":"$Q$471*$H$471","v":3.5287000000000002},0,{"$f":"$S$471*$H$471","v":0},null,null,null,null,null,null,null,null,null,null,null,null,null,null,null,null,null,null,null,null,null,null,null,"4",null,"K","2",null,null,null,"ROZPOCET",null,null,null,null,null,{"$f":"IF($N$471=\"základní\",$J$471,0)","v":0},{"$f":"IF($N$471=\"snížená\",$J$471,0)","v":0},{"$f":"IF($N$471=\"zákl. přenesená\",$J$471,0)","v":0},{"$f":"IF($N$471=\"sníž. přenesená\",$J$471,0)","v":0},{"$f":"IF($N$471=\"nulová\",$J$471,0)","v":0},"1",{"$f":"ROUND($I$471*$H$471,2)","v":0},"4","671741430"]
[null,null,null,"PP",null,"Postřik živičný spojovací bez posypu kamenivem ze silniční emulze, v množství od 0,50 do 0,80 kg/m2",null,null,null,null,null,null,null,null,null,null,null,null,null,null,null,null,null,null,null,null,null,null,null,null,null,null,null,null,null,null,null,null,null,null,null,null,null,null,null,"PP","2"]
[null,null,null,"VV",null,"živičná plocha",null,null,null,null,null,null,null,null,null,null,null,null,null,null,null,null,null,null,null,null,null,null,null,null,null,null,null,null,null,null,null,null,null,null,null,null,null,null,null,"VV","2","1","-1","0","ROZPOCET"]
[null,null,null,"VV",null,"dle specifikace prací v technické zprávě",null,null,null,null,null,null,null,null,null,null,null,null,null,null,null,null,null,null,null,null,null,null,null,null,null,null,null,null,null,null,null,null,null,null,null,null,null,null,null,"VV","2","1","-1","0","ROZPOCET"]
[null,null,null,"VV",null,"4970,0",null,4970,null,null,null,null,null,null,null,null,null,null,null,null,null,null,null,null,null,null,null,null,null,null,null,null,null,null,null,null,null,null,null,null,null,null,null,null,null,"VV","2","2","-1","1","ROZPOCET"]
[null,null,"53","K","573111113","Postřik živičný infiltrační s posypem z asfaltu množství 1,5 kg/m2","m2",4970,null,{"$f":"ROUND($I$476*$H$476,2)","v":0},"CS ÚRS 2014 02",null,null,"základní",null,null,6.5199999999999998E-3,{"$f":"$Q$476*$H$476","v":32.404399999999995},0,{"$f":"$S$476*$H$476","v":0},null,null,null,null,null,null,null,null,null,null,null,null,null,null,null,null,null,null,null,null,null,null,null,"4",null,"K","2",null,null,null,"ROZPOCET",null,null,null,null,null,{"$f":"IF($N$476=\"základní\",$J$476,0)","v":0},{"$f":"IF($N$476=\"snížená\",$J$476,0)","v":0},{"$f":"IF($N$476=\"zákl. přenesená\",$J$476,0)","v":0},{"$f":"IF($N$476=\"sníž. přenesená\",$J$476,0)","v":0},{"$f":"IF($N$476=\"nulová\",$J$476,0)","v":0},"1",{"$f":"ROUND($I$476*$H$476,2)","v":0},"4","-2016965885"]
[null,null,null,"PP",null,"Postřik živičný infiltrační z asfaltu silničního s posypem kamenivem, v množství 1,50 kg/m2",null,null,null,null,null,null,null,null,null,null,null,null,null,null,null,null,null,null,null,null,null,null,null,null,null,null,null,null,null,null,null,null,null,null,null,null,null,null,null,"PP","2"]
[null,null,null,"VV",null,"živičná plocha",null,null,null,null,null,null,null,null,null,null,null,null,null,null,null,null,null,null,null,null,null,null,null,null,null,null,null,null,null,null,null,null,null,null,null,null,null,null,null,"VV","2","1","-1","0","ROZPOCET"]
[null,null,null,"VV",null,"dle specifikace prací v technické zprávě",null,null,null,null,null,null,null,null,null,null,null,null,null,null,null,null,null,null,null,null,null,null,null,null,null,null,null,null,null,null,null,null,null,null,null,null,null,null,null,"VV","2","1","-1","0","ROZPOCET"]
[null,null,null,"VV",null,"4970,0",null,4970,null,null,null,null,null,null,null,null,null,null,null,null,null,null,null,null,null,null,null,null,null,null,null,null,null,null,null,null,null,null,null,null,null,null,null,null,null,"VV","2","2","-1","1","ROZPOCET"]
[null,null,null,"D","59","Kryty pozemních komunikací, letišť a ploch dlážděných (předlažby)",null,null,null,{"$f":"$BK$481","v":0},null,null,null,null,null,{"$f":"SUM($P$482:$P$502)","v":0},null,{"$f":"SUM($R$482:$R$502)","v":54.833500000000008},null,{"$f":"SUM($T$482:$T$502)","v":0},null,null,null,null,null,null,null,null,null,null,null,null,null,null,null,null,null,null,null,null,null,null,null,"1",null,"D","1",null,null,null,"ROZPOCET",null,null,null,null,null,null,null,null,null,null,null,{"$f":"SUM($BK$482:$BK$502)","v":0}]
[null,null,"54","K","596211123","Kladení zámkové dlažby komunikací pro pěší tl 60 mm skupiny B pl přes 300 m2","m2",242,null,{"$f":"ROUND($I$482*$H$482,2)","v":0},"CS ÚRS 2014 02",null,null,"základní",null,null,8.4250000000000005E-2,{"$f":"$Q$482*$H$482","v":20.388500000000001},0,{"$f":"$S$482*$H$482","v":0},null,null,null,null,null,null,null,null,null,null,null,null,null,null,null,null,null,null,null,null,null,null,null,"4",null,"K","2",null,null,null,"ROZPOCET",null,null,null,null,null,{"$f":"IF($N$482=\"základní\",$J$482,0)","v":0},{"$f":"IF($N$482=\"snížená\",$J$482,0)","v":0},{"$f":"IF($N$482=\"zákl. přenesená\",$J$482,0)","v":0},{"$f":"IF($N$482=\"sníž. přenesená\",$J$482,0)","v":0},{"$f":"IF($N$482=\"nulová\",$J$482,0)","v":0},"1",{"$f":"ROUND($I$482*$H$482,2)","v":0},"4","1377426877"]
[null,null,null,"PP",null,"Kladení dlažby z betonových zámkových dlaždic komunikací pro pěší s ložem z kameniva těženého nebo drceného tl. do 40 mm, s vyplněním spár s dvojitým hutněním, vibrováním a se smetením přebytečného materiálu na krajnici tl. 60 mm skupiny B, pro plochy přes 300 m2",null,null,null,null,null,null,null,null,null,null,null,null,null,null,null,null,null,null,null,null,null,null,null,null,null,null,null,null,null,null,null,null,null,null,null,null,null,null,null,"PP","2"]
[null,null,null,"PSC",null,"Poznámka k souboru cen:\n1. Pro volbu cen dlažeb platí toto rozdělení: Skupina A: dlažby z prvků stejného tvaru, Skupina B:     dlažby z prvků dvou a více tvarů nebo z obrazců o ploše jednotlivě do 100 m2, Skupina C: dlažby     obloukovitých tvarů (oblouky, kruhy, apod.). 2. V cenách jsou započteny i náklady na dodání hmot pro lože a na dodání materiálu na výplň spár. 3. V cenách nejsou započteny náklady na dodání zámkové dlažby, které se oceňuje ve specifikaci;     ztratné lze dohodnout u plochy     a) do 100 m2 ve výši 3 %,     b) přes 100 do 300 m2 ve výši 2 %,     c) přes 300 m2 ve výši 1 %. 4. Část lože přesahující tloušťku 40 mm se oceňuje cenami souboru cen 451 . . -9 . Příplatek za     každých dalších 10 mm tloušťky podkladu nebo lože. ",null,null,null,null,null,null,null,null,null,null,null,null,null,null,null,null,null,null,null,null,null,null,null,null,null,null,null,null,null,null,null,null,null,null,null,null,null,null,null,"PSC","2"]
[null,null,null,"VV",null,"lože z kameniva těženého nebo drceného tl. do 40 mm",null,null,null,null,null,null,null,null,null,null,null,null,null,null,null,null,null,null,null,null,null,null,null,null,null,null,null,null,null,null,null,null,null,null,null,null,null,null,null,"VV","2","1","-1","0","ROZPOCET"]
[null,null,null,"VV",null,"dle specifikace prací v technické zprávě - chodník",null,null,null,null,null,null,null,null,null,null,null,null,null,null,null,null,null,null,null,null,null,null,null,null,null,null,null,null,null,null,null,null,null,null,null,null,null,null,null,"VV","2","1","-1","0","ROZPOCET"]
[null,null,null,"VV",null,"230,0",null,230,null,null,null,null,null,null,null,null,null,null,null,null,null,null,null,null,null,null,null,null,null,null,null,null,null,null,null,null,null,null,null,null,null,null,null,null,null,"VV","2","2","-1","0","ROZPOCET"]
[null,null,null,"VV",null,"Mezisoučet A",null,230,null,null,null,null,null,null,null,null,null,null,null,null,null,null,null,null,null,null,null,null,null,null,null,null,null,null,null,null,null,null,null,null,null,null,null,null,null,"VV","2","3","-1","0","ROZPOCET"]
[null,null,null,"VV",null,"reliéfní dlažba",null,null,null,null,null,null,null,null,null,null,null,null,null,null,null,null,null,null,null,null,null,null,null,null,null,null,null,null,null,null,null,null,null,null,null,null,null,null,null,"VV","2","1","-1","0","ROZPOCET"]
[null,null,null,"VV",null,"12,0",null,12,null,null,null,null,null,null,null,null,null,null,null,null,null,null,null,null,null,null,null,null,null,null,null,null,null,null,null,null,null,null,null,null,null,null,null,null,null,"VV","2","2","-1","0","ROZPOCET"]
[null,null,null,"VV",null,"Mezisoučet B",null,12,null,null,null,null,null,null,null,null,null,null,null,null,null,null,null,null,null,null,null,null,null,null,null,null,null,null,null,null,null,null,null,null,null,null,null,null,null,"VV","2","3","-1","0","ROZPOCET"]
[null,null,null,"VV",null,"Součet",null,242,null,null,null,null,null,null,null,null,null,null,null,null,null,null,null,null,null,null,null,null,null,null,null,null,null,null,null,null,null,null,null,null,null,null,null,null,null,"VV","2","4","-1","1","ROZPOCET"]
[null,null,"55","M","5924001_R","dlažba betonová zámková tl.6 cm - dodávka, doprava","m2",233,null,{"$f":"ROUND($I$493*$H$493,2)","v":0},null,null,null,"základní",null,null,0.14000000000000001,{"$f":"$Q$493*$H$493","v":32.620000000000005},0,{"$f":"$S$493*$H$493","v":0},null,null,null,null,null,null,null,null,null,null,null,null,null,null,null,null,null,null,null,null,null,null,null,"8",null,"M","2",null,null,null,"ROZPOCET",null,null,null,null,null,{"$f":"IF($N$493=\"základní\",$J$493,0)","v":0},{"$f":"IF($N$493=\"snížená\",$J$493,0)","v":0},{"$f":"IF($N$493=\"zákl. přenesená\",$J$493,0)","v":0},{"$f":"IF($N$493=\"sníž. přenesená\",$J$493,0)","v":0},{"$f":"IF($N$493=\"nulová\",$J$493,0)","v":0},"1",{"$f":"ROUND($I$493*$H$493,2)","v":0},"4","-1680229160"]
[null,null,null,"PP",null,"dlažba betonová zámková tl.6 cm přírodní - dodávka, doprava",null,null,null,null,null,null,null,null,null,null,null,null,null,null,null,null,null,null,null,null,null,null,null,null,null,null,null,null,null,null,null,null,null,null,null,null,null,null,null,"PP","2"]
[null,null,null,"VV",null,"ztratné 1%",null,null,null,null,null,null,null,null,null,null,null,null,null,null,null,null,null,null,null,null,null,null,null,null,null,null,null,null,null,null,null,null,null,null,null,null,null,null,null,"VV","2","1","-1","0","ROZPOCET"]
[null,null,null,"VV",null,"dle pol.59621112 mezisoučet A",null,null,null,null,null,null,null,null,null,null,null,null,null,null,null,null,null,null,null,null,null,null,null,null,null,null,null,null,null,null,null,null,null,null,null,null,null,null,null,"VV","2","1","-1","0","ROZPOCET"]
[null,null,null,"VV",null,"230,0*1,01+0,7",null,233,null,null,null,null,null,null,null,null,null,null,null,null,null,null,null,null,null,null,null,null,null,null,null,null,null,null,null,null,null,null,null,null,null,null,null,null,null,"VV","2","2","-1","1","ROZPOCET"]
[null,null,"56","M","5924002_R","dlažba betonová zámková reliéfní tl.6 cm barevná (kontrastní barva) - dodávka, doprava","m2",12.5,null,{"$f":"ROUND($I$498*$H$498,2)","v":0},null,null,null,"základní",null,null,0.14599999999999999,{"$f":"$Q$498*$H$498","v":1.825},0,{"$f":"$S$498*$H$498","v":0},null,null,null,null,null,null,null,null,null,null,null,null,null,null,null,null,null,null,null,null,null,null,null,"8",null,"M","2",null,null,null,"ROZPOCET",null,null,null,null,null,{"$f":"IF($N$498=\"základní\",$J$498,0)","v":0},{"$f":"IF($N$498=\"snížená\",$J$498,0)","v":0},{"$f":"IF($N$498=\"zákl. přenesená\",$J$498,0)","v":0},{"$f":"IF($N$498=\"sníž. přenesená\",$J$498,0)","v":0},{"$f":"IF($N$498=\"nulová\",$J$498,0)","v":0},"1",{"$f":"ROUND($I$498*$H$498,2)","v":0},"4","-1587804191"]
[null,null,null,"PP",null,"dlažba betonová zámková reliéfní tl.6 cm barevná - dodávka, doprava",null,null,null,null,null,null,null,null,null,null,null,null,null,null,null,null,null,null,null,null,null,null,null,null,null,null,null,null,null,null,null,null,null,null,null,null,null,null,null,"PP","2"]
[null,null,null,"VV",null,"ztratné 3%",null,null,null,null,null,null,null,null,null,null,null,null,null,null,null,null,null,null,null,null,null,null,null,null,null,null,null,null,null,null,null,null,null,null,null,null,null,null,null,"VV","2","1","-1","0","ROZPOCET"]
[null,null,null,"VV",null,"dle pol.596211123 mezisoučet B",null,null,null,null,null,null,null,null,null,null,null,null,null,null,null,null,null,null,null,null,null,null,null,null,null,null,null,null,null,null,null,null,null,null,null,null,null,null,null,"VV","2","1","-1","0","ROZPOCET"]
[null,null,null,"VV",null,"12,0*1,03+0,14",null,12.5,null,null,null,null,null,null,null,null,null,null,null,null,null,null,null,null,null,null,null,null,null,null,null,null,null,null,null,null,null,null,null,null,null,null,null,null,null,"VV","2","2","-1","1","ROZPOCET"]
[null,null,null,"D","8","Trubní vedení",null,null,null,{"$f":"$BK$503","v":0},null,null,null,null,null,{"$f":"SUM($P$504:$P$536)","v":0},null,{"$f":"SUM($R$504:$R$536)","v":15.420582371999998},null,{"$f":"SUM($T$504:$T$536)","v":0},null,null,null,null,null,null,null,null,null,null,null,null,null,null,null,null,null,null,null,null,null,null,null,"1",null,"D","1",null,null,null,"ROZPOCET",null,null,null,null,null,null,null,null,null,null,null,{"$f":"SUM($BK$504:$BK$536)","v":0}]
[null,null,"57","K","895941111","Zřízení vpusti kanalizační uliční z betonových dílců typ UV-50 normální","kus",12,null,{"$f":"ROUND($I$504*$H$504,2)","v":0},"CS ÚRS 2014 02",null,null,"základní",null,null,0.34089999999999998,{"$f":"$Q$504*$H$504","v":4.0907999999999998},0,{"$f":"$S$504*$H$504","v":0},null,null,null,null,null,null,null,null,null,null,null,null,null,null,null,null,null,null,null,null,null,null,null,"4",null,"K","2",null,null,null,"ROZPOCET",null,null,null,null,null,{"$f":"IF($N$504=\"základní\",$J$504,0)","v":0},{"$f":"IF($N$504=\"snížená\",$J$504,0)","v":0},{"$f":"IF($N$504=\"zákl. přenesená\",$J$504,0)","v":0},{"$f":"IF($N$504=\"sníž. přenesená\",$J$504,0)","v":0},{"$f":"IF($N$504=\"nulová\",$J$504,0)","v":0},"1",{"$f":"ROUND($I$504*$H$504,2)","v":0},"4","886572115"]
[null,null,null,"PP",null,"Zřízení vpusti kanalizační uliční z betonových dílců typ UV-50 normální",null,null,null,null,null,null,null,null,null,null,null,null,null,null,null,null,null,null,null,null,null,null,null,null,null,null,null,null,null,null,null,null,null,null,null,null,null,null,null,"PP","2"]
[null,null,null,"PSC",null,"Poznámka k souboru cen:\n1. V cenách jsou započteny i náklady na zřízení lože ze štěrkopísku. 2. V cenách nejsou započteny náklady na:     a) dodání betonových dílců; betonové dílce se oceňují ve specifikaci,     b) dodání kameninových dílců; kameninové dílce se oceňují ve specifikaci,     c) litinové mříže; osazení mříží se oceňuje cenami souboru cen 899 20- . 1 Osazení mříží         litinových včetně rámů a košů na bahno části A 01 tohoto katalogu; dodání mříží se oceňuje ve         specifikaci,     d) podkladní prstence; tyto se oceňují cenami souboru cen 452 38-6 . Podkladní a a vyrovnávací         prstence části A 01 tohoto katalogu. ",null,null,null,null,null,null,null,null,null,null,null,null,null,null,null,null,null,null,null,null,null,null,null,null,null,null,null,null,null,null,null,null,null,null,null,null,null,null,null,"PSC","2"]
[null,null,"58","K","899203111","Osazení mříží litinových včetně rámů a košů na bahno hmotnosti nad 100 do 150 kg","kus",12,null,{"$f":"ROUND($I$507*$H$507,2)","v":0},"CS ÚRS 2014 02",null,null,"základní",null,null,9.3600000000000003E-3,{"$f":"$Q$507*$H$507","v":0.11232},0,{"$f":"$S$507*$H$507","v":0},null,null,null,null,null,null,null,null,null,null,null,null,null,null,null,null,null,null,null,null,null,null,null,"4",null,"K","2",null,null,null,"ROZPOCET",null,null,null,null,null,{"$f":"IF($N$507=\"základní\",$J$507,0)","v":0},{"$f":"IF($N$507=\"snížená\",$J$507,0)","v":0},{"$f":"IF($N$507=\"zákl. přenesená\",$J$507,0)","v":0},{"$f":"IF($N$507=\"sníž. přenesená\",$J$507,0)","v":0},{"$f":"IF($N$507=\"nulová\",$J$507,0)","v":0},"1",{"$f":"ROUND($I$507*$H$507,2)","v":0},"4","-860358872"]
[null,null,null,"PP",null,"Osazení mříží litinových včetně rámů a košů na bahno hmotnosti jednotlivě přes 100 do 150 kg",null,null,null,null,null,null,null,null,null,null,null,null,null,null,null,null,null,null,null,null,null,null,null,null,null,null,null,null,null,null,null,null,null,null,null,null,null,null,null,"PP","2"]
[null,null,null,"PSC",null,"Poznámka k souboru cen:\n1. V cenách nejsou započteny náklady na dodání mříží, rámů a košů na bahno; tyto náklady se oceňují     ve specifikaci. ",null,null,null,null,null,null,null,null,null,null,null,null,null,null,null,null,null,null,null,null,null,null,null,null,null,null,null,null,null,null,null,null,null,null,null,null,null,null,null,"PSC","2"]
[null,null,"59","M","8900010_R","betonová uliční vpusť typová z prefabrikovaných betonových dílců DN 500mm - dodávka, doprava","kus",12,null,{"$f":"ROUND($I$510*$H$510,2)","v":0},null,null,null,"základní",null,null,0.35,{"$f":"$Q$510*$H$510","v":4.1999999999999993},0,{"$f":"$S$510*$H$510","v":0},null,null,null,null,null,null,null,null,null,null,null,null,null,null,null,null,null,null,null,null,null,null,null,"8",null,"M","2",null,null,null,"ROZPOCET",null,null,null,null,null,{"$f":"IF($N$510=\"základní\",$J$510,0)","v":0},{"$f":"IF($N$510=\"snížená\",$J$510,0)","v":0},{"$f":"IF($N$510=\"zákl. přenesená\",$J$510,0)","v":0},{"$f":"IF($N$510=\"sníž. přenesená\",$J$510,0)","v":0},{"$f":"IF($N$510=\"nulová\",$J$510,0)","v":0},"1",{"$f":"ROUND($I$510*$H$510,2)","v":0},"4","-1735748731"]
[null,null,null,"VV",null,"k pol.895941111",null,null,null,null,null,null,null,null,null,null,null,null,null,null,null,null,null,null,null,null,null,null,null,null,null,null,null,null,null,null,null,null,null,null,null,null,null,null,null,"VV","2","1","-1","0","ROZPOCET"]
[null,null,null,"VV",null,"12,0",null,12,null,null,null,null,null,null,null,null,null,null,null,null,null,null,null,null,null,null,null,null,null,null,null,null,null,null,null,null,null,null,null,null,null,null,null,null,null,"VV","2","2","-1","1","ROZPOCET"]
[null,null,"60","M","8900020_R","kalový koš pro silniční vpus't - dodávka, doprava","kus",12,null,{"$f":"ROUND($I$513*$H$513,2)","v":0},null,null,null,"základní",null,null,8.5000000000000006E-3,{"$f":"$Q$513*$H$513","v":0.10200000000000001},0,{"$f":"$S$513*$H$513","v":0},null,null,null,null,null,null,null,null,null,null,null,null,null,null,null,null,null,null,null,null,null,null,null,"8",null,"M","2",null,null,null,"ROZPOCET",null,null,null,null,null,{"$f":"IF($N$513=\"základní\",$J$513,0)","v":0},{"$f":"IF($N$513=\"snížená\",$J$513,0)","v":0},{"$f":"IF($N$513=\"zákl. přenesená\",$J$513,0)","v":0},{"$f":"IF($N$513=\"sníž. přenesená\",$J$513,0)","v":0},{"$f":"IF($N$513=\"nulová\",$J$513,0)","v":0},"1",{"$f":"ROUND($I$513*$H$513,2)","v":0},"4","287902396"]
[null,null,null,"PP",null,"\n",null,null,null,null,null,null,null,null,null,null,null,null,null,null,null,null,null,null,null,null,null,null,null,null,null,null,null,null,null,null,null,null,null,null,null,null,null,null,null,"PP","2"]
[null,null,null,"VV",null,"k pol.895941111",null,null,null,null,null,null,null,null,null,null,null,null,null,null,null,null,null,null,null,null,null,null,null,null,null,null,null,null,null,null,null,null,null,null,null,null,null,null,null,"VV","2","1","-1","0","ROZPOCET"]
[null,null,null,"VV",null,"12,0",null,12,null,null,null,null,null,null,null,null,null,null,null,null,null,null,null,null,null,null,null,null,null,null,null,null,null,null,null,null,null,null,null,null,null,null,null,null,null,"VV","2","2","-1","1","ROZPOCET"]
[null,null,"61","M","8900030_R","litinová vtoková mříž s rámem 500x500mm, tř. D400  -  dodávka,doprava","kus",12,null,{"$f":"ROUND($I$517*$H$517,2)","v":0},null,null,null,"základní",null,null,0.108,{"$f":"$Q$517*$H$517","v":1.296},0,{"$f":"$S$517*$H$517","v":0},null,null,null,null,null,null,null,null,null,null,null,null,null,null,null,null,null,null,null,null,null,null,null,"8",null,"M","2",null,null,null,"ROZPOCET",null,null,null,null,null,{"$f":"IF($N$517=\"základní\",$J$517,0)","v":0},{"$f":"IF($N$517=\"snížená\",$J$517,0)","v":0},{"$f":"IF($N$517=\"zákl. přenesená\",$J$517,0)","v":0},{"$f":"IF($N$517=\"sníž. přenesená\",$J$517,0)","v":0},{"$f":"IF($N$517=\"nulová\",$J$517,0)","v":0},"1",{"$f":"ROUND($I$517*$H$517,2)","v":0},"4","1775283732"]
[null,null,null,"VV",null,"k pol.899203111",null,null,null,null,null,null,null,null,null,null,null,null,null,null,null,null,null,null,null,null,null,null,null,null,null,null,null,null,null,null,null,null,null,null,null,null,null,null,null,"VV","2","1","-1","0","ROZPOCET"]
[null,null,null,"VV",null,"12,0",null,12,null,null,null,null,null,null,null,null,null,null,null,null,null,null,null,null,null,null,null,null,null,null,null,null,null,null,null,null,null,null,null,null,null,null,null,null,null,"VV","2","2","-1","1","ROZPOCET"]
[null,null,"62","K","871315221","Kanalizační potrubí z tvrdého PVC-systém KG tuhost třídy SN8 DN150","m",30,null,{"$f":"ROUND($I$520*$H$520,2)","v":0},"CS ÚRS 2014 02",null,null,"základní",null,null,3.3032500000000002E-3,{"$f":"$Q$520*$H$520","v":9.9097500000000005E-2},0,{"$f":"$S$520*$H$520","v":0},null,null,null,null,null,null,null,null,null,null,null,null,null,null,null,null,null,null,null,null,null,null,null,"4",null,"K","2",null,null,null,"ROZPOCET",null,null,null,null,null,{"$f":"IF($N$520=\"základní\",$J$520,0)","v":0},{"$f":"IF($N$520=\"snížená\",$J$520,0)","v":0},{"$f":"IF($N$520=\"zákl. přenesená\",$J$520,0)","v":0},{"$f":"IF($N$520=\"sníž. přenesená\",$J$520,0)","v":0},{"$f":"IF($N$520=\"nulová\",$J$520,0)","v":0},"1",{"$f":"ROUND($I$520*$H$520,2)","v":0},"4","120287600"]
[null,null,null,"PP",null,"Kanalizační potrubí z tvrdého PVC systém KG v otevřeném výkopu ve sklonu do 20 %, tuhost třídy SN 8 DN 150",null,null,null,null,null,null,null,null,null,null,null,null,null,null,null,null,null,null,null,null,null,null,null,null,null,null,null,null,null,null,null,null,null,null,null,null,null,null,null,"PP","2"]
[null,null,null,"PSC",null,"Poznámka k souboru cen:\n1. V cenách jsou započteny i náklady na dodání trub včetně gumového těsnění. 2. Použití trub dle tuhostí:     a) třída SN 4: kanalizační řady, přípojky, odvodňování pozemků     b) třída SN 8: vysoké teplotní a mechanické zatížení. ",null,null,null,null,null,null,null,null,null,null,null,null,null,null,null,null,null,null,null,null,null,null,null,null,null,null,null,null,null,null,null,null,null,null,null,null,null,null,null,"PSC","2"]
[null,null,null,"VV",null,"dle specifikace prací v technické zprávě",null,null,null,null,null,null,null,null,null,null,null,null,null,null,null,null,null,null,null,null,null,null,null,null,null,null,null,null,null,null,null,null,null,null,null,null,null,null,null,"VV","2","1","-1","0","ROZPOCET"]
[null,null,null,"VV",null,"odvodnění uličních vpustí ležících mimo ",null,null,null,null,null,null,null,null,null,null,null,null,null,null,null,null,null,null,null,null,null,null,null,null,null,null,null,null,null,null,null,null,null,null,null,null,null,null,null,"VV","2","1","-1","0","ROZPOCET"]
[null,null,null,"VV",null,"dešťovou kanalizaci SO 311",null,null,null,null,null,null,null,null,null,null,null,null,null,null,null,null,null,null,null,null,null,null,null,null,null,null,null,null,null,null,null,null,null,null,null,null,null,null,null,"VV","2","1","-1","0","ROZPOCET"]
[null,null,null,"VV",null,"30,0",null,30,null,null,null,null,null,null,null,null,null,null,null,null,null,null,null,null,null,null,null,null,null,null,null,null,null,null,null,null,null,null,null,null,null,null,null,null,null,"VV","2","2","-1","1","ROZPOCET"]
[null,null,null,"VV",null,"poznámka :",null,null,null,null,null,null,null,null,null,null,null,null,null,null,null,null,null,null,null,null,null,null,null,null,null,null,null,null,null,null,null,null,null,null,null,null,null,null,null,"VV","2","1","-1","0","ROZPOCET"]
[null,null,null,"VV",null,"Odvodnění vpustí kanalizačnímu trubkami, ",null,null,null,null,null,null,null,null,null,null,null,null,null,null,null,null,null,null,null,null,null,null,null,null,null,null,null,null,null,null,null,null,null,null,null,null,null,null,null,"VV","2","1","-1","0","ROZPOCET"]
[null,null,null,"VV",null,"které jsou napojeny na novou dešťovou kanalizaci ",null,null,null,null,null,null,null,null,null,null,null,null,null,null,null,null,null,null,null,null,null,null,null,null,null,null,null,null,null,null,null,null,null,null,null,null,null,null,null,"VV","2","1","-1","0","ROZPOCET"]
[null,null,null,"VV",null," je vykázáno v SO 311 Dešťová kanalizace",null,null,null,null,null,null,null,null,null,null,null,null,null,null,null,null,null,null,null,null,null,null,null,null,null,null,null,null,null,null,null,null,null,null,null,null,null,null,null,"VV","2","1","-1","0","ROZPOCET"]
[null,null,"63","K","892351111","Tlaková zkouška vodou potrubí DN 150 nebo 200","m",30,null,{"$f":"ROUND($I$531*$H$531,2)","v":0},"CS ÚRS 2014 02",null,null,"základní",null,null,0,{"$f":"$Q$531*$H$531","v":0},0,{"$f":"$S$531*$H$531","v":0},null,null,null,null,null,null,null,null,null,null,null,null,null,null,null,null,null,null,null,null,null,null,null,"4",null,"K","2",null,null,null,"ROZPOCET",null,null,null,null,null,{"$f":"IF($N$531=\"základní\",$J$531,0)","v":0},{"$f":"IF($N$531=\"snížená\",$J$531,0)","v":0},{"$f":"IF($N$531=\"zákl. přenesená\",$J$531,0)","v":0},{"$f":"IF($N$531=\"sníž. přenesená\",$J$531,0)","v":0},{"$f":"IF($N$531=\"nulová\",$J$531,0)","v":0},"1",{"$f":"ROUND($I$531*$H$531,2)","v":0},"4","-144704195"]
[null,null,null,"PP",null,"Tlakové zkoušky vodou na potrubí DN 150 nebo 200",null,null,null,null,null,null,null,null,null,null,null,null,null,null,null,null,null,null,null,null,null,null,null,null,null,null,null,null,null,null,null,null,null,null,null,null,null,null,null,"PP","2"]
[null,null,null,"PSC",null,"Poznámka k souboru cen:\n1. Ceny -2111 jsou určeny pro zabezpečení jednoho konce zkoušeného úseku jakéhokoliv druhu potrubí. 2. V cenách jsou započteny náklady:     a) u cen -1111 - na přísun, montáž, demontáž a odsun zkoušecího čerpadla, napuštění tlakovou         vodou a dodání vody pro tlakovou zkoušku,     b) u cen -2111 - na montáž a demontáž výrobků nebo dílců pro zabezpečení konce zkoušeného úseku         potrubí, na montáž a demontáž koncových tvarovek, na montáž zaslepovací příruby, na zaslepení         odboček pro hydranty, vzdušníky a jiné armatury a odbočky pro odbočující řady, ",null,null,null,null,null,null,null,null,null,null,null,null,null,null,null,null,null,null,null,null,null,null,null,null,null,null,null,null,null,null,null,null,null,null,null,null,null,null,null,"PSC","2"]
[null,null,"64","K","892372111","Zabezpečení konců potrubí DN do 300 při tlakových zkouškách vodou","kus",12,null,{"$f":"ROUND($I$534*$H$534,2)","v":0},"CS ÚRS 2014 02",null,null,"základní",null,null,0.460030406,{"$f":"$Q$534*$H$534","v":5.520364872},0,{"$f":"$S$534*$H$534","v":0},null,null,null,null,null,null,null,null,null,null,null,null,null,null,null,null,null,null,null,null,null,null,null,"4",null,"K","2",null,null,null,"ROZPOCET",null,null,null,null,null,{"$f":"IF($N$534=\"základní\",$J$534,0)","v":0},{"$f":"IF($N$534=\"snížená\",$J$534,0)","v":0},{"$f":"IF($N$534=\"zákl. přenesená\",$J$534,0)","v":0},{"$f":"IF($N$534=\"sníž. přenesená\",$J$534,0)","v":0},{"$f":"IF($N$534=\"nulová\",$J$534,0)","v":0},"1",{"$f":"ROUND($I$534*$H$534,2)","v":0},"4","1500408742"]
[null,null,null,"PP",null,"Tlakové zkoušky vodou zabezpečení konců potrubí při tlakových zkouškách DN do 300",null,null,null,null,null,null,null,null,null,null,null,null,null,null,null,null,null,null,null,null,null,null,null,null,null,null,null,null,null,null,null,null,null,null,null,null,null,null,null,"PP","2"]
[null,null,null,"PSC",null,"Poznámka k souboru cen:\n1. Ceny -2111 jsou určeny pro zabezpečení jednoho konce zkoušeného úseku jakéhokoliv druhu potrubí. 2. V cenách jsou započteny náklady:     a) u cen -1111 - na přísun, montáž, demontáž a odsun zkoušecího čerpadla, napuštění tlakovou         vodou a dodání vody pro tlakovou zkoušku,     b) u cen -2111 - na montáž a demontáž výrobků nebo dílců pro zabezpečení konce zkoušeného úseku         potrubí, na montáž a demontáž koncových tvarovek, na montáž zaslepovací příruby, na zaslepení         odboček pro hydranty, vzdušníky a jiné armatury a odbočky pro odbočující řady, ",null,null,null,null,null,null,null,null,null,null,null,null,null,null,null,null,null,null,null,null,null,null,null,null,null,null,null,null,null,null,null,null,null,null,null,null,null,null,null,"PSC","2"]
[null,null,null,"D","91","Doplňující konstrukce a práce pozemních komunikací, letišť a ploch",null,null,null,{"$f":"$BK$537","v":0},null,null,null,null,null,{"$f":"SUM($P$538:$P$675)","v":0},null,{"$f":"SUM($R$538:$R$675)","v":349.94848986300002},null,{"$f":"SUM($T$538:$T$675)","v":0},null,null,null,null,null,null,null,null,null,null,null,null,null,null,null,null,null,null,null,null,null,null,null,"1",null,"D","1",null,null,null,"ROZPOCET",null,null,null,null,null,null,null,null,null,null,null,{"$f":"SUM($BK$538:$BK$675)","v":0}]
[null,null,"65","K","916131213","Osazení silničního obrubníku betonového stojatého s boční opěrou do lože z betonu prostého","m",940,null,{"$f":"ROUND($I$538*$H$538,2)","v":0},"CS ÚRS 2014 02",null,null,"základní",null,null,0.15539952000000001,{"$f":"$Q$538*$H$538","v":146.07554880000001},0,{"$f":"$S$538*$H$538","v":0},null,null,null,null,null,null,null,null,null,null,null,null,null,null,null,null,null,null,null,null,null,null,null,"4",null,"K","2",null,null,null,"ROZPOCET",null,null,null,null,null,{"$f":"IF($N$538=\"základní\",$J$538,0)","v":0},{"$f":"IF($N$538=\"snížená\",$J$538,0)","v":0},{"$f":"IF($N$538=\"zákl. přenesená\",$J$538,0)","v":0},{"$f":"IF($N$538=\"sníž. přenesená\",$J$538,0)","v":0},{"$f":"IF($N$538=\"nulová\",$J$538,0)","v":0},"1",{"$f":"ROUND($I$538*$H$538,2)","v":0},"4","862185060"]
[null,null,null,"PP",null,"Osazení silničního obrubníku betonového se zřízením lože, s vyplněním a zatřením spár cementovou maltou stojatého s boční opěrou z betonu prostého tř. C 12/15, do lože z betonu prostého téže značky",null,null,null,null,null,null,null,null,null,null,null,null,null,null,null,null,null,null,null,null,null,null,null,null,null,null,null,null,null,null,null,null,null,null,null,null,null,null,null,"PP","2"]
[null,null,null,"PSC",null,"Poznámka k souboru cen:\n1. V cenách silničních obrubníků ležatých i stojatých jsou započteny:     a) pro osazení do lože z kameniva těženého i náklady na dodání hmot pro lože tl. 80 až 100 mm,     b) pro osazení do lože z betonu prostého i náklady na dodání hmot pro lože tl. 80 až 100 mm; v         cenách -1113 a -1213 též náklady na zřízení bočních opěr. 2. Část lože z betonu prostého přesahující tl. 100 mm se oceňuje cenou 916 99-1121 Lože pod     obrubníky, krajníky nebo obruby z dlažebních kostek. 3. V cenách nejsou započteny náklady na dodání obrubníků, tyto se oceňují ve specifikaci. ",null,null,null,null,null,null,null,null,null,null,null,null,null,null,null,null,null,null,null,null,null,null,null,null,null,null,null,null,null,null,null,null,null,null,null,null,null,null,null,"PSC","2"]
[null,null,null,"VV",null,"dle specifikace prací v technické zprávě",null,null,null,null,null,null,null,null,null,null,null,null,null,null,null,null,null,null,null,null,null,null,null,null,null,null,null,null,null,null,null,null,null,null,null,null,null,null,null,"VV","2","1","-1","0","ROZPOCET"]
[null,null,null,"VV",null,"940,0",null,940,null,null,null,null,null,null,null,null,null,null,null,null,null,null,null,null,null,null,null,null,null,null,null,null,null,null,null,null,null,null,null,null,null,null,null,null,null,"VV","2","2","-1","1","ROZPOCET"]
[null,null,"66","K","916231213","Osazení chodníkového obrubníku betonového stojatého s boční opěrou do lože z betonu prostého","m",190,null,{"$f":"ROUND($I$543*$H$543,2)","v":0},"CS ÚRS 2014 02",null,null,"základní",null,null,0.12949959999999999,{"$f":"$Q$543*$H$543","v":24.604923999999997},0,{"$f":"$S$543*$H$543","v":0},null,null,null,null,null,null,null,null,null,null,null,null,null,null,null,null,null,null,null,null,null,null,null,"4",null,"K","2",null,null,null,"ROZPOCET",null,null,null,null,null,{"$f":"IF($N$543=\"základní\",$J$543,0)","v":0},{"$f":"IF($N$543=\"snížená\",$J$543,0)","v":0},{"$f":"IF($N$543=\"zákl. přenesená\",$J$543,0)","v":0},{"$f":"IF($N$543=\"sníž. přenesená\",$J$543,0)","v":0},{"$f":"IF($N$543=\"nulová\",$J$543,0)","v":0},"1",{"$f":"ROUND($I$543*$H$543,2)","v":0},"4","1031988861"]
[null,null,null,"PP",null,"Osazení chodníkového obrubníku betonového se zřízením lože, s vyplněním a zatřením spár cementovou maltou stojatého s boční opěrou z betonu prostého tř. C 12/15, do lože z betonu prostého téže značky",null,null,null,null,null,null,null,null,null,null,null,null,null,null,null,null,null,null,null,null,null,null,null,null,null,null,null,null,null,null,null,null,null,null,null,null,null,null,null,"PP","2"]
[null,null,null,"PSC",null,"Poznámka k souboru cen:\n1. V cenách chodníkových obrubníků ležatých i stojatých jsou započteny pro osazení     a) do lože z kameniva těženého i náklady na dodání hmot pro lože tl. 80 až 100 mm,     b) do lože z betonu prostého i náklady na dodání hmot pro lože tl. 80 až 100 mm; v cenách -1113         a -1213 též náklady na zřízení bočních opěr. 2. Část lože z betonu prostého přesahující tl. 100 mm se oceňuje cenou 916 99-1121 Lože pod     obrubníky, krajníky nebo obruby z dlažebních kostek. 3. V cenách nejsou započteny náklady na dodání obrubníků, tyto se oceňují ve specifikaci. ",null,null,null,null,null,null,null,null,null,null,null,null,null,null,null,null,null,null,null,null,null,null,null,null,null,null,null,null,null,null,null,null,null,null,null,null,null,null,null,"PSC","2"]
[null,null,null,"VV",null,"dle specifikace prací v technické zprávě",null,null,null,null,null,null,null,null,null,null,null,null,null,null,null,null,null,null,null,null,null,null,null,null,null,null,null,null,null,null,null,null,null,null,null,null,null,null,null,"VV","2","1","-1","0","ROZPOCET"]
[null,null,null,"VV",null,"190,0",null,190,null,null,null,null,null,null,null,null,null,null,null,null,null,null,null,null,null,null,null,null,null,null,null,null,null,null,null,null,null,null,null,null,null,null,null,null,null,"VV","2","2","-1","1","ROZPOCET"]
[null,null,"67","M","592 001_R","obrubník betonový silniční, přírodní 100x15x30 cm - dodávka, doprava","m",950,null,{"$f":"ROUND($I$548*$H$548,2)","v":0},null,null,null,"základní",null,null,0.10199999999999999,{"$f":"$Q$548*$H$548","v":96.899999999999991},0,{"$f":"$S$548*$H$548","v":0},null,null,null,null,null,null,null,null,null,null,null,null,null,null,null,null,null,null,null,null,null,null,null,"8",null,"M","2",null,null,null,"ROZPOCET",null,null,null,null,null,{"$f":"IF($N$548=\"základní\",$J$548,0)","v":0},{"$f":"IF($N$548=\"snížená\",$J$548,0)","v":0},{"$f":"IF($N$548=\"zákl. přenesená\",$J$548,0)","v":0},{"$f":"IF($N$548=\"sníž. přenesená\",$J$548,0)","v":0},{"$f":"IF($N$548=\"nulová\",$J$548,0)","v":0},"1",{"$f":"ROUND($I$548*$H$548,2)","v":0},"4","-1518516483"]
[null,null,null,"VV",null,"zprůměrovaná cena za přímý i obloukový obrubník",null,null,null,null,null,null,null,null,null,null,null,null,null,null,null,null,null,null,null,null,null,null,null,null,null,null,null,null,null,null,null,null,null,null,null,null,null,null,null,"VV","2","1","-1","0","ROZPOCET"]
[null,null,null,"VV",null,"ztratné 1%",null,null,null,null,null,null,null,null,null,null,null,null,null,null,null,null,null,null,null,null,null,null,null,null,null,null,null,null,null,null,null,null,null,null,null,null,null,null,null,"VV","2","1","-1","0","ROZPOCET"]
[null,null,null,"VV",null,"pol.916131213",null,null,null,null,null,null,null,null,null,null,null,null,null,null,null,null,null,null,null,null,null,null,null,null,null,null,null,null,null,null,null,null,null,null,null,null,null,null,null,"VV","2","1","-1","0","ROZPOCET"]
[null,null,null,"VV",null,"940,0*1,01+0,6",null,950,null,null,null,null,null,null,null,null,null,null,null,null,null,null,null,null,null,null,null,null,null,null,null,null,null,null,null,null,null,null,null,null,null,null,null,null,null,"VV","2","2","-1","1","ROZPOCET"]
[null,null,"68","M","5921751_R","obrubník betonový 50x5x20 cm přírodní","kus",384,null,{"$f":"ROUND($I$553*$H$553,2)","v":0},null,null,null,"základní",null,null,1.0999999999999999E-2,{"$f":"$Q$553*$H$553","v":4.2240000000000002},0,{"$f":"$S$553*$H$553","v":0},null,null,null,null,null,null,null,null,null,null,null,null,null,null,null,null,null,null,null,null,null,null,null,"8",null,"M","2",null,null,null,"ROZPOCET",null,null,null,null,null,{"$f":"IF($N$553=\"základní\",$J$553,0)","v":0},{"$f":"IF($N$553=\"snížená\",$J$553,0)","v":0},{"$f":"IF($N$553=\"zákl. přenesená\",$J$553,0)","v":0},{"$f":"IF($N$553=\"sníž. přenesená\",$J$553,0)","v":0},{"$f":"IF($N$553=\"nulová\",$J$553,0)","v":0},"1",{"$f":"ROUND($I$553*$H$553,2)","v":0},"4","-1192567484"]
[null,null,null,"VV",null,"ztratné 1%",null,null,null,null,null,null,null,null,null,null,null,null,null,null,null,null,null,null,null,null,null,null,null,null,null,null,null,null,null,null,null,null,null,null,null,null,null,null,null,"VV","2","1","-1","0","ROZPOCET"]
[null,null,null,"VV",null,"dle pol.916231213",null,null,null,null,null,null,null,null,null,null,null,null,null,null,null,null,null,null,null,null,null,null,null,null,null,null,null,null,null,null,null,null,null,null,null,null,null,null,null,"VV","2","1","-1","0","ROZPOCET"]
[null,null,null,"VV",null,"190,0/0,5*1,01+0,2",null,384,null,null,null,null,null,null,null,null,null,null,null,null,null,null,null,null,null,null,null,null,null,null,null,null,null,null,null,null,null,null,null,null,null,null,null,null,null,"VV","2","2","-1","1","ROZPOCET"]
[null,null,"69","K","914111111","Montáž svislé dopravní značky do velikosti 1 m2 objímkami na sloupek nebo konzolu","kus",8,null,{"$f":"ROUND($I$557*$H$557,2)","v":0},"CS ÚRS 2014 02",null,null,"základní",null,null,6.9999999999999999E-4,{"$f":"$Q$557*$H$557","v":5.5999999999999999E-3},0,{"$f":"$S$557*$H$557","v":0},null,null,null,null,null,null,null,null,null,null,null,null,null,null,null,null,null,null,null,null,null,null,null,"4",null,"K","2",null,null,null,"ROZPOCET",null,null,null,null,null,{"$f":"IF($N$557=\"základní\",$J$557,0)","v":0},{"$f":"IF($N$557=\"snížená\",$J$557,0)","v":0},{"$f":"IF($N$557=\"zákl. přenesená\",$J$557,0)","v":0},{"$f":"IF($N$557=\"sníž. přenesená\",$J$557,0)","v":0},{"$f":"IF($N$557=\"nulová\",$J$557,0)","v":0},"1",{"$f":"ROUND($I$557*$H$557,2)","v":0},"4","-1920941094"]
[null,null,null,"PP",null,"Montáž svislé dopravní značky základní velikosti do 1 m2 objímkami na sloupky nebo konzoly",null,null,null,null,null,null,null,null,null,null,null,null,null,null,null,null,null,null,null,null,null,null,null,null,null,null,null,null,null,null,null,null,null,null,null,null,null,null,null,"PP","2"]
[null,null,null,"PSC",null,"Poznámka k souboru cen:\n1. V cenách jsou započteny i náklady na montáž značek včetně upevňovacího materiálu na předem     připravenou nosnou konstrukci (sloupek, konzolu, sloup). 2. V cenách nejsou započteny náklady na:     a) dodání značek, tyto se oceňují ve specifikaci,     b) na montáž a dodávku ocelových nosných konstrukcí – sloupků, konzol, tyto se oceňují cenami         souboru cen 914 51 Montáž sloupku a 914 53 Montáž konzol a nástavců,     c) nátěry, tyto se oceňují jako práce PSV příslušnými cenami katalogu 800-783 Nátěry,     d) naložení a odklizení výkopku, tyto se oceňují cenami části A 01 katalogu 800-1 Zemní práce. 3. Ceny nelze použít pro osazení a montáž svislých dopravních značek:     a) světelných, tyto se oceňují cenami katalogu 21 M Elektromontáže – silnoproud,     b) upevněných na lanech, nebo speciálních konstrukcích nesoucích více značek, tyto se oceňují         individuálně. ",null,null,null,null,null,null,null,null,null,null,null,null,null,null,null,null,null,null,null,null,null,null,null,null,null,null,null,null,null,null,null,null,null,null,null,null,null,null,null,"PSC","2"]
[null,null,null,"VV",null,"značka č.IP12",null,null,null,null,null,null,null,null,null,null,null,null,null,null,null,null,null,null,null,null,null,null,null,null,null,null,null,null,null,null,null,null,null,null,null,null,null,null,null,"VV","2","1","-1","0","ROZPOCET"]
[null,null,null,"VV",null,"1,0",null,1,null,null,null,null,null,null,null,null,null,null,null,null,null,null,null,null,null,null,null,null,null,null,null,null,null,null,null,null,null,null,null,null,null,null,null,null,null,"VV","2","2","-1","0","ROZPOCET"]
[null,null,null,"VV",null,"značka IP 1 se symbolem č.O1",null,null,null,null,null,null,null,null,null,null,null,null,null,null,null,null,null,null,null,null,null,null,null,null,null,null,null,null,null,null,null,null,null,null,null,null,null,null,null,"VV","2","1","-1","0","ROZPOCET"]
[null,null,null,"VV",null,"2,0",null,2,null,null,null,null,null,null,null,null,null,null,null,null,null,null,null,null,null,null,null,null,null,null,null,null,null,null,null,null,null,null,null,null,null,null,null,null,null,"VV","2","2","-1","0","ROZPOCET"]
[null,null,null,"VV",null,"značka č.P2",null,null,null,null,null,null,null,null,null,null,null,null,null,null,null,null,null,null,null,null,null,null,null,null,null,null,null,null,null,null,null,null,null,null,null,null,null,null,null,"VV","2","1","-1","0","ROZPOCET"]
[null,null,null,"VV",null,"1,0",null,1,null,null,null,null,null,null,null,null,null,null,null,null,null,null,null,null,null,null,null,null,null,null,null,null,null,null,null,null,null,null,null,null,null,null,null,null,null,"VV","2","2","-1","0","ROZPOCET"]
[null,null,null,"VV",null,"značka č.P4",null,null,null,null,null,null,null,null,null,null,null,null,null,null,null,null,null,null,null,null,null,null,null,null,null,null,null,null,null,null,null,null,null,null,null,null,null,null,null,"VV","2","1","-1","0","ROZPOCET"]
[null,null,null,"VV",null,"1,0",null,1,null,null,null,null,null,null,null,null,null,null,null,null,null,null,null,null,null,null,null,null,null,null,null,null,null,null,null,null,null,null,null,null,null,null,null,null,null,"VV","2","2","-1","0","ROZPOCET"]
[null,null,null,"VV",null,"značka č.E12",null,null,null,null,null,null,null,null,null,null,null,null,null,null,null,null,null,null,null,null,null,null,null,null,null,null,null,null,null,null,null,null,null,null,null,null,null,null,null,"VV","2","1","-1","0","ROZPOCET"]
[null,null,null,"VV",null,"1,0",null,1,null,null,null,null,null,null,null,null,null,null,null,null,null,null,null,null,null,null,null,null,null,null,null,null,null,null,null,null,null,null,null,null,null,null,null,null,null,"VV","2","2","-1","0","ROZPOCET"]
[null,null,null,"VV",null,"značka č. E1",null,null,null,null,null,null,null,null,null,null,null,null,null,null,null,null,null,null,null,null,null,null,null,null,null,null,null,null,null,null,null,null,null,null,null,null,null,null,null,"VV","2","1","-1","0","ROZPOCET"]
[null,null,null,"VV",null,"1,0",null,1,null,null,null,null,null,null,null,null,null,null,null,null,null,null,null,null,null,null,null,null,null,null,null,null,null,null,null,null,null,null,null,null,null,null,null,null,null,"VV","2","2","-1","0","ROZPOCET"]
[null,null,null,"VV",null,"značka č.E 8d",null,null,null,null,null,null,null,null,null,null,null,null,null,null,null,null,null,null,null,null,null,null,null,null,null,null,null,null,null,null,null,null,null,null,null,null,null,null,null,"VV","2","1","-1","0","ROZPOCET"]
[null,null,null,"VV",null,"1,0",null,1,null,null,null,null,null,null,null,null,null,null,null,null,null,null,null,null,null,null,null,null,null,null,null,null,null,null,null,null,null,null,null,null,null,null,null,null,null,"VV","2","2","-1","0","ROZPOCET"]
[null,null,null,"VV",null,"Součet",null,8,null,null,null,null,null,null,null,null,null,null,null,null,null,null,null,null,null,null,null,null,null,null,null,null,null,null,null,null,null,null,null,null,null,null,null,null,null,"VV","2","4","-1","1","ROZPOCET"]
[null,null,"70","K","914511112","Montáž sloupku dopravních značek délky do 3,5 m s betonovým základem a patkou","kus",5,null,{"$f":"ROUND($I$575*$H$575,2)","v":0},"CS ÚRS 2014 02",null,null,"základní",null,null,0.112405,{"$f":"$Q$575*$H$575","v":0.562025},0,{"$f":"$S$575*$H$575","v":0},null,null,null,null,null,null,null,null,null,null,null,null,null,null,null,null,null,null,null,null,null,null,null,"4",null,"K","2",null,null,null,"ROZPOCET",null,null,null,null,null,{"$f":"IF($N$575=\"základní\",$J$575,0)","v":0},{"$f":"IF($N$575=\"snížená\",$J$575,0)","v":0},{"$f":"IF($N$575=\"zákl. přenesená\",$J$575,0)","v":0},{"$f":"IF($N$575=\"sníž. přenesená\",$J$575,0)","v":0},{"$f":"IF($N$575=\"nulová\",$J$575,0)","v":0},"1",{"$f":"ROUND($I$575*$H$575,2)","v":0},"4","1941724840"]
[null,null,null,"PP",null,"Montáž sloupku dopravních značek délky do 3,5 m do hliníkové patky",null,null,null,null,null,null,null,null,null,null,null,null,null,null,null,null,null,null,null,null,null,null,null,null,null,null,null,null,null,null,null,null,null,null,null,null,null,null,null,"PP","2"]
[null,null,null,"PSC",null,"Poznámka k souboru cen:\n1. V cenách jsou započteny i náklady na:     a) vykopání jamek s odhozem výkopku na vzdálenost do 3 m,     b) osazení sloupku včetně montáže a dodávky plastového víčka, 2. V cenách -1111 jsou započteny i náklady na betonový základ. 3. V cenách -1112 jsou započteny i náklady na hliníkovou patku s betonovým základem. 4. V cenách nejsou započteny náklady na:     a) dodání sloupku, tyto se oceňují ve specifikaci     b) naložení a odklizení výkopku, tyto se oceňují cenami části A01 katalogu 800-1 Zemní práce. ",null,null,null,null,null,null,null,null,null,null,null,null,null,null,null,null,null,null,null,null,null,null,null,null,null,null,null,null,null,null,null,null,null,null,null,null,null,null,null,"PSC","2"]
[null,null,"71","M","404442580","značka svislá reflexní AL- 3M 500 x 700 mm","kus",3,null,{"$f":"ROUND($I$578*$H$578,2)","v":0},"CS ÚRS 2014 02",null,null,"základní",null,null,3.0000000000000001E-3,{"$f":"$Q$578*$H$578","v":9.0000000000000011E-3},0,{"$f":"$S$578*$H$578","v":0},null,null,null,null,null,null,null,null,null,null,null,null,null,null,null,null,null,null,null,null,null,null,null,"8",null,"M","2",null,null,null,"ROZPOCET",null,null,null,null,null,{"$f":"IF($N$578=\"základní\",$J$578,0)","v":0},{"$f":"IF($N$578=\"snížená\",$J$578,0)","v":0},{"$f":"IF($N$578=\"zákl. přenesená\",$J$578,0)","v":0},{"$f":"IF($N$578=\"sníž. přenesená\",$J$578,0)","v":0},{"$f":"IF($N$578=\"nulová\",$J$578,0)","v":0},"1",{"$f":"ROUND($I$578*$H$578,2)","v":0},"4","263640405"]
[null,null,null,"PP",null,"výrobky a tabule orientační pro návěstí a zabezpečovací zařízení silniční značky dopravní svislé FeZn  plech FeZn AL     plech Al NK, 3M   povrchová úprava reflexní fólií tř.1 obdélníkové značky IP8,IP9,IP11,IP12, IP13,IS15, IJ1-15, E2,E12 500x700 mm AL- 3M  reflexní tř.1",null,null,null,null,null,null,null,null,null,null,null,null,null,null,null,null,null,null,null,null,null,null,null,null,null,null,null,null,null,null,null,null,null,null,null,null,null,null,null,"PP","2"]
[null,null,null,"VV",null,"k pol.914111111",null,null,null,null,null,null,null,null,null,null,null,null,null,null,null,null,null,null,null,null,null,null,null,null,null,null,null,null,null,null,null,null,null,null,null,null,null,null,null,"VV","2","1","-1","0","ROZPOCET"]
[null,null,null,"VV",null,"značka IP12 se symbolem O1",null,null,null,null,null,null,null,null,null,null,null,null,null,null,null,null,null,null,null,null,null,null,null,null,null,null,null,null,null,null,null,null,null,null,null,null,null,null,null,"VV","2","1","-1","0","ROZPOCET"]
[null,null,null,"VV",null,"2,0",null,2,null,null,null,null,null,null,null,null,null,null,null,null,null,null,null,null,null,null,null,null,null,null,null,null,null,null,null,null,null,null,null,null,null,null,null,null,null,"VV","2","2","-1","0","ROZPOCET"]
[null,null,null,"VV",null,"značka  IP 12",null,null,null,null,null,null,null,null,null,null,null,null,null,null,null,null,null,null,null,null,null,null,null,null,null,null,null,null,null,null,null,null,null,null,null,null,null,null,null,"VV","2","1","-1","0","ROZPOCET"]
[null,null,null,"VV",null,"1,0",null,1,null,null,null,null,null,null,null,null,null,null,null,null,null,null,null,null,null,null,null,null,null,null,null,null,null,null,null,null,null,null,null,null,null,null,null,null,null,"VV","2","2","-1","0","ROZPOCET"]
[null,null,null,"VV",null,"Součet",null,3,null,null,null,null,null,null,null,null,null,null,null,null,null,null,null,null,null,null,null,null,null,null,null,null,null,null,null,null,null,null,null,null,null,null,null,null,null,"VV","2","4","-1","1","ROZPOCET"]
[null,null,"72","M","404440100","značka dopravní svislá výstražná FeZn A1 - A30, P1,P4 900 mm","kus",1,null,{"$f":"ROUND($I$586*$H$586,2)","v":0},"CS ÚRS 2014 02",null,null,"základní",null,null,5.0000000000000001E-3,{"$f":"$Q$586*$H$586","v":5.0000000000000001E-3},0,{"$f":"$S$586*$H$586","v":0},null,null,null,null,null,null,null,null,null,null,null,null,null,null,null,null,null,null,null,null,null,null,null,"8",null,"M","2",null,null,null,"ROZPOCET",null,null,null,null,null,{"$f":"IF($N$586=\"základní\",$J$586,0)","v":0},{"$f":"IF($N$586=\"snížená\",$J$586,0)","v":0},{"$f":"IF($N$586=\"zákl. přenesená\",$J$586,0)","v":0},{"$f":"IF($N$586=\"sníž. přenesená\",$J$586,0)","v":0},{"$f":"IF($N$586=\"nulová\",$J$586,0)","v":0},"1",{"$f":"ROUND($I$586*$H$586,2)","v":0},"4","79631358"]
[null,null,null,"PP",null,"výrobky a tabule orientační pro návěstí a zabezpečovací zařízení silniční značky dopravní svislé FeZn  plech FeZn AL     plech Al NK, 3M   povrchová úprava reflexní fólií tř.1 trojúhelníkové značky A1 - A30, P1,P4 rozměr 900 mm FeZn",null,null,null,null,null,null,null,null,null,null,null,null,null,null,null,null,null,null,null,null,null,null,null,null,null,null,null,null,null,null,null,null,null,null,null,null,null,null,null,"PP","2"]
[null,null,null,"VV",null,"k pol.914111111",null,null,null,null,null,null,null,null,null,null,null,null,null,null,null,null,null,null,null,null,null,null,null,null,null,null,null,null,null,null,null,null,null,null,null,null,null,null,null,"VV","2","1","-1","0","ROZPOCET"]
[null,null,null,"VV",null,"značka P4",null,null,null,null,null,null,null,null,null,null,null,null,null,null,null,null,null,null,null,null,null,null,null,null,null,null,null,null,null,null,null,null,null,null,null,null,null,null,null,"VV","2","1","-1","0","ROZPOCET"]
[null,null,null,"VV",null,"1,0",null,1,null,null,null,null,null,null,null,null,null,null,null,null,null,null,null,null,null,null,null,null,null,null,null,null,null,null,null,null,null,null,null,null,null,null,null,null,null,"VV","2","2","-1","1","ROZPOCET"]
[null,null,"73","M","404442320","značka svislá reflexní AL- 3M 500 x 500 mm","kus",1,null,{"$f":"ROUND($I$591*$H$591,2)","v":0},"CS ÚRS 2014 02",null,null,"základní",null,null,3.0999999999999999E-3,{"$f":"$Q$591*$H$591","v":3.0999999999999999E-3},0,{"$f":"$S$591*$H$591","v":0},null,null,null,null,null,null,null,null,null,null,null,null,null,null,null,null,null,null,null,null,null,null,null,"8",null,"M","2",null,null,null,"ROZPOCET",null,null,null,null,null,{"$f":"IF($N$591=\"základní\",$J$591,0)","v":0},{"$f":"IF($N$591=\"snížená\",$J$591,0)","v":0},{"$f":"IF($N$591=\"zákl. přenesená\",$J$591,0)","v":0},{"$f":"IF($N$591=\"sníž. přenesená\",$J$591,0)","v":0},{"$f":"IF($N$591=\"nulová\",$J$591,0)","v":0},"1",{"$f":"ROUND($I$591*$H$591,2)","v":0},"4","1602595549"]
[null,null,null,"PP",null,"výrobky a tabule orientační pro návěstí a zabezpečovací zařízení silniční značky dopravní svislé FeZn  plech FeZn AL     plech Al NK, 3M   povrchová úprava reflexní fólií tř.1 čtvercové značky P2, P3, P8, IP1-7,IP10,E1,E2,E6,E9,E10,E12,IJ4 500 x 500 mm AL- 3M  reflexní tř.1",null,null,null,null,null,null,null,null,null,null,null,null,null,null,null,null,null,null,null,null,null,null,null,null,null,null,null,null,null,null,null,null,null,null,null,null,null,null,null,"PP","2"]
[null,null,null,"VV",null,"k pol.914111111",null,null,null,null,null,null,null,null,null,null,null,null,null,null,null,null,null,null,null,null,null,null,null,null,null,null,null,null,null,null,null,null,null,null,null,null,null,null,null,"VV","2","1","-1","0","ROZPOCET"]
[null,null,null,"VV",null,"značka P2",null,null,null,null,null,null,null,null,null,null,null,null,null,null,null,null,null,null,null,null,null,null,null,null,null,null,null,null,null,null,null,null,null,null,null,null,null,null,null,"VV","2","1","-1","0","ROZPOCET"]
[null,null,null,"VV",null,"1,0",null,1,null,null,null,null,null,null,null,null,null,null,null,null,null,null,null,null,null,null,null,null,null,null,null,null,null,null,null,null,null,null,null,null,null,null,null,null,null,"VV","2","2","-1","1","ROZPOCET"]
[null,null,"74","M","404442580","značka svislá reflexní AL- 3M 500 x 700 mm","kus",2,null,{"$f":"ROUND($I$596*$H$596,2)","v":0},"CS ÚRS 2014 02",null,null,"základní",null,null,3.0000000000000001E-3,{"$f":"$Q$596*$H$596","v":6.0000000000000001E-3},0,{"$f":"$S$596*$H$596","v":0},null,null,null,null,null,null,null,null,null,null,null,null,null,null,null,null,null,null,null,null,null,null,null,"8",null,"M","2",null,null,null,"ROZPOCET",null,null,null,null,null,{"$f":"IF($N$596=\"základní\",$J$596,0)","v":0},{"$f":"IF($N$596=\"snížená\",$J$596,0)","v":0},{"$f":"IF($N$596=\"zákl. přenesená\",$J$596,0)","v":0},{"$f":"IF($N$596=\"sníž. přenesená\",$J$596,0)","v":0},{"$f":"IF($N$596=\"nulová\",$J$596,0)","v":0},"1",{"$f":"ROUND($I$596*$H$596,2)","v":0},"4","-1182058734"]
[null,null,null,"PP",null,"výrobky a tabule orientační pro návěstí a zabezpečovací zařízení silniční značky dopravní svislé FeZn  plech FeZn AL     plech Al NK, 3M   povrchová úprava reflexní fólií tř.1 obdélníkové značky IP8,IP9,IP11,IP12, IP13,IS15, IJ1-15, E2,E12 500x700 mm AL- 3M  reflexní tř.1",null,null,null,null,null,null,null,null,null,null,null,null,null,null,null,null,null,null,null,null,null,null,null,null,null,null,null,null,null,null,null,null,null,null,null,null,null,null,null,"PP","2"]
[null,null,null,"VV",null,"k pol.914111111",null,null,null,null,null,null,null,null,null,null,null,null,null,null,null,null,null,null,null,null,null,null,null,null,null,null,null,null,null,null,null,null,null,null,null,null,null,null,null,"VV","2","1","-1","0","ROZPOCET"]
[null,null,null,"VV",null,"značka E12",null,null,null,null,null,null,null,null,null,null,null,null,null,null,null,null,null,null,null,null,null,null,null,null,null,null,null,null,null,null,null,null,null,null,null,null,null,null,null,"VV","2","1","-1","0","ROZPOCET"]
[null,null,null,"VV",null,"1,0",null,1,null,null,null,null,null,null,null,null,null,null,null,null,null,null,null,null,null,null,null,null,null,null,null,null,null,null,null,null,null,null,null,null,null,null,null,null,null,"VV","2","2","-1","0","ROZPOCET"]
[null,null,null,"VV",null,"značka E1 s nápisem \"2x\"",null,null,null,null,null,null,null,null,null,null,null,null,null,null,null,null,null,null,null,null,null,null,null,null,null,null,null,null,null,null,null,null,null,null,null,null,null,null,null,"VV","2","1","-1","0","ROZPOCET"]
[null,null,null,"VV",null,"1,0",null,1,null,null,null,null,null,null,null,null,null,null,null,null,null,null,null,null,null,null,null,null,null,null,null,null,null,null,null,null,null,null,null,null,null,null,null,null,null,"VV","2","2","-1","0","ROZPOCET"]
[null,null,null,"VV",null,"Součet",null,2,null,null,null,null,null,null,null,null,null,null,null,null,null,null,null,null,null,null,null,null,null,null,null,null,null,null,null,null,null,null,null,null,null,null,null,null,null,"VV","2","4","-1","1","ROZPOCET"]
[null,null,"75","M","404443340","značka svislá reflexní AL- 3M 500 x 150 mm","kus",1,null,{"$f":"ROUND($I$604*$H$604,2)","v":0},"CS ÚRS 2014 02",null,null,"základní",null,null,4.0000000000000001E-3,{"$f":"$Q$604*$H$604","v":4.0000000000000001E-3},0,{"$f":"$S$604*$H$604","v":0},null,null,null,null,null,null,null,null,null,null,null,null,null,null,null,null,null,null,null,null,null,null,null,"8",null,"M","2",null,null,null,"ROZPOCET",null,null,null,null,null,{"$f":"IF($N$604=\"základní\",$J$604,0)","v":0},{"$f":"IF($N$604=\"snížená\",$J$604,0)","v":0},{"$f":"IF($N$604=\"zákl. přenesená\",$J$604,0)","v":0},{"$f":"IF($N$604=\"sníž. přenesená\",$J$604,0)","v":0},{"$f":"IF($N$604=\"nulová\",$J$604,0)","v":0},"1",{"$f":"ROUND($I$604*$H$604,2)","v":0},"4","-182121491"]
[null,null,null,"PP",null,"výrobky a tabule orientační pro návěstí a zabezpečovací zařízení silniční značky dopravní svislé FeZn  plech FeZn AL     plech Al NK, 3M   povrchová úprava reflexní fólií tř.1 obdélníkové značky E3a, E3b, E4, E5, E8d, E8c, E8a,E8b 500 x 150 mm AL- 3M  reflexní tř.1",null,null,null,null,null,null,null,null,null,null,null,null,null,null,null,null,null,null,null,null,null,null,null,null,null,null,null,null,null,null,null,null,null,null,null,null,null,null,null,"PP","2"]
[null,null,null,"VV",null,"k pol.914111111",null,null,null,null,null,null,null,null,null,null,null,null,null,null,null,null,null,null,null,null,null,null,null,null,null,null,null,null,null,null,null,null,null,null,null,null,null,null,null,"VV","2","1","-1","0","ROZPOCET"]
[null,null,null,"VV",null,"značka E8d",null,null,null,null,null,null,null,null,null,null,null,null,null,null,null,null,null,null,null,null,null,null,null,null,null,null,null,null,null,null,null,null,null,null,null,null,null,null,null,"VV","2","1","-1","0","ROZPOCET"]
[null,null,null,"VV",null,"1,0",null,1,null,null,null,null,null,null,null,null,null,null,null,null,null,null,null,null,null,null,null,null,null,null,null,null,null,null,null,null,null,null,null,null,null,null,null,null,null,"VV","2","2","-1","1","ROZPOCET"]
[null,null,"76","M","404452300","sloupek Zn 70 - 350","kus",5,null,{"$f":"ROUND($I$609*$H$609,2)","v":0},"CS ÚRS 2014 02",null,null,"základní",null,null,6.4999999999999997E-3,{"$f":"$Q$609*$H$609","v":3.2500000000000001E-2},0,{"$f":"$S$609*$H$609","v":0},null,null,null,null,null,null,null,null,null,null,null,null,null,null,null,null,null,null,null,null,null,null,null,"8",null,"M","2",null,null,null,"ROZPOCET",null,null,null,null,null,{"$f":"IF($N$609=\"základní\",$J$609,0)","v":0},{"$f":"IF($N$609=\"snížená\",$J$609,0)","v":0},{"$f":"IF($N$609=\"zákl. přenesená\",$J$609,0)","v":0},{"$f":"IF($N$609=\"sníž. přenesená\",$J$609,0)","v":0},{"$f":"IF($N$609=\"nulová\",$J$609,0)","v":0},"1",{"$f":"ROUND($I$609*$H$609,2)","v":0},"4","494002796"]
[null,null,null,"PP",null,"výrobky a tabule orientační pro návěstí a zabezpečovací zařízení silniční značky dopravní svislé sloupky Zn 70 - 350",null,null,null,null,null,null,null,null,null,null,null,null,null,null,null,null,null,null,null,null,null,null,null,null,null,null,null,null,null,null,null,null,null,null,null,null,null,null,null,"PP","2"]
[null,null,null,"VV",null,"k pol.914511111",null,null,null,null,null,null,null,null,null,null,null,null,null,null,null,null,null,null,null,null,null,null,null,null,null,null,null,null,null,null,null,null,null,null,null,null,null,null,null,"VV","2","1","-1","0","ROZPOCET"]
[null,null,null,"VV",null,"5,0",null,5,null,null,null,null,null,null,null,null,null,null,null,null,null,null,null,null,null,null,null,null,null,null,null,null,null,null,null,null,null,null,null,null,null,null,null,null,null,"VV","2","2","-1","1","ROZPOCET"]
[null,null,"77","K","915111111","Vodorovné dopravní značení šířky 125 mm bílou barvou dělící čáry souvislé","m",850,null,{"$f":"ROUND($I$613*$H$613,2)","v":0},"CS ÚRS 2014 02",null,null,"základní",null,null,7.4999999999999993E-5,{"$f":"$Q$613*$H$613","v":6.3750000000000001E-2},0,{"$f":"$S$613*$H$613","v":0},null,null,null,null,null,null,null,null,null,null,null,null,null,null,null,null,null,null,null,null,null,null,null,"4",null,"K","2",null,null,null,"ROZPOCET",null,null,null,null,null,{"$f":"IF($N$613=\"základní\",$J$613,0)","v":0},{"$f":"IF($N$613=\"snížená\",$J$613,0)","v":0},{"$f":"IF($N$613=\"zákl. přenesená\",$J$613,0)","v":0},{"$f":"IF($N$613=\"sníž. přenesená\",$J$613,0)","v":0},{"$f":"IF($N$613=\"nulová\",$J$613,0)","v":0},"1",{"$f":"ROUND($I$613*$H$613,2)","v":0},"4","832005762"]
[null,null,null,"PP",null,"Vodorovné dopravní značení stříkané barvou dělící čára šířky 125 mm souvislá bílá základní",null,null,null,null,null,null,null,null,null,null,null,null,null,null,null,null,null,null,null,null,null,null,null,null,null,null,null,null,null,null,null,null,null,null,null,null,null,null,null,"PP","2"]
[null,null,null,"PSC",null,"Poznámka k souboru cen:\n1. Ceny jsou určeny pro dělící čáry bílé souvislé č. V1a, bílé přerušované č. V2a, žluté souvislé     č. V12b, žluté přerušované č. V12c a vodící čáry bílé č. V4. 2. V cenách nejsou započteny náklady na:     a) předznačení, tyto se oceňují cenami souboru cen 915 6.-11 Předznačení pro vodorovné značení,     b) očištění vozovky, tyto se oceňují cenami souboru cen 938 90-9 . Odstranění bláta, prachu         nebo hlinitého nánosu s povrchu podkladu nebo krytu části C 01 tohoto katalogu. 3. Množství měrných jednotek se u cen 915 11 a 915 12 určuje v m a u cen 915 13 v m2 stříkané     plochy bez mezer. ",null,null,null,null,null,null,null,null,null,null,null,null,null,null,null,null,null,null,null,null,null,null,null,null,null,null,null,null,null,null,null,null,null,null,null,null,null,null,null,"PSC","2"]
[null,null,null,"VV",null,"parkovací stání",null,null,null,null,null,null,null,null,null,null,null,null,null,null,null,null,null,null,null,null,null,null,null,null,null,null,null,null,null,null,null,null,null,null,null,null,null,null,null,"VV","2","1","-1","0","ROZPOCET"]
[null,null,null,"VV",null,"850,0",null,850,null,null,null,null,null,null,null,null,null,null,null,null,null,null,null,null,null,null,null,null,null,null,null,null,null,null,null,null,null,null,null,null,null,null,null,null,null,"VV","2","2","-1","1","ROZPOCET"]
[null,null,"78","K","915131111","Vodorovné dopravní značení bílou barvou přechody pro chodce, šipky, symboly","m2",23,null,{"$f":"ROUND($I$618*$H$618,2)","v":0},"CS ÚRS 2014 02",null,null,"základní",null,null,5.9999999999999995E-4,{"$f":"$Q$618*$H$618","v":1.3799999999999998E-2},0,{"$f":"$S$618*$H$618","v":0},null,null,null,null,null,null,null,null,null,null,null,null,null,null,null,null,null,null,null,null,null,null,null,"4",null,"K","2",null,null,null,"ROZPOCET",null,null,null,null,null,{"$f":"IF($N$618=\"základní\",$J$618,0)","v":0},{"$f":"IF($N$618=\"snížená\",$J$618,0)","v":0},{"$f":"IF($N$618=\"zákl. přenesená\",$J$618,0)","v":0},{"$f":"IF($N$618=\"sníž. přenesená\",$J$618,0)","v":0},{"$f":"IF($N$618=\"nulová\",$J$618,0)","v":0},"1",{"$f":"ROUND($I$618*$H$618,2)","v":0},"4","-597902373"]
[null,null,null,"PP",null,"Vodorovné dopravní značení stříkané barvou přechody pro chodce, šipky, symboly bílé základní",null,null,null,null,null,null,null,null,null,null,null,null,null,null,null,null,null,null,null,null,null,null,null,null,null,null,null,null,null,null,null,null,null,null,null,null,null,null,null,"PP","2"]
[null,null,null,"PSC",null,"Poznámka k souboru cen:\n1. Ceny jsou určeny pro dělící čáry bílé souvislé č. V1a, bílé přerušované č. V2a, žluté souvislé     č. V12b, žluté přerušované č. V12c a vodící čáry bílé č. V4. 2. V cenách nejsou započteny náklady na:     a) předznačení, tyto se oceňují cenami souboru cen 915 6.-11 Předznačení pro vodorovné značení,     b) očištění vozovky, tyto se oceňují cenami souboru cen 938 90-9 . Odstranění bláta, prachu         nebo hlinitého nánosu s povrchu podkladu nebo krytu části C 01 tohoto katalogu. 3. Množství měrných jednotek se u cen 915 11 a 915 12 určuje v m a u cen 915 13 v m2 stříkané     plochy bez mezer. ",null,null,null,null,null,null,null,null,null,null,null,null,null,null,null,null,null,null,null,null,null,null,null,null,null,null,null,null,null,null,null,null,null,null,null,null,null,null,null,"PSC","2"]
[null,null,null,"VV",null,"značení stání pro imobilní",null,null,null,null,null,null,null,null,null,null,null,null,null,null,null,null,null,null,null,null,null,null,null,null,null,null,null,null,null,null,null,null,null,null,null,null,null,null,null,"VV","2","1","-1","0","ROZPOCET"]
[null,null,null,"VV",null,"23,0",null,23,null,null,null,null,null,null,null,null,null,null,null,null,null,null,null,null,null,null,null,null,null,null,null,null,null,null,null,null,null,null,null,null,null,null,null,null,null,"VV","2","2","-1","1","ROZPOCET"]
[null,null,"79","K","915131115","Vodorovné dopravní značení žlutou barvou přechody pro chodce, šipky, symboly","m2",10.25,null,{"$f":"ROUND($I$623*$H$623,2)","v":0},"CS ÚRS 2014 02",null,null,"základní",null,null,1.1999999999999999E-3,{"$f":"$Q$623*$H$623","v":1.2299999999999998E-2},0,{"$f":"$S$623*$H$623","v":0},null,null,null,null,null,null,null,null,null,null,null,null,null,null,null,null,null,null,null,null,null,null,null,"4",null,"K","2",null,null,null,"ROZPOCET",null,null,null,null,null,{"$f":"IF($N$623=\"základní\",$J$623,0)","v":0},{"$f":"IF($N$623=\"snížená\",$J$623,0)","v":0},{"$f":"IF($N$623=\"zákl. přenesená\",$J$623,0)","v":0},{"$f":"IF($N$623=\"sníž. přenesená\",$J$623,0)","v":0},{"$f":"IF($N$623=\"nulová\",$J$623,0)","v":0},"1",{"$f":"ROUND($I$623*$H$623,2)","v":0},"4","1464125295"]
[null,null,null,"PP",null,"Vodorovné dopravní značení stříkané barvou přechody pro chodce, šipky, symboly žluté základní",null,null,null,null,null,null,null,null,null,null,null,null,null,null,null,null,null,null,null,null,null,null,null,null,null,null,null,null,null,null,null,null,null,null,null,null,null,null,null,"PP","2"]
[null,null,null,"PSC",null,"Poznámka k souboru cen:\n1. Ceny jsou určeny pro dělící čáry bílé souvislé č. V1a, bílé přerušované č. V2a, žluté souvislé     č. V12b, žluté přerušované č. V12c a vodící čáry bílé č. V4. 2. V cenách nejsou započteny náklady na:     a) předznačení, tyto se oceňují cenami souboru cen 915 6.-11 Předznačení pro vodorovné značení,     b) očištění vozovky, tyto se oceňují cenami souboru cen 938 90-9 . Odstranění bláta, prachu         nebo hlinitého nánosu s povrchu podkladu nebo krytu části C 01 tohoto katalogu. 3. Množství měrných jednotek se u cen 915 11 a 915 12 určuje v m a u cen 915 13 v m2 stříkané     plochy bez mezer. ",null,null,null,null,null,null,null,null,null,null,null,null,null,null,null,null,null,null,null,null,null,null,null,null,null,null,null,null,null,null,null,null,null,null,null,null,null,null,null,"PSC","2"]
[null,null,null,"VV",null,"0,25*(5,0+14,0)",null,4.75,null,null,null,null,null,null,null,null,null,null,null,null,null,null,null,null,null,null,null,null,null,null,null,null,null,null,null,null,null,null,null,null,null,null,null,null,null,"VV","2","2","-1","0","ROZPOCET"]
[null,null,null,"VV",null,"0,5*5,5*2",null,5.5,null,null,null,null,null,null,null,null,null,null,null,null,null,null,null,null,null,null,null,null,null,null,null,null,null,null,null,null,null,null,null,null,null,null,null,null,null,"VV","2","2","-1","0","ROZPOCET"]
[null,null,null,"VV",null,"Součet",null,10.25,null,null,null,null,null,null,null,null,null,null,null,null,null,null,null,null,null,null,null,null,null,null,null,null,null,null,null,null,null,null,null,null,null,null,null,null,null,"VV","2","4","-1","1","ROZPOCET"]
[null,null,"80","K","915611111","Předznačení vodorovného liniového značení","m",850,null,{"$f":"ROUND($I$629*$H$629,2)","v":0},"CS ÚRS 2014 02",null,null,"základní",null,null,3.7500000000000001E-6,{"$f":"$Q$629*$H$629","v":3.1875000000000002E-3},0,{"$f":"$S$629*$H$629","v":0},null,null,null,null,null,null,null,null,null,null,null,null,null,null,null,null,null,null,null,null,null,null,null,"4",null,"K","2",null,null,null,"ROZPOCET",null,null,null,null,null,{"$f":"IF($N$629=\"základní\",$J$629,0)","v":0},{"$f":"IF($N$629=\"snížená\",$J$629,0)","v":0},{"$f":"IF($N$629=\"zákl. přenesená\",$J$629,0)","v":0},{"$f":"IF($N$629=\"sníž. přenesená\",$J$629,0)","v":0},{"$f":"IF($N$629=\"nulová\",$J$629,0)","v":0},"1",{"$f":"ROUND($I$629*$H$629,2)","v":0},"4","-619079817"]
[null,null,null,"PP",null,"Předznačení pro vodorovné značení stříkané barvou nebo prováděné z nátěrových hmot liniové dělicí čáry, vodicí proužky",null,null,null,null,null,null,null,null,null,null,null,null,null,null,null,null,null,null,null,null,null,null,null,null,null,null,null,null,null,null,null,null,null,null,null,null,null,null,null,"PP","2"]
[null,null,null,"PSC",null,"Poznámka k souboru cen:\n1. Množství měrných jednotek se určuje:     a) pro cenu -1111 v m délky dělicí čáry nebo vodícího proužku (včetně mezer),     b) pro cenu -1112 v m2 natírané nebo stříkané plochy. ",null,null,null,null,null,null,null,null,null,null,null,null,null,null,null,null,null,null,null,null,null,null,null,null,null,null,null,null,null,null,null,null,null,null,null,null,null,null,null,"PSC","2"]
[null,null,"81","K","915621111","Předznačení vodorovného plošného značení","m2",33.25,null,{"$f":"ROUND($I$632*$H$632,2)","v":0},"CS ÚRS 2014 02",null,null,"základní",null,null,9.38E-6,{"$f":"$Q$632*$H$632","v":3.1188499999999997E-4},0,{"$f":"$S$632*$H$632","v":0},null,null,null,null,null,null,null,null,null,null,null,null,null,null,null,null,null,null,null,null,null,null,null,"4",null,"K","2",null,null,null,"ROZPOCET",null,null,null,null,null,{"$f":"IF($N$632=\"základní\",$J$632,0)","v":0},{"$f":"IF($N$632=\"snížená\",$J$632,0)","v":0},{"$f":"IF($N$632=\"zákl. přenesená\",$J$632,0)","v":0},{"$f":"IF($N$632=\"sníž. přenesená\",$J$632,0)","v":0},{"$f":"IF($N$632=\"nulová\",$J$632,0)","v":0},"1",{"$f":"ROUND($I$632*$H$632,2)","v":0},"4","1423184035"]
[null,null,null,"PP",null,"Předznačení pro vodorovné značení stříkané barvou nebo prováděné z nátěrových hmot plošné šipky, symboly, nápisy",null,null,null,null,null,null,null,null,null,null,null,null,null,null,null,null,null,null,null,null,null,null,null,null,null,null,null,null,null,null,null,null,null,null,null,null,null,null,null,"PP","2"]
[null,null,null,"PSC",null,"Poznámka k souboru cen:\n1. Množství měrných jednotek se určuje:     a) pro cenu -1111 v m délky dělicí čáry nebo vodícího proužku (včetně mezer),     b) pro cenu -1112 v m2 natírané nebo stříkané plochy. ",null,null,null,null,null,null,null,null,null,null,null,null,null,null,null,null,null,null,null,null,null,null,null,null,null,null,null,null,null,null,null,null,null,null,null,null,null,null,null,"PSC","2"]
[null,null,null,"VV",null,"pro pol.915131111+915131115",null,null,null,null,null,null,null,null,null,null,null,null,null,null,null,null,null,null,null,null,null,null,null,null,null,null,null,null,null,null,null,null,null,null,null,null,null,null,null,"VV","2","1","-1","0","ROZPOCET"]
[null,null,null,"VV",null,"23,0+10,25",null,33.25,null,null,null,null,null,null,null,null,null,null,null,null,null,null,null,null,null,null,null,null,null,null,null,null,null,null,null,null,null,null,null,null,null,null,null,null,null,"VV","2","2","-1","1","ROZPOCET"]
[null,null,"82","K","938909311","Čištění vozovek metením strojně podkladu nebo krytu betonového nebo živičného","m2",930,null,{"$f":"ROUND($I$637*$H$637,2)","v":0},"CS ÚRS 2014 02",null,null,"základní",null,null,0,{"$f":"$Q$637*$H$637","v":0},0,{"$f":"$S$637*$H$637","v":0},null,null,null,null,null,null,null,null,null,null,null,null,null,null,null,null,null,null,null,null,null,null,null,"4",null,"K","2",null,null,null,"ROZPOCET",null,null,null,null,null,{"$f":"IF($N$637=\"základní\",$J$637,0)","v":0},{"$f":"IF($N$637=\"snížená\",$J$637,0)","v":0},{"$f":"IF($N$637=\"zákl. přenesená\",$J$637,0)","v":0},{"$f":"IF($N$637=\"sníž. přenesená\",$J$637,0)","v":0},{"$f":"IF($N$637=\"nulová\",$J$637,0)","v":0},"1",{"$f":"ROUND($I$637*$H$637,2)","v":0},"4","-1083804159"]
[null,null,null,"PP",null,"Čištění vozovek metením bláta, prachu nebo hlinitého nánosu s odklizením na hromady na vzdálenost do 20 m nebo naložením na dopravní prostředek strojně povrchu podkladu nebo krytu betonového nebo živičného",null,null,null,null,null,null,null,null,null,null,null,null,null,null,null,null,null,null,null,null,null,null,null,null,null,null,null,null,null,null,null,null,null,null,null,null,null,null,null,"PP","2"]
[null,null,null,"PSC",null,"Poznámka k souboru cen:\n1. Ceny jsou určeny pro očištění:     a) povrchu stávající vozovky,     b) povrchu rozestavěné trvalé vozovky, předepíše-li projekt užívat nově zřizovanou vozovku po         dobu výstavby ještě před zřízením konečného závěrečného krytu. ",null,null,null,null,null,null,null,null,null,null,null,null,null,null,null,null,null,null,null,null,null,null,null,null,null,null,null,null,null,null,null,null,null,null,null,null,null,null,null,"PSC","2"]
[null,null,null,"VV",null,"před vodorovným značením",null,null,null,null,null,null,null,null,null,null,null,null,null,null,null,null,null,null,null,null,null,null,null,null,null,null,null,null,null,null,null,null,null,null,null,null,null,null,null,"VV","2","1","-1","0","ROZPOCET"]
[null,null,null,"VV",null,"850,0*1,0",null,850,null,null,null,null,null,null,null,null,null,null,null,null,null,null,null,null,null,null,null,null,null,null,null,null,null,null,null,null,null,null,null,null,null,null,null,null,null,"VV","2","2","-1","0","ROZPOCET"]
[null,null,null,"VV",null,"23,0*3+1,0",null,70,null,null,null,null,null,null,null,null,null,null,null,null,null,null,null,null,null,null,null,null,null,null,null,null,null,null,null,null,null,null,null,null,null,null,null,null,null,"VV","2","2","-1","0","ROZPOCET"]
[null,null,null,"VV",null,"10,0",null,10,null,null,null,null,null,null,null,null,null,null,null,null,null,null,null,null,null,null,null,null,null,null,null,null,null,null,null,null,null,null,null,null,null,null,null,null,null,"VV","2","2","-1","0","ROZPOCET"]
[null,null,null,"VV",null,"Součet",null,930,null,null,null,null,null,null,null,null,null,null,null,null,null,null,null,null,null,null,null,null,null,null,null,null,null,null,null,null,null,null,null,null,null,null,null,null,null,"VV","2","4","-1","1","ROZPOCET"]
[null,null,"83","K","919411121","Čelo propustku z betonu prostého pro propustek z trub DN 600 až 800","kus",2,null,{"$f":"ROUND($I$645*$H$645,2)","v":0},"CS ÚRS 2014 02",null,null,"základní",null,null,14.145119838999999,{"$f":"$Q$645*$H$645","v":28.290239677999999},0,{"$f":"$S$645*$H$645","v":0},null,null,null,null,null,null,null,null,null,null,null,null,null,null,null,null,null,null,null,null,null,null,null,"4",null,"K","2",null,null,null,"ROZPOCET",null,null,null,null,null,{"$f":"IF($N$645=\"základní\",$J$645,0)","v":0},{"$f":"IF($N$645=\"snížená\",$J$645,0)","v":0},{"$f":"IF($N$645=\"zákl. přenesená\",$J$645,0)","v":0},{"$f":"IF($N$645=\"sníž. přenesená\",$J$645,0)","v":0},{"$f":"IF($N$645=\"nulová\",$J$645,0)","v":0},"1",{"$f":"ROUND($I$645*$H$645,2)","v":0},"4","263096541"]
[null,null,null,"PP",null,"Čelo propustku z betonu prostého, pro propustek z trub DN 600 až 800 mm",null,null,null,null,null,null,null,null,null,null,null,null,null,null,null,null,null,null,null,null,null,null,null,null,null,null,null,null,null,null,null,null,null,null,null,null,null,null,null,"PP","2"]
[null,null,null,"PSC",null,"Poznámka k souboru cen:\n1. Ceny jsou určeny pro čela propustků bez svahových křídel o spádu do 10 %. 2. Ceny nelze použít pro čela propustků z trub DN přes 800 mm a pro čela se svahovými křídly, které     se oceňují cenami části A 01 katalogu 821-1 Mosty. 3. V cenách 919 41-1111 a -1121 jsou započteny i náklady na zdivo základu a zdivo nadzákladové z     betonu prostého tř. C 12/15, římsu z betonu železového tř. C 16/20, zřízení bednění a jeho     odstranění. 4. V cenách 919 41-1131 a -1141 jsou započteny i náklady na zdivo základu a zdivo nadzákladové z     betonu prostého V 4 tř. B 20 a římsu z betonu železového V 4 tř. B 20, zřízení bednění a jeho     odstranění. 5. V cenách 919 44-1211 a 4-1221 jsou započteny i náklady na maltu cementovou pro zdivo z lomového     kamene, maltu cementovou pro spárování zdiva, na římsu z betonu železového tř. C 16/20, zřízení     bednění a jeho odstranění. 6. V cenách nejsou započteny náklady na:     a) zemní práce, které se oceňují cenami souborů cen katalogu 800-1 Zemní práce,     b) zábradlí, které se oceňuje cenami části A 01 katalogu 821-1 Mosty,     c) ocelovou výztuž římsy, která se oceňuje cenami části A 01 katalogu 821-1 Mosty. 7. Pro výpočet přesunu hmot se celková hmotnost položky sníží o hmotnost betonu, pokud je beton     dodáván přímo na místo zabudování nebo do prostoru technologické manipulace. ",null,null,null,null,null,null,null,null,null,null,null,null,null,null,null,null,null,null,null,null,null,null,null,null,null,null,null,null,null,null,null,null,null,null,null,null,null,null,null,"PSC","2"]
[null,null,"84","K","919521015","Zřízení propustků z trub betonových DN 600","m",20,null,{"$f":"ROUND($I$648*$H$648,2)","v":0},"CS ÚRS 2014 02",null,null,"základní",null,null,1.2216528,{"$f":"$Q$648*$H$648","v":24.433056000000001},0,{"$f":"$S$648*$H$648","v":0},null,null,null,null,null,null,null,null,null,null,null,null,null,null,null,null,null,null,null,null,null,null,null,"4",null,"K","2",null,null,null,"ROZPOCET",null,null,null,null,null,{"$f":"IF($N$648=\"základní\",$J$648,0)","v":0},{"$f":"IF($N$648=\"snížená\",$J$648,0)","v":0},{"$f":"IF($N$648=\"zákl. přenesená\",$J$648,0)","v":0},{"$f":"IF($N$648=\"sníž. přenesená\",$J$648,0)","v":0},{"$f":"IF($N$648=\"nulová\",$J$648,0)","v":0},"1",{"$f":"ROUND($I$648*$H$648,2)","v":0},"4","-994489264"]
[null,null,null,"PP",null,"Zřízení propustků a hospodářských přejezdů z trub betonových a železobetonových do DN 600",null,null,null,null,null,null,null,null,null,null,null,null,null,null,null,null,null,null,null,null,null,null,null,null,null,null,null,null,null,null,null,null,null,null,null,null,null,null,null,"PP","2"]
[null,null,null,"PSC",null,"Poznámka k souboru cen:\n1. V cenách jsou započteny i náklady na:     a) podkladní vrstvu tl. 100 mm z drceného kameniva,     b) montáž potrubí na betonové pražce nebo silniční panely včetně dodávky podkladních         prefabrikátů,     c) bednění a obetonování potrubí. 2. V cenách nejsou započteny náklady na:     a) zemní práce,     b) zhotovení čela propustku, které se oceňuje cenami souboru 919 4 . -1 . Čelo propustku,     c) zhotovení podkladní a krycí vrstvy komunikace, které se ocení cenou 936 56-1111 Podkladní a         krycí vrstvy. 3. Dodávka trub se oceňuje ve specifikaci. Ztratné lze dohodnout ve výši 2 %. ",null,null,null,null,null,null,null,null,null,null,null,null,null,null,null,null,null,null,null,null,null,null,null,null,null,null,null,null,null,null,null,null,null,null,null,null,null,null,null,"PSC","2"]
[null,null,null,"VV",null,"včetně podkladní vrstvy za štěrkodrtě a ",null,null,null,null,null,null,null,null,null,null,null,null,null,null,null,null,null,null,null,null,null,null,null,null,null,null,null,null,null,null,null,null,null,null,null,null,null,null,null,"VV","2","1","-1","0","ROZPOCET"]
[null,null,null,"VV",null,"obetonování roury",null,null,null,null,null,null,null,null,null,null,null,null,null,null,null,null,null,null,null,null,null,null,null,null,null,null,null,null,null,null,null,null,null,null,null,null,null,null,null,"VV","2","1","-1","0","ROZPOCET"]
[null,null,null,"VV",null,"20,0",null,20,null,null,null,null,null,null,null,null,null,null,null,null,null,null,null,null,null,null,null,null,null,null,null,null,null,null,null,null,null,null,null,null,null,null,null,null,null,"VV","2","2","-1","1","ROZPOCET"]
[null,null,"85","K","919521013","Zřízení propustků z trub betonových DN 400","m",10,null,{"$f":"ROUND($I$654*$H$654,2)","v":0},"CS ÚRS 2014 02",null,null,"základní",null,null,0.95103720000000003,{"$f":"$Q$654*$H$654","v":9.5103720000000003},0,{"$f":"$S$654*$H$654","v":0},null,null,null,null,null,null,null,null,null,null,null,null,null,null,null,null,null,null,null,null,null,null,null,"4",null,"K","2",null,null,null,"ROZPOCET",null,null,null,null,null,{"$f":"IF($N$654=\"základní\",$J$654,0)","v":0},{"$f":"IF($N$654=\"snížená\",$J$654,0)","v":0},{"$f":"IF($N$654=\"zákl. přenesená\",$J$654,0)","v":0},{"$f":"IF($N$654=\"sníž. přenesená\",$J$654,0)","v":0},{"$f":"IF($N$654=\"nulová\",$J$654,0)","v":0},"1",{"$f":"ROUND($I$654*$H$654,2)","v":0},"4","370781776"]
[null,null,null,"PP",null,"Zřízení propustků a hospodářských přejezdů z trub betonových a železobetonových do DN 400",null,null,null,null,null,null,null,null,null,null,null,null,null,null,null,null,null,null,null,null,null,null,null,null,null,null,null,null,null,null,null,null,null,null,null,null,null,null,null,"PP","2"]
[null,null,null,"PSC",null,"Poznámka k souboru cen:\n1. V cenách jsou započteny i náklady na:     a) podkladní vrstvu tl. 100 mm z drceného kameniva,     b) montáž potrubí na betonové pražce nebo silniční panely včetně dodávky podkladních         prefabrikátů,     c) bednění a obetonování potrubí. 2. V cenách nejsou započteny náklady na:     a) zemní práce,     b) zhotovení čela propustku, které se oceňuje cenami souboru 919 4 . -1 . Čelo propustku,     c) zhotovení podkladní a krycí vrstvy komunikace, které se ocení cenou 936 56-1111 Podkladní a         krycí vrstvy. 3. Dodávka trub se oceňuje ve specifikaci. Ztratné lze dohodnout ve výši 2 %. ",null,null,null,null,null,null,null,null,null,null,null,null,null,null,null,null,null,null,null,null,null,null,null,null,null,null,null,null,null,null,null,null,null,null,null,null,null,null,null,"PSC","2"]
[null,null,null,"VV",null,"včetně podkladní vrstvy za štěrkodrtě a ",null,null,null,null,null,null,null,null,null,null,null,null,null,null,null,null,null,null,null,null,null,null,null,null,null,null,null,null,null,null,null,null,null,null,null,null,null,null,null,"VV","2","1","-1","0","ROZPOCET"]
[null,null,null,"VV",null,"obetonování roury",null,null,null,null,null,null,null,null,null,null,null,null,null,null,null,null,null,null,null,null,null,null,null,null,null,null,null,null,null,null,null,null,null,null,null,null,null,null,null,"VV","2","1","-1","0","ROZPOCET"]
[null,null,null,"VV",null,"10,0",null,10,null,null,null,null,null,null,null,null,null,null,null,null,null,null,null,null,null,null,null,null,null,null,null,null,null,null,null,null,null,null,null,null,null,null,null,null,null,"VV","2","2","-1","1","ROZPOCET"]
[null,null,"86","M","592211420","trouba železobetonová 8úhelníková, zesílená TZP-Q D60x100x8 cm","kus",20.399999999999999,null,{"$f":"ROUND($I$660*$H$660,2)","v":0},"CS ÚRS 2014 02",null,null,"základní",null,null,0.49,{"$f":"$Q$660*$H$660","v":9.9959999999999987},0,{"$f":"$S$660*$H$660","v":0},null,null,null,null,null,null,null,null,null,null,null,null,null,null,null,null,null,null,null,null,null,null,null,"8",null,"M","2",null,null,null,"ROZPOCET",null,null,null,null,null,{"$f":"IF($N$660=\"základní\",$J$660,0)","v":0},{"$f":"IF($N$660=\"snížená\",$J$660,0)","v":0},{"$f":"IF($N$660=\"zákl. přenesená\",$J$660,0)","v":0},{"$f":"IF($N$660=\"sníž. přenesená\",$J$660,0)","v":0},{"$f":"IF($N$660=\"nulová\",$J$660,0)","v":0},"1",{"$f":"ROUND($I$660*$H$660,2)","v":0},"4","-1613362735"]
[null,null,null,"PP",null,"trouby pro dešťové odpadní vody železobetonové přímé kruhového průřezu, osmiúhelníkové, zesílené TZP-Q 600/1000        D 60 x 100 x 8",null,null,null,null,null,null,null,null,null,null,null,null,null,null,null,null,null,null,null,null,null,null,null,null,null,null,null,null,null,null,null,null,null,null,null,null,null,null,null,"PP","2"]
[null,null,null,"VV",null,"ztratné 2%",null,null,null,null,null,null,null,null,null,null,null,null,null,null,null,null,null,null,null,null,null,null,null,null,null,null,null,null,null,null,null,null,null,null,null,null,null,null,null,"VV","2","1","-1","0","ROZPOCET"]
[null,null,null,"VV",null,"dle pol.919521015",null,null,null,null,null,null,null,null,null,null,null,null,null,null,null,null,null,null,null,null,null,null,null,null,null,null,null,null,null,null,null,null,null,null,null,null,null,null,null,"VV","2","1","-1","0","ROZPOCET"]
[null,null,null,"VV",null,"20,0*1,02",null,20.399999999999999,null,null,null,null,null,null,null,null,null,null,null,null,null,null,null,null,null,null,null,null,null,null,null,null,null,null,null,null,null,null,null,null,null,null,null,null,null,"VV","2","2","-1","1","ROZPOCET"]
[null,null,"87","M","592211380","trouba železobetonová 8úhelníková, zesílená TZP-Q D40x100x8 cm","kus",10.199999999999999,null,{"$f":"ROUND($I$665*$H$665,2)","v":0},"CS ÚRS 2014 02",null,null,"základní",null,null,0.33500000000000002,{"$f":"$Q$665*$H$665","v":3.4169999999999998},0,{"$f":"$S$665*$H$665","v":0},null,null,null,null,null,null,null,null,null,null,null,null,null,null,null,null,null,null,null,null,null,null,null,"8",null,"M","2",null,null,null,"ROZPOCET",null,null,null,null,null,{"$f":"IF($N$665=\"základní\",$J$665,0)","v":0},{"$f":"IF($N$665=\"snížená\",$J$665,0)","v":0},{"$f":"IF($N$665=\"zákl. přenesená\",$J$665,0)","v":0},{"$f":"IF($N$665=\"sníž. přenesená\",$J$665,0)","v":0},{"$f":"IF($N$665=\"nulová\",$J$665,0)","v":0},"1",{"$f":"ROUND($I$665*$H$665,2)","v":0},"4","709678209"]
[null,null,null,"PP",null,"trouby pro dešťové odpadní vody železobetonové přímé kruhového průřezu, osmiúhelníkové, zesílené TZP-Q  400/1000       D 40 x 100 x 8",null,null,null,null,null,null,null,null,null,null,null,null,null,null,null,null,null,null,null,null,null,null,null,null,null,null,null,null,null,null,null,null,null,null,null,null,null,null,null,"PP","2"]
[null,null,null,"VV",null,"ztratné 2%",null,null,null,null,null,null,null,null,null,null,null,null,null,null,null,null,null,null,null,null,null,null,null,null,null,null,null,null,null,null,null,null,null,null,null,null,null,null,null,"VV","2","1","-1","0","ROZPOCET"]
[null,null,null,"VV",null,"dle pol.919521013",null,null,null,null,null,null,null,null,null,null,null,null,null,null,null,null,null,null,null,null,null,null,null,null,null,null,null,null,null,null,null,null,null,null,null,null,null,null,null,"VV","2","1","-1","0","ROZPOCET"]
[null,null,null,"VV",null,"10,0*1,02",null,10.199999999999999,null,null,null,null,null,null,null,null,null,null,null,null,null,null,null,null,null,null,null,null,null,null,null,null,null,null,null,null,null,null,null,null,null,null,null,null,null,"VV","2","2","-1","1","ROZPOCET"]
[null,null,"88","K","919726202","Geotextilie pro vyztužení, separaci a filtraci tkaná z PP podélná pevnost v tahu do 50 kN/m","m2",4970,null,{"$f":"ROUND($I$670*$H$670,2)","v":0},"CS ÚRS 2014 02",null,null,"základní",null,null,3.5750000000000002E-4,{"$f":"$Q$670*$H$670","v":1.776775},0,{"$f":"$S$670*$H$670","v":0},null,null,null,null,null,null,null,null,null,null,null,null,null,null,null,null,null,null,null,null,null,null,null,"4",null,"K","2",null,null,null,"ROZPOCET",null,null,null,null,null,{"$f":"IF($N$670=\"základní\",$J$670,0)","v":0},{"$f":"IF($N$670=\"snížená\",$J$670,0)","v":0},{"$f":"IF($N$670=\"zákl. přenesená\",$J$670,0)","v":0},{"$f":"IF($N$670=\"sníž. přenesená\",$J$670,0)","v":0},{"$f":"IF($N$670=\"nulová\",$J$670,0)","v":0},"1",{"$f":"ROUND($I$670*$H$670,2)","v":0},"4","-2121620558"]
[null,null,null,"PP",null,"Geotextilie tkaná pro vyztužení, separaci nebo filtraci z polypropylenu, podélná pevnost v tahu přes 15 do 50 kN/m",null,null,null,null,null,null,null,null,null,null,null,null,null,null,null,null,null,null,null,null,null,null,null,null,null,null,null,null,null,null,null,null,null,null,null,null,null,null,null,"PP","2"]
[null,null,null,"PSC",null,"Poznámka k souboru cen:\n1. V cenách jsou započteny i náklady na položení a dodání geotextilie včetně přesahů. ",null,null,null,null,null,null,null,null,null,null,null,null,null,null,null,null,null,null,null,null,null,null,null,null,null,null,null,null,null,null,null,null,null,null,null,null,null,null,null,"PSC","2"]
[null,null,null,"VV",null,"živičná plocha",null,null,null,null,null,null,null,null,null,null,null,null,null,null,null,null,null,null,null,null,null,null,null,null,null,null,null,null,null,null,null,null,null,null,null,null,null,null,null,"VV","2","1","-1","0","ROZPOCET"]
[null,null,null,"VV",null,"dle specifikace prací v technické zprávě",null,null,null,null,null,null,null,null,null,null,null,null,null,null,null,null,null,null,null,null,null,null,null,null,null,null,null,null,null,null,null,null,null,null,null,null,null,null,null,"VV","2","1","-1","0","ROZPOCET"]
[null,null,null,"VV",null,"4970,0",null,4970,null,null,null,null,null,null,null,null,null,null,null,null,null,null,null,null,null,null,null,null,null,null,null,null,null,null,null,null,null,null,null,null,null,null,null,null,null,"VV","2","2","-1","1","ROZPOCET"]
[null,null,null,"D","93","Různé dokončovací konstrukce a práce inženýrských staveb",null,null,null,{"$f":"$BK$676","v":0},null,null,null,null,null,{"$f":"SUM($P$677:$P$722)","v":0},null,{"$f":"SUM($R$677:$R$722)","v":44.166915249999995},null,{"$f":"SUM($T$677:$T$722)","v":0},null,null,null,null,null,null,null,null,null,null,null,null,null,null,null,null,null,null,null,null,null,null,null,"1",null,"D","1",null,null,null,"ROZPOCET",null,null,null,null,null,null,null,null,null,null,null,{"$f":"SUM($BK$677:$BK$722)","v":0}]
[null,null,"89","K","936561111","Podkladní a krycí vrstvy trubních propustků nebo překopů cest z kameniva","m3",14,null,{"$f":"ROUND($I$677*$H$677,2)","v":0},"CS ÚRS 2014 02",null,null,"základní",null,null,1.9695,{"$f":"$Q$677*$H$677","v":27.573},0,{"$f":"$S$677*$H$677","v":0},null,null,null,null,null,null,null,null,null,null,null,null,null,null,null,null,null,null,null,null,null,null,null,"4",null,"K","2",null,null,null,"ROZPOCET",null,null,null,null,null,{"$f":"IF($N$677=\"základní\",$J$677,0)","v":0},{"$f":"IF($N$677=\"snížená\",$J$677,0)","v":0},{"$f":"IF($N$677=\"zákl. přenesená\",$J$677,0)","v":0},{"$f":"IF($N$677=\"sníž. přenesená\",$J$677,0)","v":0},{"$f":"IF($N$677=\"nulová\",$J$677,0)","v":0},"1",{"$f":"ROUND($I$677*$H$677,2)","v":0},"4","-2078383560"]
[null,null,null,"PP",null,"Podkladní a krycí vrstvy trubních propustků nebo překopů cest z kameniva drceného",null,null,null,null,null,null,null,null,null,null,null,null,null,null,null,null,null,null,null,null,null,null,null,null,null,null,null,null,null,null,null,null,null,null,null,null,null,null,null,"PP","2"]
[null,null,null,"VV",null,"propustek dl.20 m",null,null,null,null,null,null,null,null,null,null,null,null,null,null,null,null,null,null,null,null,null,null,null,null,null,null,null,null,null,null,null,null,null,null,null,null,null,null,null,"VV","2","1","-1","0","ROZPOCET"]
[null,null,null,"VV",null,"14,0",null,14,null,null,null,null,null,null,null,null,null,null,null,null,null,null,null,null,null,null,null,null,null,null,null,null,null,null,null,null,null,null,null,null,null,null,null,null,null,"VV","2","2","-1","1","ROZPOCET"]
[null,null,null,"VV",null,"propustek dl.8,0 m",null,null,null,null,null,null,null,null,null,null,null,null,null,null,null,null,null,null,null,null,null,null,null,null,null,null,null,null,null,null,null,null,null,null,null,null,null,null,null,"VV","2","1","-1","0","ROZPOCET"]
[null,null,null,"VV",null,"3,0",null,3,null,null,null,null,null,null,null,null,null,null,null,null,null,null,null,null,null,null,null,null,null,null,null,null,null,null,null,null,null,null,null,null,null,null,null,null,null,"VV","2","2","-1","0","ROZPOCET"]
[null,null,null,"VV",null,"Součet",null,17,null,null,null,null,null,null,null,null,null,null,null,null,null,null,null,null,null,null,null,null,null,null,null,null,null,null,null,null,null,null,null,null,null,null,null,null,null,"VV","2","4","-1","0","ROZPOCET"]
[null,null,"90","K","567114111","Podklad z podkladového betonu tř. PB I (C 20/25) tl 100 mm","m2",26,null,{"$f":"ROUND($I$684*$H$684,2)","v":0},"CS ÚRS 2014 02",null,null,"základní",null,null,0.25007499999999999,{"$f":"$Q$684*$H$684","v":6.5019499999999999},0,{"$f":"$S$684*$H$684","v":0},null,null,null,null,null,null,null,null,null,null,null,null,null,null,null,null,null,null,null,null,null,null,null,"4",null,"K","2",null,null,null,"ROZPOCET",null,null,null,null,null,{"$f":"IF($N$684=\"základní\",$J$684,0)","v":0},{"$f":"IF($N$684=\"snížená\",$J$684,0)","v":0},{"$f":"IF($N$684=\"zákl. přenesená\",$J$684,0)","v":0},{"$f":"IF($N$684=\"sníž. přenesená\",$J$684,0)","v":0},{"$f":"IF($N$684=\"nulová\",$J$684,0)","v":0},"1",{"$f":"ROUND($I$684*$H$684,2)","v":0},"4","1969925052"]
[null,null,null,"PP",null,"Podklad z podkladového betonu PB tř. PB I (C 20/25) tl. 100 mm",null,null,null,null,null,null,null,null,null,null,null,null,null,null,null,null,null,null,null,null,null,null,null,null,null,null,null,null,null,null,null,null,null,null,null,null,null,null,null,"PP","2"]
[null,null,null,"PSC",null,"Poznámka k souboru cen:\n1. V cenách jsou započteny i náklady na:     a) ošetření povrchu podkladu vodou,     b) postřik proti odpařování vody. 2. V cenách nejsou započteny náklady na zřízení dilatačních spár a jejich vyplnění; tyto práce se     oceňují cenami souborů cen 919 11-1 Řezání dilatačních spár, 919 12-. Těsnění dilatačních spár a     919 13Vyztužení dilatačních spár. ",null,null,null,null,null,null,null,null,null,null,null,null,null,null,null,null,null,null,null,null,null,null,null,null,null,null,null,null,null,null,null,null,null,null,null,null,null,null,null,"PSC","2"]
[null,null,null,"VV",null," před výtokem a vtokem propustku",null,null,null,null,null,null,null,null,null,null,null,null,null,null,null,null,null,null,null,null,null,null,null,null,null,null,null,null,null,null,null,null,null,null,null,null,null,null,null,"VV","2","1","-1","0","ROZPOCET"]
[null,null,null,"VV",null,"13m2/1 propustek",null,null,null,null,null,null,null,null,null,null,null,null,null,null,null,null,null,null,null,null,null,null,null,null,null,null,null,null,null,null,null,null,null,null,null,null,null,null,null,"VV","2","1","-1","0","ROZPOCET"]
[null,null,null,"VV",null,"13,0*2",null,26,null,null,null,null,null,null,null,null,null,null,null,null,null,null,null,null,null,null,null,null,null,null,null,null,null,null,null,null,null,null,null,null,null,null,null,null,null,"VV","2","2","-1","1","ROZPOCET"]
[null,null,"91","K","564231111","Podklad nebo podsyp ze štěrkopísku ŠP tl 100 mm","m2",26,null,{"$f":"ROUND($I$690*$H$690,2)","v":0},"CS ÚRS 2014 02",null,null,"základní",null,null,0.2024,{"$f":"$Q$690*$H$690","v":5.2623999999999995},0,{"$f":"$S$690*$H$690","v":0},null,null,null,null,null,null,null,null,null,null,null,null,null,null,null,null,null,null,null,null,null,null,null,"4",null,"K","2",null,null,null,"ROZPOCET",null,null,null,null,null,{"$f":"IF($N$690=\"základní\",$J$690,0)","v":0},{"$f":"IF($N$690=\"snížená\",$J$690,0)","v":0},{"$f":"IF($N$690=\"zákl. přenesená\",$J$690,0)","v":0},{"$f":"IF($N$690=\"sníž. přenesená\",$J$690,0)","v":0},{"$f":"IF($N$690=\"nulová\",$J$690,0)","v":0},"1",{"$f":"ROUND($I$690*$H$690,2)","v":0},"4","617470272"]
[null,null,null,"PP",null,"Podklad nebo podsyp ze štěrkopísku ŠP s rozprostřením, vlhčením a zhutněním, po zhutnění tl. 100 mm",null,null,null,null,null,null,null,null,null,null,null,null,null,null,null,null,null,null,null,null,null,null,null,null,null,null,null,null,null,null,null,null,null,null,null,null,null,null,null,"PP","2"]
[null,null,null,"VV",null," před výtokem a vtokem propustku",null,null,null,null,null,null,null,null,null,null,null,null,null,null,null,null,null,null,null,null,null,null,null,null,null,null,null,null,null,null,null,null,null,null,null,null,null,null,null,"VV","2","1","-1","0","ROZPOCET"]
[null,null,null,"VV",null,"13m2/1 propustek",null,null,null,null,null,null,null,null,null,null,null,null,null,null,null,null,null,null,null,null,null,null,null,null,null,null,null,null,null,null,null,null,null,null,null,null,null,null,null,"VV","2","1","-1","0","ROZPOCET"]
[null,null,null,"VV",null,"13,0*2",null,26,null,null,null,null,null,null,null,null,null,null,null,null,null,null,null,null,null,null,null,null,null,null,null,null,null,null,null,null,null,null,null,null,null,null,null,null,null,"VV","2","2","-1","1","ROZPOCET"]
[null,null,"92","K","935113111","Osazení odvodňovacího polymerbetonového žlabu s krycím roštem šířky do 200 mm","m",7.5,null,{"$f":"ROUND($I$695*$H$695,2)","v":0},"CS ÚRS 2014 02",null,null,"základní",null,null,0.29220869999999999,{"$f":"$Q$695*$H$695","v":2.19156525},0,{"$f":"$S$695*$H$695","v":0},null,null,null,null,null,null,null,null,null,null,null,null,null,null,null,null,null,null,null,null,null,null,null,"4",null,"K","2",null,null,null,"ROZPOCET",null,null,null,null,null,{"$f":"IF($N$695=\"základní\",$J$695,0)","v":0},{"$f":"IF($N$695=\"snížená\",$J$695,0)","v":0},{"$f":"IF($N$695=\"zákl. přenesená\",$J$695,0)","v":0},{"$f":"IF($N$695=\"sníž. přenesená\",$J$695,0)","v":0},{"$f":"IF($N$695=\"nulová\",$J$695,0)","v":0},"1",{"$f":"ROUND($I$695*$H$695,2)","v":0},"4","283815045"]
[null,null,null,"PP",null,"Osazení odvodňovacího žlabu s krycím roštem polymerbetonového šířky do 200 mm",null,null,null,null,null,null,null,null,null,null,null,null,null,null,null,null,null,null,null,null,null,null,null,null,null,null,null,null,null,null,null,null,null,null,null,null,null,null,null,"PP","2"]
[null,null,null,"PSC",null,"Poznámka k souboru cen:\n1. V cenách jsou započteny i náklady na předepsané obetonování a lože z betonu. 2. V cenách nejsou započteny náklady na odvodňovací žlab s příslušenstvím, tyto se oceňují ve     specifikaci. ",null,null,null,null,null,null,null,null,null,null,null,null,null,null,null,null,null,null,null,null,null,null,null,null,null,null,null,null,null,null,null,null,null,null,null,null,null,null,null,"PSC","2"]
[null,null,null,"VV",null,"včetně betonového lože a obetonování žlabu",null,null,null,null,null,null,null,null,null,null,null,null,null,null,null,null,null,null,null,null,null,null,null,null,null,null,null,null,null,null,null,null,null,null,null,null,null,null,null,"VV","2","1","-1","0","ROZPOCET"]
[null,null,null,"VV",null,"7,5",null,7.5,null,null,null,null,null,null,null,null,null,null,null,null,null,null,null,null,null,null,null,null,null,null,null,null,null,null,null,null,null,null,null,null,null,null,null,null,null,"VV","2","2","-1","1","ROZPOCET"]
[null,null,"93","M","5920001_R","odvodňovací polymerbetonový žlab šířky 150 mm  - žlab+rošt+čela - dodávka, doprava","m",7.5,null,{"$f":"ROUND($I$700*$H$700,2)","v":0},null,null,null,"základní",null,null,1.9E-2,{"$f":"$Q$700*$H$700","v":0.14249999999999999},0,{"$f":"$S$700*$H$700","v":0},null,null,null,null,null,null,null,null,null,null,null,null,null,null,null,null,null,null,null,null,null,null,null,"8",null,"M","2",null,null,null,"ROZPOCET",null,null,null,null,null,{"$f":"IF($N$700=\"základní\",$J$700,0)","v":0},{"$f":"IF($N$700=\"snížená\",$J$700,0)","v":0},{"$f":"IF($N$700=\"zákl. přenesená\",$J$700,0)","v":0},{"$f":"IF($N$700=\"sníž. přenesená\",$J$700,0)","v":0},{"$f":"IF($N$700=\"nulová\",$J$700,0)","v":0},"1",{"$f":"ROUND($I$700*$H$700,2)","v":0},"4","477022575"]
[null,null,null,"PP",null,"žlab odvodňovací ACO N100 typ 10,polymerbeton,100 x 13 x 18 x 18 cm",null,null,null,null,null,null,null,null,null,null,null,null,null,null,null,null,null,null,null,null,null,null,null,null,null,null,null,null,null,null,null,null,null,null,null,null,null,null,null,"PP","2"]
[null,null,"94","K","9300001_R","Vyústění odvodňovacího žlabu do příkopu v dl.2,5 m - plastová trubka DN 160 mm - montáž, dodávka, doprava","kus",1,null,{"$f":"ROUND($I$702*$H$702,2)","v":0},null,null,null,"základní",null,null,1E-3,{"$f":"$Q$702*$H$702","v":1E-3},0,{"$f":"$S$702*$H$702","v":0},null,null,null,null,null,null,null,null,null,null,null,null,null,null,null,null,null,null,null,null,null,null,null,"4",null,"K","2",null,null,null,"ROZPOCET",null,null,null,null,null,{"$f":"IF($N$702=\"základní\",$J$702,0)","v":0},{"$f":"IF($N$702=\"snížená\",$J$702,0)","v":0},{"$f":"IF($N$702=\"zákl. přenesená\",$J$702,0)","v":0},{"$f":"IF($N$702=\"sníž. přenesená\",$J$702,0)","v":0},{"$f":"IF($N$702=\"nulová\",$J$702,0)","v":0},"1",{"$f":"ROUND($I$702*$H$702,2)","v":0},"4","83727731"]
[null,null,"95","K","9300002_R","Vyústění odvodňovacího žlabu do příkopu v dl.2,5 m - lože a obsyp z písku plastové dtrubky - montáž, dodávka, doprava","m3",1.35,null,{"$f":"ROUND($I$703*$H$703,2)","v":0},null,null,null,"základní",null,null,1.8,{"$f":"$Q$703*$H$703","v":2.4300000000000002},0,{"$f":"$S$703*$H$703","v":0},null,null,null,null,null,null,null,null,null,null,null,null,null,null,null,null,null,null,null,null,null,null,null,"4",null,"K","2",null,null,null,"ROZPOCET",null,null,null,null,null,{"$f":"IF($N$703=\"základní\",$J$703,0)","v":0},{"$f":"IF($N$703=\"snížená\",$J$703,0)","v":0},{"$f":"IF($N$703=\"zákl. přenesená\",$J$703,0)","v":0},{"$f":"IF($N$703=\"sníž. přenesená\",$J$703,0)","v":0},{"$f":"IF($N$703=\"nulová\",$J$703,0)","v":0},"1",{"$f":"ROUND($I$703*$H$703,2)","v":0},"4","2037573192"]
[null,null,null,"VV",null,"(0,1+0,16+0,3)*1,0*2,5",null,1.4,null,null,null,null,null,null,null,null,null,null,null,null,null,null,null,null,null,null,null,null,null,null,null,null,null,null,null,null,null,null,null,null,null,null,null,null,null,"VV","2","2","-1","0","ROZPOCET"]
[null,null,null,"VV",null,"-3,14*0,08*0,08*2,5",null,-0.05,null,null,null,null,null,null,null,null,null,null,null,null,null,null,null,null,null,null,null,null,null,null,null,null,null,null,null,null,null,null,null,null,null,null,null,null,null,"VV","2","2","-1","0","ROZPOCET"]
[null,null,null,"VV",null,"Součet",null,1.35,null,null,null,null,null,null,null,null,null,null,null,null,null,null,null,null,null,null,null,null,null,null,null,null,null,null,null,null,null,null,null,null,null,null,null,null,null,"VV","2","4","-1","1","ROZPOCET"]
[null,null,"96","K","9300010_R","Montáž plastových půlených kabelových chrániček","m",75,null,{"$f":"ROUND($I$707*$H$707,2)","v":0},null,null,null,"základní",null,null,0,{"$f":"$Q$707*$H$707","v":0},0,{"$f":"$S$707*$H$707","v":0},null,null,null,null,null,null,null,null,null,null,null,null,null,null,null,null,null,null,null,null,null,null,null,"4",null,"K","2",null,null,null,"ROZPOCET",null,null,null,null,null,{"$f":"IF($N$707=\"základní\",$J$707,0)","v":0},{"$f":"IF($N$707=\"snížená\",$J$707,0)","v":0},{"$f":"IF($N$707=\"zákl. přenesená\",$J$707,0)","v":0},{"$f":"IF($N$707=\"sníž. přenesená\",$J$707,0)","v":0},{"$f":"IF($N$707=\"nulová\",$J$707,0)","v":0},"1",{"$f":"ROUND($I$707*$H$707,2)","v":0},"4","1825712295"]
[null,null,null,"PP",null,"Montáž a obetonování kabelových chráničk",null,null,null,null,null,null,null,null,null,null,null,null,null,null,null,null,null,null,null,null,null,null,null,null,null,null,null,null,null,null,null,null,null,null,null,null,null,null,null,"PP","2"]
[null,null,null,"VV",null,"dle specifikace v technické zprávě",null,null,null,null,null,null,null,null,null,null,null,null,null,null,null,null,null,null,null,null,null,null,null,null,null,null,null,null,null,null,null,null,null,null,null,null,null,null,null,"VV","2","1","-1","0","ROZPOCET"]
[null,null,null,"VV",null,"75,0",null,75,null,null,null,null,null,null,null,null,null,null,null,null,null,null,null,null,null,null,null,null,null,null,null,null,null,null,null,null,null,null,null,null,null,null,null,null,null,"VV","2","2","-1","1","ROZPOCET"]
[null,null,"97","M","9300011_R","plastová kabelová půlená chránička DN 100 mm",null,75,null,{"$f":"ROUND($I$711*$H$711,2)","v":0},null,null,null,"základní",null,null,8.0000000000000004E-4,{"$f":"$Q$711*$H$711","v":6.0000000000000005E-2},0,{"$f":"$S$711*$H$711","v":0},null,null,null,null,null,null,null,null,null,null,null,null,null,null,null,null,null,null,null,null,null,null,null,"8",null,"M","2",null,null,null,"ROZPOCET",null,null,null,null,null,{"$f":"IF($N$711=\"základní\",$J$711,0)","v":0},{"$f":"IF($N$711=\"snížená\",$J$711,0)","v":0},{"$f":"IF($N$711=\"zákl. přenesená\",$J$711,0)","v":0},{"$f":"IF($N$711=\"sníž. přenesená\",$J$711,0)","v":0},{"$f":"IF($N$711=\"nulová\",$J$711,0)","v":0},"1",{"$f":"ROUND($I$711*$H$711,2)","v":0},"4","1380334638"]
[null,null,null,"PP",null,"plastová kabelová půlená chránička DN 100 mm",null,null,null,null,null,null,null,null,null,null,null,null,null,null,null,null,null,null,null,null,null,null,null,null,null,null,null,null,null,null,null,null,null,null,null,null,null,null,null,"PP","2"]
[null,null,null,"VV",null,"k pol.9300010_R",null,null,null,null,null,null,null,null,null,null,null,null,null,null,null,null,null,null,null,null,null,null,null,null,null,null,null,null,null,null,null,null,null,null,null,null,null,null,null,"VV","2","1","-1","0","ROZPOCET"]
[null,null,null,"VV",null,"75,0",null,75,null,null,null,null,null,null,null,null,null,null,null,null,null,null,null,null,null,null,null,null,null,null,null,null,null,null,null,null,null,null,null,null,null,null,null,null,null,"VV","2","2","-1","1","ROZPOCET"]
[null,null,"98","K","899623151","Obetonování potrubí nebo zdiva stok betonem prostým tř. C 16/20 otevřený výkop","m3",15.75,null,{"$f":"ROUND($I$715*$H$715,2)","v":0},"CS ÚRS 2014 02",null,null,"základní",null,null,0,{"$f":"$Q$715*$H$715","v":0},0,{"$f":"$S$715*$H$715","v":0},null,null,null,null,null,null,null,null,null,null,null,null,null,null,null,null,null,null,null,null,null,null,null,"4",null,"K","2",null,null,null,"ROZPOCET",null,null,null,null,null,{"$f":"IF($N$715=\"základní\",$J$715,0)","v":0},{"$f":"IF($N$715=\"snížená\",$J$715,0)","v":0},{"$f":"IF($N$715=\"zákl. přenesená\",$J$715,0)","v":0},{"$f":"IF($N$715=\"sníž. přenesená\",$J$715,0)","v":0},{"$f":"IF($N$715=\"nulová\",$J$715,0)","v":0},"1",{"$f":"ROUND($I$715*$H$715,2)","v":0},"4","110835325"]
[null,null,null,"PP",null,"Obetonování potrubí nebo zdiva stok betonem prostým v otevřeném výkopu, beton tř. C 16/20",null,null,null,null,null,null,null,null,null,null,null,null,null,null,null,null,null,null,null,null,null,null,null,null,null,null,null,null,null,null,null,null,null,null,null,null,null,null,null,"PP","2"]
[null,null,null,"PSC",null,"Poznámka k souboru cen:\n1. Obetonování zdiva stok ve štole se oceňuje cenami souboru cen 359 31-02 Výplň za rubem cihelného     zdiva stok části A 03 tohoto katalogu. ",null,null,null,null,null,null,null,null,null,null,null,null,null,null,null,null,null,null,null,null,null,null,null,null,null,null,null,null,null,null,null,null,null,null,null,null,null,null,null,"PSC","2"]
[null,null,null,"VV",null,"obetonování chráničet",null,null,null,null,null,null,null,null,null,null,null,null,null,null,null,null,null,null,null,null,null,null,null,null,null,null,null,null,null,null,null,null,null,null,null,null,null,null,null,"VV","2","1","-1","0","ROZPOCET"]
[null,null,null,"VV",null,"0,21 m3/1 bm chráničky",null,null,null,null,null,null,null,null,null,null,null,null,null,null,null,null,null,null,null,null,null,null,null,null,null,null,null,null,null,null,null,null,null,null,null,null,null,null,null,"VV","2","1","-1","0","ROZPOCET"]
[null,null,null,"VV",null,"75,0*0,21",null,15.75,null,null,null,null,null,null,null,null,null,null,null,null,null,null,null,null,null,null,null,null,null,null,null,null,null,null,null,null,null,null,null,null,null,null,null,null,null,"VV","2","2","-1","1","ROZPOCET"]
[null,null,"99","K","460490011","Krytí kabelů výstražnou fólií šířky 20 cm","m",75,null,{"$f":"ROUND($I$721*$H$721,2)","v":0},"CS ÚRS 2014 02",null,null,"základní",null,null,6.0000000000000002E-5,{"$f":"$Q$721*$H$721","v":4.5000000000000005E-3},0,{"$f":"$S$721*$H$721","v":0},null,null,null,null,null,null,null,null,null,null,null,null,null,null,null,null,null,null,null,null,null,null,null,"4",null,"K","2",null,null,null,"ROZPOCET",null,null,null,null,null,{"$f":"IF($N$721=\"základní\",$J$721,0)","v":0},{"$f":"IF($N$721=\"snížená\",$J$721,0)","v":0},{"$f":"IF($N$721=\"zákl. přenesená\",$J$721,0)","v":0},{"$f":"IF($N$721=\"sníž. přenesená\",$J$721,0)","v":0},{"$f":"IF($N$721=\"nulová\",$J$721,0)","v":0},"1",{"$f":"ROUND($I$721*$H$721,2)","v":0},"4","-1961857399"]
[null,null,null,"PP",null,"Krytí kabelů, spojek, koncovek a odbočnic kabelů výstražnou fólií z PVC včetně vyrovnání povrchu rýhy, rozvinutí a uložení fólie do rýhy, fólie šířky do 20cm",null,null,null,null,null,null,null,null,null,null,null,null,null,null,null,null,null,null,null,null,null,null,null,null,null,null,null,null,null,null,null,null,null,null,null,null,null,null,null,"PP","2"]
[null,null,null,"D","97","Prorážení otvorů a ostatní bourací práce",null,null,null,{"$f":"$BK$723","v":0},null,null,null,null,null,{"$f":"SUM($P$724:$P$735)","v":0},null,{"$f":"SUM($R$724:$R$735)","v":0},null,{"$f":"SUM($T$724:$T$735)","v":0},null,null,null,null,null,null,null,null,null,null,null,null,null,null,null,null,null,null,null,null,null,null,null,"1",null,"D","1",null,null,null,"ROZPOCET",null,null,null,null,null,null,null,null,null,null,null,{"$f":"SUM($BK$724:$BK$735)","v":0}]
[null,null,"100","K","997221571","Vodorovná doprava vybouraných hmot do 1 km","t",3.9,null,{"$f":"ROUND($I$724*$H$724,2)","v":0},"CS ÚRS 2014 02",null,null,"základní",null,null,0,{"$f":"$Q$724*$H$724","v":0},0,{"$f":"$S$724*$H$724","v":0},null,null,null,null,null,null,null,null,null,null,null,null,null,null,null,null,null,null,null,null,null,null,null,"4",null,"K","2",null,null,null,"ROZPOCET",null,null,null,null,null,{"$f":"IF($N$724=\"základní\",$J$724,0)","v":0},{"$f":"IF($N$724=\"snížená\",$J$724,0)","v":0},{"$f":"IF($N$724=\"zákl. přenesená\",$J$724,0)","v":0},{"$f":"IF($N$724=\"sníž. přenesená\",$J$724,0)","v":0},{"$f":"IF($N$724=\"nulová\",$J$724,0)","v":0},"1",{"$f":"ROUND($I$724*$H$724,2)","v":0},"4","519560879"]
[null,null,null,"PP",null,"Vodorovná doprava vybouraných hmot bez naložení, ale se složením a s hrubým urovnáním na vzdálenost do 1 km",null,null,null,null,null,null,null,null,null,null,null,null,null,null,null,null,null,null,null,null,null,null,null,null,null,null,null,null,null,null,null,null,null,null,null,null,null,null,null,"PP","2"]
[null,null,null,"PSC",null,"Poznámka k souboru cen:\n1. Ceny nelze použít pro vodorovnou dopravu vybouraných hmot po železnici, po vodě nebo neobvyklými     dopravními prostředky. 2. Je-li na dopravní dráze pro vodorovnou dopravu vybouraných hmot překážka, pro kterou je nutno     vybourané hmoty překládat z jednoho dopravního prostředku na druhý, oceňuje se tato doprava     v každém úseku samostatně. ",null,null,null,null,null,null,null,null,null,null,null,null,null,null,null,null,null,null,null,null,null,null,null,null,null,null,null,null,null,null,null,null,null,null,null,null,null,null,null,"PSC","2"]
[null,null,null,"VV",null,"suť odd.11",null,null,null,null,null,null,null,null,null,null,null,null,null,null,null,null,null,null,null,null,null,null,null,null,null,null,null,null,null,null,null,null,null,null,null,null,null,null,null,"VV","2","1","-1","0","ROZPOCET"]
[null,null,null,"VV",null,"3,9",null,3.9,null,null,null,null,null,null,null,null,null,null,null,null,null,null,null,null,null,null,null,null,null,null,null,null,null,null,null,null,null,null,null,null,null,null,null,null,null,"VV","2","2","-1","1","ROZPOCET"]
[null,null,"101","K","997221579","Příplatek ZKD 1 km u vodorovné dopravy vybouraných hmot","t",54.6,null,{"$f":"ROUND($I$729*$H$729,2)","v":0},"CS ÚRS 2014 02",null,null,"základní",null,null,0,{"$f":"$Q$729*$H$729","v":0},0,{"$f":"$S$729*$H$729","v":0},null,null,null,null,null,null,null,null,null,null,null,null,null,null,null,null,null,null,null,null,null,null,null,"4",null,"K","2",null,null,null,"ROZPOCET",null,null,null,null,null,{"$f":"IF($N$729=\"základní\",$J$729,0)","v":0},{"$f":"IF($N$729=\"snížená\",$J$729,0)","v":0},{"$f":"IF($N$729=\"zákl. přenesená\",$J$729,0)","v":0},{"$f":"IF($N$729=\"sníž. přenesená\",$J$729,0)","v":0},{"$f":"IF($N$729=\"nulová\",$J$729,0)","v":0},"1",{"$f":"ROUND($I$729*$H$729,2)","v":0},"4","-1359439088"]
[null,null,null,"PP",null,"Vodorovná doprava vybouraných hmot bez naložení, ale se složením a s hrubým urovnáním na vzdálenost Příplatek k ceně za každý další i započatý 1 km přes 1 km",null,null,null,null,null,null,null,null,null,null,null,null,null,null,null,null,null,null,null,null,null,null,null,null,null,null,null,null,null,null,null,null,null,null,null,null,null,null,null,"PP","2"]
[null,null,null,"PSC",null,"Poznámka k souboru cen:\n1. Ceny nelze použít pro vodorovnou dopravu vybouraných hmot po železnici, po vodě nebo neobvyklými     dopravními prostředky. 2. Je-li na dopravní dráze pro vodorovnou dopravu vybouraných hmot překážka, pro kterou je nutno     vybourané hmoty překládat z jednoho dopravního prostředku na druhý, oceňuje se tato doprava     v každém úseku samostatně. ",null,null,null,null,null,null,null,null,null,null,null,null,null,null,null,null,null,null,null,null,null,null,null,null,null,null,null,null,null,null,null,null,null,null,null,null,null,null,null,"PSC","2"]
[null,null,null,"VV",null,"celková vzdálenost 15 km",null,null,null,null,null,null,null,null,null,null,null,null,null,null,null,null,null,null,null,null,null,null,null,null,null,null,null,null,null,null,null,null,null,null,null,null,null,null,null,"VV","2","1","-1","0","ROZPOCET"]
[null,null,null,"VV",null,"3,9*(15-1)",null,54.6,null,null,null,null,null,null,null,null,null,null,null,null,null,null,null,null,null,null,null,null,null,null,null,null,null,null,null,null,null,null,null,null,null,null,null,null,null,"VV","2","2","-1","1","ROZPOCET"]
[null,null,"102","K","997221815_R","Poplatek za uložení betonového kusového odpadu na skládce (skládkovné)","t",3.9,null,{"$f":"ROUND($I$734*$H$734,2)","v":0},null,null,null,"základní",null,null,0,{"$f":"$Q$734*$H$734","v":0},0,{"$f":"$S$734*$H$734","v":0},null,null,null,null,null,null,null,null,null,null,null,null,null,null,null,null,null,null,null,null,null,null,null,"4",null,"K","2",null,null,null,"ROZPOCET",null,null,null,null,null,{"$f":"IF($N$734=\"základní\",$J$734,0)","v":0},{"$f":"IF($N$734=\"snížená\",$J$734,0)","v":0},{"$f":"IF($N$734=\"zákl. přenesená\",$J$734,0)","v":0},{"$f":"IF($N$734=\"sníž. přenesená\",$J$734,0)","v":0},{"$f":"IF($N$734=\"nulová\",$J$734,0)","v":0},"1",{"$f":"ROUND($I$734*$H$734,2)","v":0},"4","1974874250"]
[null,null,null,"PP",null,"Poplatek za uložení stavebního odpadu na skládce (skládkovné) betonového",null,null,null,null,null,null,null,null,null,null,null,null,null,null,null,null,null,null,null,null,null,null,null,null,null,null,null,null,null,null,null,null,null,null,null,null,null,null,null,"PP","2"]
[null,null,null,"D","99","Přesun hmot",null,null,null,{"$f":"$BK$736","v":0},null,null,null,null,null,{"$f":"SUM($P$737:$P$739)","v":0},null,{"$f":"SUM($R$737:$R$739)","v":0},null,{"$f":"SUM($T$737:$T$739)","v":0},null,null,null,null,null,null,null,null,null,null,null,null,null,null,null,null,null,null,null,null,null,null,null,"1",null,"D","1",null,null,null,"ROZPOCET",null,null,null,null,null,null,null,null,null,null,null,{"$f":"SUM($BK$737:$BK$739)","v":0}]
[null,null,"103","K","998225111","Přesun hmot pro pozemní komunikace s krytem z kamene, monolitickým betonovým nebo živičným","t",2474.9679999999998,null,{"$f":"ROUND($I$737*$H$737,2)","v":0},"CS ÚRS 2014 02",null,null,"základní",null,null,0,{"$f":"$Q$737*$H$737","v":0},0,{"$f":"$S$737*$H$737","v":0},null,null,null,null,null,null,null,null,null,null,null,null,null,null,null,null,null,null,null,null,null,null,null,"4",null,"K","2",null,null,null,"ROZPOCET",null,null,null,null,null,{"$f":"IF($N$737=\"základní\",$J$737,0)","v":0},{"$f":"IF($N$737=\"snížená\",$J$737,0)","v":0},{"$f":"IF($N$737=\"zákl. přenesená\",$J$737,0)","v":0},{"$f":"IF($N$737=\"sníž. přenesená\",$J$737,0)","v":0},{"$f":"IF($N$737=\"nulová\",$J$737,0)","v":0},"1",{"$f":"ROUND($I$737*$H$737,2)","v":0},"4","1270786853"]
[null,null,null,"PP",null,"Přesun hmot pro komunikace s krytem z kameniva, monolitickým betonovým nebo živičným dopravní vzdálenost do 200 m jakékoliv délky objektu",null,null,null,null,null,null,null,null,null,null,null,null,null,null,null,null,null,null,null,null,null,null,null,null,null,null,null,null,null,null,null,null,null,null,null,null,null,null,null,"PP","2"]
[null,null,null,"PSC",null,"Poznámka k souboru cen:\n1. Ceny lze použít i pro plochy letišť s krytem monolitickým betonovým nebo živičným. ",null,null,null,null,null,null,null,null,null,null,null,null,null,null,null,null,null,null,null,null,null,null,null,null,null,null,null,null,null,null,null,null,null,null,null,null,null,null,null,"PSC","2"]

{"sheet":"SO132 - SO 132  Napojení ...","index":5,"n_rows":152,"n_cols":65,"rows_kept":152,"cut":false,"hidden":false,"merged":[[74,4,74,7],[76,4,76,7],[25,4,25,7],[46,4,46,7],[48,4,48,7],[50,4,50,7],[72,4,72,7],[0,6,0,7],[1,11,1,21],[6,4,6,7],[8,4,8,7],[10,4,10,7]]}
[null,null,null,"List obsahuje:",null,"1) Krycí list soupisu","2) Rekapitulace",null,null,"3) Soupis prací","Zpět na list:","Rekapitulace stavby"]
[null,null,null,null,null,null,null,null,null,null,null,null,null,null,null,null,null,null,null,null,null,null,null,null,null,null,null,null,null,null,null,null,null,null,null,null,null,null,null,null,null,null,null,null,null,"{0223295B-16F4-405E-8C53-14D4A07FB922}"]
[null,null,null,null,null,null,null,null,null,null,null,null,null,null,null,null,null,null,null,null,null,null,null,null,null,null,null,null,null,null,null,null,null,null,null,null,null,null,null,null,null,null,null,null,null,"2"]
[null,null,null,"KRYCÍ LIST SOUPISU",null,null,null,null,null,null,null,null,"v ---  níže se nacházejí doplnkové a pomocné údaje k sestavám  --- v",null,null,null,null,null,null,null,null,null,null,null,null,null,null,null,null,null,null,null,null,null,null,null,null,null,null,null,null,null,null,null,null,"False"]
[]
[null,null,null,"Stavba:"]
[null,null,null,null,{"$f":"'Rekapitulace stavby'!$K$6","v":"Město Sokolov - Záchytné parkoviště Michal"}]
[null,null,null,"Objekt:"]
[null,null,null,null,"2.E - 2. ETAPA"]
[null,null,null,"Soupis:"]
[null,null,null,null,"SO132 - SO 132  Napojení na silnici  II/2009"]
[]
[null,null,null,"KSO:",null,"822 29",null,null,"CC-CZ:","7941-26"]
[null,null,null,"Místo:",null,"Sokolov",null,null,"Datum:",{"$f":"'Rekapitulace stavby'!$AN$8","v":"09.09.2014"}]
[]
[null,null,null,"Zadavatel:",null,null,null,null,"IČ:"]
[null,null,null,null,"Město Sokolov",null,null,null,"DIČ:"]
[]
[null,null,null,"Uchazeč:",null,null,null,null,"IČ:",{"$f":"IF('Rekapitulace stavby'!$AN$13=\"Vyplň údaj\",\"\",IF('Rekapitulace stavby'!$AN$13=\"\",\"\",'Rekapitulace stavby'!$AN$13))","v":""}]
[null,null,null,null,{"$f":"IF('Rekapitulace stavby'!$E$14=\"Vyplň údaj\",\"\",IF('Rekapitulace stavby'!$E$14=\"\",\"\",'Rekapitulace stavby'!$E$14))","v":""},null,null,null,"DIČ:",{"$f":"IF('Rekapitulace stavby'!$AN$14=\"Vyplň údaj\",\"\",IF('Rekapitulace stavby'!$AN$14=\"\",\"\",'Rekapitulace stavby'!$AN$14))","v":""}]
[]
[null,null,null,"Projektant:",null,null,null,null,"IČ:","18224920"]
[null,null,null,null,"BPO spol. s r.o., Lidická 1239, 363 17 Ostrov",null,null,null,"DIČ:","CZ18224920"]
[]
[null,null,null,"Poznámka:"]
[]
[]
[]
[null,null,null,"Cena bez DPH",null,null,null,null,null,{"$f":"ROUND($J$85,2)","v":0}]
[]
[null,null,null,null,null,"Základ daně",null,null,"Sazba daně","Výše daně"]
[null,null,null,"DPH","základní",{"$f":"ROUND(SUM($BE$85:$BE$152),2)","v":0},null,null,0.21,{"$f":"ROUND(SUM($BE$85:$BE$152)*$I$32,2)","v":0}]
[null,null,null,null,"snížená",{"$f":"ROUND(SUM($BF$85:$BF$152),2)","v":0},null,null,0.15,{"$f":"ROUND(SUM($BF$85:$BF$152)*$I$33,2)","v":0}]
[null,null,null,null,"zákl. přenesená",{"$f":"ROUND(SUM($BG$85:$BG$152),2)","v":0},null,null,0.21,0]
[null,null,null,null,"sníž. přenesená",{"$f":"ROUND(SUM($BH$85:$BH$152),2)","v":0},null,null,0.15,0]
[null,null,null,null,"nulová",{"$f":"ROUND(SUM($BI$85:$BI$152),2)","v":0},null,null,0,0]
[]
[null,null,null,"Cena s DPH",null,null,"v","CZK",null,{"$f":"ROUND(SUM($J$29:$J$36),2)","v":0}]
[]
[]
[]
[]
[]
[null,null,"REKAPITULACE ČLENĚNÍ SOUPISU PRACÍ"]
[]
[null,null,"Stavba:"]
[null,null,null,null,{"$f":"$E$7","v":"Město Sokolov - Záchytné parkoviště Michal"}]
[null,null,"Objekt:"]
[null,null,null,null,"2.E - 2. ETAPA"]
[null,null,"Soupis:"]
[null,null,null,null,{"$f":"$E$11","v":"SO132 - SO 132  Napojení na silnici  II/2009"}]
[]
[null,null,"Místo:",null,null,{"$f":"$F$14","v":"Sokolov"},null,null,"Datum:",{"$f":"IF($J$14=\"\",\"\",$J$14)","v":"09.09.2014"}]
[]
[null,null,"Zadavatel:",null,null,{"$f":"$E$17","v":"Město Sokolov"},null,null,"Projektant:",{"$f":"$E$23","v":"BPO spol. s r.o., Lidická 1239, 363 17 Ostrov"}]
[null,null,"Uchazeč:",null,null,{"$f":"IF($E$20=\"\",\"\",$E$20)","v":""}]
[]
[null,null,"Kód dílu - Popis",null,null,null,null,null,null,"Cena celkem [CZK]"]
[]
[null,null,"Náklady soupisu celkem",null,null,null,null,null,null,{"$f":"ROUND($J$85,2)","v":0},null,null,null,null,null,null,null,null,null,null,null,null,null,null,null,null,null,null,null,null,null,null,null,null,null,null,null,null,null,null,null,null,null,null,null,null,"-1"]
[null,null,null,"HSV - Práce a dodávky HSV",null,null,null,null,null,{"$f":"ROUND($J$86,2)","v":0}]
[null,null,null,"    91 - Doplňující konstrukce a práce pozemních komunikací, letišť a ploch",null,null,null,null,null,{"$f":"ROUND($J$87,2)","v":0}]
[null,null,null,"    99 - Přesun hmot",null,null,null,null,null,{"$f":"ROUND($J$149,2)","v":0}]
[]
[]
[]
[]
[]
[]
[null,null,"SOUPIS PRACÍ"]
[]
[null,null,"Stavba:"]
[null,null,null,null,{"$f":"$E$7","v":"Město Sokolov - Záchytné parkoviště Michal"}]
[null,null,"Objekt:"]
[null,null,null,null,"2.E - 2. ETAPA"]
[null,null,"Soupis:"]
[null,null,null,null,{"$f":"$E$11","v":"SO132 - SO 132  Napojení na silnici  II/2009"}]
[]
[null,null,"Místo:",null,null,{"$f":"$F$14","v":"Sokolov"},null,null,"Datum:",{"$f":"IF($J$14=\"\",\"\",$J$14)","v":"09.09.2014"}]
[]
[null,null,"Zadavatel:",null,null,{"$f":"$E$17","v":"Město Sokolov"},null,null,"Projektant:",{"$f":"$E$23","v":"BPO spol. s r.o., Lidická 1239, 363 17 Ostrov"}]
[null,null,"Uchazeč:",null,null,{"$f":"IF($E$20=\"\",\"\",$E$20)","v":""}]
[]
[null,null,"PČ","Typ","Kód","Popis","MJ","Množství","J.cena [CZK]","Cena celkem\n[CZK]","Cenová soustava",null,"Poznámka","DPH","J. Nh [h]","Nh celkem [h]","J. hmotnost\n[t]","Hmotnost\ncelkem [t]","J. suť [t]","Suť Celkem [t]"]
[null,null,"Náklady soupisu celkem",null,null,null,null,null,null,{"$f":"$BK$85","v":0},null,null,null,null,null,{"$f":"$P$86","v":0},null,{"$f":"$R$86","v":0.44047111000000005},null,{"$f":"$T$86","v":0},null,null,null,null,null,null,null,null,null,null,null,null,null,null,null,null,null,null,null,null,null,null,null,null,null,"D","-1",null,null,null,null,null,null,null,null,null,null,null,null,null,null,null,{"$f":"$BK$86","v":0}]
[null,null,null,"D","HSV","Práce a dodávky HSV",null,null,null,{"$f":"$BK$86","v":0},null,null,null,null,null,{"$f":"$P$87+$P$149","v":0},null,{"$f":"$R$87+$R$149","v":0.44047111000000005},null,{"$f":"$T$87+$T$149","v":0},null,null,null,null,null,null,null,null,null,null,null,null,null,null,null,null,null,null,null,null,null,null,null,"1",null,"D","0",null,null,null,"ROZPOCET",null,null,null,null,null,null,null,null,null,null,null,{"$f":"$BK$87+$BK$149","v":0}]
[null,null,null,"D","91","Doplňující konstrukce a práce pozemních komunikací, letišť a ploch",null,null,null,{"$f":"$BK$87","v":0},null,null,null,null,null,{"$f":"SUM($P$88:$P$148)","v":0},null,{"$f":"SUM($R$88:$R$148)","v":0.44047111000000005},null,{"$f":"SUM($T$88:$T$148)","v":0},null,null,null,null,null,null,null,null,null,null,null,null,null,null,null,null,null,null,null,null,null,null,null,"1",null,"D","1",null,null,null,"ROZPOCET",null,null,null,null,null,null,null,null,null,null,null,{"$f":"SUM($BK$88:$BK$148)","v":0}]
[null,null,"1","K","914111111","Montáž svislé dopravní značky do velikosti 1 m2 objímkami na sloupek nebo konzolu","kus",3,null,{"$f":"ROUND($I$88*$H$88,2)","v":0},"CS ÚRS 2014 02",null,null,"základní",null,null,6.9999999999999999E-4,{"$f":"$Q$88*$H$88","v":2.0999999999999999E-3},0,{"$f":"$S$88*$H$88","v":0},null,null,null,null,null,null,null,null,null,null,null,null,null,null,null,null,null,null,null,null,null,null,null,"4",null,"K","2",null,null,null,"ROZPOCET",null,null,null,null,null,{"$f":"IF($N$88=\"základní\",$J$88,0)","v":0},{"$f":"IF($N$88=\"snížená\",$J$88,0)","v":0},{"$f":"IF($N$88=\"zákl. přenesená\",$J$88,0)","v":0},{"$f":"IF($N$88=\"sníž. přenesená\",$J$88,0)","v":0},{"$f":"IF($N$88=\"nulová\",$J$88,0)","v":0},"1",{"$f":"ROUND($I$88*$H$88,2)","v":0},"4","-1980142070"]
[null,null,null,"PP",null,"Montáž svislé dopravní značky základní velikosti do 1 m2 objímkami na sloupky nebo konzoly",null,null,null,null,null,null,null,null,null,null,null,null,null,null,null,null,null,null,null,null,null,null,null,null,null,null,null,null,null,null,null,null,null,null,null,null,null,null,null,"PP","2"]
[null,null,null,"PSC",null,"Poznámka k souboru cen:\n1. V cenách jsou započteny i náklady na montáž značek včetně upevňovacího materiálu na předem     připravenou nosnou konstrukci (sloupek, konzolu, sloup). 2. V cenách nejsou započteny náklady na:     a) dodání značek, tyto se oceňují ve specifikaci,     b) na montáž a dodávku ocelových nosných konstrukcí – sloupků, konzol, tyto se oceňují cenami         souboru cen 914 51 Montáž sloupku a 914 53 Montáž konzol a nástavců,     c) nátěry, tyto se oceňují jako práce PSV příslušnými cenami katalogu 800-783 Nátěry,     d) naložení a odklizení výkopku, tyto se oceňují cenami části A 01 katalogu 800-1 Zemní práce. 3. Ceny nelze použít pro osazení a montáž svislých dopravních značek:     a) světelných, tyto se oceňují cenami katalogu 21 M Elektromontáže – silnoproud,     b) upevněných na lanech, nebo speciálních konstrukcích nesoucích více značek, tyto se oceňují         individuálně. ",null,null,null,null,null,null,null,null,null,null,null,null,null,null,null,null,null,null,null,null,null,null,null,null,null,null,null,null,null,null,null,null,null,null,null,null,null,null,null,"PSC","2"]
[null,null,null,"VV",null,"všechny 3 značky na jeden sloupek",null,null,null,null,null,null,null,null,null,null,null,null,null,null,null,null,null,null,null,null,null,null,null,null,null,null,null,null,null,null,null,null,null,null,null,null,null,null,null,"VV","2","1","-1","0","ROZPOCET"]
[null,null,null,"VV",null,"značka č.IP12",null,null,null,null,null,null,null,null,null,null,null,null,null,null,null,null,null,null,null,null,null,null,null,null,null,null,null,null,null,null,null,null,null,null,null,null,null,null,null,"VV","2","1","-1","0","ROZPOCET"]
[null,null,null,"VV",null,"1,0",null,1,null,null,null,null,null,null,null,null,null,null,null,null,null,null,null,null,null,null,null,null,null,null,null,null,null,null,null,null,null,null,null,null,null,null,null,null,null,"VV","2","2","-1","0","ROZPOCET"]
[null,null,null,"VV",null,"značka č.E12",null,null,null,null,null,null,null,null,null,null,null,null,null,null,null,null,null,null,null,null,null,null,null,null,null,null,null,null,null,null,null,null,null,null,null,null,null,null,null,"VV","2","1","-1","0","ROZPOCET"]
[null,null,null,"VV",null,"1,0",null,1,null,null,null,null,null,null,null,null,null,null,null,null,null,null,null,null,null,null,null,null,null,null,null,null,null,null,null,null,null,null,null,null,null,null,null,null,null,"VV","2","2","-1","0","ROZPOCET"]
[null,null,null,"VV",null,"značka č. E7b",null,null,null,null,null,null,null,null,null,null,null,null,null,null,null,null,null,null,null,null,null,null,null,null,null,null,null,null,null,null,null,null,null,null,null,null,null,null,null,"VV","2","1","-1","0","ROZPOCET"]
[null,null,null,"VV",null,"1,0",null,1,null,null,null,null,null,null,null,null,null,null,null,null,null,null,null,null,null,null,null,null,null,null,null,null,null,null,null,null,null,null,null,null,null,null,null,null,null,"VV","2","2","-1","0","ROZPOCET"]
[null,null,null,"VV",null,"Součet",null,3,null,null,null,null,null,null,null,null,null,null,null,null,null,null,null,null,null,null,null,null,null,null,null,null,null,null,null,null,null,null,null,null,null,null,null,null,null,"VV","2","4","-1","1","ROZPOCET"]
[null,null,"2","K","914111121","Montáž svislé dopravní značky do velikosti 2 m2 objímkami na sloupek nebo konzolu","kus",2,null,{"$f":"ROUND($I$99*$H$99,2)","v":0},"CS ÚRS 2014 02",null,null,"základní",null,null,1.0499999999999999E-3,{"$f":"$Q$99*$H$99","v":2.0999999999999999E-3},0,{"$f":"$S$99*$H$99","v":0},null,null,null,null,null,null,null,null,null,null,null,null,null,null,null,null,null,null,null,null,null,null,null,"4",null,"K","2",null,null,null,"ROZPOCET",null,null,null,null,null,{"$f":"IF($N$99=\"základní\",$J$99,0)","v":0},{"$f":"IF($N$99=\"snížená\",$J$99,0)","v":0},{"$f":"IF($N$99=\"zákl. přenesená\",$J$99,0)","v":0},{"$f":"IF($N$99=\"sníž. přenesená\",$J$99,0)","v":0},{"$f":"IF($N$99=\"nulová\",$J$99,0)","v":0},"1",{"$f":"ROUND($I$99*$H$99,2)","v":0},"4","-839293499"]
[null,null,null,"PP",null,"Montáž svislé dopravní značky základní velikosti do 2 m2 objímkami na sloupky nebo konzoly",null,null,null,null,null,null,null,null,null,null,null,null,null,null,null,null,null,null,null,null,null,null,null,null,null,null,null,null,null,null,null,null,null,null,null,null,null,null,null,"PP","2"]
[null,null,null,"PSC",null,"Poznámka k souboru cen:\n1. V cenách jsou započteny i náklady na montáž značek včetně upevňovacího materiálu na předem     připravenou nosnou konstrukci (sloupek, konzolu, sloup). 2. V cenách nejsou započteny náklady na:     a) dodání značek, tyto se oceňují ve specifikaci,     b) na montáž a dodávku ocelových nosných konstrukcí – sloupků, konzol, tyto se oceňují cenami         souboru cen 914 51 Montáž sloupku a 914 53 Montáž konzol a nástavců,     c) nátěry, tyto se oceňují jako práce PSV příslušnými cenami katalogu 800-783 Nátěry,     d) naložení a odklizení výkopku, tyto se oceňují cenami části A 01 katalogu 800-1 Zemní práce. 3. Ceny nelze použít pro osazení a montáž svislých dopravních značek:     a) světelných, tyto se oceňují cenami katalogu 21 M Elektromontáže – silnoproud,     b) upevněných na lanech, nebo speciálních konstrukcích nesoucích více značek, tyto se oceňují         individuálně. ",null,null,null,null,null,null,null,null,null,null,null,null,null,null,null,null,null,null,null,null,null,null,null,null,null,null,null,null,null,null,null,null,null,null,null,null,null,null,null,"PSC","2"]
[null,null,null,"VV",null,"značka IP 19",null,null,null,null,null,null,null,null,null,null,null,null,null,null,null,null,null,null,null,null,null,null,null,null,null,null,null,null,null,null,null,null,null,null,null,null,null,null,null,"VV","2","1","-1","0","ROZPOCET"]
[null,null,null,"VV",null,"2,0",null,2,null,null,null,null,null,null,null,null,null,null,null,null,null,null,null,null,null,null,null,null,null,null,null,null,null,null,null,null,null,null,null,null,null,null,null,null,null,"VV","2","2","-1","1","ROZPOCET"]
[null,null,"3","K","914511112","Montáž sloupku dopravních značek délky do 3,5 m s betonovým základem a patkou","kus",3,null,{"$f":"ROUND($I$104*$H$104,2)","v":0},"CS ÚRS 2014 02",null,null,"základní",null,null,0.112405,{"$f":"$Q$104*$H$104","v":0.33721500000000004},0,{"$f":"$S$104*$H$104","v":0},null,null,null,null,null,null,null,null,null,null,null,null,null,null,null,null,null,null,null,null,null,null,null,"4",null,"K","2",null,null,null,"ROZPOCET",null,null,null,null,null,{"$f":"IF($N$104=\"základní\",$J$104,0)","v":0},{"$f":"IF($N$104=\"snížená\",$J$104,0)","v":0},{"$f":"IF($N$104=\"zákl. přenesená\",$J$104,0)","v":0},{"$f":"IF($N$104=\"sníž. přenesená\",$J$104,0)","v":0},{"$f":"IF($N$104=\"nulová\",$J$104,0)","v":0},"1",{"$f":"ROUND($I$104*$H$104,2)","v":0},"4","371258826"]
[null,null,null,"PP",null,"Montáž sloupku dopravních značek délky do 3,5 m do hliníkové patky",null,null,null,null,null,null,null,null,null,null,null,null,null,null,null,null,null,null,null,null,null,null,null,null,null,null,null,null,null,null,null,null,null,null,null,null,null,null,null,"PP","2"]
[null,null,null,"PSC",null,"Poznámka k souboru cen:\n1. V cenách jsou započteny i náklady na:     a) vykopání jamek s odhozem výkopku na vzdálenost do 3 m,     b) osazení sloupku včetně montáže a dodávky plastového víčka, 2. V cenách -1111 jsou započteny i náklady na betonový základ. 3. V cenách -1112 jsou započteny i náklady na hliníkovou patku s betonovým základem. 4. V cenách nejsou započteny náklady na:     a) dodání sloupku, tyto se oceňují ve specifikaci     b) naložení a odklizení výkopku, tyto se oceňují cenami části A01 katalogu 800-1 Zemní práce. ",null,null,null,null,null,null,null,null,null,null,null,null,null,null,null,null,null,null,null,null,null,null,null,null,null,null,null,null,null,null,null,null,null,null,null,null,null,null,null,"PSC","2"]
[null,null,"4","M","404442320","značka svislá reflexní AL- 3M 500 x 500 mm","kus",1,null,{"$f":"ROUND($I$107*$H$107,2)","v":0},"CS ÚRS 2014 02",null,null,"základní",null,null,3.0999999999999999E-3,{"$f":"$Q$107*$H$107","v":3.0999999999999999E-3},0,{"$f":"$S$107*$H$107","v":0},null,null,null,null,null,null,null,null,null,null,null,null,null,null,null,null,null,null,null,null,null,null,null,"8",null,"M","2",null,null,null,"ROZPOCET",null,null,null,null,null,{"$f":"IF($N$107=\"základní\",$J$107,0)","v":0},{"$f":"IF($N$107=\"snížená\",$J$107,0)","v":0},{"$f":"IF($N$107=\"zákl. přenesená\",$J$107,0)","v":0},{"$f":"IF($N$107=\"sníž. přenesená\",$J$107,0)","v":0},{"$f":"IF($N$107=\"nulová\",$J$107,0)","v":0},"1",{"$f":"ROUND($I$107*$H$107,2)","v":0},"4","-1090484330"]
[null,null,null,"PP",null,"výrobky a tabule orientační pro návěstí a zabezpečovací zařízení silniční značky dopravní svislé FeZn  plech FeZn AL     plech Al NK, 3M   povrchová úprava reflexní fólií tř.1 čtvercové značky P2, P3, P8, IP1-7,IP10,E1,E2,E6,E9,E10,E12,IJ4 500 x 500 mm AL- 3M  reflexní tř.1",null,null,null,null,null,null,null,null,null,null,null,null,null,null,null,null,null,null,null,null,null,null,null,null,null,null,null,null,null,null,null,null,null,null,null,null,null,null,null,"PP","2"]
[null,null,null,"VV",null,"k pol.914111111",null,null,null,null,null,null,null,null,null,null,null,null,null,null,null,null,null,null,null,null,null,null,null,null,null,null,null,null,null,null,null,null,null,null,null,null,null,null,null,"VV","2","1","-1","0","ROZPOCET"]
[null,null,null,"VV",null,"značka č.E12 s nápisem \"Pro držitele parkovacích karet\"",null,null,null,null,null,null,null,null,null,null,null,null,null,null,null,null,null,null,null,null,null,null,null,null,null,null,null,null,null,null,null,null,null,null,null,null,null,null,null,"VV","2","1","-1","0","ROZPOCET"]
[null,null,null,"VV",null,"1,0",null,1,null,null,null,null,null,null,null,null,null,null,null,null,null,null,null,null,null,null,null,null,null,null,null,null,null,null,null,null,null,null,null,null,null,null,null,null,null,"VV","2","2","-1","1","ROZPOCET"]
[null,null,"5","M","404442580","značka svislá reflexní AL- 3M 500 x 700 mm","kus",1,null,{"$f":"ROUND($I$112*$H$112,2)","v":0},"CS ÚRS 2014 02",null,null,"základní",null,null,3.0000000000000001E-3,{"$f":"$Q$112*$H$112","v":3.0000000000000001E-3},0,{"$f":"$S$112*$H$112","v":0},null,null,null,null,null,null,null,null,null,null,null,null,null,null,null,null,null,null,null,null,null,null,null,"8",null,"M","2",null,null,null,"ROZPOCET",null,null,null,null,null,{"$f":"IF($N$112=\"základní\",$J$112,0)","v":0},{"$f":"IF($N$112=\"snížená\",$J$112,0)","v":0},{"$f":"IF($N$112=\"zákl. přenesená\",$J$112,0)","v":0},{"$f":"IF($N$112=\"sníž. přenesená\",$J$112,0)","v":0},{"$f":"IF($N$112=\"nulová\",$J$112,0)","v":0},"1",{"$f":"ROUND($I$112*$H$112,2)","v":0},"4","2077504348"]
[null,null,null,"PP",null,"výrobky a tabule orientační pro návěstí a zabezpečovací zařízení silniční značky dopravní svislé FeZn  plech FeZn AL     plech Al NK, 3M   povrchová úprava reflexní fólií tř.1 obdélníkové značky IP8,IP9,IP11,IP12, IP13,IS15, IJ1-15, E2,E12 500x700 mm AL- 3M  reflexní tř.1",null,null,null,null,null,null,null,null,null,null,null,null,null,null,null,null,null,null,null,null,null,null,null,null,null,null,null,null,null,null,null,null,null,null,null,null,null,null,null,"PP","2"]
[null,null,null,"VV",null,"k pol.914111111",null,null,null,null,null,null,null,null,null,null,null,null,null,null,null,null,null,null,null,null,null,null,null,null,null,null,null,null,null,null,null,null,null,null,null,null,null,null,null,"VV","2","1","-1","0","ROZPOCET"]
[null,null,null,"VV",null,"značka č.IP12",null,null,null,null,null,null,null,null,null,null,null,null,null,null,null,null,null,null,null,null,null,null,null,null,null,null,null,null,null,null,null,null,null,null,null,null,null,null,null,"VV","2","1","-1","0","ROZPOCET"]
[null,null,null,"VV",null,"1,0",null,1,null,null,null,null,null,null,null,null,null,null,null,null,null,null,null,null,null,null,null,null,null,null,null,null,null,null,null,null,null,null,null,null,null,null,null,null,null,"VV","2","2","-1","1","ROZPOCET"]
[null,null,"6","M","404442720","značka svislá reflexní AL- 3M 1000 x 1500 mm","kus",2,null,{"$f":"ROUND($I$117*$H$117,2)","v":0},"CS ÚRS 2014 02",null,null,"základní",null,null,6.0000000000000001E-3,{"$f":"$Q$117*$H$117","v":1.2E-2},0,{"$f":"$S$117*$H$117","v":0},null,null,null,null,null,null,null,null,null,null,null,null,null,null,null,null,null,null,null,null,null,null,null,"8",null,"M","2",null,null,null,"ROZPOCET",null,null,null,null,null,{"$f":"IF($N$117=\"základní\",$J$117,0)","v":0},{"$f":"IF($N$117=\"snížená\",$J$117,0)","v":0},{"$f":"IF($N$117=\"zákl. přenesená\",$J$117,0)","v":0},{"$f":"IF($N$117=\"sníž. přenesená\",$J$117,0)","v":0},{"$f":"IF($N$117=\"nulová\",$J$117,0)","v":0},"1",{"$f":"ROUND($I$117*$H$117,2)","v":0},"4","976012398"]
[null,null,null,"PP",null,"výrobky a tabule orientační pro návěstí a zabezpečovací zařízení silniční značky dopravní svislé FeZn  plech FeZn AL     plech Al NK, 3M   povrchová úprava reflexní fólií tř.1 obdélníkové značky IP14-24, IP28, IP29, IS9-11, IS23, IP25, IP27 1000x1500 mm AL- 3M  reflexní tř.1",null,null,null,null,null,null,null,null,null,null,null,null,null,null,null,null,null,null,null,null,null,null,null,null,null,null,null,null,null,null,null,null,null,null,null,null,null,null,null,"PP","2"]
[null,null,null,"VV",null,"k pol.914111121",null,null,null,null,null,null,null,null,null,null,null,null,null,null,null,null,null,null,null,null,null,null,null,null,null,null,null,null,null,null,null,null,null,null,null,null,null,null,null,"VV","2","1","-1","0","ROZPOCET"]
[null,null,null,"VV",null,"značka č. IP 19",null,null,null,null,null,null,null,null,null,null,null,null,null,null,null,null,null,null,null,null,null,null,null,null,null,null,null,null,null,null,null,null,null,null,null,null,null,null,null,"VV","2","1","-1","0","ROZPOCET"]
[null,null,null,"VV",null,"2,0",null,2,null,null,null,null,null,null,null,null,null,null,null,null,null,null,null,null,null,null,null,null,null,null,null,null,null,null,null,null,null,null,null,null,null,null,null,null,null,"VV","2","2","-1","1","ROZPOCET"]
[null,null,"7","M","404443180","značka svislá reflexní AL- 3M 500 X 300 mm","kus",1,null,{"$f":"ROUND($I$122*$H$122,2)","v":0},"CS ÚRS 2014 02",null,null,"základní",null,null,4.0000000000000001E-3,{"$f":"$Q$122*$H$122","v":4.0000000000000001E-3},0,{"$f":"$S$122*$H$122","v":0},null,null,null,null,null,null,null,null,null,null,null,null,null,null,null,null,null,null,null,null,null,null,null,"8",null,"M","2",null,null,null,"ROZPOCET",null,null,null,null,null,{"$f":"IF($N$122=\"základní\",$J$122,0)","v":0},{"$f":"IF($N$122=\"snížená\",$J$122,0)","v":0},{"$f":"IF($N$122=\"zákl. přenesená\",$J$122,0)","v":0},{"$f":"IF($N$122=\"sníž. přenesená\",$J$122,0)","v":0},{"$f":"IF($N$122=\"nulová\",$J$122,0)","v":0},"1",{"$f":"ROUND($I$122*$H$122,2)","v":0},"4","1877887836"]
[null,null,null,"PP",null,"výrobky a tabule orientační pro návěstí a zabezpečovací zařízení silniční značky dopravní svislé FeZn  plech FeZn AL     plech Al NK, 3M   povrchová úprava reflexní fólií tř.1 obdélníkové značky IS 16a, 16b, 16c,16d,17,E7a,E7b,E12 500 X 300 mm AL- 3M  reflexní tř.1",null,null,null,null,null,null,null,null,null,null,null,null,null,null,null,null,null,null,null,null,null,null,null,null,null,null,null,null,null,null,null,null,null,null,null,null,null,null,null,"PP","2"]
[null,null,null,"VV",null,"k pol.914111111",null,null,null,null,null,null,null,null,null,null,null,null,null,null,null,null,null,null,null,null,null,null,null,null,null,null,null,null,null,null,null,null,null,null,null,null,null,null,null,"VV","2","1","-1","0","ROZPOCET"]
[null,null,null,"VV",null,"značka č.E7b",null,null,null,null,null,null,null,null,null,null,null,null,null,null,null,null,null,null,null,null,null,null,null,null,null,null,null,null,null,null,null,null,null,null,null,null,null,null,null,"VV","2","1","-1","0","ROZPOCET"]
[null,null,null,"VV",null,"1,0",null,1,null,null,null,null,null,null,null,null,null,null,null,null,null,null,null,null,null,null,null,null,null,null,null,null,null,null,null,null,null,null,null,null,null,null,null,null,null,"VV","2","2","-1","1","ROZPOCET"]
[null,null,"8","M","404452300","sloupek Zn 70 - 350","kus",3,null,{"$f":"ROUND($I$127*$H$127,2)","v":0},"CS ÚRS 2014 02",null,null,"základní",null,null,6.4999999999999997E-3,{"$f":"$Q$127*$H$127","v":1.95E-2},0,{"$f":"$S$127*$H$127","v":0},null,null,null,null,null,null,null,null,null,null,null,null,null,null,null,null,null,null,null,null,null,null,null,"8",null,"M","2",null,null,null,"ROZPOCET",null,null,null,null,null,{"$f":"IF($N$127=\"základní\",$J$127,0)","v":0},{"$f":"IF($N$127=\"snížená\",$J$127,0)","v":0},{"$f":"IF($N$127=\"zákl. přenesená\",$J$127,0)","v":0},{"$f":"IF($N$127=\"sníž. přenesená\",$J$127,0)","v":0},{"$f":"IF($N$127=\"nulová\",$J$127,0)","v":0},"1",{"$f":"ROUND($I$127*$H$127,2)","v":0},"4","974025368"]
[null,null,null,"PP",null,"výrobky a tabule orientační pro návěstí a zabezpečovací zařízení silniční značky dopravní svislé sloupky Zn 70 - 350",null,null,null,null,null,null,null,null,null,null,null,null,null,null,null,null,null,null,null,null,null,null,null,null,null,null,null,null,null,null,null,null,null,null,null,null,null,null,null,"PP","2"]
[null,null,null,"VV",null,"k pol.914001111",null,null,null,null,null,null,null,null,null,null,null,null,null,null,null,null,null,null,null,null,null,null,null,null,null,null,null,null,null,null,null,null,null,null,null,null,null,null,null,"VV","2","1","-1","0","ROZPOCET"]
[null,null,null,"VV",null,"3,0",null,3,null,null,null,null,null,null,null,null,null,null,null,null,null,null,null,null,null,null,null,null,null,null,null,null,null,null,null,null,null,null,null,null,null,null,null,null,null,"VV","2","2","-1","1","ROZPOCET"]
[null,null,"9","K","915111111","Vodorovné dopravní značení šířky 125 mm bílou barvou dělící čáry souvislé","m",80,null,{"$f":"ROUND($I$131*$H$131,2)","v":0},"CS ÚRS 2014 02",null,null,"základní",null,null,7.4999999999999993E-5,{"$f":"$Q$131*$H$131","v":5.9999999999999993E-3},0,{"$f":"$S$131*$H$131","v":0},null,null,null,null,null,null,null,null,null,null,null,null,null,null,null,null,null,null,null,null,null,null,null,"4",null,"K","2",null,null,null,"ROZPOCET",null,null,null,null,null,{"$f":"IF($N$131=\"základní\",$J$131,0)","v":0},{"$f":"IF($N$131=\"snížená\",$J$131,0)","v":0},{"$f":"IF($N$131=\"zákl. přenesená\",$J$131,0)","v":0},{"$f":"IF($N$131=\"sníž. přenesená\",$J$131,0)","v":0},{"$f":"IF($N$131=\"nulová\",$J$131,0)","v":0},"1",{"$f":"ROUND($I$131*$H$131,2)","v":0},"4","1503596380"]
[null,null,null,"PP",null,"Vodorovné dopravní značení stříkané barvou dělící čára šířky 125 mm souvislá bílá základní",null,null,null,null,null,null,null,null,null,null,null,null,null,null,null,null,null,null,null,null,null,null,null,null,null,null,null,null,null,null,null,null,null,null,null,null,null,null,null,"PP","2"]
[null,null,null,"PSC",null,"Poznámka k souboru cen:\n1. Ceny jsou určeny pro dělící čáry bílé souvislé č. V1a, bílé přerušované č. V2a, žluté souvislé     č. V12b, žluté přerušované č. V12c a vodící čáry bílé č. V4. 2. V cenách nejsou započteny náklady na:     a) předznačení, tyto se oceňují cenami souboru cen 915 6.-11 Předznačení pro vodorovné značení,     b) očištění vozovky, tyto se oceňují cenami souboru cen 938 90-9 . Odstranění bláta, prachu         nebo hlinitého nánosu s povrchu podkladu nebo krytu části C 01 tohoto katalogu. 3. Množství měrných jednotek se u cen 915 11 a 915 12 určuje v m a u cen 915 13 v m2 stříkané     plochy bez mezer. ",null,null,null,null,null,null,null,null,null,null,null,null,null,null,null,null,null,null,null,null,null,null,null,null,null,null,null,null,null,null,null,null,null,null,null,null,null,null,null,"PSC","2"]
[null,null,"10","K","915111121","Vodorovné dopravní značení šířky 125 mm bílou barvou dělící čáry přerušované","m",41,null,{"$f":"ROUND($I$134*$H$134,2)","v":0},"CS ÚRS 2014 02",null,null,"základní",null,null,2.5199999999999999E-5,{"$f":"$Q$134*$H$134","v":1.0332E-3},0,{"$f":"$S$134*$H$134","v":0},null,null,null,null,null,null,null,null,null,null,null,null,null,null,null,null,null,null,null,null,null,null,null,"4",null,"K","2",null,null,null,"ROZPOCET",null,null,null,null,null,{"$f":"IF($N$134=\"základní\",$J$134,0)","v":0},{"$f":"IF($N$134=\"snížená\",$J$134,0)","v":0},{"$f":"IF($N$134=\"zákl. přenesená\",$J$134,0)","v":0},{"$f":"IF($N$134=\"sníž. přenesená\",$J$134,0)","v":0},{"$f":"IF($N$134=\"nulová\",$J$134,0)","v":0},"1",{"$f":"ROUND($I$134*$H$134,2)","v":0},"4","806283987"]
[null,null,null,"PP",null,"Vodorovné dopravní značení stříkané barvou dělící čára šířky 125 mm přerušovaná bílá základní",null,null,null,null,null,null,null,null,null,null,null,null,null,null,null,null,null,null,null,null,null,null,null,null,null,null,null,null,null,null,null,null,null,null,null,null,null,null,null,"PP","2"]
[null,null,null,"PSC",null,"Poznámka k souboru cen:\n1. Ceny jsou určeny pro dělící čáry bílé souvislé č. V1a, bílé přerušované č. V2a, žluté souvislé     č. V12b, žluté přerušované č. V12c a vodící čáry bílé č. V4. 2. V cenách nejsou započteny náklady na:     a) předznačení, tyto se oceňují cenami souboru cen 915 6.-11 Předznačení pro vodorovné značení,     b) očištění vozovky, tyto se oceňují cenami souboru cen 938 90-9 . Odstranění bláta, prachu         nebo hlinitého nánosu s povrchu podkladu nebo krytu části C 01 tohoto katalogu. 3. Množství měrných jednotek se u cen 915 11 a 915 12 určuje v m a u cen 915 13 v m2 stříkané     plochy bez mezer. ",null,null,null,null,null,null,null,null,null,null,null,null,null,null,null,null,null,null,null,null,null,null,null,null,null,null,null,null,null,null,null,null,null,null,null,null,null,null,null,"PSC","2"]
[null,null,"11","K","915131111","Vodorovné dopravní značení bílou barvou přechody pro chodce, šipky, symboly","m2",82,null,{"$f":"ROUND($I$137*$H$137,2)","v":0},"CS ÚRS 2014 02",null,null,"základní",null,null,5.9999999999999995E-4,{"$f":"$Q$137*$H$137","v":4.9199999999999994E-2},0,{"$f":"$S$137*$H$137","v":0},null,null,null,null,null,null,null,null,null,null,null,null,null,null,null,null,null,null,null,null,null,null,null,"4",null,"K","2",null,null,null,"ROZPOCET",null,null,null,null,null,{"$f":"IF($N$137=\"základní\",$J$137,0)","v":0},{"$f":"IF($N$137=\"snížená\",$J$137,0)","v":0},{"$f":"IF($N$137=\"zákl. přenesená\",$J$137,0)","v":0},{"$f":"IF($N$137=\"sníž. přenesená\",$J$137,0)","v":0},{"$f":"IF($N$137=\"nulová\",$J$137,0)","v":0},"1",{"$f":"ROUND($I$137*$H$137,2)","v":0},"4","535054267"]
[null,null,null,"PP",null,"Vodorovné dopravní značení stříkané barvou přechody pro chodce, šipky, symboly bílé základní",null,null,null,null,null,null,null,null,null,null,null,null,null,null,null,null,null,null,null,null,null,null,null,null,null,null,null,null,null,null,null,null,null,null,null,null,null,null,null,"PP","2"]
[null,null,null,"PSC",null,"Poznámka k souboru cen:\n1. Ceny jsou určeny pro dělící čáry bílé souvislé č. V1a, bílé přerušované č. V2a, žluté souvislé     č. V12b, žluté přerušované č. V12c a vodící čáry bílé č. V4. 2. V cenách nejsou započteny náklady na:     a) předznačení, tyto se oceňují cenami souboru cen 915 6.-11 Předznačení pro vodorovné značení,     b) očištění vozovky, tyto se oceňují cenami souboru cen 938 90-9 . Odstranění bláta, prachu         nebo hlinitého nánosu s povrchu podkladu nebo krytu části C 01 tohoto katalogu. 3. Množství měrných jednotek se u cen 915 11 a 915 12 určuje v m a u cen 915 13 v m2 stříkané     plochy bez mezer. ",null,null,null,null,null,null,null,null,null,null,null,null,null,null,null,null,null,null,null,null,null,null,null,null,null,null,null,null,null,null,null,null,null,null,null,null,null,null,null,"PSC","2"]
[null,null,"12","K","915611111","Předznačení vodorovného liniového značení","m",121,null,{"$f":"ROUND($I$140*$H$140,2)","v":0},"CS ÚRS 2014 02",null,null,"základní",null,null,3.7500000000000001E-6,{"$f":"$Q$140*$H$140","v":4.5375E-4},0,{"$f":"$S$140*$H$140","v":0},null,null,null,null,null,null,null,null,null,null,null,null,null,null,null,null,null,null,null,null,null,null,null,"4",null,"K","2",null,null,null,"ROZPOCET",null,null,null,null,null,{"$f":"IF($N$140=\"základní\",$J$140,0)","v":0},{"$f":"IF($N$140=\"snížená\",$J$140,0)","v":0},{"$f":"IF($N$140=\"zákl. přenesená\",$J$140,0)","v":0},{"$f":"IF($N$140=\"sníž. přenesená\",$J$140,0)","v":0},{"$f":"IF($N$140=\"nulová\",$J$140,0)","v":0},"1",{"$f":"ROUND($I$140*$H$140,2)","v":0},"4","2128042167"]
[null,null,null,"PP",null,"Předznačení pro vodorovné značení stříkané barvou nebo prováděné z nátěrových hmot liniové dělicí čáry, vodicí proužky",null,null,null,null,null,null,null,null,null,null,null,null,null,null,null,null,null,null,null,null,null,null,null,null,null,null,null,null,null,null,null,null,null,null,null,null,null,null,null,"PP","2"]
[null,null,null,"PSC",null,"Poznámka k souboru cen:\n1. Množství měrných jednotek se určuje:     a) pro cenu -1111 v m délky dělicí čáry nebo vodícího proužku (včetně mezer),     b) pro cenu -1112 v m2 natírané nebo stříkané plochy. ",null,null,null,null,null,null,null,null,null,null,null,null,null,null,null,null,null,null,null,null,null,null,null,null,null,null,null,null,null,null,null,null,null,null,null,null,null,null,null,"PSC","2"]
[null,null,"13","K","915621111","Předznačení vodorovného plošného značení","m2",82,null,{"$f":"ROUND($I$143*$H$143,2)","v":0},"CS ÚRS 2014 02",null,null,"základní",null,null,9.38E-6,{"$f":"$Q$143*$H$143","v":7.6915999999999996E-4},0,{"$f":"$S$143*$H$143","v":0},null,null,null,null,null,null,null,null,null,null,null,null,null,null,null,null,null,null,null,null,null,null,null,"4",null,"K","2",null,null,null,"ROZPOCET",null,null,null,null,null,{"$f":"IF($N$143=\"základní\",$J$143,0)","v":0},{"$f":"IF($N$143=\"snížená\",$J$143,0)","v":0},{"$f":"IF($N$143=\"zákl. přenesená\",$J$143,0)","v":0},{"$f":"IF($N$143=\"sníž. přenesená\",$J$143,0)","v":0},{"$f":"IF($N$143=\"nulová\",$J$143,0)","v":0},"1",{"$f":"ROUND($I$143*$H$143,2)","v":0},"4","1101293142"]
[null,null,null,"PP",null,"Předznačení pro vodorovné značení stříkané barvou nebo prováděné z nátěrových hmot plošné šipky, symboly, nápisy",null,null,null,null,null,null,null,null,null,null,null,null,null,null,null,null,null,null,null,null,null,null,null,null,null,null,null,null,null,null,null,null,null,null,null,null,null,null,null,"PP","2"]
[null,null,null,"PSC",null,"Poznámka k souboru cen:\n1. Množství měrných jednotek se určuje:     a) pro cenu -1111 v m délky dělicí čáry nebo vodícího proužku (včetně mezer),     b) pro cenu -1112 v m2 natírané nebo stříkané plochy. ",null,null,null,null,null,null,null,null,null,null,null,null,null,null,null,null,null,null,null,null,null,null,null,null,null,null,null,null,null,null,null,null,null,null,null,null,null,null,null,"PSC","2"]
[null,null,"14","K","938909311","Čištění vozovek metením strojně podkladu nebo krytu betonového nebo živičného","m2",1000,null,{"$f":"ROUND($I$146*$H$146,2)","v":0},"CS ÚRS 2014 02",null,null,"základní",null,null,0,{"$f":"$Q$146*$H$146","v":0},0,{"$f":"$S$146*$H$146","v":0},null,null,null,null,null,null,null,null,null,null,null,null,null,null,null,null,null,null,null,null,null,null,null,"4",null,"K","2",null,null,null,"ROZPOCET",null,null,null,null,null,{"$f":"IF($N$146=\"základní\",$J$146,0)","v":0},{"$f":"IF($N$146=\"snížená\",$J$146,0)","v":0},{"$f":"IF($N$146=\"zákl. přenesená\",$J$146,0)","v":0},{"$f":"IF($N$146=\"sníž. přenesená\",$J$146,0)","v":0},{"$f":"IF($N$146=\"nulová\",$J$146,0)","v":0},"1",{"$f":"ROUND($I$146*$H$146,2)","v":0},"4","2031327015"]
[null,null,null,"PP",null,"Čištění vozovek metením bláta, prachu nebo hlinitého nánosu s odklizením na hromady na vzdálenost do 20 m nebo naložením na dopravní prostředek strojně povrchu podkladu nebo krytu betonového nebo živičného",null,null,null,null,null,null,null,null,null,null,null,null,null,null,null,null,null,null,null,null,null,null,null,null,null,null,null,null,null,null,null,null,null,null,null,null,null,null,null,"PP","2"]
[null,null,null,"PSC",null,"Poznámka k souboru cen:\n1. Ceny jsou určeny pro očištění:     a) povrchu stávající vozovky,     b) povrchu rozestavěné trvalé vozovky, předepíše-li projekt užívat nově zřizovanou vozovku po         dobu výstavby ještě před zřízením konečného závěrečného krytu. ",null,null,null,null,null,null,null,null,null,null,null,null,null,null,null,null,null,null,null,null,null,null,null,null,null,null,null,null,null,null,null,null,null,null,null,null,null,null,null,"PSC","2"]
[null,null,null,"D","99","Přesun hmot",null,null,null,{"$f":"$BK$149","v":0},null,null,null,null,null,{"$f":"SUM($P$150:$P$152)","v":0},null,{"$f":"SUM($R$150:$R$152)","v":0},null,{"$f":"SUM($T$150:$T$152)","v":0},null,null,null,null,null,null,null,null,null,null,null,null,null,null,null,null,null,null,null,null,null,null,null,"1",null,"D","1",null,null,null,"ROZPOCET",null,null,null,null,null,null,null,null,null,null,null,{"$f":"SUM($BK$150:$BK$152)","v":0}]
[null,null,"15","K","998225111","Přesun hmot pro pozemní komunikace s krytem z kamene, monolitickým betonovým nebo živičným","t",0.44,null,{"$f":"ROUND($I$150*$H$150,2)","v":0},"CS ÚRS 2014 02",null,null,"základní",null,null,0,{"$f":"$Q$150*$H$150","v":0},0,{"$f":"$S$150*$H$150","v":0},null,null,null,null,null,null,null,null,null,null,null,null,null,null,null,null,null,null,null,null,null,null,null,"4",null,"K","2",null,null,null,"ROZPOCET",null,null,null,null,null,{"$f":"IF($N$150=\"základní\",$J$150,0)","v":0},{"$f":"IF($N$150=\"snížená\",$J$150,0)","v":0},{"$f":"IF($N$150=\"zákl. přenesená\",$J$150,0)","v":0},{"$f":"IF($N$150=\"sníž. přenesená\",$J$150,0)","v":0},{"$f":"IF($N$150=\"nulová\",$J$150,0)","v":0},"1",{"$f":"ROUND($I$150*$H$150,2)","v":0},"4","474939511"]
[null,null,null,"PP",null,"Přesun hmot pro komunikace s krytem z kameniva, monolitickým betonovým nebo živičným dopravní vzdálenost do 200 m jakékoliv délky objektu",null,null,null,null,null,null,null,null,null,null,null,null,null,null,null,null,null,null,null,null,null,null,null,null,null,null,null,null,null,null,null,null,null,null,null,null,null,null,null,"PP","2"]
[null,null,null,"PSC",null,"Poznámka k souboru cen:\n1. Ceny lze použít i pro plochy letišť s krytem monolitickým betonovým nebo živičným. ",null,null,null,null,null,null,null,null,null,null,null,null,null,null,null,null,null,null,null,null,null,null,null,null,null,null,null,null,null,null,null,null,null,null,null,null,null,null,null,"PSC","2"]

{"sheet":"SO311 - SO 311  Dešťová k...","index":6,"n_rows":593,"n_cols":65,"rows_kept":593,"cut":false,"hidden":false,"merged":[[81,4,81,7],[83,4,83,7],[25,4,25,7],[46,4,46,7],[48,4,48,7],[50,4,50,7],[79,4,79,7],[0,6,0,7],[1,11,1,21],[6,4,6,7],[8,4,8,7],[10,4,10,7]]}
[null,null,null,"List obsahuje:",null,"1) Krycí list soupisu","2) Rekapitulace",null,null,"3) Soupis prací","Zpět na list:","Rekapitulace stavby"]
[null,null,null,null,null,null,null,null,null,null,null,null,null,null,null,null,null,null,null,null,null,null,null,null,null,null,null,null,null,null,null,null,null,null,null,null,null,null,null,null,null,null,null,null,null,"{D68EA3AE-4AEE-49AC-883A-298A897F9EC9}"]
[null,null,null,null,null,null,null,null,null,null,null,null,null,null,null,null,null,null,null,null,null,null,null,null,null,null,null,null,null,null,null,null,null,null,null,null,null,null,null,null,null,null,null,null,null,"2"]
[null,null,null,"KRYCÍ LIST SOUPISU",null,null,null,null,null,null,null,null,"v ---  níže se nacházejí doplnkové a pomocné údaje k sestavám  --- v",null,null,null,null,null,null,null,null,null,null,null,null,null,null,null,null,null,null,null,null,null,null,null,null,null,null,null,null,null,null,null,null,"False"]
[]
[null,null,null,"Stavba:"]
[null,null,null,null,{"$f":"'Rekapitulace stavby'!$K$6","v":"Město Sokolov - Záchytné parkoviště Michal"}]
[null,null,null,"Objekt:"]
[null,null,null,null,"2.E - 2. ETAPA"]
[null,null,null,"Soupis:"]
[null,null,null,null,"SO311 - SO 311  Dešťová kanalizace"]
[]
[null,null,null,"KSO:",null,"827 21",null,null,"CC-CZ:","7941-26"]
[null,null,null,"Místo:",null,"Sokolov",null,null,"Datum:",{"$f":"'Rekapitulace stavby'!$AN$8","v":"09.09.2014"}]
[]
[null,null,null,"Zadavatel:",null,null,null,null,"IČ:"]
[null,null,null,null,"Město Sokolov",null,null,null,"DIČ:"]
[]
[null,null,null,"Uchazeč:",null,null,null,null,"IČ:",{"$f":"IF('Rekapitulace stavby'!$AN$13=\"Vyplň údaj\",\"\",IF('Rekapitulace stavby'!$AN$13=\"\",\"\",'Rekapitulace stavby'!$AN$13))","v":""}]
[null,null,null,null,{"$f":"IF('Rekapitulace stavby'!$E$14=\"Vyplň údaj\",\"\",IF('Rekapitulace stavby'!$E$14=\"\",\"\",'Rekapitulace stavby'!$E$14))","v":""},null,null,null,"DIČ:",{"$f":"IF('Rekapitulace stavby'!$AN$14=\"Vyplň údaj\",\"\",IF('Rekapitulace stavby'!$AN$14=\"\",\"\",'Rekapitulace stavby'!$AN$14))","v":""}]
[]
[null,null,null,"Projektant:",null,null,null,null,"IČ:","18224920"]
[null,null,null,null,"BPO spol. s r.o., Lidická 1239, 363 17 Ostrov",null,null,null,"DIČ:","CZ18224920"]
[]
[null,null,null,"Poznámka:"]
[]
[]
[]
[null,null,null,"Cena bez DPH",null,null,null,null,null,{"$f":"ROUND($J$92,2)","v":0}]
[]
[null,null,null,null,null,"Základ daně",null,null,"Sazba daně","Výše daně"]
[null,null,null,"DPH","základní",{"$f":"ROUND(SUM($BE$92:$BE$593),2)","v":0},null,null,0.21,{"$f":"ROUND(SUM($BE$92:$BE$593)*$I$32,2)","v":0}]
[null,null,null,null,"snížená",{"$f":"ROUND(SUM($BF$92:$BF$593),2)","v":0},null,null,0.15,{"$f":"ROUND(SUM($BF$92:$BF$593)*$I$33,2)","v":0}]
[null,null,null,null,"zákl. přenesená",{"$f":"ROUND(SUM($BG$92:$BG$593),2)","v":0},null,null,0.21,0]
[null,null,null,null,"sníž. přenesená",{"$f":"ROUND(SUM($BH$92:$BH$593),2)","v":0},null,null,0.15,0]
[null,null,null,null,"nulová",{"$f":"ROUND(SUM($BI$92:$BI$593),2)","v":0},null,null,0,0]
[]
[null,null,null,"Cena s DPH",null,null,"v","CZK",null,{"$f":"ROUND(SUM($J$29:$J$36),2)","v":0}]
[]
[]
[]
[]
[]
[null,null,"REKAPITULACE ČLENĚNÍ SOUPISU PRACÍ"]
[]
[null,null,"Stavba:"]
[null,null,null,null,{"$f":"$E$7","v":"Město Sokolov - Záchytné parkoviště Michal"}]
[null,null,"Objekt:"]
[null,null,null,null,"2.E - 2. ETAPA"]
[null,null,"Soupis:"]
[null,null,null,null,{"$f":"$E$11","v":"SO311 - SO 311  Dešťová kanalizace"}]
[]
[null,null,"Místo:",null,null,{"$f":"$F$14","v":"Sokolov"},null,null,"Datum:",{"$f":"IF($J$14=\"\",\"\",$J$14)","v":"09.09.2014"}]
[]
[null,null,"Zadavatel:",null,null,{"$f":"$E$17","v":"Město Sokolov"},null,null,"Projektant:",{"$f":"$E$23","v":"BPO spol. s r.o., Lidická 1239, 363 17 Ostrov"}]
[null,null,"Uchazeč:",null,null,{"$f":"IF($E$20=\"\",\"\",$E$20)","v":""}]
[]
[null,null,"Kód dílu - Popis",null,null,null,null,null,null,"Cena celkem [CZK]"]
[]
[null,null,"Náklady soupisu celkem",null,null,null,null,null,null,{"$f":"ROUND($J$92,2)","v":0},null,null,null,null,null,null,null,null,null,null,null,null,null,null,null,null,null,null,null,null,null,null,null,null,null,null,null,null,null,null,null,null,null,null,null,null,"-1"]
[null,null,null,"KP - Kanalizační přípojky",null,null,null,null,null,{"$f":"ROUND($J$93,2)","v":0}]
[null,null,null,"    HSV - Práce a dodávky HSV",null,null,null,null,null,{"$f":"ROUND($J$94,2)","v":0}]
[null,null,null,"      1 - Zemní práce",null,null,null,null,null,{"$f":"ROUND($J$95,2)","v":0}]
[null,null,null,"      2 - Zakládání",null,null,null,null,null,{"$f":"ROUND($J$343,2)","v":0}]
[null,null,null,"      38 - Různé kompletní konstrukce",null,null,null,null,null,{"$f":"ROUND($J$383,2)","v":0}]
[null,null,null,"      4 - Vodorovné konstrukce",null,null,null,null,null,{"$f":"ROUND($J$406,2)","v":0}]
[null,null,null,"      87 - Potrubí z trub plastických a skleněných",null,null,null,null,null,{"$f":"ROUND($J$437,2)","v":0}]
[null,null,null,"      89 - Trubní vedení - ostatní konstrukce",null,null,null,null,null,{"$f":"ROUND($J$460,2)","v":0}]
[null,null,null,"      89_Š - Kanalizační šachty",null,null,null,null,null,{"$f":"ROUND($J$497,2)","v":0}]
[null,null,null,"      99 - Přesun hmot",null,null,null,null,null,{"$f":"ROUND($J$581,2)","v":0}]
[]
[]
[]
[]
[]
[]
[null,null,"SOUPIS PRACÍ"]
[]
[null,null,"Stavba:"]
[null,null,null,null,{"$f":"$E$7","v":"Město Sokolov - Záchytné parkoviště Michal"}]
[null,null,"Objekt:"]
[null,null,null,null,"2.E - 2. ETAPA"]
[null,null,"Soupis:"]
[null,null,null,null,{"$f":"$E$11","v":"SO311 - SO 311  Dešťová kanalizace"}]
[]
[null,null,"Místo:",null,null,{"$f":"$F$14","v":"Sokolov"},null,null,"Datum:",{"$f":"IF($J$14=\"\",\"\",$J$14)","v":"09.09.2014"}]
[]
[null,null,"Zadavatel:",null,null,{"$f":"$E$17","v":"Město Sokolov"},null,null,"Projektant:",{"$f":"$E$23","v":"BPO spol. s r.o., Lidická 1239, 363 17 Ostrov"}]
[null,null,"Uchazeč:",null,null,{"$f":"IF($E$20=\"\",\"\",$E$20)","v":""}]
[]
[null,null,"PČ","Typ","Kód","Popis","MJ","Množství","J.cena [CZK]","Cena celkem\n[CZK]","Cenová soustava",null,"Poznámka","DPH","J. Nh [h]","Nh celkem [h]","J. hmotnost\n[t]","Hmotnost\ncelkem [t]","J. suť [t]","Suť Celkem [t]"]
[null,null,"Náklady soupisu celkem",null,null,null,null,null,null,{"$f":"$BK$92","v":0},null,null,null,null,null,{"$f":"$P$93","v":0},null,{"$f":"$R$93","v":259.73754802899998},null,{"$f":"$T$93","v":0},null,null,null,null,null,null,null,null,null,null,null,null,null,null,null,null,null,null,null,null,null,null,null,null,null,"D","-1",null,null,null,null,null,null,null,null,null,null,null,null,null,null,null,{"$f":"$BK$93","v":0}]
[null,null,null,"D","KP","Kanalizační přípojky",null,null,null,{"$f":"$BK$93","v":0},null,null,null,null,null,{"$f":"$P$94","v":0},null,{"$f":"$R$94","v":259.73754802899998},null,{"$f":"$T$94","v":0},null,null,null,null,null,null,null,null,null,null,null,null,null,null,null,null,null,null,null,null,null,null,null,"1",null,"D","0",null,null,null,"ROZPOCET",null,null,null,null,null,null,null,null,null,null,null,{"$f":"$BK$94","v":0}]
[null,null,null,"D","HSV","Práce a dodávky HSV",null,null,null,{"$f":"$BK$94","v":0},null,null,null,null,null,{"$f":"$P$95+$P$343+$P$383+$P$406+$P$437+$P$460+$P$497+$P$581","v":0},null,{"$f":"$R$95+$R$343+$R$383+$R$406+$R$437+$R$460+$R$497+$R$581","v":259.73754802899998},null,{"$f":"$T$95+$T$343+$T$383+$T$406+$T$437+$T$460+$T$497+$T$581","v":0},null,null,null,null,null,null,null,null,null,null,null,null,null,null,null,null,null,null,null,null,null,null,null,"1",null,"D","1",null,null,null,"ROZPOCET",null,null,null,null,null,null,null,null,null,null,null,{"$f":"$BK$95+$BK$343+$BK$383+$BK$406+$BK$437+$BK$460+$BK$497+$BK$581","v":0}]
[null,null,null,"D","1","Zemní práce",null,null,null,{"$f":"$BK$95","v":0},null,null,null,null,null,{"$f":"SUM($P$96:$P$342)","v":0},null,{"$f":"SUM($R$96:$R$342)","v":91.46921802},null,{"$f":"SUM($T$96:$T$342)","v":0},null,null,null,null,null,null,null,null,null,null,null,null,null,null,null,null,null,null,null,null,null,null,null,"1",null,"D","2",null,null,null,"ROZPOCET",null,null,null,null,null,null,null,null,null,null,null,{"$f":"SUM($BK$96:$BK$342)","v":0}]
[null,null,"1","K","131201202","Hloubení jam zapažených v hornině tř. 3 objemu do 1000 m3","m3",111.5,null,{"$f":"ROUND($I$96*$H$96,2)","v":0},"CS ÚRS 2014 02",null,null,"základní",null,null,0,{"$f":"$Q$96*$H$96","v":0},0,{"$f":"$S$96*$H$96","v":0},null,null,null,null,null,null,null,null,null,null,null,null,null,null,null,null,null,null,null,null,null,null,null,"4",null,"K","3",null,null,null,"ROZPOCET",null,null,null,null,null,{"$f":"IF($N$96=\"základní\",$J$96,0)","v":0},{"$f":"IF($N$96=\"snížená\",$J$96,0)","v":0},{"$f":"IF($N$96=\"zákl. přenesená\",$J$96,0)","v":0},{"$f":"IF($N$96=\"sníž. přenesená\",$J$96,0)","v":0},{"$f":"IF($N$96=\"nulová\",$J$96,0)","v":0},"1",{"$f":"ROUND($I$96*$H$96,2)","v":0},"4","445560966"]
[null,null,null,"PP",null,"Hloubení zapažených jam a zářezů s urovnáním dna do předepsaného profilu a spádu v hornině tř. 3 přes 100 do 1 000 m3",null,null,null,null,null,null,null,null,null,null,null,null,null,null,null,null,null,null,null,null,null,null,null,null,null,null,null,null,null,null,null,null,null,null,null,null,null,null,null,"PP","3"]
[null,null,null,"PSC",null,"Poznámka k souboru cen:\n1. V cenách jsou započteny i náklady na případné nutné přemístění výkopku ve výkopišti a na     přehození výkopku na přilehlém terénu na vzdálenost do 3 m od okraje jámy nebo naložení na dopravní     prostředek. 2. Hloubení zapažených jam hloubky přes 16 m se oceňuje individuálně. 3. Náklady na svislé přemístění výkopku nad 1 m hloubky se určí dle ustanovení článku č. 3161     všeobecných podmínek katalogu. ",null,null,null,null,null,null,null,null,null,null,null,null,null,null,null,null,null,null,null,null,null,null,null,null,null,null,null,null,null,null,null,null,null,null,null,null,null,null,null,"PSC","3"]
[null,null,null,"VV",null,"jáma pro retenční nádrž",null,null,null,null,null,null,null,null,null,null,null,null,null,null,null,null,null,null,null,null,null,null,null,null,null,null,null,null,null,null,null,null,null,null,null,null,null,null,null,"VV","3","1","-1","0","ROZPOCET"]
[null,null,null,"VV",null,"1,55*12,9*9,6+0,048",null,192,null,null,null,null,null,null,null,null,null,null,null,null,null,null,null,null,null,null,null,null,null,null,null,null,null,null,null,null,null,null,null,null,null,null,null,null,null,"VV","3","2","-1","0","ROZPOCET"]
[null,null,null,"VV",null,"jáma pro jímku s odlučovačem",null,null,null,null,null,null,null,null,null,null,null,null,null,null,null,null,null,null,null,null,null,null,null,null,null,null,null,null,null,null,null,null,null,null,null,null,null,null,null,"VV","3","1","-1","0","ROZPOCET"]
[null,null,null,"VV",null,"3,5*3,5*2,5+0,375",null,31,null,null,null,null,null,null,null,null,null,null,null,null,null,null,null,null,null,null,null,null,null,null,null,null,null,null,null,null,null,null,null,null,null,null,null,null,null,"VV","3","2","-1","0","ROZPOCET"]
[null,null,null,"VV",null,"Mezisoučet - 100% výkopku",null,223,null,null,null,null,null,null,null,null,null,null,null,null,null,null,null,null,null,null,null,null,null,null,null,null,null,null,null,null,null,null,null,null,null,null,null,null,null,"VV","3","3","-1","0","ROZPOCET"]
[null,null,null,"VV",null,"výpočet 50%",null,null,null,null,null,null,null,null,null,null,null,null,null,null,null,null,null,null,null,null,null,null,null,null,null,null,null,null,null,null,null,null,null,null,null,null,null,null,null,"VV","3","1","-1","0","ROZPOCET"]
[null,null,null,"VV",null,"223,0*0,50",null,111.5,null,null,null,null,null,null,null,null,null,null,null,null,null,null,null,null,null,null,null,null,null,null,null,null,null,null,null,null,null,null,null,null,null,null,null,null,null,"VV","3","2","-1","0","ROZPOCET"]
[null,null,null,"VV",null,"Mezisoučet - 50% výkopku",null,111.5,null,null,null,null,null,null,null,null,null,null,null,null,null,null,null,null,null,null,null,null,null,null,null,null,null,null,null,null,null,null,null,null,null,null,null,null,null,"VV","3","3","-1","1","ROZPOCET"]
[null,null,null,"VV",null,"poznámka :",null,null,null,null,null,null,null,null,null,null,null,null,null,null,null,null,null,null,null,null,null,null,null,null,null,null,null,null,null,null,null,null,null,null,null,null,null,null,null,"VV","3","1","-1","0","ROZPOCET"]
[null,null,null,"VV",null,"Sejmutí a zpětné rozprostření ornice včetně osetí ",null,null,null,null,null,null,null,null,null,null,null,null,null,null,null,null,null,null,null,null,null,null,null,null,null,null,null,null,null,null,null,null,null,null,null,null,null,null,null,"VV","3","1","-1","0","ROZPOCET"]
[null,null,null,"VV",null,"trávou v prostoru trasy kanalizace je vykázáno ",null,null,null,null,null,null,null,null,null,null,null,null,null,null,null,null,null,null,null,null,null,null,null,null,null,null,null,null,null,null,null,null,null,null,null,null,null,null,null,"VV","3","1","-1","0","ROZPOCET"]
[null,null,null,"VV",null,"celkovou výměrou v SO 111 Parkoviště",null,null,null,null,null,null,null,null,null,null,null,null,null,null,null,null,null,null,null,null,null,null,null,null,null,null,null,null,null,null,null,null,null,null,null,null,null,null,null,"VV","3","1","-1","0","ROZPOCET"]
[null,null,"2","K","131301202","Hloubení jam zapažených v hornině tř. 4 objemu do 1000 m3","m3",111.5,null,{"$f":"ROUND($I$111*$H$111,2)","v":0},"CS ÚRS 2014 02",null,null,"základní",null,null,0,{"$f":"$Q$111*$H$111","v":0},0,{"$f":"$S$111*$H$111","v":0},null,null,null,null,null,null,null,null,null,null,null,null,null,null,null,null,null,null,null,null,null,null,null,"4",null,"K","3",null,null,null,"ROZPOCET",null,null,null,null,null,{"$f":"IF($N$111=\"základní\",$J$111,0)","v":0},{"$f":"IF($N$111=\"snížená\",$J$111,0)","v":0},{"$f":"IF($N$111=\"zákl. přenesená\",$J$111,0)","v":0},{"$f":"IF($N$111=\"sníž. přenesená\",$J$111,0)","v":0},{"$f":"IF($N$111=\"nulová\",$J$111,0)","v":0},"1",{"$f":"ROUND($I$111*$H$111,2)","v":0},"4","375740561"]
[null,null,null,"PP",null,"Hloubení zapažených jam a zářezů s urovnáním dna do předepsaného profilu a spádu v hornině tř. 4 přes 100 do 1 000 m3",null,null,null,null,null,null,null,null,null,null,null,null,null,null,null,null,null,null,null,null,null,null,null,null,null,null,null,null,null,null,null,null,null,null,null,null,null,null,null,"PP","3"]
[null,null,null,"PSC",null,"Poznámka k souboru cen:\n1. V cenách jsou započteny i náklady na případné nutné přemístění výkopku ve výkopišti a na     přehození výkopku na přilehlém terénu na vzdálenost do 3 m od okraje jámy nebo naložení na dopravní     prostředek. 2. Hloubení zapažených jam hloubky přes 16 m se oceňuje individuálně. 3. Náklady na svislé přemístění výkopku nad 1 m hloubky se určí dle ustanovení článku č. 3161     všeobecných podmínek katalogu. ",null,null,null,null,null,null,null,null,null,null,null,null,null,null,null,null,null,null,null,null,null,null,null,null,null,null,null,null,null,null,null,null,null,null,null,null,null,null,null,"PSC","3"]
[null,null,"3","K","131201209","Příplatek za lepivost u hloubení jam zapažených v hornině tř. 3","m3",55.75,null,{"$f":"ROUND($I$114*$H$114,2)","v":0},"CS ÚRS 2014 02",null,null,"základní",null,null,0,{"$f":"$Q$114*$H$114","v":0},0,{"$f":"$S$114*$H$114","v":0},null,null,null,null,null,null,null,null,null,null,null,null,null,null,null,null,null,null,null,null,null,null,null,"4",null,"K","3",null,null,null,"ROZPOCET",null,null,null,null,null,{"$f":"IF($N$114=\"základní\",$J$114,0)","v":0},{"$f":"IF($N$114=\"snížená\",$J$114,0)","v":0},{"$f":"IF($N$114=\"zákl. přenesená\",$J$114,0)","v":0},{"$f":"IF($N$114=\"sníž. přenesená\",$J$114,0)","v":0},{"$f":"IF($N$114=\"nulová\",$J$114,0)","v":0},"1",{"$f":"ROUND($I$114*$H$114,2)","v":0},"4","2020918875"]
[null,null,null,"PP",null,"Hloubení zapažených jam a zářezů s urovnáním dna do předepsaného profilu a spádu Příplatek k cenám za lepivost horniny tř. 3",null,null,null,null,null,null,null,null,null,null,null,null,null,null,null,null,null,null,null,null,null,null,null,null,null,null,null,null,null,null,null,null,null,null,null,null,null,null,null,"PP","3"]
[null,null,null,"PSC",null,"Poznámka k souboru cen:\n1. V cenách jsou započteny i náklady na případné nutné přemístění výkopku ve výkopišti a na     přehození výkopku na přilehlém terénu na vzdálenost do 3 m od okraje jámy nebo naložení na dopravní     prostředek. 2. Hloubení zapažených jam hloubky přes 16 m se oceňuje individuálně. 3. Náklady na svislé přemístění výkopku nad 1 m hloubky se určí dle ustanovení článku č. 3161     všeobecných podmínek katalogu. ",null,null,null,null,null,null,null,null,null,null,null,null,null,null,null,null,null,null,null,null,null,null,null,null,null,null,null,null,null,null,null,null,null,null,null,null,null,null,null,"PSC","3"]
[null,null,null,"VV",null,"lepivost 50% - pol.131201202",null,null,null,null,null,null,null,null,null,null,null,null,null,null,null,null,null,null,null,null,null,null,null,null,null,null,null,null,null,null,null,null,null,null,null,null,null,null,null,"VV","3","1","-1","0","ROZPOCET"]
[null,null,null,"VV",null,"111,5*0,5",null,55.75,null,null,null,null,null,null,null,null,null,null,null,null,null,null,null,null,null,null,null,null,null,null,null,null,null,null,null,null,null,null,null,null,null,null,null,null,null,"VV","3","2","-1","1","ROZPOCET"]
[null,null,"4","K","131301209","Příplatek za lepivost u hloubení jam zapažených v hornině tř. 4","m3",55.75,null,{"$f":"ROUND($I$119*$H$119,2)","v":0},"CS ÚRS 2014 02",null,null,"základní",null,null,0,{"$f":"$Q$119*$H$119","v":0},0,{"$f":"$S$119*$H$119","v":0},null,null,null,null,null,null,null,null,null,null,null,null,null,null,null,null,null,null,null,null,null,null,null,"4",null,"K","3",null,null,null,"ROZPOCET",null,null,null,null,null,{"$f":"IF($N$119=\"základní\",$J$119,0)","v":0},{"$f":"IF($N$119=\"snížená\",$J$119,0)","v":0},{"$f":"IF($N$119=\"zákl. přenesená\",$J$119,0)","v":0},{"$f":"IF($N$119=\"sníž. přenesená\",$J$119,0)","v":0},{"$f":"IF($N$119=\"nulová\",$J$119,0)","v":0},"1",{"$f":"ROUND($I$119*$H$119,2)","v":0},"4","1050219222"]
[null,null,null,"PP",null,"Hloubení zapažených jam a zářezů s urovnáním dna do předepsaného profilu a spádu Příplatek k cenám za lepivost horniny tř. 4",null,null,null,null,null,null,null,null,null,null,null,null,null,null,null,null,null,null,null,null,null,null,null,null,null,null,null,null,null,null,null,null,null,null,null,null,null,null,null,"PP","3"]
[null,null,null,"PSC",null,"Poznámka k souboru cen:\n1. V cenách jsou započteny i náklady na případné nutné přemístění výkopku ve výkopišti a na     přehození výkopku na přilehlém terénu na vzdálenost do 3 m od okraje jámy nebo naložení na dopravní     prostředek. 2. Hloubení zapažených jam hloubky přes 16 m se oceňuje individuálně. 3. Náklady na svislé přemístění výkopku nad 1 m hloubky se určí dle ustanovení článku č. 3161     všeobecných podmínek katalogu. ",null,null,null,null,null,null,null,null,null,null,null,null,null,null,null,null,null,null,null,null,null,null,null,null,null,null,null,null,null,null,null,null,null,null,null,null,null,null,null,"PSC","3"]
[null,null,null,"VV",null,"lepivost 50% - pol.131301202",null,null,null,null,null,null,null,null,null,null,null,null,null,null,null,null,null,null,null,null,null,null,null,null,null,null,null,null,null,null,null,null,null,null,null,null,null,null,null,"VV","3","1","-1","0","ROZPOCET"]
[null,null,null,"VV",null,"111,5*0,5",null,55.75,null,null,null,null,null,null,null,null,null,null,null,null,null,null,null,null,null,null,null,null,null,null,null,null,null,null,null,null,null,null,null,null,null,null,null,null,null,"VV","3","2","-1","1","ROZPOCET"]
[null,null,"5","K","132201202","Hloubení rýh š do 2000 mm v hornině tř. 3 objemu do 1000 m3","m3",276,null,{"$f":"ROUND($I$124*$H$124,2)","v":0},"CS ÚRS 2014 02",null,null,"základní",null,null,0,{"$f":"$Q$124*$H$124","v":0},0,{"$f":"$S$124*$H$124","v":0},null,null,null,null,null,null,null,null,null,null,null,null,null,null,null,null,null,null,null,null,null,null,null,"4",null,"K","3",null,null,null,"ROZPOCET",null,null,null,null,null,{"$f":"IF($N$124=\"základní\",$J$124,0)","v":0},{"$f":"IF($N$124=\"snížená\",$J$124,0)","v":0},{"$f":"IF($N$124=\"zákl. přenesená\",$J$124,0)","v":0},{"$f":"IF($N$124=\"sníž. přenesená\",$J$124,0)","v":0},{"$f":"IF($N$124=\"nulová\",$J$124,0)","v":0},"1",{"$f":"ROUND($I$124*$H$124,2)","v":0},"4","2013682601"]
[null,null,null,"PP",null,"Hloubení zapažených i nezapažených rýh šířky přes 600 do 2 000 mm s urovnáním dna do předepsaného profilu a spádu v hornině tř. 3 přes 100 do 1 000 m3",null,null,null,null,null,null,null,null,null,null,null,null,null,null,null,null,null,null,null,null,null,null,null,null,null,null,null,null,null,null,null,null,null,null,null,null,null,null,null,"PP","3"]
[null,null,null,"PSC",null,"Poznámka k souboru cen:\n1. V cenách jsou započteny i náklady na případné nutné přemístění výkopku ve výkopišti na     vzdálenost do 3 m a na přehození výkopku na přilehlém terénu na vzdálenost do 5 m od okraje jámy     nebo naložení na dopravní prostředek. 2. Hloubení rýh při lesnicko-technických melioracích se oceňuje:     a) ve stržích cenami platnými pro objem výkopu do 100 m3, i když skutečný objem výkopu je větší,     b) mimo strže pro příčná a podélná zpevnění dna a břehů pod obrysem výkopu pro koryta vodotečí,         zejména pro konstrukce těles, stupňů, boků, předprahů, prahů, odháněk, výhonů a pro základy zdí,         dlažeb, rovnanin, plůtků a hatí, pro jakoukoliv šířku rýhy, při objemu do 100 m3 cenami příslušnými         pro objem výkopu do 100 m3 a při jakémkoliv objemu výkopu přes 100 m3 cenami příslušnými pro objem         výkopu přes 100 do 1 000 m3. 3. Náklady na svislé přemístění výkopku nad 1 m hloubky se určí dle ustanovení článku č. 3161     všeobecných podmínek katalogu. 4. Předepisuje-li projekt hloubit rýhy 5 až 7 bez použití trhavin, oceňuje se toto hloubení:     a) v suchu nebo mokru cenami 138 40-1201, 138 50-1201 a 138 60-1201 Dolamování hloubených         vykopávek,     b) v tekoucí vodě při jakékoliv její rychlosti individuálně. 5. Ceny nelze použít pro hloubení rýh a hloubky přes 16 m. Tyto práce se oceňují individuálně. ",null,null,null,null,null,null,null,null,null,null,null,null,null,null,null,null,null,null,null,null,null,null,null,null,null,null,null,null,null,null,null,null,null,null,null,null,null,null,null,"PSC","3"]
[null,null,null,"VV",null,"pro potrubí dešťové kanalizace",null,null,null,null,null,null,null,null,null,null,null,null,null,null,null,null,null,null,null,null,null,null,null,null,null,null,null,null,null,null,null,null,null,null,null,null,null,null,null,"VV","3","1","-1","0","ROZPOCET"]
[null,null,null,"VV",null,"dle výkreu Podélný profil",null,null,null,null,null,null,null,null,null,null,null,null,null,null,null,null,null,null,null,null,null,null,null,null,null,null,null,null,null,null,null,null,null,null,null,null,null,null,null,"VV","3","1","-1","0","ROZPOCET"]
[null,null,null,"VV",null,"1,1*(1,62+1,52)/2*9,5",null,16.407,null,null,null,null,null,null,null,null,null,null,null,null,null,null,null,null,null,null,null,null,null,null,null,null,null,null,null,null,null,null,null,null,null,null,null,null,null,"VV","3","2","-1","0","ROZPOCET"]
[null,null,null,"VV",null,"1,0*(1,52+0,85)/2*(29,5-2,5-2,5-11,0)",null,15.997999999999999,null,null,null,null,null,null,null,null,null,null,null,null,null,null,null,null,null,null,null,null,null,null,null,null,null,null,null,null,null,null,null,null,null,null,null,null,null,"VV","3","2","-1","0","ROZPOCET"]
[null,null,null,"VV",null,"1,0*(0,85+1,71)/2*(3,5-0,5)",null,3.84,null,null,null,null,null,null,null,null,null,null,null,null,null,null,null,null,null,null,null,null,null,null,null,null,null,null,null,null,null,null,null,null,null,null,null,null,null,"VV","3","2","-1","0","ROZPOCET"]
[null,null,null,"VV",null,"1,1*(1,71+2,65)/2*(21,5-0,5)",null,50.357999999999997,null,null,null,null,null,null,null,null,null,null,null,null,null,null,null,null,null,null,null,null,null,null,null,null,null,null,null,null,null,null,null,null,null,null,null,null,null,"VV","3","2","-1","0","ROZPOCET"]
[null,null,null,"VV",null,"1,1*(2,65+1,85)/2*1,2",null,2.97,null,null,null,null,null,null,null,null,null,null,null,null,null,null,null,null,null,null,null,null,null,null,null,null,null,null,null,null,null,null,null,null,null,null,null,null,null,"VV","3","2","-1","0","ROZPOCET"]
[null,null,null,"VV",null,"1,1*(1,82+1,67)/2*16,6",null,31.864000000000001,null,null,null,null,null,null,null,null,null,null,null,null,null,null,null,null,null,null,null,null,null,null,null,null,null,null,null,null,null,null,null,null,null,null,null,null,null,"VV","3","2","-1","0","ROZPOCET"]
[null,null,null,"VV",null,"1,1*(1,67+2,36)/2*(18,6-1)",null,39.01,null,null,null,null,null,null,null,null,null,null,null,null,null,null,null,null,null,null,null,null,null,null,null,null,null,null,null,null,null,null,null,null,null,null,null,null,null,"VV","3","2","-1","0","ROZPOCET"]
[null,null,null,"VV",null,"1,1*(2,36+1,95)/2*(18,2-1)",null,40.773000000000003,null,null,null,null,null,null,null,null,null,null,null,null,null,null,null,null,null,null,null,null,null,null,null,null,null,null,null,null,null,null,null,null,null,null,null,null,null,"VV","3","2","-1","0","ROZPOCET"]
[null,null,null,"VV",null,"0,78",null,0.78,null,null,null,null,null,null,null,null,null,null,null,null,null,null,null,null,null,null,null,null,null,null,null,null,null,null,null,null,null,null,null,null,null,null,null,null,null,"VV","3","2","-1","0","ROZPOCET"]
[null,null,null,"VV",null,"Mezisoučet A",null,202,null,null,null,null,null,null,null,null,null,null,null,null,null,null,null,null,null,null,null,null,null,null,null,null,null,null,null,null,null,null,null,null,null,null,null,null,null,"VV","3","3","-1","0","ROZPOCET"]
[null,null,null,"VV",null,"odvodnění uličních vpustí",null,null,null,null,null,null,null,null,null,null,null,null,null,null,null,null,null,null,null,null,null,null,null,null,null,null,null,null,null,null,null,null,null,null,null,null,null,null,null,"VV","3","1","-1","0","ROZPOCET"]
[null,null,null,"VV",null,"dle výkresu Přípojky od vpustí",null,null,null,null,null,null,null,null,null,null,null,null,null,null,null,null,null,null,null,null,null,null,null,null,null,null,null,null,null,null,null,null,null,null,null,null,null,null,null,"VV","3","1","-1","0","ROZPOCET"]
[null,null,null,"VV",null,"1,1*(1,96+1,34)/2*(4,0-1,0)",null,5.4450000000000003,null,null,null,null,null,null,null,null,null,null,null,null,null,null,null,null,null,null,null,null,null,null,null,null,null,null,null,null,null,null,null,null,null,null,null,null,null,"VV","3","2","-1","0","ROZPOCET"]
[null,null,null,"VV",null,"1,1*(2,65+1,65)/2*(14,0-2)",null,28.38,null,null,null,null,null,null,null,null,null,null,null,null,null,null,null,null,null,null,null,null,null,null,null,null,null,null,null,null,null,null,null,null,null,null,null,null,null,"VV","3","2","-1","0","ROZPOCET"]
[null,null,null,"VV",null,"1,1*1,66*(3,0-1,0)",null,3.6520000000000001,null,null,null,null,null,null,null,null,null,null,null,null,null,null,null,null,null,null,null,null,null,null,null,null,null,null,null,null,null,null,null,null,null,null,null,null,null,"VV","3","2","-1","0","ROZPOCET"]
[null,null,null,"VV",null,"1,1*(2,65+2,16)*(24,0-2,0)",null,116.402,null,null,null,null,null,null,null,null,null,null,null,null,null,null,null,null,null,null,null,null,null,null,null,null,null,null,null,null,null,null,null,null,null,null,null,null,null,"VV","3","2","-1","0","ROZPOCET"]
[null,null,null,"VV",null,"1,1*(2,53+1,91)/2*(3,0-1,0)",null,4.8840000000000003,null,null,null,null,null,null,null,null,null,null,null,null,null,null,null,null,null,null,null,null,null,null,null,null,null,null,null,null,null,null,null,null,null,null,null,null,null,"VV","3","2","-1","0","ROZPOCET"]
[null,null,null,"VV",null,"1,1*(2,12+1,65)/2*(14,0-2,0)",null,24.882000000000001,null,null,null,null,null,null,null,null,null,null,null,null,null,null,null,null,null,null,null,null,null,null,null,null,null,null,null,null,null,null,null,null,null,null,null,null,null,"VV","3","2","-1","0","ROZPOCET"]
[null,null,null,"VV",null,"1,1*(2,03+1,65)/2*(3,0-1,0)",null,4.048,null,null,null,null,null,null,null,null,null,null,null,null,null,null,null,null,null,null,null,null,null,null,null,null,null,null,null,null,null,null,null,null,null,null,null,null,null,"VV","3","2","-1","0","ROZPOCET"]
[null,null,null,"VV",null,"1,1*(2,12+1,8)/2*(6,5-2,0)",null,9.702,null,null,null,null,null,null,null,null,null,null,null,null,null,null,null,null,null,null,null,null,null,null,null,null,null,null,null,null,null,null,null,null,null,null,null,null,null,"VV","3","2","-1","0","ROZPOCET"]
[null,null,null,"VV",null,"1,1*(1,95+1,75)/2*(9,0-2,0)",null,14.244999999999999,null,null,null,null,null,null,null,null,null,null,null,null,null,null,null,null,null,null,null,null,null,null,null,null,null,null,null,null,null,null,null,null,null,null,null,null,null,"VV","3","2","-1","0","ROZPOCET"]
[null,null,null,"VV",null,"1,1*(1,95+1,6)/2*(13,5-2,0)",null,22.454000000000001,null,null,null,null,null,null,null,null,null,null,null,null,null,null,null,null,null,null,null,null,null,null,null,null,null,null,null,null,null,null,null,null,null,null,null,null,null,"VV","3","2","-1","0","ROZPOCET"]
[null,null,null,"VV",null,"0,906",null,0.90600000000000003,null,null,null,null,null,null,null,null,null,null,null,null,null,null,null,null,null,null,null,null,null,null,null,null,null,null,null,null,null,null,null,null,null,null,null,null,null,"VV","3","2","-1","0","ROZPOCET"]
[null,null,null,"VV",null,"Mezisoučet B",null,235,null,null,null,null,null,null,null,null,null,null,null,null,null,null,null,null,null,null,null,null,null,null,null,null,null,null,null,null,null,null,null,null,null,null,null,null,null,"VV","3","3","-1","0","ROZPOCET"]
[null,null,null,"VV",null,"kanalizační šachty - nepažený výkop",null,null,null,null,null,null,null,null,null,null,null,null,null,null,null,null,null,null,null,null,null,null,null,null,null,null,null,null,null,null,null,null,null,null,null,null,null,null,null,"VV","3","1","-1","0","ROZPOCET"]
[null,null,null,"VV",null,"1,6*1,6*(1,8+1,25*2+3,0+2,5+2,3)",null,30.975999999999999,null,null,null,null,null,null,null,null,null,null,null,null,null,null,null,null,null,null,null,null,null,null,null,null,null,null,null,null,null,null,null,null,null,null,null,null,null,"VV","3","2","-1","0","ROZPOCET"]
[null,null,null,"VV",null,"1,8*0,6*0,5*(1,6+0,6)*4",null,4.7519999999999998,null,null,null,null,null,null,null,null,null,null,null,null,null,null,null,null,null,null,null,null,null,null,null,null,null,null,null,null,null,null,null,null,null,null,null,null,null,"VV","3","2","-1","0","ROZPOCET"]
[null,null,null,"VV",null,"1,25*0,6*0,5*(1,6+0,6)*4*2",null,6.6,null,null,null,null,null,null,null,null,null,null,null,null,null,null,null,null,null,null,null,null,null,null,null,null,null,null,null,null,null,null,null,null,null,null,null,null,null,"VV","3","2","-1","0","ROZPOCET"]
[null,null,null,"VV",null,"3,0*1,5*0,5*(1,6+1,5)*4*2",null,55.8,null,null,null,null,null,null,null,null,null,null,null,null,null,null,null,null,null,null,null,null,null,null,null,null,null,null,null,null,null,null,null,null,null,null,null,null,null,"VV","3","2","-1","0","ROZPOCET"]
[null,null,null,"VV",null,"2,5*1,25*0,5*(1,6+1,25)*4",null,17.812999999999999,null,null,null,null,null,null,null,null,null,null,null,null,null,null,null,null,null,null,null,null,null,null,null,null,null,null,null,null,null,null,null,null,null,null,null,null,null,"VV","3","2","-1","0","ROZPOCET"]
[null,null,null,"VV",null,"2,3*1,15*0,5*(1,6+1,15)*4",null,14.548,null,null,null,null,null,null,null,null,null,null,null,null,null,null,null,null,null,null,null,null,null,null,null,null,null,null,null,null,null,null,null,null,null,null,null,null,null,"VV","3","2","-1","0","ROZPOCET"]
[null,null,null,"VV",null,"odpočet rýha v místě šachty",null,null,null,null,null,null,null,null,null,null,null,null,null,null,null,null,null,null,null,null,null,null,null,null,null,null,null,null,null,null,null,null,null,null,null,null,null,null,null,"VV","3","1","-1","0","ROZPOCET"]
[null,null,null,"VV",null,"-1,1*0,6*(1,8+1,25*2+3,0+2,5+2,3)*2",null,-15.972,null,null,null,null,null,null,null,null,null,null,null,null,null,null,null,null,null,null,null,null,null,null,null,null,null,null,null,null,null,null,null,null,null,null,null,null,null,"VV","3","2","-1","0","ROZPOCET"]
[null,null,null,"VV",null,"0,483",null,0.48299999999999998,null,null,null,null,null,null,null,null,null,null,null,null,null,null,null,null,null,null,null,null,null,null,null,null,null,null,null,null,null,null,null,null,null,null,null,null,null,"VV","3","2","-1","0","ROZPOCET"]
[null,null,null,"VV",null,"Mezisoučet C",null,115,null,null,null,null,null,null,null,null,null,null,null,null,null,null,null,null,null,null,null,null,null,null,null,null,null,null,null,null,null,null,null,null,null,null,null,null,null,"VV","3","3","-1","0","ROZPOCET"]
[null,null,null,"VV",null,"Součet - 100% výkopku",null,552,null,null,null,null,null,null,null,null,null,null,null,null,null,null,null,null,null,null,null,null,null,null,null,null,null,null,null,null,null,null,null,null,null,null,null,null,null,"VV","3","4","-1","0","ROZPOCET"]
[null,null,null,"VV",null,"výpočet 50% výkopku",null,null,null,null,null,null,null,null,null,null,null,null,null,null,null,null,null,null,null,null,null,null,null,null,null,null,null,null,null,null,null,null,null,null,null,null,null,null,null,"VV","3","1","-1","0","ROZPOCET"]
[null,null,null,"VV",null,"552,0*0,5",null,276,null,null,null,null,null,null,null,null,null,null,null,null,null,null,null,null,null,null,null,null,null,null,null,null,null,null,null,null,null,null,null,null,null,null,null,null,null,"VV","3","2","-1","0","ROZPOCET"]
[null,null,null,"VV",null,"Součet - 50% výkopku",null,276,null,null,null,null,null,null,null,null,null,null,null,null,null,null,null,null,null,null,null,null,null,null,null,null,null,null,null,null,null,null,null,null,null,null,null,null,null,"VV","3","4","-1","1","ROZPOCET"]
[null,null,"6","K","132301202","Hloubení rýh š do 2000 mm v hornině tř. 4 objemu do 1000 m3","m3",276,null,{"$f":"ROUND($I$168*$H$168,2)","v":0},"CS ÚRS 2014 02",null,null,"základní",null,null,0,{"$f":"$Q$168*$H$168","v":0},0,{"$f":"$S$168*$H$168","v":0},null,null,null,null,null,null,null,null,null,null,null,null,null,null,null,null,null,null,null,null,null,null,null,"4",null,"K","3",null,null,null,"ROZPOCET",null,null,null,null,null,{"$f":"IF($N$168=\"základní\",$J$168,0)","v":0},{"$f":"IF($N$168=\"snížená\",$J$168,0)","v":0},{"$f":"IF($N$168=\"zákl. přenesená\",$J$168,0)","v":0},{"$f":"IF($N$168=\"sníž. přenesená\",$J$168,0)","v":0},{"$f":"IF($N$168=\"nulová\",$J$168,0)","v":0},"1",{"$f":"ROUND($I$168*$H$168,2)","v":0},"4","964801980"]
[null,null,null,"PP",null,"Hloubení zapažených i nezapažených rýh šířky přes 600 do 2 000 mm s urovnáním dna do předepsaného profilu a spádu v hornině tř. 4 přes 100 do 1 000 m3",null,null,null,null,null,null,null,null,null,null,null,null,null,null,null,null,null,null,null,null,null,null,null,null,null,null,null,null,null,null,null,null,null,null,null,null,null,null,null,"PP","3"]
[null,null,null,"PSC",null,"Poznámka k souboru cen:\n1. V cenách jsou započteny i náklady na případné nutné přemístění výkopku ve výkopišti na     vzdálenost do 3 m a na přehození výkopku na přilehlém terénu na vzdálenost do 5 m od okraje jámy     nebo naložení na dopravní prostředek. 2. Hloubení rýh při lesnicko-technických melioracích se oceňuje:     a) ve stržích cenami platnými pro objem výkopu do 100 m3, i když skutečný objem výkopu je větší,     b) mimo strže pro příčná a podélná zpevnění dna a břehů pod obrysem výkopu pro koryta vodotečí,         zejména pro konstrukce těles, stupňů, boků, předprahů, prahů, odháněk, výhonů a pro základy zdí,         dlažeb, rovnanin, plůtků a hatí, pro jakoukoliv šířku rýhy, při objemu do 100 m3 cenami příslušnými         pro objem výkopu do 100 m3 a při jakémkoliv objemu výkopu přes 100 m3 cenami příslušnými pro objem         výkopu přes 100 do 1 000 m3. 3. Náklady na svislé přemístění výkopku nad 1 m hloubky se určí dle ustanovení článku č. 3161     všeobecných podmínek katalogu. 4. Předepisuje-li projekt hloubit rýhy 5 až 7 bez použití trhavin, oceňuje se toto hloubení:     a) v suchu nebo mokru cenami 138 40-1201, 138 50-1201 a 138 60-1201 Dolamování hloubených         vykopávek,     b) v tekoucí vodě při jakékoliv její rychlosti individuálně. 5. Ceny nelze použít pro hloubení rýh a hloubky přes 16 m. Tyto práce se oceňují individuálně. ",null,null,null,null,null,null,null,null,null,null,null,null,null,null,null,null,null,null,null,null,null,null,null,null,null,null,null,null,null,null,null,null,null,null,null,null,null,null,null,"PSC","3"]
[null,null,null,"VV",null,"dle pol.132201202",null,null,null,null,null,null,null,null,null,null,null,null,null,null,null,null,null,null,null,null,null,null,null,null,null,null,null,null,null,null,null,null,null,null,null,null,null,null,null,"VV","3","1","-1","0","ROZPOCET"]
[null,null,null,"VV",null,"276,0",null,276,null,null,null,null,null,null,null,null,null,null,null,null,null,null,null,null,null,null,null,null,null,null,null,null,null,null,null,null,null,null,null,null,null,null,null,null,null,"VV","3","2","-1","1","ROZPOCET"]
[null,null,"7","K","132201209","Příplatek za lepivost k hloubení rýh š do 2000 mm v hornině tř. 3","m3",138,null,{"$f":"ROUND($I$173*$H$173,2)","v":0},"CS ÚRS 2014 02",null,null,"základní",null,null,0,{"$f":"$Q$173*$H$173","v":0},0,{"$f":"$S$173*$H$173","v":0},null,null,null,null,null,null,null,null,null,null,null,null,null,null,null,null,null,null,null,null,null,null,null,"4",null,"K","3",null,null,null,"ROZPOCET",null,null,null,null,null,{"$f":"IF($N$173=\"základní\",$J$173,0)","v":0},{"$f":"IF($N$173=\"snížená\",$J$173,0)","v":0},{"$f":"IF($N$173=\"zákl. přenesená\",$J$173,0)","v":0},{"$f":"IF($N$173=\"sníž. přenesená\",$J$173,0)","v":0},{"$f":"IF($N$173=\"nulová\",$J$173,0)","v":0},"1",{"$f":"ROUND($I$173*$H$173,2)","v":0},"4","-1733710650"]
[null,null,null,"PP",null,"Hloubení zapažených i nezapažených rýh šířky přes 600 do 2 000 mm s urovnáním dna do předepsaného profilu a spádu v hornině tř. 3 Příplatek k cenám za lepivost horniny tř. 3",null,null,null,null,null,null,null,null,null,null,null,null,null,null,null,null,null,null,null,null,null,null,null,null,null,null,null,null,null,null,null,null,null,null,null,null,null,null,null,"PP","3"]
[null,null,null,"PSC",null,"Poznámka k souboru cen:\n1. V cenách jsou započteny i náklady na případné nutné přemístění výkopku ve výkopišti na     vzdálenost do 3 m a na přehození výkopku na přilehlém terénu na vzdálenost do 5 m od okraje jámy     nebo naložení na dopravní prostředek. 2. Hloubení rýh při lesnicko-technických melioracích se oceňuje:     a) ve stržích cenami platnými pro objem výkopu do 100 m3, i když skutečný objem výkopu je větší,     b) mimo strže pro příčná a podélná zpevnění dna a břehů pod obrysem výkopu pro koryta vodotečí,         zejména pro konstrukce těles, stupňů, boků, předprahů, prahů, odháněk, výhonů a pro základy zdí,         dlažeb, rovnanin, plůtků a hatí, pro jakoukoliv šířku rýhy, při objemu do 100 m3 cenami příslušnými         pro objem výkopu do 100 m3 a při jakémkoliv objemu výkopu přes 100 m3 cenami příslušnými pro objem         výkopu přes 100 do 1 000 m3. 3. Náklady na svislé přemístění výkopku nad 1 m hloubky se určí dle ustanovení článku č. 3161     všeobecných podmínek katalogu. 4. Předepisuje-li projekt hloubit rýhy 5 až 7 bez použití trhavin, oceňuje se toto hloubení:     a) v suchu nebo mokru cenami 138 40-1201, 138 50-1201 a 138 60-1201 Dolamování hloubených         vykopávek,     b) v tekoucí vodě při jakékoliv její rychlosti individuálně. 5. Ceny nelze použít pro hloubení rýh a hloubky přes 16 m. Tyto práce se oceňují individuálně. ",null,null,null,null,null,null,null,null,null,null,null,null,null,null,null,null,null,null,null,null,null,null,null,null,null,null,null,null,null,null,null,null,null,null,null,null,null,null,null,"PSC","3"]
[null,null,null,"VV",null,"lepivost 50% - pol.132201202",null,null,null,null,null,null,null,null,null,null,null,null,null,null,null,null,null,null,null,null,null,null,null,null,null,null,null,null,null,null,null,null,null,null,null,null,null,null,null,"VV","3","1","-1","0","ROZPOCET"]
[null,null,null,"VV",null,"276,0*0,5",null,138,null,null,null,null,null,null,null,null,null,null,null,null,null,null,null,null,null,null,null,null,null,null,null,null,null,null,null,null,null,null,null,null,null,null,null,null,null,"VV","3","2","-1","1","ROZPOCET"]
[null,null,"8","K","132301209","Příplatek za lepivost k hloubení rýh š do 2000 mm v hornině tř. 4","m3",138,null,{"$f":"ROUND($I$178*$H$178,2)","v":0},"CS ÚRS 2014 02",null,null,"základní",null,null,0,{"$f":"$Q$178*$H$178","v":0},0,{"$f":"$S$178*$H$178","v":0},null,null,null,null,null,null,null,null,null,null,null,null,null,null,null,null,null,null,null,null,null,null,null,"4",null,"K","3",null,null,null,"ROZPOCET",null,null,null,null,null,{"$f":"IF($N$178=\"základní\",$J$178,0)","v":0},{"$f":"IF($N$178=\"snížená\",$J$178,0)","v":0},{"$f":"IF($N$178=\"zákl. přenesená\",$J$178,0)","v":0},{"$f":"IF($N$178=\"sníž. přenesená\",$J$178,0)","v":0},{"$f":"IF($N$178=\"nulová\",$J$178,0)","v":0},"1",{"$f":"ROUND($I$178*$H$178,2)","v":0},"4","-127521741"]
[null,null,null,"PP",null,"Hloubení zapažených i nezapažených rýh šířky přes 600 do 2 000 mm s urovnáním dna do předepsaného profilu a spádu v hornině tř. 4 Příplatek k cenám za lepivost horniny tř. 4",null,null,null,null,null,null,null,null,null,null,null,null,null,null,null,null,null,null,null,null,null,null,null,null,null,null,null,null,null,null,null,null,null,null,null,null,null,null,null,"PP","3"]
[null,null,null,"PSC",null,"Poznámka k souboru cen:\n1. V cenách jsou započteny i náklady na případné nutné přemístění výkopku ve výkopišti na     vzdálenost do 3 m a na přehození výkopku na přilehlém terénu na vzdálenost do 5 m od okraje jámy     nebo naložení na dopravní prostředek. 2. Hloubení rýh při lesnicko-technických melioracích se oceňuje:     a) ve stržích cenami platnými pro objem výkopu do 100 m3, i když skutečný objem výkopu je větší,     b) mimo strže pro příčná a podélná zpevnění dna a břehů pod obrysem výkopu pro koryta vodotečí,         zejména pro konstrukce těles, stupňů, boků, předprahů, prahů, odháněk, výhonů a pro základy zdí,         dlažeb, rovnanin, plůtků a hatí, pro jakoukoliv šířku rýhy, při objemu do 100 m3 cenami příslušnými         pro objem výkopu do 100 m3 a při jakémkoliv objemu výkopu přes 100 m3 cenami příslušnými pro objem         výkopu přes 100 do 1 000 m3. 3. Náklady na svislé přemístění výkopku nad 1 m hloubky se určí dle ustanovení článku č. 3161     všeobecných podmínek katalogu. 4. Předepisuje-li projekt hloubit rýhy 5 až 7 bez použití trhavin, oceňuje se toto hloubení:     a) v suchu nebo mokru cenami 138 40-1201, 138 50-1201 a 138 60-1201 Dolamování hloubených         vykopávek,     b) v tekoucí vodě při jakékoliv její rychlosti individuálně. 5. Ceny nelze použít pro hloubení rýh a hloubky přes 16 m. Tyto práce se oceňují individuálně. ",null,null,null,null,null,null,null,null,null,null,null,null,null,null,null,null,null,null,null,null,null,null,null,null,null,null,null,null,null,null,null,null,null,null,null,null,null,null,null,"PSC","3"]
[null,null,null,"VV",null,"lepivost 50% - pol.132301202",null,null,null,null,null,null,null,null,null,null,null,null,null,null,null,null,null,null,null,null,null,null,null,null,null,null,null,null,null,null,null,null,null,null,null,null,null,null,null,"VV","3","1","-1","0","ROZPOCET"]
[null,null,null,"VV",null,"276,0*0,5",null,138,null,null,null,null,null,null,null,null,null,null,null,null,null,null,null,null,null,null,null,null,null,null,null,null,null,null,null,null,null,null,null,null,null,null,null,null,null,"VV","3","2","-1","1","ROZPOCET"]
[null,null,"9","K","151101101","Zřízení příložného pažení a rozepření stěn rýh hl do 2 m","m2",316,null,{"$f":"ROUND($I$183*$H$183,2)","v":0},"CS ÚRS 2014 02",null,null,"základní",null,null,6.9550999999999999E-4,{"$f":"$Q$183*$H$183","v":0.21978116},0,{"$f":"$S$183*$H$183","v":0},null,null,null,null,null,null,null,null,null,null,null,null,null,null,null,null,null,null,null,null,null,null,null,"4",null,"K","3",null,null,null,"ROZPOCET",null,null,null,null,null,{"$f":"IF($N$183=\"základní\",$J$183,0)","v":0},{"$f":"IF($N$183=\"snížená\",$J$183,0)","v":0},{"$f":"IF($N$183=\"zákl. přenesená\",$J$183,0)","v":0},{"$f":"IF($N$183=\"sníž. přenesená\",$J$183,0)","v":0},{"$f":"IF($N$183=\"nulová\",$J$183,0)","v":0},"1",{"$f":"ROUND($I$183*$H$183,2)","v":0},"4","-144449271"]
[null,null,null,"PP",null,"Zřízení pažení a rozepření stěn rýh pro podzemní vedení pro všechny šířky rýhy příložné pro jakoukoliv mezerovitost, hloubky do 2 m",null,null,null,null,null,null,null,null,null,null,null,null,null,null,null,null,null,null,null,null,null,null,null,null,null,null,null,null,null,null,null,null,null,null,null,null,null,null,null,"PP","3"]
[null,null,null,"PSC",null,"Poznámka k souboru cen:\n1. Ceny jsou určeny pro roubení a rozepření stěn i jiných výkopů se svislými stěnami, pokud jsou     tyto výkopy pro podzemní vedení rozměru do 1 250 mm. 2. Plocha mezer mezi pažinami příložného pažení se od plochy příložného pažení neodečítá;     nezapažené plochy u pažení zátažného nebo hnaného se od plochy pažení odečítají. 3. Předepisuje-li projekt:     a) ponechat pažení ve výkopu, oceňuje se toto pažení cenami souboru cen 151 . 0-19 Pažení stěn         s ponecháním a rozepření stěn cenami souboru cen 151 . 0-13 Zřízení rozepření zapažených stěn         výkopů,     b) vzepření stěn, oceňuje se toto odstranění pažení stěn výkopu cenami souboru cen 151 . 0-12         Pažení stěn a vzepření stěn cenami souboru cen 151 . 0-14 odstranění vzepření stěn,     c) kotvení stěn, oceňuje se toto Odstranění pažení stěn cenami souboru cen 151 . 0-12 Pažení         stěn a kotvení stěn příslušnými cenami katalogu 800-2 Zvláštní zakládání objektů. ",null,null,null,null,null,null,null,null,null,null,null,null,null,null,null,null,null,null,null,null,null,null,null,null,null,null,null,null,null,null,null,null,null,null,null,null,null,null,null,"PSC","3"]
[null,null,null,"VV",null,"pro potrubí dešťové kanalizace",null,null,null,null,null,null,null,null,null,null,null,null,null,null,null,null,null,null,null,null,null,null,null,null,null,null,null,null,null,null,null,null,null,null,null,null,null,null,null,"VV","3","1","-1","0","ROZPOCET"]
[null,null,null,"VV",null,"2*(1,62+1,52)/2*9,5",null,29.83,null,null,null,null,null,null,null,null,null,null,null,null,null,null,null,null,null,null,null,null,null,null,null,null,null,null,null,null,null,null,null,null,null,null,null,null,null,"VV","3","2","-1","0","ROZPOCET"]
[null,null,null,"VV",null,"2*(1,82+1,67)/2*16,6",null,57.933999999999997,null,null,null,null,null,null,null,null,null,null,null,null,null,null,null,null,null,null,null,null,null,null,null,null,null,null,null,null,null,null,null,null,null,null,null,null,null,"VV","3","2","-1","0","ROZPOCET"]
[null,null,null,"VV",null,"2*(1,67+2,36)/2*(18,6-1)",null,70.927999999999997,null,null,null,null,null,null,null,null,null,null,null,null,null,null,null,null,null,null,null,null,null,null,null,null,null,null,null,null,null,null,null,null,null,null,null,null,null,"VV","3","2","-1","0","ROZPOCET"]
[null,null,null,"VV",null,"odvodnění uličních vpustí",null,null,null,null,null,null,null,null,null,null,null,null,null,null,null,null,null,null,null,null,null,null,null,null,null,null,null,null,null,null,null,null,null,null,null,null,null,null,null,"VV","3","1","-1","0","ROZPOCET"]
[null,null,null,"VV",null,"2*(1,96+1,34)/2*(4,0-1,0)",null,9.9,null,null,null,null,null,null,null,null,null,null,null,null,null,null,null,null,null,null,null,null,null,null,null,null,null,null,null,null,null,null,null,null,null,null,null,null,null,"VV","3","2","-1","0","ROZPOCET"]
[null,null,null,"VV",null,"2*1,66*(3,0-1,0)",null,6.64,null,null,null,null,null,null,null,null,null,null,null,null,null,null,null,null,null,null,null,null,null,null,null,null,null,null,null,null,null,null,null,null,null,null,null,null,null,"VV","3","2","-1","0","ROZPOCET"]
[null,null,null,"VV",null,"2*(2,12+1,65)/2*(14,0-2,0)",null,45.24,null,null,null,null,null,null,null,null,null,null,null,null,null,null,null,null,null,null,null,null,null,null,null,null,null,null,null,null,null,null,null,null,null,null,null,null,null,"VV","3","2","-1","0","ROZPOCET"]
[null,null,null,"VV",null,"2*(2,03+1,65)/2*(3,0-1,0)",null,7.36,null,null,null,null,null,null,null,null,null,null,null,null,null,null,null,null,null,null,null,null,null,null,null,null,null,null,null,null,null,null,null,null,null,null,null,null,null,"VV","3","2","-1","0","ROZPOCET"]
[null,null,null,"VV",null,"2*(2,12+1,8)/2*(6,5-2,0)",null,17.64,null,null,null,null,null,null,null,null,null,null,null,null,null,null,null,null,null,null,null,null,null,null,null,null,null,null,null,null,null,null,null,null,null,null,null,null,null,"VV","3","2","-1","0","ROZPOCET"]
[null,null,null,"VV",null,"2*(1,95+1,75)/2*(9,0-2,0)",null,25.9,null,null,null,null,null,null,null,null,null,null,null,null,null,null,null,null,null,null,null,null,null,null,null,null,null,null,null,null,null,null,null,null,null,null,null,null,null,"VV","3","2","-1","0","ROZPOCET"]
[null,null,null,"VV",null,"2*(1,95+1,6)/2*(13,5-2,0)",null,40.825000000000003,null,null,null,null,null,null,null,null,null,null,null,null,null,null,null,null,null,null,null,null,null,null,null,null,null,null,null,null,null,null,null,null,null,null,null,null,null,"VV","3","2","-1","0","ROZPOCET"]
[null,null,null,"VV",null,"312,2*0,01+0,681",null,3.8029999999999999,null,null,null,null,null,null,null,null,null,null,null,null,null,null,null,null,null,null,null,null,null,null,null,null,null,null,null,null,null,null,null,null,null,null,null,null,null,"VV","3","2","-1","0","ROZPOCET"]
[null,null,null,"VV",null,"Součet",null,316,null,null,null,null,null,null,null,null,null,null,null,null,null,null,null,null,null,null,null,null,null,null,null,null,null,null,null,null,null,null,null,null,null,null,null,null,null,"VV","3","4","-1","1","ROZPOCET"]
[null,null,"10","K","151101102","Zřízení příložného pažení a rozepření stěn rýh hl do 4 m","m2",448,null,{"$f":"ROUND($I$200*$H$200,2)","v":0},"CS ÚRS 2014 02",null,null,"základní",null,null,5.5882000000000002E-4,{"$f":"$Q$200*$H$200","v":0.25035136000000002},0,{"$f":"$S$200*$H$200","v":0},null,null,null,null,null,null,null,null,null,null,null,null,null,null,null,null,null,null,null,null,null,null,null,"4",null,"K","3",null,null,null,"ROZPOCET",null,null,null,null,null,{"$f":"IF($N$200=\"základní\",$J$200,0)","v":0},{"$f":"IF($N$200=\"snížená\",$J$200,0)","v":0},{"$f":"IF($N$200=\"zákl. přenesená\",$J$200,0)","v":0},{"$f":"IF($N$200=\"sníž. přenesená\",$J$200,0)","v":0},{"$f":"IF($N$200=\"nulová\",$J$200,0)","v":0},"1",{"$f":"ROUND($I$200*$H$200,2)","v":0},"4","1248588933"]
[null,null,null,"PP",null,"Zřízení pažení a rozepření stěn rýh pro podzemní vedení pro všechny šířky rýhy příložné pro jakoukoliv mezerovitost, hloubky do 4 m",null,null,null,null,null,null,null,null,null,null,null,null,null,null,null,null,null,null,null,null,null,null,null,null,null,null,null,null,null,null,null,null,null,null,null,null,null,null,null,"PP","3"]
[null,null,null,"PSC",null,"Poznámka k souboru cen:\n1. Ceny jsou určeny pro roubení a rozepření stěn i jiných výkopů se svislými stěnami, pokud jsou     tyto výkopy pro podzemní vedení rozměru do 1 250 mm. 2. Plocha mezer mezi pažinami příložného pažení se od plochy příložného pažení neodečítá;     nezapažené plochy u pažení zátažného nebo hnaného se od plochy pažení odečítají. 3. Předepisuje-li projekt:     a) ponechat pažení ve výkopu, oceňuje se toto pažení cenami souboru cen 151 . 0-19 Pažení stěn         s ponecháním a rozepření stěn cenami souboru cen 151 . 0-13 Zřízení rozepření zapažených stěn         výkopů,     b) vzepření stěn, oceňuje se toto odstranění pažení stěn výkopu cenami souboru cen 151 . 0-12         Pažení stěn a vzepření stěn cenami souboru cen 151 . 0-14 odstranění vzepření stěn,     c) kotvení stěn, oceňuje se toto Odstranění pažení stěn cenami souboru cen 151 . 0-12 Pažení         stěn a kotvení stěn příslušnými cenami katalogu 800-2 Zvláštní zakládání objektů. ",null,null,null,null,null,null,null,null,null,null,null,null,null,null,null,null,null,null,null,null,null,null,null,null,null,null,null,null,null,null,null,null,null,null,null,null,null,null,null,"PSC","3"]
[null,null,null,"VV",null,"pro potrubí dešťové kanalizace",null,null,null,null,null,null,null,null,null,null,null,null,null,null,null,null,null,null,null,null,null,null,null,null,null,null,null,null,null,null,null,null,null,null,null,null,null,null,null,"VV","3","1","-1","0","ROZPOCET"]
[null,null,null,"VV",null,"2*(1,71+2,65)/2*(21,5-0,5)",null,91.56,null,null,null,null,null,null,null,null,null,null,null,null,null,null,null,null,null,null,null,null,null,null,null,null,null,null,null,null,null,null,null,null,null,null,null,null,null,"VV","3","2","-1","0","ROZPOCET"]
[null,null,null,"VV",null,"2*(2,65+1,85)/2*1,2",null,5.4,null,null,null,null,null,null,null,null,null,null,null,null,null,null,null,null,null,null,null,null,null,null,null,null,null,null,null,null,null,null,null,null,null,null,null,null,null,"VV","3","2","-1","0","ROZPOCET"]
[null,null,null,"VV",null,"2*(2,36+1,95)/2*(18,2-1)",null,74.132000000000005,null,null,null,null,null,null,null,null,null,null,null,null,null,null,null,null,null,null,null,null,null,null,null,null,null,null,null,null,null,null,null,null,null,null,null,null,null,"VV","3","2","-1","0","ROZPOCET"]
[null,null,null,"VV",null,"odvodnění uličních vpustí",null,null,null,null,null,null,null,null,null,null,null,null,null,null,null,null,null,null,null,null,null,null,null,null,null,null,null,null,null,null,null,null,null,null,null,null,null,null,null,"VV","3","1","-1","0","ROZPOCET"]
[null,null,null,"VV",null,"2*(2,65+1,65)/2*(14,0-2)",null,51.6,null,null,null,null,null,null,null,null,null,null,null,null,null,null,null,null,null,null,null,null,null,null,null,null,null,null,null,null,null,null,null,null,null,null,null,null,null,"VV","3","2","-1","0","ROZPOCET"]
[null,null,null,"VV",null,"2*(2,65+2,16)*(24,0-2,0)",null,211.64,null,null,null,null,null,null,null,null,null,null,null,null,null,null,null,null,null,null,null,null,null,null,null,null,null,null,null,null,null,null,null,null,null,null,null,null,null,"VV","3","2","-1","0","ROZPOCET"]
[null,null,null,"VV",null,"2*(2,53+1,91)/2*(3,0-1,0)",null,8.8800000000000008,null,null,null,null,null,null,null,null,null,null,null,null,null,null,null,null,null,null,null,null,null,null,null,null,null,null,null,null,null,null,null,null,null,null,null,null,null,"VV","3","2","-1","0","ROZPOCET"]
[null,null,null,"VV",null,"443,2*0,01+0,356",null,4.7880000000000003,null,null,null,null,null,null,null,null,null,null,null,null,null,null,null,null,null,null,null,null,null,null,null,null,null,null,null,null,null,null,null,null,null,null,null,null,null,"VV","3","2","-1","0","ROZPOCET"]
[null,null,null,"VV",null,"Součet",null,448,null,null,null,null,null,null,null,null,null,null,null,null,null,null,null,null,null,null,null,null,null,null,null,null,null,null,null,null,null,null,null,null,null,null,null,null,null,"VV","3","4","-1","1","ROZPOCET"]
[null,null,"11","K","151101111","Odstranění příložného pažení a rozepření stěn rýh hl do 2 m","m2",316,null,{"$f":"ROUND($I$213*$H$213,2)","v":0},"CS ÚRS 2014 02",null,null,"základní",null,null,0,{"$f":"$Q$213*$H$213","v":0},0,{"$f":"$S$213*$H$213","v":0},null,null,null,null,null,null,null,null,null,null,null,null,null,null,null,null,null,null,null,null,null,null,null,"4",null,"K","3",null,null,null,"ROZPOCET",null,null,null,null,null,{"$f":"IF($N$213=\"základní\",$J$213,0)","v":0},{"$f":"IF($N$213=\"snížená\",$J$213,0)","v":0},{"$f":"IF($N$213=\"zákl. přenesená\",$J$213,0)","v":0},{"$f":"IF($N$213=\"sníž. přenesená\",$J$213,0)","v":0},{"$f":"IF($N$213=\"nulová\",$J$213,0)","v":0},"1",{"$f":"ROUND($I$213*$H$213,2)","v":0},"4","885936393"]
[null,null,null,"PP",null,"Odstranění pažení a rozepření stěn rýh pro podzemní vedení s uložením materiálu na vzdálenost do 3 m od kraje výkopu příložné, hloubky do 2 m",null,null,null,null,null,null,null,null,null,null,null,null,null,null,null,null,null,null,null,null,null,null,null,null,null,null,null,null,null,null,null,null,null,null,null,null,null,null,null,"PP","3"]
[null,null,"12","K","151101112","Odstranění příložného pažení a rozepření stěn rýh hl do 4 m","m2",448,null,{"$f":"ROUND($I$215*$H$215,2)","v":0},"CS ÚRS 2014 02",null,null,"základní",null,null,0,{"$f":"$Q$215*$H$215","v":0},0,{"$f":"$S$215*$H$215","v":0},null,null,null,null,null,null,null,null,null,null,null,null,null,null,null,null,null,null,null,null,null,null,null,"4",null,"K","3",null,null,null,"ROZPOCET",null,null,null,null,null,{"$f":"IF($N$215=\"základní\",$J$215,0)","v":0},{"$f":"IF($N$215=\"snížená\",$J$215,0)","v":0},{"$f":"IF($N$215=\"zákl. přenesená\",$J$215,0)","v":0},{"$f":"IF($N$215=\"sníž. přenesená\",$J$215,0)","v":0},{"$f":"IF($N$215=\"nulová\",$J$215,0)","v":0},"1",{"$f":"ROUND($I$215*$H$215,2)","v":0},"4","818355846"]
[null,null,null,"PP",null,"Odstranění pažení a rozepření stěn rýh pro podzemní vedení s uložením materiálu na vzdálenost do 3 m od kraje výkopu příložné, hloubky přes 2 do 4 m",null,null,null,null,null,null,null,null,null,null,null,null,null,null,null,null,null,null,null,null,null,null,null,null,null,null,null,null,null,null,null,null,null,null,null,null,null,null,null,"PP","3"]
[null,null,"13","K","151101201","Zřízení příložného pažení stěn výkopu hl do 4 m","m2",105,null,{"$f":"ROUND($I$217*$H$217,2)","v":0},"CS ÚRS 2014 02",null,null,"základní",null,null,7.0100000000000002E-4,{"$f":"$Q$217*$H$217","v":7.3605000000000004E-2},0,{"$f":"$S$217*$H$217","v":0},null,null,null,null,null,null,null,null,null,null,null,null,null,null,null,null,null,null,null,null,null,null,null,"4",null,"K","3",null,null,null,"ROZPOCET",null,null,null,null,null,{"$f":"IF($N$217=\"základní\",$J$217,0)","v":0},{"$f":"IF($N$217=\"snížená\",$J$217,0)","v":0},{"$f":"IF($N$217=\"zákl. přenesená\",$J$217,0)","v":0},{"$f":"IF($N$217=\"sníž. přenesená\",$J$217,0)","v":0},{"$f":"IF($N$217=\"nulová\",$J$217,0)","v":0},"1",{"$f":"ROUND($I$217*$H$217,2)","v":0},"4","1488777970"]
[null,null,null,"PP",null,"Zřízení pažení stěn výkopu bez rozepření nebo vzepření příložné, hloubky do 4 m",null,null,null,null,null,null,null,null,null,null,null,null,null,null,null,null,null,null,null,null,null,null,null,null,null,null,null,null,null,null,null,null,null,null,null,null,null,null,null,"PP","3"]
[null,null,null,"PSC",null,"Poznámka k souboru cen:\n1. Ceny nelze použít pro oceňování rozepřeného pažení stěn rýh pro podzemní vedení; toto se oceňuje     cenami souboru cen 151 . 0-11 Zřízení pažení a rozepření stěn rýh pro podzemní vedení pro všechny     šířky rýhy. 2. Plocha mezer mezi pažinami příložného pažení se od plochy příložného pažení neodečítá;     nezapažené plochy u pažení zátažného nebo hnaného se od plochy pažení odečítají. ",null,null,null,null,null,null,null,null,null,null,null,null,null,null,null,null,null,null,null,null,null,null,null,null,null,null,null,null,null,null,null,null,null,null,null,null,null,null,null,"PSC","3"]
[null,null,null,"VV",null,"jáma pro retenční nádrž",null,null,null,null,null,null,null,null,null,null,null,null,null,null,null,null,null,null,null,null,null,null,null,null,null,null,null,null,null,null,null,null,null,null,null,null,null,null,null,"VV","3","1","-1","0","ROZPOCET"]
[null,null,null,"VV",null,"1,55*(12,9+9,6)*2",null,69.75,null,null,null,null,null,null,null,null,null,null,null,null,null,null,null,null,null,null,null,null,null,null,null,null,null,null,null,null,null,null,null,null,null,null,null,null,null,"VV","3","2","-1","0","ROZPOCET"]
[null,null,null,"VV",null,"jáma pro jímku s odlučovačem",null,null,null,null,null,null,null,null,null,null,null,null,null,null,null,null,null,null,null,null,null,null,null,null,null,null,null,null,null,null,null,null,null,null,null,null,null,null,null,"VV","3","1","-1","0","ROZPOCET"]
[null,null,null,"VV",null,"3,5*2,5*4",null,35,null,null,null,null,null,null,null,null,null,null,null,null,null,null,null,null,null,null,null,null,null,null,null,null,null,null,null,null,null,null,null,null,null,null,null,null,null,"VV","3","2","-1","0","ROZPOCET"]
[null,null,null,"VV",null,"0,25",null,0.25,null,null,null,null,null,null,null,null,null,null,null,null,null,null,null,null,null,null,null,null,null,null,null,null,null,null,null,null,null,null,null,null,null,null,null,null,null,"VV","3","2","-1","0","ROZPOCET"]
[null,null,null,"VV",null,"Součet",null,105,null,null,null,null,null,null,null,null,null,null,null,null,null,null,null,null,null,null,null,null,null,null,null,null,null,null,null,null,null,null,null,null,null,null,null,null,null,"VV","3","4","-1","1","ROZPOCET"]
[null,null,"14","K","151101211","Odstranění příložného pažení stěn hl do 4 m","m2",105,null,{"$f":"ROUND($I$226*$H$226,2)","v":0},"CS ÚRS 2014 02",null,null,"základní",null,null,0,{"$f":"$Q$226*$H$226","v":0},0,{"$f":"$S$226*$H$226","v":0},null,null,null,null,null,null,null,null,null,null,null,null,null,null,null,null,null,null,null,null,null,null,null,"4",null,"K","3",null,null,null,"ROZPOCET",null,null,null,null,null,{"$f":"IF($N$226=\"základní\",$J$226,0)","v":0},{"$f":"IF($N$226=\"snížená\",$J$226,0)","v":0},{"$f":"IF($N$226=\"zákl. přenesená\",$J$226,0)","v":0},{"$f":"IF($N$226=\"sníž. přenesená\",$J$226,0)","v":0},{"$f":"IF($N$226=\"nulová\",$J$226,0)","v":0},"1",{"$f":"ROUND($I$226*$H$226,2)","v":0},"4","729705512"]
[null,null,null,"PP",null,"Odstranění pažení stěn výkopu s uložením pažin na vzdálenost do 3 m od okraje výkopu příložné, hloubky do 4 m",null,null,null,null,null,null,null,null,null,null,null,null,null,null,null,null,null,null,null,null,null,null,null,null,null,null,null,null,null,null,null,null,null,null,null,null,null,null,null,"PP","3"]
[null,null,"15","K","151101401","Zřízení vzepření stěn při pažení příložném hl do 4 m","m2",105,null,{"$f":"ROUND($I$228*$H$228,2)","v":0},"CS ÚRS 2014 02",null,null,"základní",null,null,1.4100000000000001E-5,{"$f":"$Q$228*$H$228","v":1.4805E-3},0,{"$f":"$S$228*$H$228","v":0},null,null,null,null,null,null,null,null,null,null,null,null,null,null,null,null,null,null,null,null,null,null,null,"4",null,"K","3",null,null,null,"ROZPOCET",null,null,null,null,null,{"$f":"IF($N$228=\"základní\",$J$228,0)","v":0},{"$f":"IF($N$228=\"snížená\",$J$228,0)","v":0},{"$f":"IF($N$228=\"zákl. přenesená\",$J$228,0)","v":0},{"$f":"IF($N$228=\"sníž. přenesená\",$J$228,0)","v":0},{"$f":"IF($N$228=\"nulová\",$J$228,0)","v":0},"1",{"$f":"ROUND($I$228*$H$228,2)","v":0},"4","-583650740"]
[null,null,null,"PP",null,"Zřízení vzepření zapažených stěn výkopů s potřebným přepažováním při roubení příložném, hloubky do 4 m",null,null,null,null,null,null,null,null,null,null,null,null,null,null,null,null,null,null,null,null,null,null,null,null,null,null,null,null,null,null,null,null,null,null,null,null,null,null,null,"PP","3"]
[null,null,null,"PSC",null,"Poznámka k souboru cen:\n1. Ceny nelze použít pro kotvení zapažených stěn zvenku; toto kotvení se oceňuje příslušnými cenami     katalogu 800-2 Zvláštní zakládání objektů. ",null,null,null,null,null,null,null,null,null,null,null,null,null,null,null,null,null,null,null,null,null,null,null,null,null,null,null,null,null,null,null,null,null,null,null,null,null,null,null,"PSC","3"]
[null,null,"16","K","151101411","Odstranění vzepření stěn při pažení příložném hl do 4 m","m2",105,null,{"$f":"ROUND($I$231*$H$231,2)","v":0},"CS ÚRS 2014 02",null,null,"základní",null,null,0,{"$f":"$Q$231*$H$231","v":0},0,{"$f":"$S$231*$H$231","v":0},null,null,null,null,null,null,null,null,null,null,null,null,null,null,null,null,null,null,null,null,null,null,null,"4",null,"K","3",null,null,null,"ROZPOCET",null,null,null,null,null,{"$f":"IF($N$231=\"základní\",$J$231,0)","v":0},{"$f":"IF($N$231=\"snížená\",$J$231,0)","v":0},{"$f":"IF($N$231=\"zákl. přenesená\",$J$231,0)","v":0},{"$f":"IF($N$231=\"sníž. přenesená\",$J$231,0)","v":0},{"$f":"IF($N$231=\"nulová\",$J$231,0)","v":0},"1",{"$f":"ROUND($I$231*$H$231,2)","v":0},"4","1091800871"]
[null,null,null,"PP",null,"Odstranění vzepření stěn výkopů s uložením materiálu na vzdálenost do 3 m od kraje výkopu při roubení příložném, hloubky do 4 m",null,null,null,null,null,null,null,null,null,null,null,null,null,null,null,null,null,null,null,null,null,null,null,null,null,null,null,null,null,null,null,null,null,null,null,null,null,null,null,"PP","3"]
[null,null,"17","K","161101101","Svislé přemístění výkopku z horniny tř. 1 až 4 hl výkopu do 2,5 m","m3",723.25,null,{"$f":"ROUND($I$233*$H$233,2)","v":0},"CS ÚRS 2014 02",null,null,"základní",null,null,0,{"$f":"$Q$233*$H$233","v":0},0,{"$f":"$S$233*$H$233","v":0},null,null,null,null,null,null,null,null,null,null,null,null,null,null,null,null,null,null,null,null,null,null,null,"4",null,"K","3",null,null,null,"ROZPOCET",null,null,null,null,null,{"$f":"IF($N$233=\"základní\",$J$233,0)","v":0},{"$f":"IF($N$233=\"snížená\",$J$233,0)","v":0},{"$f":"IF($N$233=\"zákl. přenesená\",$J$233,0)","v":0},{"$f":"IF($N$233=\"sníž. přenesená\",$J$233,0)","v":0},{"$f":"IF($N$233=\"nulová\",$J$233,0)","v":0},"1",{"$f":"ROUND($I$233*$H$233,2)","v":0},"4","-1884486679"]
[null,null,null,"PP",null,"Svislé přemístění výkopku bez naložení do dopravní nádoby avšak s vyprázdněním dopravní nádoby na hromadu nebo do dopravního prostředku z horniny tř. 1 až 4, při hloubce výkopu přes 1 do 2,5 m",null,null,null,null,null,null,null,null,null,null,null,null,null,null,null,null,null,null,null,null,null,null,null,null,null,null,null,null,null,null,null,null,null,null,null,null,null,null,null,"PP","3"]
[null,null,null,"PSC",null,"Poznámka k souboru cen:\n1. Ceny -1151 až -1158 lze použít i pro svislé přemístění materiálu a stavební suti z konstrukcí ze     zdiva cihelného nebo kamenného, z betonu prostého, prokládaného, železového i předpjatého, pokud     tyto konstrukce byly vybourány ve výkopišti. 2. Ceny pro hloubku přes 1 do 2,5 m, přes 2,5 m do 4 m atd. jsou určeny pro svislé přemístění     výkopku od 0 do 2,5 m, od 0 do 4 m atd. 3. Množství materiálu i stavební suti z rozbouraných konstrukcí pro přemístění se rovná objemu     konstrukcí před rozbouráním. ",null,null,null,null,null,null,null,null,null,null,null,null,null,null,null,null,null,null,null,null,null,null,null,null,null,null,null,null,null,null,null,null,null,null,null,null,null,null,null,"PSC","3"]
[null,null,null,"VV",null,"dle ceníkové přílohy",null,null,null,null,null,null,null,null,null,null,null,null,null,null,null,null,null,null,null,null,null,null,null,null,null,null,null,null,null,null,null,null,null,null,null,null,null,null,null,"VV","3","1","-1","0","ROZPOCET"]
[null,null,null,"VV",null,"pažený výkop -  100% výkopku",null,null,null,null,null,null,null,null,null,null,null,null,null,null,null,null,null,null,null,null,null,null,null,null,null,null,null,null,null,null,null,null,null,null,null,null,null,null,null,"VV","3","1","-1","0","ROZPOCET"]
[null,null,null,"VV",null,"rýhy pro potrubí - pažený výkop",null,null,null,null,null,null,null,null,null,null,null,null,null,null,null,null,null,null,null,null,null,null,null,null,null,null,null,null,null,null,null,null,null,null,null,null,null,null,null,"VV","3","1","-1","0","ROZPOCET"]
[null,null,null,"VV",null,"dle pol.132201201mezisoučet A+B",null,null,null,null,null,null,null,null,null,null,null,null,null,null,null,null,null,null,null,null,null,null,null,null,null,null,null,null,null,null,null,null,null,null,null,null,null,null,null,"VV","3","1","-1","0","ROZPOCET"]
[null,null,null,"VV",null,"202,0+235,0",null,437,null,null,null,null,null,null,null,null,null,null,null,null,null,null,null,null,null,null,null,null,null,null,null,null,null,null,null,null,null,null,null,null,null,null,null,null,null,"VV","3","2","-1","0","ROZPOCET"]
[null,null,null,"VV",null,"zapažené jámy",null,null,null,null,null,null,null,null,null,null,null,null,null,null,null,null,null,null,null,null,null,null,null,null,null,null,null,null,null,null,null,null,null,null,null,null,null,null,null,"VV","3","1","-1","0","ROZPOCET"]
[null,null,null,"VV",null,"pol.131201202+131301202",null,null,null,null,null,null,null,null,null,null,null,null,null,null,null,null,null,null,null,null,null,null,null,null,null,null,null,null,null,null,null,null,null,null,null,null,null,null,null,"VV","3","1","-1","0","ROZPOCET"]
[null,null,null,"VV",null,"111,5+111,5",null,223,null,null,null,null,null,null,null,null,null,null,null,null,null,null,null,null,null,null,null,null,null,null,null,null,null,null,null,null,null,null,null,null,null,null,null,null,null,"VV","3","2","-1","0","ROZPOCET"]
[null,null,null,"VV",null,"Mezisoučet - pažený výkop",null,660,null,null,null,null,null,null,null,null,null,null,null,null,null,null,null,null,null,null,null,null,null,null,null,null,null,null,null,null,null,null,null,null,null,null,null,null,null,"VV","3","3","-1","0","ROZPOCET"]
[null,null,null,"VV",null,"nepažený výkop - 55%  výkopkku",null,null,null,null,null,null,null,null,null,null,null,null,null,null,null,null,null,null,null,null,null,null,null,null,null,null,null,null,null,null,null,null,null,null,null,null,null,null,null,"VV","3","1","-1","0","ROZPOCET"]
[null,null,null,"VV",null,"výkop pro šachty Š1 až Š6",null,null,null,null,null,null,null,null,null,null,null,null,null,null,null,null,null,null,null,null,null,null,null,null,null,null,null,null,null,null,null,null,null,null,null,null,null,null,null,"VV","3","1","-1","0","ROZPOCET"]
[null,null,null,"VV",null,"dle pol.132201202 mezisoučet C",null,null,null,null,null,null,null,null,null,null,null,null,null,null,null,null,null,null,null,null,null,null,null,null,null,null,null,null,null,null,null,null,null,null,null,null,null,null,null,"VV","3","1","-1","0","ROZPOCET"]
[null,null,null,"VV",null,"115,0*0,55",null,63.25,null,null,null,null,null,null,null,null,null,null,null,null,null,null,null,null,null,null,null,null,null,null,null,null,null,null,null,null,null,null,null,null,null,null,null,null,null,"VV","3","2","-1","0","ROZPOCET"]
[null,null,null,"VV",null,"Mezisoučet - nepažený výkop",null,63.25,null,null,null,null,null,null,null,null,null,null,null,null,null,null,null,null,null,null,null,null,null,null,null,null,null,null,null,null,null,null,null,null,null,null,null,null,null,"VV","3","3","-1","0","ROZPOCET"]
[null,null,null,"VV",null,"Součet",null,723.25,null,null,null,null,null,null,null,null,null,null,null,null,null,null,null,null,null,null,null,null,null,null,null,null,null,null,null,null,null,null,null,null,null,null,null,null,null,"VV","3","4","-1","1","ROZPOCET"]
[null,null,"18","K","162201102","Vodorovné přemístění do 50 m výkopku/sypaniny z horniny tř. 1 až 4","m3",86.870999999999995,null,{"$f":"ROUND($I$251*$H$251,2)","v":0},"CS ÚRS 2014 02",null,null,"základní",null,null,0,{"$f":"$Q$251*$H$251","v":0},0,{"$f":"$S$251*$H$251","v":0},null,null,null,null,null,null,null,null,null,null,null,null,null,null,null,null,null,null,null,null,null,null,null,"4",null,"K","3",null,null,null,"ROZPOCET",null,null,null,null,null,{"$f":"IF($N$251=\"základní\",$J$251,0)","v":0},{"$f":"IF($N$251=\"snížená\",$J$251,0)","v":0},{"$f":"IF($N$251=\"zákl. přenesená\",$J$251,0)","v":0},{"$f":"IF($N$251=\"sníž. přenesená\",$J$251,0)","v":0},{"$f":"IF($N$251=\"nulová\",$J$251,0)","v":0},"1",{"$f":"ROUND($I$251*$H$251,2)","v":0},"4","-570571658"]
[null,null,null,"PP",null,"Vodorovné přemístění výkopku nebo sypaniny po suchu na obvyklém dopravním prostředku, bez naložení výkopku, avšak se složením bez rozhrnutí z horniny tř. 1 až 4 na vzdálenost přes 20 do 50 m",null,null,null,null,null,null,null,null,null,null,null,null,null,null,null,null,null,null,null,null,null,null,null,null,null,null,null,null,null,null,null,null,null,null,null,null,null,null,null,"PP","3"]
[null,null,null,"PSC",null,"Poznámka k souboru cen:\n1. Ceny nelze použít, předepisuje-li projekt přemístit výkopek na místo nepřístupné obvyklým     dopravním prostředkům; toto přemístění se oceňuje individuálně. 2. V cenách jsou započteny i náhrady za jízdu loženého vozidla v terénu ve výkopišti nebo na     násypišti. 3. V cenách nejsou započteny náklady na rozhrnutí výkopku na násypišti; toto rozhrnutí se oceňuje     cenami souboru cen 171 . 0- . . Uložení sypaniny do násypů a 171 20-1201Uložení sypaniny na skládky. 4. Je-li na dopravní dráze pro vodorovné přemístění nějaká překážka, pro kterou je nutno překládat     výkopek z jednoho obvyklého dopravního prostředku na jiný obvyklý doprav- ní prostředek, oceňuje se     toto lomené vodorovné přemístění výkopku v každém úseku samostatně příslušnou cenou tohoto souboru     cen a překládání výkopku cenami souboru cen 167 10-3 . Nakládání neulehlého výkopku z hromad s     ohledem na ustanovení pozn. číslo 5. 5. Přemísťuje-li se výkopek z dočasných skládek vzdálených do 50 m, neoceňuje se nakládání výkopku,     i když se provádí. Toto ustanovení neplatí, vylučuje-li projekt použití dozeru. 6. V cenách vodorovného přemístění sypaniny nejsou započteny náklady na dodávku materiálu, tyto se     oceňují ve specifikaci. ",null,null,null,null,null,null,null,null,null,null,null,null,null,null,null,null,null,null,null,null,null,null,null,null,null,null,null,null,null,null,null,null,null,null,null,null,null,null,null,"PSC","3"]
[null,null,null,"VV",null,"manipulace se sypaninami (písek)",null,null,null,null,null,null,null,null,null,null,null,null,null,null,null,null,null,null,null,null,null,null,null,null,null,null,null,null,null,null,null,null,null,null,null,null,null,null,null,"VV","3","1","-1","0","ROZPOCET"]
[null,null,null,"VV",null,"(tzv.přesun hmot po staveništi)",null,null,null,null,null,null,null,null,null,null,null,null,null,null,null,null,null,null,null,null,null,null,null,null,null,null,null,null,null,null,null,null,null,null,null,null,null,null,null,"VV","3","1","-1","0","ROZPOCET"]
[null,null,null,"VV",null,"pol.583313450 v odd.1",null,null,null,null,null,null,null,null,null,null,null,null,null,null,null,null,null,null,null,null,null,null,null,null,null,null,null,null,null,null,null,null,null,null,null,null,null,null,null,"VV","3","1","-1","0","ROZPOCET"]
[null,null,null,"VV",null,"90,924/1,67",null,54.445999999999998,null,null,null,null,null,null,null,null,null,null,null,null,null,null,null,null,null,null,null,null,null,null,null,null,null,null,null,null,null,null,null,null,null,null,null,null,null,"VV","3","2","-1","0","ROZPOCET"]
[null,null,null,"VV",null,"pol.451572111+451573111 v odd.4",null,null,null,null,null,null,null,null,null,null,null,null,null,null,null,null,null,null,null,null,null,null,null,null,null,null,null,null,null,null,null,null,null,null,null,null,null,null,null,"VV","3","1","-1","0","ROZPOCET"]
[null,null,null,"VV",null,"31,2+1,225",null,32.424999999999997,null,null,null,null,null,null,null,null,null,null,null,null,null,null,null,null,null,null,null,null,null,null,null,null,null,null,null,null,null,null,null,null,null,null,null,null,null,"VV","3","2","-1","0","ROZPOCET"]
[null,null,null,"VV",null,"Součet",null,86.870999999999995,null,null,null,null,null,null,null,null,null,null,null,null,null,null,null,null,null,null,null,null,null,null,null,null,null,null,null,null,null,null,null,null,null,null,null,null,null,"VV","3","4","-1","1","ROZPOCET"]
[null,null,"19","K","162701105","Vodorovné přemístění do 10000 m výkopku/sypaniny z horniny tř. 1 až 4","m3",267.7,null,{"$f":"ROUND($I$261*$H$261,2)","v":0},"CS ÚRS 2014 02",null,null,"základní",null,null,0,{"$f":"$Q$261*$H$261","v":0},0,{"$f":"$S$261*$H$261","v":0},null,null,null,null,null,null,null,null,null,null,null,null,null,null,null,null,null,null,null,null,null,null,null,"4",null,"K","3",null,null,null,"ROZPOCET",null,null,null,null,null,{"$f":"IF($N$261=\"základní\",$J$261,0)","v":0},{"$f":"IF($N$261=\"snížená\",$J$261,0)","v":0},{"$f":"IF($N$261=\"zákl. přenesená\",$J$261,0)","v":0},{"$f":"IF($N$261=\"sníž. přenesená\",$J$261,0)","v":0},{"$f":"IF($N$261=\"nulová\",$J$261,0)","v":0},"1",{"$f":"ROUND($I$261*$H$261,2)","v":0},"4","-378661443"]
[null,null,null,"PP",null,"Vodorovné přemístění výkopku nebo sypaniny po suchu na obvyklém dopravním prostředku, bez naložení výkopku, avšak se složením bez rozhrnutí z horniny tř. 1 až 4 na vzdálenost přes 9 000 do 10 000 m",null,null,null,null,null,null,null,null,null,null,null,null,null,null,null,null,null,null,null,null,null,null,null,null,null,null,null,null,null,null,null,null,null,null,null,null,null,null,null,"PP","3"]
[null,null,null,"PSC",null,"Poznámka k souboru cen:\n1. Ceny nelze použít, předepisuje-li projekt přemístit výkopek na místo nepřístupné obvyklým     dopravním prostředkům; toto přemístění se oceňuje individuálně. 2. V cenách jsou započteny i náhrady za jízdu loženého vozidla v terénu ve výkopišti nebo na     násypišti. 3. V cenách nejsou započteny náklady na rozhrnutí výkopku na násypišti; toto rozhrnutí se oceňuje     cenami souboru cen 171 . 0- . . Uložení sypaniny do násypů a 171 20-1201Uložení sypaniny na skládky. 4. Je-li na dopravní dráze pro vodorovné přemístění nějaká překážka, pro kterou je nutno překládat     výkopek z jednoho obvyklého dopravního prostředku na jiný obvyklý doprav- ní prostředek, oceňuje se     toto lomené vodorovné přemístění výkopku v každém úseku samostatně příslušnou cenou tohoto souboru     cen a překládání výkopku cenami souboru cen 167 10-3 . Nakládání neulehlého výkopku z hromad s     ohledem na ustanovení pozn. číslo 5. 5. Přemísťuje-li se výkopek z dočasných skládek vzdálených do 50 m, neoceňuje se nakládání výkopku,     i když se provádí. Toto ustanovení neplatí, vylučuje-li projekt použití dozeru. 6. V cenách vodorovného přemístění sypaniny nejsou započteny náklady na dodávku materiálu, tyto se     oceňují ve specifikaci. ",null,null,null,null,null,null,null,null,null,null,null,null,null,null,null,null,null,null,null,null,null,null,null,null,null,null,null,null,null,null,null,null,null,null,null,null,null,null,null,"PSC","3"]
[null,null,null,"VV",null,"přebytečná zemina na skládku ",null,null,null,null,null,null,null,null,null,null,null,null,null,null,null,null,null,null,null,null,null,null,null,null,null,null,null,null,null,null,null,null,null,null,null,null,null,null,null,"VV","3","1","-1","0","ROZPOCET"]
[null,null,null,"VV",null,"výkop",null,null,null,null,null,null,null,null,null,null,null,null,null,null,null,null,null,null,null,null,null,null,null,null,null,null,null,null,null,null,null,null,null,null,null,null,null,null,null,"VV","3","1","-1","0","ROZPOCET"]
[null,null,null,"VV",null,"pol.131201202+131301202",null,null,null,null,null,null,null,null,null,null,null,null,null,null,null,null,null,null,null,null,null,null,null,null,null,null,null,null,null,null,null,null,null,null,null,null,null,null,null,"VV","3","1","-1","0","ROZPOCET"]
[null,null,null,"VV",null,"111,5+111,5",null,223,null,null,null,null,null,null,null,null,null,null,null,null,null,null,null,null,null,null,null,null,null,null,null,null,null,null,null,null,null,null,null,null,null,null,null,null,null,"VV","3","2","-1","0","ROZPOCET"]
[null,null,null,"VV",null,"pol.132201202+132301202",null,null,null,null,null,null,null,null,null,null,null,null,null,null,null,null,null,null,null,null,null,null,null,null,null,null,null,null,null,null,null,null,null,null,null,null,null,null,null,"VV","3","1","-1","0","ROZPOCET"]
[null,null,null,"VV",null,"201,0+201,0",null,402,null,null,null,null,null,null,null,null,null,null,null,null,null,null,null,null,null,null,null,null,null,null,null,null,null,null,null,null,null,null,null,null,null,null,null,null,null,"VV","3","2","-1","0","ROZPOCET"]
[null,null,null,"VV",null,"méně zásyp dle pol174101101",null,null,null,null,null,null,null,null,null,null,null,null,null,null,null,null,null,null,null,null,null,null,null,null,null,null,null,null,null,null,null,null,null,null,null,null,null,null,null,"VV","3","1","-1","0","ROZPOCET"]
[null,null,null,"VV",null,"-357,3",null,-357.3,null,null,null,null,null,null,null,null,null,null,null,null,null,null,null,null,null,null,null,null,null,null,null,null,null,null,null,null,null,null,null,null,null,null,null,null,null,"VV","3","2","-1","0","ROZPOCET"]
[null,null,null,"VV",null,"Součet",null,267.7,null,null,null,null,null,null,null,null,null,null,null,null,null,null,null,null,null,null,null,null,null,null,null,null,null,null,null,null,null,null,null,null,null,null,null,null,null,"VV","3","4","-1","1","ROZPOCET"]
[null,null,"20","K","162701109","Příplatek k vodorovnému přemístění výkopku/sypaniny z horniny tř. 1 až 4 ZKD 1000 m přes 10000 m","m3",3747.8,null,{"$f":"ROUND($I$273*$H$273,2)","v":0},"CS ÚRS 2014 02",null,null,"základní",null,null,0,{"$f":"$Q$273*$H$273","v":0},0,{"$f":"$S$273*$H$273","v":0},null,null,null,null,null,null,null,null,null,null,null,null,null,null,null,null,null,null,null,null,null,null,null,"4",null,"K","3",null,null,null,"ROZPOCET",null,null,null,null,null,{"$f":"IF($N$273=\"základní\",$J$273,0)","v":0},{"$f":"IF($N$273=\"snížená\",$J$273,0)","v":0},{"$f":"IF($N$273=\"zákl. přenesená\",$J$273,0)","v":0},{"$f":"IF($N$273=\"sníž. přenesená\",$J$273,0)","v":0},{"$f":"IF($N$273=\"nulová\",$J$273,0)","v":0},"1",{"$f":"ROUND($I$273*$H$273,2)","v":0},"4","2044412157"]
[null,null,null,"PP",null,"Vodorovné přemístění výkopku nebo sypaniny po suchu na obvyklém dopravním prostředku, bez naložení výkopku, avšak se složením bez rozhrnutí z horniny tř. 1 až 4 na vzdálenost Příplatek k ceně za každých dalších i započatých 1 000 m",null,null,null,null,null,null,null,null,null,null,null,null,null,null,null,null,null,null,null,null,null,null,null,null,null,null,null,null,null,null,null,null,null,null,null,null,null,null,null,"PP","3"]
[null,null,null,"PSC",null,"Poznámka k souboru cen:\n1. Ceny nelze použít, předepisuje-li projekt přemístit výkopek na místo nepřístupné obvyklým     dopravním prostředkům; toto přemístění se oceňuje individuálně. 2. V cenách jsou započteny i náhrady za jízdu loženého vozidla v terénu ve výkopišti nebo na     násypišti. 3. V cenách nejsou započteny náklady na rozhrnutí výkopku na násypišti; toto rozhrnutí se oceňuje     cenami souboru cen 171 . 0- . . Uložení sypaniny do násypů a 171 20-1201Uložení sypaniny na skládky. 4. Je-li na dopravní dráze pro vodorovné přemístění nějaká překážka, pro kterou je nutno překládat     výkopek z jednoho obvyklého dopravního prostředku na jiný obvyklý doprav- ní prostředek, oceňuje se     toto lomené vodorovné přemístění výkopku v každém úseku samostatně příslušnou cenou tohoto souboru     cen a překládání výkopku cenami souboru cen 167 10-3 . Nakládání neulehlého výkopku z hromad s     ohledem na ustanovení pozn. číslo 5. 5. Přemísťuje-li se výkopek z dočasných skládek vzdálených do 50 m, neoceňuje se nakládání výkopku,     i když se provádí. Toto ustanovení neplatí, vylučuje-li projekt použití dozeru. 6. V cenách vodorovného přemístění sypaniny nejsou započteny náklady na dodávku materiálu, tyto se     oceňují ve specifikaci. ",null,null,null,null,null,null,null,null,null,null,null,null,null,null,null,null,null,null,null,null,null,null,null,null,null,null,null,null,null,null,null,null,null,null,null,null,null,null,null,"PSC","3"]
[null,null,null,"VV",null,"celkem 15 km",null,null,null,null,null,null,null,null,null,null,null,null,null,null,null,null,null,null,null,null,null,null,null,null,null,null,null,null,null,null,null,null,null,null,null,null,null,null,null,"VV","3","1","-1","0","ROZPOCET"]
[null,null,null,"VV",null,"267,7*(15-1)",null,3747.8,null,null,null,null,null,null,null,null,null,null,null,null,null,null,null,null,null,null,null,null,null,null,null,null,null,null,null,null,null,null,null,null,null,null,null,null,null,"VV","3","2","-1","1","ROZPOCET"]
[null,null,"21","K","167101102","Nakládání výkopku z hornin tř. 1 až 4 přes 100 m3","m3",300.21600000000001,null,{"$f":"ROUND($I$278*$H$278,2)","v":0},"CS ÚRS 2014 02",null,null,"základní",null,null,0,{"$f":"$Q$278*$H$278","v":0},0,{"$f":"$S$278*$H$278","v":0},null,null,null,null,null,null,null,null,null,null,null,null,null,null,null,null,null,null,null,null,null,null,null,"4",null,"K","3",null,null,null,"ROZPOCET",null,null,null,null,null,{"$f":"IF($N$278=\"základní\",$J$278,0)","v":0},{"$f":"IF($N$278=\"snížená\",$J$278,0)","v":0},{"$f":"IF($N$278=\"zákl. přenesená\",$J$278,0)","v":0},{"$f":"IF($N$278=\"sníž. přenesená\",$J$278,0)","v":0},{"$f":"IF($N$278=\"nulová\",$J$278,0)","v":0},"1",{"$f":"ROUND($I$278*$H$278,2)","v":0},"4","980590087"]
[null,null,null,"PP",null,"Nakládání, skládání a překládání neulehlého výkopku nebo sypaniny nakládání, množství přes 100 m3, z hornin tř. 1 až 4",null,null,null,null,null,null,null,null,null,null,null,null,null,null,null,null,null,null,null,null,null,null,null,null,null,null,null,null,null,null,null,null,null,null,null,null,null,null,null,"PP","3"]
[null,null,null,"PSC",null,"Poznámka k souboru cen:\n1. Ceny -1101, -1151, -1102, -1152, -1103, -1153, jsou určeny pro nakládání, skládání a překládání     na obvyklý nebo z obvyklého dopravního prostředku. Pro nakládání z lodi nebo na loď jsou určeny     ceny -1105 a -1155. 2. Ceny -1105 a -1155 jsou určeny pro nakládání, překládání a vykládání na vzdálenost     a) do 20 m vodorovně; vodorovná vzdálenost se měří od těžnice lodi k těžnici druhé lodi, nebo         k těžišti hromady na břehu nebo k těžišti dopravního prostředku na suchu,     b) do 4 m svisle; svislá vzdálenost se měří od pracovní hladiny vody k úrovni srovna- ného         terénu v místě hromady nebo v místě dopravní plochy pro dopravní prostředek na suchu. Uvedenou         svislou vzdálenost 4 m lze zvětšit, a to nejvýše do 6 m, jestliže je vodorovná vzdálenost uvedená v         bodu a) kratší než 20 m nejméně o trojnásobek zvětšení výšky přes 4 m. 3. Množství měrných jednotek se určí v rostlém stavu horniny. ",null,null,null,null,null,null,null,null,null,null,null,null,null,null,null,null,null,null,null,null,null,null,null,null,null,null,null,null,null,null,null,null,null,null,null,null,null,null,null,"PSC","3"]
[null,null,null,"VV",null,"přebytečná zemina-pol.162701105",null,null,null,null,null,null,null,null,null,null,null,null,null,null,null,null,null,null,null,null,null,null,null,null,null,null,null,null,null,null,null,null,null,null,null,null,null,null,null,"VV","3","1","-1","0","ROZPOCET"]
[null,null,null,"VV",null,"211,7",null,211.7,null,null,null,null,null,null,null,null,null,null,null,null,null,null,null,null,null,null,null,null,null,null,null,null,null,null,null,null,null,null,null,null,null,null,null,null,null,"VV","3","2","-1","0","ROZPOCET"]
[null,null,null,"VV",null,"sypké materiály pro přesun-pol.162201102",null,null,null,null,null,null,null,null,null,null,null,null,null,null,null,null,null,null,null,null,null,null,null,null,null,null,null,null,null,null,null,null,null,null,null,null,null,null,null,"VV","3","1","-1","0","ROZPOCET"]
[null,null,null,"VV",null,"88,516",null,88.516000000000005,null,null,null,null,null,null,null,null,null,null,null,null,null,null,null,null,null,null,null,null,null,null,null,null,null,null,null,null,null,null,null,null,null,null,null,null,null,"VV","3","2","-1","0","ROZPOCET"]
[null,null,null,"VV",null,"Součet",null,300.21600000000001,null,null,null,null,null,null,null,null,null,null,null,null,null,null,null,null,null,null,null,null,null,null,null,null,null,null,null,null,null,null,null,null,null,null,null,null,null,"VV","3","4","-1","1","ROZPOCET"]
[null,null,"22","K","171201201","Uložení sypaniny na skládky","m3",267.7,null,{"$f":"ROUND($I$286*$H$286,2)","v":0},"CS ÚRS 2014 02",null,null,"základní",null,null,0,{"$f":"$Q$286*$H$286","v":0},0,{"$f":"$S$286*$H$286","v":0},null,null,null,null,null,null,null,null,null,null,null,null,null,null,null,null,null,null,null,null,null,null,null,"4",null,"K","3",null,null,null,"ROZPOCET",null,null,null,null,null,{"$f":"IF($N$286=\"základní\",$J$286,0)","v":0},{"$f":"IF($N$286=\"snížená\",$J$286,0)","v":0},{"$f":"IF($N$286=\"zákl. přenesená\",$J$286,0)","v":0},{"$f":"IF($N$286=\"sníž. přenesená\",$J$286,0)","v":0},{"$f":"IF($N$286=\"nulová\",$J$286,0)","v":0},"1",{"$f":"ROUND($I$286*$H$286,2)","v":0},"4","-2079990053"]
[null,null,null,"PP",null,"Uložení sypaniny na skládky",null,null,null,null,null,null,null,null,null,null,null,null,null,null,null,null,null,null,null,null,null,null,null,null,null,null,null,null,null,null,null,null,null,null,null,null,null,null,null,"PP","3"]
[null,null,null,"PSC",null,"Poznámka k souboru cen:\n1. Cena -1201 je určena i pro:     a) uložení výkopku nebo ornice na dočasné skládky předepsané projektem tak, že na 1 m2         projektem určené plochy této skládky připadá přes 2 m3 výkopku nebo ornice; v opačném případě se         uložení neoceňuje. Množství výkopku nebo ornice připadající na 1 m2 skládky se určí jako podíl         množství výkopku nebo ornice, měřeného v rostlém stavu a projektem určené plochy dočasné skládky;     b) zasypání koryt vodotečí a prohlubní v terénu bez předepsaného zhutnění sypaniny;     c) uložení výkopku pod vodou do prohlubní ve dně vodotečí nebo nádrží. 2. Cenu -1201 nelze použít pro uložení výkopku nebo ornice:     a) při vykopávkách pro podzemní vedení podél hrany výkopu, z něhož byl výkopek získán, a to ani         tehdy, jestliže se výkopek po vyhození z výkopu na povrch území ještě dále přemisťuje na hromady         podél výkopu;     b) na dočasné skládky, které nejsou předepsány projektem;     c) na dočasné skládky předepsané projektem tak, že na 1 m2 projektem určené plochy této skládky         připadají nejvýše 2 m3 výkopku nebo ornice (viz. též poznámku č. 1 a);     d) na dočasné skládky, oceňuje-li se cenou 121 10-1101 Sejmutí ornice nebo lesní půdy do 50 m,         nebo oceňuje-li se vodorovné přemístění výkopku do 20 m a 50 m cenami 162 20-1101, 162 20-1102, 162         20-1151 a 162 20-1152. V těchto případech se uložení výkopku nebo ornice na dočasnou skládku         neoceňuje.     e) na trvalé skládky s předepsaným zhutněním; toto uložení výkopku se oceňuje cenami souboru         cen 171 . 0- . . Uložení sypaniny do násypů. 3. V ceně -1201 jsou započteny i náklady na rozprostření sypaniny ve vrstvách s hrubým urovnáním na     skládce. 4. V ceně -1201 nejsou započteny náklady na získání skládek ani na poplatky za skládku. 5. Množství jednotek uložení výkopku (sypaniny) se určí v m3 uloženého výkopku (sypaniny),v rostlém     stavu zpravidla ve výkopišti. 6. Cenu -1211 lze po dohodě upravit podle místních podmínek. ",null,null,null,null,null,null,null,null,null,null,null,null,null,null,null,null,null,null,null,null,null,null,null,null,null,null,null,null,null,null,null,null,null,null,null,null,null,null,null,"PSC","3"]
[null,null,null,"VV",null,"přebytečná zemina - pol.162701105",null,null,null,null,null,null,null,null,null,null,null,null,null,null,null,null,null,null,null,null,null,null,null,null,null,null,null,null,null,null,null,null,null,null,null,null,null,null,null,"VV","3","1","-1","0","ROZPOCET"]
[null,null,null,"VV",null,"267,7",null,267.7,null,null,null,null,null,null,null,null,null,null,null,null,null,null,null,null,null,null,null,null,null,null,null,null,null,null,null,null,null,null,null,null,null,null,null,null,null,"VV","3","2","-1","1","ROZPOCET"]
[null,null,"23","K","171201211","Poplatek za uložení odpadu ze sypaniny na skládce (skládkovné)","t",401.55,null,{"$f":"ROUND($I$291*$H$291,2)","v":0},"CS ÚRS 2014 02",null,null,"základní",null,null,0,{"$f":"$Q$291*$H$291","v":0},0,{"$f":"$S$291*$H$291","v":0},null,null,null,null,null,null,null,null,null,null,null,null,null,null,null,null,null,null,null,null,null,null,null,"4",null,"K","3",null,null,null,"ROZPOCET",null,null,null,null,null,{"$f":"IF($N$291=\"základní\",$J$291,0)","v":0},{"$f":"IF($N$291=\"snížená\",$J$291,0)","v":0},{"$f":"IF($N$291=\"zákl. přenesená\",$J$291,0)","v":0},{"$f":"IF($N$291=\"sníž. přenesená\",$J$291,0)","v":0},{"$f":"IF($N$291=\"nulová\",$J$291,0)","v":0},"1",{"$f":"ROUND($I$291*$H$291,2)","v":0},"4","-358345482"]
[null,null,null,"PP",null,"Uložení sypaniny poplatek za uložení sypaniny na skládce (skládkovné)",null,null,null,null,null,null,null,null,null,null,null,null,null,null,null,null,null,null,null,null,null,null,null,null,null,null,null,null,null,null,null,null,null,null,null,null,null,null,null,"PP","3"]
[null,null,null,"PSC",null,"Poznámka k souboru cen:\n1. Cena -1201 je určena i pro:     a) uložení výkopku nebo ornice na dočasné skládky předepsané projektem tak, že na 1 m2         projektem určené plochy této skládky připadá přes 2 m3 výkopku nebo ornice; v opačném případě se         uložení neoceňuje. Množství výkopku nebo ornice připadající na 1 m2 skládky se určí jako podíl         množství výkopku nebo ornice, měřeného v rostlém stavu a projektem určené plochy dočasné skládky;     b) zasypání koryt vodotečí a prohlubní v terénu bez předepsaného zhutnění sypaniny;     c) uložení výkopku pod vodou do prohlubní ve dně vodotečí nebo nádrží. 2. Cenu -1201 nelze použít pro uložení výkopku nebo ornice:     a) při vykopávkách pro podzemní vedení podél hrany výkopu, z něhož byl výkopek získán, a to ani         tehdy, jestliže se výkopek po vyhození z výkopu na povrch území ještě dále přemisťuje na hromady         podél výkopu;     b) na dočasné skládky, které nejsou předepsány projektem;     c) na dočasné skládky předepsané projektem tak, že na 1 m2 projektem určené plochy této skládky         připadají nejvýše 2 m3 výkopku nebo ornice (viz. též poznámku č. 1 a);     d) na dočasné skládky, oceňuje-li se cenou 121 10-1101 Sejmutí ornice nebo lesní půdy do 50 m,         nebo oceňuje-li se vodorovné přemístění výkopku do 20 m a 50 m cenami 162 20-1101, 162 20-1102, 162         20-1151 a 162 20-1152. V těchto případech se uložení výkopku nebo ornice na dočasnou skládku         neoceňuje.     e) na trvalé skládky s předepsaným zhutněním; toto uložení výkopku se oceňuje cenami souboru         cen 171 . 0- . . Uložení sypaniny do násypů. 3. V ceně -1201 jsou započteny i náklady na rozprostření sypaniny ve vrstvách s hrubým urovnáním na     skládce. 4. V ceně -1201 nejsou započteny náklady na získání skládek ani na poplatky za skládku. 5. Množství jednotek uložení výkopku (sypaniny) se určí v m3 uloženého výkopku (sypaniny),v rostlém     stavu zpravidla ve výkopišti. 6. Cenu -1211 lze po dohodě upravit podle místních podmínek. ",null,null,null,null,null,null,null,null,null,null,null,null,null,null,null,null,null,null,null,null,null,null,null,null,null,null,null,null,null,null,null,null,null,null,null,null,null,null,null,"PSC","3"]
[null,null,null,"VV",null,"pol.171201201",null,null,null,null,null,null,null,null,null,null,null,null,null,null,null,null,null,null,null,null,null,null,null,null,null,null,null,null,null,null,null,null,null,null,null,null,null,null,null,"VV","3","1","-1","0","ROZPOCET"]
[null,null,null,"VV",null,"267,7*1,5",null,401.55,null,null,null,null,null,null,null,null,null,null,null,null,null,null,null,null,null,null,null,null,null,null,null,null,null,null,null,null,null,null,null,null,null,null,null,null,null,"VV","3","2","-1","1","ROZPOCET"]
[null,null,"24","K","174101101","Zásyp jam, šachet rýh nebo kolem objektů sypaninou se zhutněním","m3",357.3,null,{"$f":"ROUND($I$296*$H$296,2)","v":0},"CS ÚRS 2014 02",null,null,"základní",null,null,0,{"$f":"$Q$296*$H$296","v":0},0,{"$f":"$S$296*$H$296","v":0},null,null,null,null,null,null,null,null,null,null,null,null,null,null,null,null,null,null,null,null,null,null,null,"4",null,"K","3",null,null,null,"ROZPOCET",null,null,null,null,null,{"$f":"IF($N$296=\"základní\",$J$296,0)","v":0},{"$f":"IF($N$296=\"snížená\",$J$296,0)","v":0},{"$f":"IF($N$296=\"zákl. přenesená\",$J$296,0)","v":0},{"$f":"IF($N$296=\"sníž. přenesená\",$J$296,0)","v":0},{"$f":"IF($N$296=\"nulová\",$J$296,0)","v":0},"1",{"$f":"ROUND($I$296*$H$296,2)","v":0},"4","-1410993688"]
[null,null,null,"PP",null,"Zásyp sypaninou z jakékoliv horniny s uložením výkopku ve vrstvách se zhutněním jam, šachet, rýh nebo kolem objektů v těchto vykopávkách",null,null,null,null,null,null,null,null,null,null,null,null,null,null,null,null,null,null,null,null,null,null,null,null,null,null,null,null,null,null,null,null,null,null,null,null,null,null,null,"PP","3"]
[null,null,null,"PSC",null,"Poznámka k souboru cen:\n1. Ceny 174 10- . . jsou určeny pro zhutněné zásypy s mírou zhutnění:     a) z hornin soudržných do 100 % PS,     b) z hornin nesoudržných do I(d) 0,9,     c) z hornin kamenitých pro jakoukoliv míru zhutnění. 2. Je-li projektem předepsáno vyšší zhutnění, podle bodu a) a b) poznámky č 1., ocení se zásyp     individuálně. 3. Ceny nelze použít pro zásyp rýh pro drenážní trativody pro lesnicko-technické meliorace a     zemědělské. Zásyp těchto rýh se oceňuje cenami souboru cen 174 20-3 . části A 03 Zemní práce pro     objekty oborů 831 až 833. Nezhutněný zásyp odvodňovacích kanálů z betonových a železobetonových     trub v polních a lučních tratích se oceňuje cenou -1101 Zásyp sypaninou rýh bez ohledu na šířku     kanálu; cena obsahuje i náklady na ruční nezhutněný zásyp výšky do 200 mm nad vrchol potrubí. 4. V cenách 10-1101, 10-1103, 20-1101 a 20-1103 je započteno přemístění sypaniny ze vzdálenosti 10     m od kraje výkopu nebo zasypávaného prostoru, měřeno k těžišti skládky. 5. V ceně 10-1102 je započteno přemístění sypaniny ze vzdálenosti 15 m od hrany zasypávaného     prostoru, měřeno k těžišti skládky. 6. Objem zásypu je rozdíl objemu výkopu a objemu do něho vestavěných konstrukcí nebo uložených     vedení i s jejich obklady a podklady (tento objem se nazývá objemem horniny vytlačené konstrukcí).     Objem potrubí do DN 180, příp. i s obalem, se od objemu zásypu neodečítá. Pro stanovení objemu     zásypu se od objemu výkopu odečítá i objem obsypu potrubí oceňovaný cenami souboru cen 175 10-11     Obsyp potrubí, přichází-li v úvahu . 7. Odklizení zbylého výkopku po provedení zásypu zářezů se šikmými stěnami pro podzemní vedení nebo     zásypu jam a rýh pro podzemní vedení se oceňuje, je-li objem zbylého výkopku:     a) do 1 m3 na 1 m vedení a jedná se o výkopek neulehlý - cenami souboru cen 167 10-110         Nakládání výkopku nebo sypaniny a 162 . 0-1 . Vodorovné přemístění výkopku. V případě, že se jedná         o výkopek ulehlý - rozpojení a naložení výkopku cenami souboru cen 122 . 0-1 . souboru cen 162 .         0-1 . Vodorovné přemístění výkopku;     b) přes 1 m3 na 1 m vedení, jestliže projekt předepíše, že se zbylý výkopek bude odklízet         zároveň s prováděním vykopávky, pouze přemístění výkopku cenami souboru cen 162 . 0-1 . Vodorovné         přemístění výkopku. Při zmíněném objemu zbylého výkopku se neoceňuje ani naložení ani rozpojení         výkopku. Jestliže se zbylý výkopek neodklízí, nýbrž rozprostírá podél výkopu a nad výkopem, platí         poznámka č. 8. 8. Rozprostření zbylého výkopku podél výkopu a nad výkopem po provedení zásypů zářezů se šikmými     stěnami pro podzemní vedení nebo zásypu jam a rýh pro podzemní vedení se oceňuje:     a) cenou 171 20-1101 Uložení sypaniny do nezhutněných násypů, není-li projektem předepsáno         zhutnění rozprostřeného zbylého výkopku,     b) cenou 171 10-1111 Uložení sypaniny do násypů z hornin sypkých, je-li předepsáno zhutnění         rozprostřeného zbylého výkopku, a to v objemu vypočteném podle poznámky č.6, příp. zmenšeném o         objem výkopku, který byl již odklizen. 9. Míru zhutnění předepisuje projekt. ",null,null,null,null,null,null,null,null,null,null,null,null,null,null,null,null,null,null,null,null,null,null,null,null,null,null,null,null,null,null,null,null,null,null,null,null,null,null,null,"PSC","3"]
[null,null,null,"VV",null,"výkop",null,null,null,null,null,null,null,null,null,null,null,null,null,null,null,null,null,null,null,null,null,null,null,null,null,null,null,null,null,null,null,null,null,null,null,null,null,null,null,"VV","3","1","-1","0","ROZPOCET"]
[null,null,null,"VV",null,"pol.131201202+131301202",null,null,null,null,null,null,null,null,null,null,null,null,null,null,null,null,null,null,null,null,null,null,null,null,null,null,null,null,null,null,null,null,null,null,null,null,null,null,null,"VV","3","1","-1","0","ROZPOCET"]
[null,null,null,"VV",null,"111,5+111,5",null,223,null,null,null,null,null,null,null,null,null,null,null,null,null,null,null,null,null,null,null,null,null,null,null,null,null,null,null,null,null,null,null,null,null,null,null,null,null,"VV","3","2","-1","0","ROZPOCET"]
[null,null,null,"VV",null,"pol.132201202+132301202",null,null,null,null,null,null,null,null,null,null,null,null,null,null,null,null,null,null,null,null,null,null,null,null,null,null,null,null,null,null,null,null,null,null,null,null,null,null,null,"VV","3","1","-1","0","ROZPOCET"]
[null,null,null,"VV",null,"201,0+201,0",null,402,null,null,null,null,null,null,null,null,null,null,null,null,null,null,null,null,null,null,null,null,null,null,null,null,null,null,null,null,null,null,null,null,null,null,null,null,null,"VV","3","2","-1","0","ROZPOCET"]
[null,null,null,"VV",null,"méně lože dle pol.451572111",null,null,null,null,null,null,null,null,null,null,null,null,null,null,null,null,null,null,null,null,null,null,null,null,null,null,null,null,null,null,null,null,null,null,null,null,null,null,null,"VV","3","1","-1","0","ROZPOCET"]
[null,null,null,"VV",null,"-31,0",null,-31,null,null,null,null,null,null,null,null,null,null,null,null,null,null,null,null,null,null,null,null,null,null,null,null,null,null,null,null,null,null,null,null,null,null,null,null,null,"VV","3","2","-1","0","ROZPOCET"]
[null,null,null,"VV",null,"méně obsyp dle pol.175101101mezisoučet A",null,null,null,null,null,null,null,null,null,null,null,null,null,null,null,null,null,null,null,null,null,null,null,null,null,null,null,null,null,null,null,null,null,null,null,null,null,null,null,"VV","3","1","-1","0","ROZPOCET"]
[null,null,null,"VV",null,"-103,6",null,-103.6,null,null,null,null,null,null,null,null,null,null,null,null,null,null,null,null,null,null,null,null,null,null,null,null,null,null,null,null,null,null,null,null,null,null,null,null,null,"VV","3","2","-1","0","ROZPOCET"]
[null,null,null,"VV",null,"méně pol.451573111+452311161",null,null,null,null,null,null,null,null,null,null,null,null,null,null,null,null,null,null,null,null,null,null,null,null,null,null,null,null,null,null,null,null,null,null,null,null,null,null,null,"VV","3","1","-1","0","ROZPOCET"]
[null,null,null,"VV",null,"-(1,225+2,89)",null,-4.1150000000000002,null,null,null,null,null,null,null,null,null,null,null,null,null,null,null,null,null,null,null,null,null,null,null,null,null,null,null,null,null,null,null,null,null,null,null,null,null,"VV","3","2","-1","0","ROZPOCET"]
[null,null,null,"VV",null,"méně kanalizační šachty",null,null,null,null,null,null,null,null,null,null,null,null,null,null,null,null,null,null,null,null,null,null,null,null,null,null,null,null,null,null,null,null,null,null,null,null,null,null,null,"VV","3","1","-1","0","ROZPOCET"]
[null,null,null,"VV",null,"-3,14*0,6*0,6*(1,9+1,2*2+2,3*2+2,15)",null,-12.491,null,null,null,null,null,null,null,null,null,null,null,null,null,null,null,null,null,null,null,null,null,null,null,null,null,null,null,null,null,null,null,null,null,null,null,null,null,"VV","3","2","-1","0","ROZPOCET"]
[null,null,null,"VV",null,"méně odlučovač tuků",null,null,null,null,null,null,null,null,null,null,null,null,null,null,null,null,null,null,null,null,null,null,null,null,null,null,null,null,null,null,null,null,null,null,null,null,null,null,null,"VV","3","1","-1","0","ROZPOCET"]
[null,null,null,"VV",null,"-2,05*2,5*2,5",null,-12.813000000000001,null,null,null,null,null,null,null,null,null,null,null,null,null,null,null,null,null,null,null,null,null,null,null,null,null,null,null,null,null,null,null,null,null,null,null,null,null,"VV","3","2","-1","0","ROZPOCET"]
[null,null,null,"VV",null,"méně akumulační vsakovací blok",null,null,null,null,null,null,null,null,null,null,null,null,null,null,null,null,null,null,null,null,null,null,null,null,null,null,null,null,null,null,null,null,null,null,null,null,null,null,null,"VV","3","1","-1","0","ROZPOCET"]
[null,null,null,"VV",null,"-0,9*12,0*9,6-0,001",null,-103.681,null,null,null,null,null,null,null,null,null,null,null,null,null,null,null,null,null,null,null,null,null,null,null,null,null,null,null,null,null,null,null,null,null,null,null,null,null,"VV","3","2","-1","0","ROZPOCET"]
[null,null,null,"VV",null,"Součet",null,357.3,null,null,null,null,null,null,null,null,null,null,null,null,null,null,null,null,null,null,null,null,null,null,null,null,null,null,null,null,null,null,null,null,null,null,null,null,null,"VV","3","4","-1","1","ROZPOCET"]
[null,null,"25","K","175101101","Obsypání potrubí bez prohození sypaniny z hornin tř. 1 až 4 uloženým do 3 m od kraje výkopu","m3",98.1,null,{"$f":"ROUND($I$317*$H$317,2)","v":0},"CS ÚRS 2014 02",null,null,"základní",null,null,0,{"$f":"$Q$317*$H$317","v":0},0,{"$f":"$S$317*$H$317","v":0},null,null,null,null,null,null,null,null,null,null,null,null,null,null,null,null,null,null,null,null,null,null,null,"4",null,"K","3",null,null,null,"ROZPOCET",null,null,null,null,null,{"$f":"IF($N$317=\"základní\",$J$317,0)","v":0},{"$f":"IF($N$317=\"snížená\",$J$317,0)","v":0},{"$f":"IF($N$317=\"zákl. přenesená\",$J$317,0)","v":0},{"$f":"IF($N$317=\"sníž. přenesená\",$J$317,0)","v":0},{"$f":"IF($N$317=\"nulová\",$J$317,0)","v":0},"1",{"$f":"ROUND($I$317*$H$317,2)","v":0},"4","53187890"]
[null,null,null,"PP",null,"Obsypání potrubí sypaninou z vhodných hornin tř. 1 až 4 nebo materiálem připraveným podél výkopu ve vzdálenosti do 3 m od jeho kraje, pro jakoukoliv hloubku výkopu a míru zhutnění bez prohození sypaniny",null,null,null,null,null,null,null,null,null,null,null,null,null,null,null,null,null,null,null,null,null,null,null,null,null,null,null,null,null,null,null,null,null,null,null,null,null,null,null,"PP","3"]
[null,null,null,"PSC",null,"Poznámka k souboru cen:\n1. Objem obsypu na 1 m délky potrubí se rovná šířce dna výkopu násobené součtem vnějšího průměru     potrubí příp. i s obalem a projektované tloušťky obsypu nad, případně i pod potrubím. Pro odečítání     objemu potrubí se započítávají všechny vestavěné konstrukce nebo uložené vedení i s jejich obklady     a podklady (tento objem se nazývá objemem horniny vytlačené konstrukcí). 2. Míru zhutnění předepisuje projekt. 3. V cenách nejsou zahrnuty náklady na nakupovanou sypaninu. Tato se oceňuje ve specifikaci. ",null,null,null,null,null,null,null,null,null,null,null,null,null,null,null,null,null,null,null,null,null,null,null,null,null,null,null,null,null,null,null,null,null,null,null,null,null,null,null,"PSC","3"]
[null,null,null,"VV",null,"obsyp pískem",null,null,null,null,null,null,null,null,null,null,null,null,null,null,null,null,null,null,null,null,null,null,null,null,null,null,null,null,null,null,null,null,null,null,null,null,null,null,null,"VV","3","1","-1","0","ROZPOCET"]
[null,null,null,"VV",null,"potrubí PVC DN100",null,null,null,null,null,null,null,null,null,null,null,null,null,null,null,null,null,null,null,null,null,null,null,null,null,null,null,null,null,null,null,null,null,null,null,null,null,null,null,"VV","3","1","-1","0","ROZPOCET"]
[null,null,null,"VV",null,"1,1*(0,1+0,3)*14,5",null,6.38,null,null,null,null,null,null,null,null,null,null,null,null,null,null,null,null,null,null,null,null,null,null,null,null,null,null,null,null,null,null,null,null,null,null,null,null,null,"VV","3","2","-1","0","ROZPOCET"]
[null,null,null,"VV",null,"potrubí PVC DN150",null,null,null,null,null,null,null,null,null,null,null,null,null,null,null,null,null,null,null,null,null,null,null,null,null,null,null,null,null,null,null,null,null,null,null,null,null,null,null,"VV","3","1","-1","0","ROZPOCET"]
[null,null,null,"VV",null,"1,1*(0,15+0,3)*18,5",null,9.1579999999999995,null,null,null,null,null,null,null,null,null,null,null,null,null,null,null,null,null,null,null,null,null,null,null,null,null,null,null,null,null,null,null,null,null,null,null,null,null,"VV","3","2","-1","0","ROZPOCET"]
[null,null,null,"VV",null,"přípojky vpustí DN 150",null,null,null,null,null,null,null,null,null,null,null,null,null,null,null,null,null,null,null,null,null,null,null,null,null,null,null,null,null,null,null,null,null,null,null,null,null,null,null,"VV","3","1","-1","0","ROZPOCET"]
[null,null,null,"VV",null,"1,1*(0,15+0,3)*86,0",null,42.57,null,null,null,null,null,null,null,null,null,null,null,null,null,null,null,null,null,null,null,null,null,null,null,null,null,null,null,null,null,null,null,null,null,null,null,null,null,"VV","3","2","-1","0","ROZPOCET"]
[null,null,null,"VV",null,"potrubí PVC 300",null,null,null,null,null,null,null,null,null,null,null,null,null,null,null,null,null,null,null,null,null,null,null,null,null,null,null,null,null,null,null,null,null,null,null,null,null,null,null,"VV","3","1","-1","0","ROZPOCET"]
[null,null,null,"VV",null,"1,1*(0,3+0,3)*70,0",null,46.2,null,null,null,null,null,null,null,null,null,null,null,null,null,null,null,null,null,null,null,null,null,null,null,null,null,null,null,null,null,null,null,null,null,null,null,null,null,"VV","3","2","-1","0","ROZPOCET"]
[null,null,null,"VV",null,"0,692",null,0.69199999999999995,null,null,null,null,null,null,null,null,null,null,null,null,null,null,null,null,null,null,null,null,null,null,null,null,null,null,null,null,null,null,null,null,null,null,null,null,null,"VV","3","2","-1","0","ROZPOCET"]
[null,null,null,"VV",null,"Mezisoučet A",null,105,null,null,null,null,null,null,null,null,null,null,null,null,null,null,null,null,null,null,null,null,null,null,null,null,null,null,null,null,null,null,null,null,null,null,null,null,null,"VV","3","3","-1","0","ROZPOCET"]
[null,null,null,"VV",null,"méně potrubí",null,null,null,null,null,null,null,null,null,null,null,null,null,null,null,null,null,null,null,null,null,null,null,null,null,null,null,null,null,null,null,null,null,null,null,null,null,null,null,"VV","3","1","-1","0","ROZPOCET"]
[null,null,null,"VV",null,"-3,14*0,05*0,05*14,0",null,-0.11,null,null,null,null,null,null,null,null,null,null,null,null,null,null,null,null,null,null,null,null,null,null,null,null,null,null,null,null,null,null,null,null,null,null,null,null,null,"VV","3","2","-1","0","ROZPOCET"]
[null,null,null,"VV",null,"-3,14*0,075*0,075*(18,5+86,0)",null,-1.8460000000000001,null,null,null,null,null,null,null,null,null,null,null,null,null,null,null,null,null,null,null,null,null,null,null,null,null,null,null,null,null,null,null,null,null,null,null,null,null,"VV","3","2","-1","0","ROZPOCET"]
[null,null,null,"VV",null,"-3,14*0,15*0,15*70,0",null,-4.9459999999999997,null,null,null,null,null,null,null,null,null,null,null,null,null,null,null,null,null,null,null,null,null,null,null,null,null,null,null,null,null,null,null,null,null,null,null,null,null,"VV","3","2","-1","0","ROZPOCET"]
[null,null,null,"VV",null,"0,002",null,2E-3,null,null,null,null,null,null,null,null,null,null,null,null,null,null,null,null,null,null,null,null,null,null,null,null,null,null,null,null,null,null,null,null,null,null,null,null,null,"VV","3","2","-1","0","ROZPOCET"]
[null,null,null,"VV",null,"Součet",null,98.1,null,null,null,null,null,null,null,null,null,null,null,null,null,null,null,null,null,null,null,null,null,null,null,null,null,null,null,null,null,null,null,null,null,null,null,null,null,"VV","3","4","-1","1","ROZPOCET"]
[null,null,"26","M","583313450","kamenivo těžené drobné frakce 0-4","t",90.924000000000007,null,{"$f":"ROUND($I$337*$H$337,2)","v":0},"CS ÚRS 2014 02",null,null,"základní",null,null,1,{"$f":"$Q$337*$H$337","v":90.924000000000007},0,{"$f":"$S$337*$H$337","v":0},null,null,null,null,null,null,null,null,null,null,null,null,null,null,null,null,null,null,null,null,null,null,null,"8",null,"M","3",null,null,null,"ROZPOCET",null,null,null,null,null,{"$f":"IF($N$337=\"základní\",$J$337,0)","v":0},{"$f":"IF($N$337=\"snížená\",$J$337,0)","v":0},{"$f":"IF($N$337=\"zákl. přenesená\",$J$337,0)","v":0},{"$f":"IF($N$337=\"sníž. přenesená\",$J$337,0)","v":0},{"$f":"IF($N$337=\"nulová\",$J$337,0)","v":0},"1",{"$f":"ROUND($I$337*$H$337,2)","v":0},"4","-874715769"]
[null,null,null,"PP",null,"kamenivo přírodní těžené pro stavební účely  PTK  (drobné, hrubé, štěrkopísky) kamenivo těžené drobné D<=2 mm (ČSN EN 13043 ) D<=4 mm (ČSN EN 12620, ČSN EN 13139 ) d=0 mm, D<=6,3 mm (ČSN EN 13242) frakce  0-4  tříděná",null,null,null,null,null,null,null,null,null,null,null,null,null,null,null,null,null,null,null,null,null,null,null,null,null,null,null,null,null,null,null,null,null,null,null,null,null,null,null,"PP","3"]
[null,null,null,"VV",null,"hutnění 10%, ztratné 1%",null,null,null,null,null,null,null,null,null,null,null,null,null,null,null,null,null,null,null,null,null,null,null,null,null,null,null,null,null,null,null,null,null,null,null,null,null,null,null,"VV","3","1","-1","0","ROZPOCET"]
[null,null,null,"VV",null,"pol.175101101",null,null,null,null,null,null,null,null,null,null,null,null,null,null,null,null,null,null,null,null,null,null,null,null,null,null,null,null,null,null,null,null,null,null,null,null,null,null,null,"VV","3","1","-1","0","ROZPOCET"]
[null,null,null,"VV",null,"98,1*1,67*1,11",null,181.84800000000001,null,null,null,null,null,null,null,null,null,null,null,null,null,null,null,null,null,null,null,null,null,null,null,null,null,null,null,null,null,null,null,null,null,null,null,null,null,"VV","3","2","-1","1","ROZPOCET"]
[null,null,null,"VV",null,"181,848*0,5 'Přepočtené koeficientem množství",null,90.924000000000007,null,null,null,null,null,null,null,null,null,null,null,null,null,null,null,null,null,null,null,null,null,null,null,null,null,null,null,null,null,null,null,null,null,null,null,null,null,"VV","3","2","0","1","ROZPOCET"]
[null,null,null,"D","2","Zakládání",null,null,null,{"$f":"$BK$343","v":0},null,null,null,null,null,{"$f":"SUM($P$344:$P$382)","v":0},null,{"$f":"SUM($R$344:$R$382)","v":63.539796429999988},null,{"$f":"SUM($T$344:$T$382)","v":0},null,null,null,null,null,null,null,null,null,null,null,null,null,null,null,null,null,null,null,null,null,null,null,"1",null,"D","2",null,null,null,"ROZPOCET",null,null,null,null,null,null,null,null,null,null,null,{"$f":"SUM($BK$344:$BK$382)","v":0}]
[null,null,"27","K","2100010_R","Trativody z drenážních trubek plastových perforovaných PE 110","m",56,null,{"$f":"ROUND($I$344*$H$344,2)","v":0},null,null,null,"základní",null,null,1.16E-3,{"$f":"$Q$344*$H$344","v":6.4960000000000004E-2},0,{"$f":"$S$344*$H$344","v":0},null,null,null,null,null,null,null,null,null,null,null,null,null,null,null,null,null,null,null,null,null,null,null,"4",null,"K","3",null,null,null,"ROZPOCET",null,null,null,null,null,{"$f":"IF($N$344=\"základní\",$J$344,0)","v":0},{"$f":"IF($N$344=\"snížená\",$J$344,0)","v":0},{"$f":"IF($N$344=\"zákl. přenesená\",$J$344,0)","v":0},{"$f":"IF($N$344=\"sníž. přenesená\",$J$344,0)","v":0},{"$f":"IF($N$344=\"nulová\",$J$344,0)","v":0},"1",{"$f":"ROUND($I$344*$H$344,2)","v":0},"4","-61252853"]
[null,null,null,"PP",null,"Trativody z drenážních trubek plastových flexibilních D 160 mm bez lože",null,null,null,null,null,null,null,null,null,null,null,null,null,null,null,null,null,null,null,null,null,null,null,null,null,null,null,null,null,null,null,null,null,null,null,null,null,null,null,"PP","3"]
[null,null,null,"VV",null,"11,5*4+9,5+0,5",null,56,null,null,null,null,null,null,null,null,null,null,null,null,null,null,null,null,null,null,null,null,null,null,null,null,null,null,null,null,null,null,null,null,null,null,null,null,null,"VV","3","2","-1","1","ROZPOCET"]
[null,null,"28","K","212572111","Lože pro trativody ze štěrkopísku tříděného","m3",11.52,null,{"$f":"ROUND($I$347*$H$347,2)","v":0},"CS ÚRS 2014 02",null,null,"základní",null,null,1.9205000000000001,{"$f":"$Q$347*$H$347","v":22.12416},0,{"$f":"$S$347*$H$347","v":0},null,null,null,null,null,null,null,null,null,null,null,null,null,null,null,null,null,null,null,null,null,null,null,"4",null,"K","3",null,null,null,"ROZPOCET",null,null,null,null,null,{"$f":"IF($N$347=\"základní\",$J$347,0)","v":0},{"$f":"IF($N$347=\"snížená\",$J$347,0)","v":0},{"$f":"IF($N$347=\"zákl. přenesená\",$J$347,0)","v":0},{"$f":"IF($N$347=\"sníž. přenesená\",$J$347,0)","v":0},{"$f":"IF($N$347=\"nulová\",$J$347,0)","v":0},"1",{"$f":"ROUND($I$347*$H$347,2)","v":0},"4","-1836624431"]
[null,null,null,"PP",null,"Lože pro trativody ze štěrkopísku tříděného",null,null,null,null,null,null,null,null,null,null,null,null,null,null,null,null,null,null,null,null,null,null,null,null,null,null,null,null,null,null,null,null,null,null,null,null,null,null,null,"PP","3"]
[null,null,null,"PSC",null,"Poznámka k souboru cen:\n1. V cenách jsou započteny i náklady na vyčištění dna rýh a na urovnání povrchu lože. 2. V ceně materiálu jsou započteny i náklady na prohození výkopku. ",null,null,null,null,null,null,null,null,null,null,null,null,null,null,null,null,null,null,null,null,null,null,null,null,null,null,null,null,null,null,null,null,null,null,null,null,null,null,null,"PSC","3"]
[null,null,null,"VV",null,"lože pod přítokové drény retenční nádrže",null,null,null,null,null,null,null,null,null,null,null,null,null,null,null,null,null,null,null,null,null,null,null,null,null,null,null,null,null,null,null,null,null,null,null,null,null,null,null,"VV","3","1","-1","0","ROZPOCET"]
[null,null,null,"VV",null,"0,1*12,0*9,6",null,11.52,null,null,null,null,null,null,null,null,null,null,null,null,null,null,null,null,null,null,null,null,null,null,null,null,null,null,null,null,null,null,null,null,null,null,null,null,null,"VV","3","2","-1","1","ROZPOCET"]
[null,null,"29","K","2110010_R","Výplň odvodňovacích žeber nebo trativodů vymývaným štěrkem frakce 16 až 32 mm","m3",13.2,null,{"$f":"ROUND($I$352*$H$352,2)","v":0},null,null,null,"základní",null,null,1.63,{"$f":"$Q$352*$H$352","v":21.515999999999998},0,{"$f":"$S$352*$H$352","v":0},null,null,null,null,null,null,null,null,null,null,null,null,null,null,null,null,null,null,null,null,null,null,null,"4",null,"K","3",null,null,null,"ROZPOCET",null,null,null,null,null,{"$f":"IF($N$352=\"základní\",$J$352,0)","v":0},{"$f":"IF($N$352=\"snížená\",$J$352,0)","v":0},{"$f":"IF($N$352=\"zákl. přenesená\",$J$352,0)","v":0},{"$f":"IF($N$352=\"sníž. přenesená\",$J$352,0)","v":0},{"$f":"IF($N$352=\"nulová\",$J$352,0)","v":0},"1",{"$f":"ROUND($I$352*$H$352,2)","v":0},"4","2141410280"]
[null,null,null,"PP",null,"Výplň odvodňovacích žeber nebo trativodů kamenivem drceným frakce 16 až 63 mm - srovnatelně pro fr.16-32 mm",null,null,null,null,null,null,null,null,null,null,null,null,null,null,null,null,null,null,null,null,null,null,null,null,null,null,null,null,null,null,null,null,null,null,null,null,null,null,null,"PP","3"]
[null,null,null,"VV",null,"obsyp perforovaných trubek a zároveň podkladní ",null,null,null,null,null,null,null,null,null,null,null,null,null,null,null,null,null,null,null,null,null,null,null,null,null,null,null,null,null,null,null,null,null,null,null,null,null,null,null,"VV","3","1","-1","0","ROZPOCET"]
[null,null,null,"VV",null,"vrstva pod bloky - tl.300 mm",null,null,null,null,null,null,null,null,null,null,null,null,null,null,null,null,null,null,null,null,null,null,null,null,null,null,null,null,null,null,null,null,null,null,null,null,null,null,null,"VV","3","1","-1","0","ROZPOCET"]
[null,null,null,"VV",null,"0,3*12,0+9,6",null,13.2,null,null,null,null,null,null,null,null,null,null,null,null,null,null,null,null,null,null,null,null,null,null,null,null,null,null,null,null,null,null,null,null,null,null,null,null,null,"VV","3","2","-1","0","ROZPOCET"]
[null,null,null,"VV",null,"méně trubky",null,null,null,null,null,null,null,null,null,null,null,null,null,null,null,null,null,null,null,null,null,null,null,null,null,null,null,null,null,null,null,null,null,null,null,null,null,null,null,"VV","3","1","-1","0","ROZPOCET"]
[null,null,null,"VV",null,"-3,14*0,05*0,05*(11,5*4+9,5)",null,-0.436,null,null,null,null,null,null,null,null,null,null,null,null,null,null,null,null,null,null,null,null,null,null,null,null,null,null,null,null,null,null,null,null,null,null,null,null,null,"VV","3","2","-1","0","ROZPOCET"]
[null,null,null,"VV",null,"12,764*0,03+0,053",null,0.436,null,null,null,null,null,null,null,null,null,null,null,null,null,null,null,null,null,null,null,null,null,null,null,null,null,null,null,null,null,null,null,null,null,null,null,null,null,"VV","3","2","-1","0","ROZPOCET"]
[null,null,null,"VV",null,"Součet",null,13.2,null,null,null,null,null,null,null,null,null,null,null,null,null,null,null,null,null,null,null,null,null,null,null,null,null,null,null,null,null,null,null,null,null,null,null,null,null,"VV","3","4","-1","1","ROZPOCET"]
[null,null,"30","K","2100020_R","Hutněná vrstva tl.100 mm vymývaným štěrkem frakce 16 až 32 mm - nad voštinovými bloky","m3",11.9,null,{"$f":"ROUND($I$361*$H$361,2)","v":0},null,null,null,"základní",null,null,1.63,{"$f":"$Q$361*$H$361","v":19.396999999999998},0,{"$f":"$S$361*$H$361","v":0},null,null,null,null,null,null,null,null,null,null,null,null,null,null,null,null,null,null,null,null,null,null,null,"4",null,"K","3",null,null,null,"ROZPOCET",null,null,null,null,null,{"$f":"IF($N$361=\"základní\",$J$361,0)","v":0},{"$f":"IF($N$361=\"snížená\",$J$361,0)","v":0},{"$f":"IF($N$361=\"zákl. přenesená\",$J$361,0)","v":0},{"$f":"IF($N$361=\"sníž. přenesená\",$J$361,0)","v":0},{"$f":"IF($N$361=\"nulová\",$J$361,0)","v":0},"1",{"$f":"ROUND($I$361*$H$361,2)","v":0},"4","-512641164"]
[null,null,null,"PP",null,"Výplň odvodňovacích žeber nebo trativodů kamenivem drceným frakce 16 až 63 mm - srovnatelně pro fr.16-32 mm",null,null,null,null,null,null,null,null,null,null,null,null,null,null,null,null,null,null,null,null,null,null,null,null,null,null,null,null,null,null,null,null,null,null,null,null,null,null,null,"PP","3"]
[null,null,null,"VV",null,"vrstva nad bloky tl.100 mm",null,null,null,null,null,null,null,null,null,null,null,null,null,null,null,null,null,null,null,null,null,null,null,null,null,null,null,null,null,null,null,null,null,null,null,null,null,null,null,"VV","3","1","-1","0","ROZPOCET"]
[null,null,null,"VV",null,"0,1*12,0*9,6",null,11.52,null,null,null,null,null,null,null,null,null,null,null,null,null,null,null,null,null,null,null,null,null,null,null,null,null,null,null,null,null,null,null,null,null,null,null,null,null,"VV","3","2","-1","0","ROZPOCET"]
[null,null,null,"VV",null,"11,52*0,03+0,034",null,0.38,null,null,null,null,null,null,null,null,null,null,null,null,null,null,null,null,null,null,null,null,null,null,null,null,null,null,null,null,null,null,null,null,null,null,null,null,null,"VV","3","2","-1","0","ROZPOCET"]
[null,null,null,"VV",null,"Součet",null,11.9,null,null,null,null,null,null,null,null,null,null,null,null,null,null,null,null,null,null,null,null,null,null,null,null,null,null,null,null,null,null,null,null,null,null,null,null,null,"VV","3","4","-1","1","ROZPOCET"]
[null,null,"31","K","211971122","Zřízení opláštění žeber nebo trativodů geotextilií v rýze nebo zářezu přes 1:2 š přes 2,5 m","m2",505,null,{"$f":"ROUND($I$367*$H$367,2)","v":0},"CS ÚRS 2014 02",null,null,"základní",null,null,2.6668599999999997E-4,{"$f":"$Q$367*$H$367","v":0.13467642999999999},0,{"$f":"$S$367*$H$367","v":0},null,null,null,null,null,null,null,null,null,null,null,null,null,null,null,null,null,null,null,null,null,null,null,"4",null,"K","3",null,null,null,"ROZPOCET",null,null,null,null,null,{"$f":"IF($N$367=\"základní\",$J$367,0)","v":0},{"$f":"IF($N$367=\"snížená\",$J$367,0)","v":0},{"$f":"IF($N$367=\"zákl. přenesená\",$J$367,0)","v":0},{"$f":"IF($N$367=\"sníž. přenesená\",$J$367,0)","v":0},{"$f":"IF($N$367=\"nulová\",$J$367,0)","v":0},"1",{"$f":"ROUND($I$367*$H$367,2)","v":0},"4","1557470013"]
[null,null,null,"PP",null,"Zřízení opláštění výplně z geotextilie odvodňovacích žeber nebo trativodů v rýze nebo zářezu se stěnami svislými nebo šikmými o sklonu přes 1:2 při rozvinuté šířce opláštění přes 2,5 m",null,null,null,null,null,null,null,null,null,null,null,null,null,null,null,null,null,null,null,null,null,null,null,null,null,null,null,null,null,null,null,null,null,null,null,null,null,null,null,"PP","3"]
[null,null,null,"PSC",null,"Poznámka k souboru cen:\n1. Ceny jsou určeny:     a) pro jakékoliv druhy a rozměry geotextilií,     b) i pro zřízení svislého drénu z jedné nebo více vrstev geotextilie přiložených na stěnu rýhy         nebo zářezu,     c) pro způsob spojování geotextilií přesahy. 2. Ceny nelze použít:     a) pro zřízení opláštění výplně v zapažených rýhách; toto opláštění se oceňuje individuálně,     b) pro knotové drény (geodrény); tyto drény se oceňují cenami souboru cen 211 97-21 Vpichování         svislých konsolidačních prefabrikovaných drénů,     c) pro zřízení vrstev z geotextilií; toto zřízení vrstev z geotextilií se ocení cenami souboru         cen 213 14 Zřízení vrstvy z geotextilie. 3. V cenách jsou započteny i náklady na zřízení předepsaných přesahů a na potřebné zatěžování nebo     připevňování geotextilie ke stěnám výkopu při provádění. 4. V cenách nejsou započteny náklady na dodání geotextilie; toto dodání se oceňuje ve specifikaci.     Ztratné lze dohodnout ve výši 2 %. 5. Množství měrných jednotek:     a) se určuje v m2 rozvinuté plochy opláštění bez jakýchkoliv přesahů. Při opláštění z více         vrstev geotextilií se pro určení množství měrných jednotek oceňuje každá vrstva samostatně,     b) pro dodání geotextilie oceňované ve specifikaci se určí v m2 geotextilie včetně přesahů a         prořezů stanovených projektovou dokumentací. ",null,null,null,null,null,null,null,null,null,null,null,null,null,null,null,null,null,null,null,null,null,null,null,null,null,null,null,null,null,null,null,null,null,null,null,null,null,null,null,"PSC","3"]
[null,null,null,"VV",null,"opláštění celého akumulačního vsakovacího bloku",null,null,null,null,null,null,null,null,null,null,null,null,null,null,null,null,null,null,null,null,null,null,null,null,null,null,null,null,null,null,null,null,null,null,null,null,null,null,null,"VV","3","1","-1","0","ROZPOCET"]
[null,null,null,"VV",null,"12,0*9,6*2",null,230.4,null,null,null,null,null,null,null,null,null,null,null,null,null,null,null,null,null,null,null,null,null,null,null,null,null,null,null,null,null,null,null,null,null,null,null,null,null,"VV","3","2","-1","0","ROZPOCET"]
[null,null,null,"VV",null,"0,9*(12,0+9,6)*2",null,38.880000000000003,null,null,null,null,null,null,null,null,null,null,null,null,null,null,null,null,null,null,null,null,null,null,null,null,null,null,null,null,null,null,null,null,null,null,null,null,null,"VV","3","2","-1","0","ROZPOCET"]
[null,null,null,"VV",null,"geotextilie mezi bloky a štěrkem",null,null,null,null,null,null,null,null,null,null,null,null,null,null,null,null,null,null,null,null,null,null,null,null,null,null,null,null,null,null,null,null,null,null,null,null,null,null,null,"VV","3","1","-1","0","ROZPOCET"]
[null,null,null,"VV",null,"chrání bloky před zanášením",null,null,null,null,null,null,null,null,null,null,null,null,null,null,null,null,null,null,null,null,null,null,null,null,null,null,null,null,null,null,null,null,null,null,null,null,null,null,null,"VV","3","1","-1","0","ROZPOCET"]
[null,null,null,"VV",null,"12,0*9,6*2",null,230.4,null,null,null,null,null,null,null,null,null,null,null,null,null,null,null,null,null,null,null,null,null,null,null,null,null,null,null,null,null,null,null,null,null,null,null,null,null,"VV","3","2","-1","0","ROZPOCET"]
[null,null,null,"VV",null,"499,68*0,01+0,323",null,5.32,null,null,null,null,null,null,null,null,null,null,null,null,null,null,null,null,null,null,null,null,null,null,null,null,null,null,null,null,null,null,null,null,null,null,null,null,null,"VV","3","2","-1","0","ROZPOCET"]
[null,null,null,"VV",null,"Součet",null,505,null,null,null,null,null,null,null,null,null,null,null,null,null,null,null,null,null,null,null,null,null,null,null,null,null,null,null,null,null,null,null,null,null,null,null,null,null,"VV","3","4","-1","1","ROZPOCET"]
[null,null,"32","M","6930010_R","textilie netkaná - dodávka, doprava","m2",606,null,{"$f":"ROUND($I$378*$H$378,2)","v":0},null,null,null,"základní",null,null,5.0000000000000001E-4,{"$f":"$Q$378*$H$378","v":0.30299999999999999},0,{"$f":"$S$378*$H$378","v":0},null,null,null,null,null,null,null,null,null,null,null,null,null,null,null,null,null,null,null,null,null,null,null,"8",null,"M","3",null,null,null,"ROZPOCET",null,null,null,null,null,{"$f":"IF($N$378=\"základní\",$J$378,0)","v":0},{"$f":"IF($N$378=\"snížená\",$J$378,0)","v":0},{"$f":"IF($N$378=\"zákl. přenesená\",$J$378,0)","v":0},{"$f":"IF($N$378=\"sníž. přenesená\",$J$378,0)","v":0},{"$f":"IF($N$378=\"nulová\",$J$378,0)","v":0},"1",{"$f":"ROUND($I$378*$H$378,2)","v":0},"4","-816207052"]
[null,null,null,"PP",null,"textilie GEOFILTEX 63 63/50 500 g/m2 do š 8,8 m",null,null,null,null,null,null,null,null,null,null,null,null,null,null,null,null,null,null,null,null,null,null,null,null,null,null,null,null,null,null,null,null,null,null,null,null,null,null,null,"PP","3"]
[null,null,null,"VV",null,"dodávka, doprava k pol.211971122",null,null,null,null,null,null,null,null,null,null,null,null,null,null,null,null,null,null,null,null,null,null,null,null,null,null,null,null,null,null,null,null,null,null,null,null,null,null,null,"VV","3","1","-1","0","ROZPOCET"]
[null,null,null,"VV",null,"ztratné+přesahy 20%",null,null,null,null,null,null,null,null,null,null,null,null,null,null,null,null,null,null,null,null,null,null,null,null,null,null,null,null,null,null,null,null,null,null,null,null,null,null,null,"VV","3","1","-1","0","ROZPOCET"]
[null,null,null,"VV",null,"505,0*1,2",null,606,null,null,null,null,null,null,null,null,null,null,null,null,null,null,null,null,null,null,null,null,null,null,null,null,null,null,null,null,null,null,null,null,null,null,null,null,null,"VV","3","2","-1","1","ROZPOCET"]
[null,null,null,"D","38","Různé kompletní konstrukce",null,null,null,{"$f":"$BK$383","v":0},null,null,null,null,null,{"$f":"SUM($P$384:$P$405)","v":0},null,{"$f":"SUM($R$384:$R$405)","v":8.2163392800000015},null,{"$f":"SUM($T$384:$T$405)","v":0},null,null,null,null,null,null,null,null,null,null,null,null,null,null,null,null,null,null,null,null,null,null,null,"1",null,"D","2",null,null,null,"ROZPOCET",null,null,null,null,null,null,null,null,null,null,null,{"$f":"SUM($BK$384:$BK$405)","v":0}]
[null,null,"33","K","3800015_R","Montáž odlučovače tuků velikosti T5","kus",1,null,{"$f":"ROUND($I$384*$H$384,2)","v":0},null,null,null,"základní",null,null,1.0200000000000001E-3,{"$f":"$Q$384*$H$384","v":1.0200000000000001E-3},0,{"$f":"$S$384*$H$384","v":0},null,null,null,null,null,null,null,null,null,null,null,null,null,null,null,null,null,null,null,null,null,null,null,"4",null,"K","3",null,null,null,"ROZPOCET",null,null,null,null,null,{"$f":"IF($N$384=\"základní\",$J$384,0)","v":0},{"$f":"IF($N$384=\"snížená\",$J$384,0)","v":0},{"$f":"IF($N$384=\"zákl. přenesená\",$J$384,0)","v":0},{"$f":"IF($N$384=\"sníž. přenesená\",$J$384,0)","v":0},{"$f":"IF($N$384=\"nulová\",$J$384,0)","v":0},"1",{"$f":"ROUND($I$384*$H$384,2)","v":0},"4","1888527621"]
[null,null,null,"PP",null,"Montáž odlučovače tuků",null,null,null,null,null,null,null,null,null,null,null,null,null,null,null,null,null,null,null,null,null,null,null,null,null,null,null,null,null,null,null,null,null,null,null,null,null,null,null,"PP","3"]
[null,null,"34","M","3800020_R","koalescenční odlučovač ropných látek 50 l/sec s integrovanou kalovou jímkou s vnitřním průměrem 2,5 m (z btonových prefabrikovaných dílců) - vč.automatického nerezového uzávěru a zákrytové desky s kontrolním uzávěrem prům.1,0 m - dodávka, doprava","kus",1,null,{"$f":"ROUND($I$386*$H$386,2)","v":0},null,null,null,"základní",null,null,0.12,{"$f":"$Q$386*$H$386","v":0.12},0,{"$f":"$S$386*$H$386","v":0},null,null,null,null,null,null,null,null,null,null,null,null,null,null,null,null,null,null,null,null,null,null,null,"8",null,"M","3",null,null,null,"ROZPOCET",null,null,null,null,null,{"$f":"IF($N$386=\"základní\",$J$386,0)","v":0},{"$f":"IF($N$386=\"snížená\",$J$386,0)","v":0},{"$f":"IF($N$386=\"zákl. přenesená\",$J$386,0)","v":0},{"$f":"IF($N$386=\"sníž. přenesená\",$J$386,0)","v":0},{"$f":"IF($N$386=\"nulová\",$J$386,0)","v":0},"1",{"$f":"ROUND($I$386*$H$386,2)","v":0},"4","-347637072"]
[null,null,"35","K","380311752","Kompletní konstrukce ČOV, nádrží, vodojemů nebo kanálů z betonu prostého tř. C 20/25 tl 300 mm","m3",3.2,null,{"$f":"ROUND($I$387*$H$387,2)","v":0},"CS ÚRS 2014 02",null,null,"základní",null,null,2.5242273000000002,{"$f":"$Q$387*$H$387","v":8.0775273600000013},0,{"$f":"$S$387*$H$387","v":0},null,null,null,null,null,null,null,null,null,null,null,null,null,null,null,null,null,null,null,null,null,null,null,"4",null,"K","3",null,null,null,"ROZPOCET",null,null,null,null,null,{"$f":"IF($N$387=\"základní\",$J$387,0)","v":0},{"$f":"IF($N$387=\"snížená\",$J$387,0)","v":0},{"$f":"IF($N$387=\"zákl. přenesená\",$J$387,0)","v":0},{"$f":"IF($N$387=\"sníž. přenesená\",$J$387,0)","v":0},{"$f":"IF($N$387=\"nulová\",$J$387,0)","v":0},"1",{"$f":"ROUND($I$387*$H$387,2)","v":0},"4","-1800488531"]
[null,null,null,"PP",null,"Kompletní konstrukce čistíren odpadních vod, nádrží, vodojemů, kanálů z betonu prostého obyčejného tř. C 20/25, tl. přes 150 do 300 mm",null,null,null,null,null,null,null,null,null,null,null,null,null,null,null,null,null,null,null,null,null,null,null,null,null,null,null,null,null,null,null,null,null,null,null,null,null,null,null,"PP","3"]
[null,null,null,"PSC",null,"Poznámka k souboru cen:\n1. Ceny -1422, -1532 lze použít i pro jakoukoliv tloušťku betonu prostého obyčejného určeného:     a) k vyplnění prostoru pod betonovými konstrukcemi nebo na nich (beton výplňový),     b) k vytvoření spádů pod betonovými konstrukcemi nebo na nich (beton spádový),     c) k vytvoření podkladu na základové spáře pro uložení jiných betonových konstrukcí (beton         vyrovnávací), pokud povrch těchto konstrukcí je rovinný. ",null,null,null,null,null,null,null,null,null,null,null,null,null,null,null,null,null,null,null,null,null,null,null,null,null,null,null,null,null,null,null,null,null,null,null,null,null,null,null,"PSC","3"]
[null,null,null,"VV",null,"srovnatelná položka pro výústní objekt ",null,null,null,null,null,null,null,null,null,null,null,null,null,null,null,null,null,null,null,null,null,null,null,null,null,null,null,null,null,null,null,null,null,null,null,null,null,null,null,"VV","3","1","-1","0","ROZPOCET"]
[null,null,null,"VV",null,"do příkopu",null,null,null,null,null,null,null,null,null,null,null,null,null,null,null,null,null,null,null,null,null,null,null,null,null,null,null,null,null,null,null,null,null,null,null,null,null,null,null,"VV","3","1","-1","0","ROZPOCET"]
[null,null,null,"VV",null,"3,2",null,3.2,null,null,null,null,null,null,null,null,null,null,null,null,null,null,null,null,null,null,null,null,null,null,null,null,null,null,null,null,null,null,null,null,null,null,null,null,null,"VV","3","2","-1","1","ROZPOCET"]
[null,null,"36","K","311351105","Zřízení oboustranného bednění zdí nosných","m2",18,null,{"$f":"ROUND($I$393*$H$393,2)","v":0},"CS ÚRS 2014 02",null,null,"základní",null,null,9.8843999999999993E-4,{"$f":"$Q$393*$H$393","v":1.7791919999999999E-2},0,{"$f":"$S$393*$H$393","v":0},null,null,null,null,null,null,null,null,null,null,null,null,null,null,null,null,null,null,null,null,null,null,null,"4",null,"K","3",null,null,null,"ROZPOCET",null,null,null,null,null,{"$f":"IF($N$393=\"základní\",$J$393,0)","v":0},{"$f":"IF($N$393=\"snížená\",$J$393,0)","v":0},{"$f":"IF($N$393=\"zákl. přenesená\",$J$393,0)","v":0},{"$f":"IF($N$393=\"sníž. přenesená\",$J$393,0)","v":0},{"$f":"IF($N$393=\"nulová\",$J$393,0)","v":0},"1",{"$f":"ROUND($I$393*$H$393,2)","v":0},"4","-117552565"]
[null,null,null,"PP",null,"Bednění nadzákladových zdí nosných svislé nebo šikmé (odkloněné), půdorysně přímé nebo zalomené ve volném prostranství, ve volných nebo zapažených jamách, rýhách, šachtách, včetně případných vzpěr, oboustranné za každou stranu zřízení",null,null,null,null,null,null,null,null,null,null,null,null,null,null,null,null,null,null,null,null,null,null,null,null,null,null,null,null,null,null,null,null,null,null,null,null,null,null,null,"PP","3"]
[null,null,null,"PSC",null,"Poznámka k souboru cen:\n1. Položky -1101, -1102, -1105 a -1106 nelze použít pro bednění výšky přes 4 m při předepsané     nepřetržité betonáži konstrukce. Toto bednění se oceňuje individuálně. 2. Položky -1111 a -1112 jsou určeny v nezapažených prostorách:     a) pro masivní betonové konstrukce vyžadující podle statického posudku tuhost bednění a         únosnost tlaku čerstvé betonové směsi přes 40 do 80 kN/m2.     b) při požadované přesnosti povrchu betonových konstrukcí podle ČSN 73 0202     c) pro docílení požadovaného kvalitního hladkého povrchu zatmeleného bednění bez pracovních         spár, vhodného i pro vzhled pohledového betonu (ceny 311 32-1812 až -1814; pro vzhled pohledového         betonu (ceny 311 32-1812 až -1814; bez dalších zednických povrchových úprav vnějších, tj. omítek,         nástřiků fasád apod. nebo zednických vnitřních přímo pod malby, nátěry, tapety apod.). 3. Není-li v úvodním projektu odůvodněně předepsána nejméně jedna podmínka uvedená v poznámce 2,     použijí se ceny -1105 a -1106. ",null,null,null,null,null,null,null,null,null,null,null,null,null,null,null,null,null,null,null,null,null,null,null,null,null,null,null,null,null,null,null,null,null,null,null,null,null,null,null,"PSC","3"]
[null,null,null,"VV",null,"konstrukce výústního objektu",null,null,null,null,null,null,null,null,null,null,null,null,null,null,null,null,null,null,null,null,null,null,null,null,null,null,null,null,null,null,null,null,null,null,null,null,null,null,null,"VV","3","1","-1","0","ROZPOCET"]
[null,null,null,"VV",null,"2*1,7*1,8+2*0,4*1,7+2*0,2*0,25",null,7.58,null,null,null,null,null,null,null,null,null,null,null,null,null,null,null,null,null,null,null,null,null,null,null,null,null,null,null,null,null,null,null,null,null,null,null,null,null,"VV","3","2","-1","0","ROZPOCET"]
[null,null,null,"VV",null,"2*0,6*1,8+2*0,6*0,3",null,2.52,null,null,null,null,null,null,null,null,null,null,null,null,null,null,null,null,null,null,null,null,null,null,null,null,null,null,null,null,null,null,null,null,null,null,null,null,null,"VV","3","2","-1","0","ROZPOCET"]
[null,null,null,"VV",null,"4*(1,7+0,6)/2*1,5",null,6.9,null,null,null,null,null,null,null,null,null,null,null,null,null,null,null,null,null,null,null,null,null,null,null,null,null,null,null,null,null,null,null,null,null,null,null,null,null,"VV","3","2","-1","0","ROZPOCET"]
[null,null,null,"VV",null,"2*0,4*0,8",null,0.64,null,null,null,null,null,null,null,null,null,null,null,null,null,null,null,null,null,null,null,null,null,null,null,null,null,null,null,null,null,null,null,null,null,null,null,null,null,"VV","3","2","-1","0","ROZPOCET"]
[null,null,null,"VV",null,"0,36",null,0.36,null,null,null,null,null,null,null,null,null,null,null,null,null,null,null,null,null,null,null,null,null,null,null,null,null,null,null,null,null,null,null,null,null,null,null,null,null,"VV","3","2","-1","0","ROZPOCET"]
[null,null,null,"VV",null,"Součet",null,18,null,null,null,null,null,null,null,null,null,null,null,null,null,null,null,null,null,null,null,null,null,null,null,null,null,null,null,null,null,null,null,null,null,null,null,null,null,"VV","3","4","-1","1","ROZPOCET"]
[null,null,"37","K","311351106","Odstranění oboustranného bednění zdí nosných","m2",18,null,{"$f":"ROUND($I$403*$H$403,2)","v":0},"CS ÚRS 2014 02",null,null,"základní",null,null,0,{"$f":"$Q$403*$H$403","v":0},0,{"$f":"$S$403*$H$403","v":0},null,null,null,null,null,null,null,null,null,null,null,null,null,null,null,null,null,null,null,null,null,null,null,"4",null,"K","3",null,null,null,"ROZPOCET",null,null,null,null,null,{"$f":"IF($N$403=\"základní\",$J$403,0)","v":0},{"$f":"IF($N$403=\"snížená\",$J$403,0)","v":0},{"$f":"IF($N$403=\"zákl. přenesená\",$J$403,0)","v":0},{"$f":"IF($N$403=\"sníž. přenesená\",$J$403,0)","v":0},{"$f":"IF($N$403=\"nulová\",$J$403,0)","v":0},"1",{"$f":"ROUND($I$403*$H$403,2)","v":0},"4","-699699430"]
[null,null,null,"PP",null,"Bednění nadzákladových zdí nosných svislé nebo šikmé (odkloněné), půdorysně přímé nebo zalomené ve volném prostranství, ve volných nebo zapažených jamách, rýhách, šachtách, včetně případných vzpěr, oboustranné za každou stranu odstranění",null,null,null,null,null,null,null,null,null,null,null,null,null,null,null,null,null,null,null,null,null,null,null,null,null,null,null,null,null,null,null,null,null,null,null,null,null,null,null,"PP","3"]
[null,null,null,"PSC",null,"Poznámka k souboru cen:\n1. Položky -1101, -1102, -1105 a -1106 nelze použít pro bednění výšky přes 4 m při předepsané     nepřetržité betonáži konstrukce. Toto bednění se oceňuje individuálně. 2. Položky -1111 a -1112 jsou určeny v nezapažených prostorách:     a) pro masivní betonové konstrukce vyžadující podle statického posudku tuhost bednění a         únosnost tlaku čerstvé betonové směsi přes 40 do 80 kN/m2.     b) při požadované přesnosti povrchu betonových konstrukcí podle ČSN 73 0202     c) pro docílení požadovaného kvalitního hladkého povrchu zatmeleného bednění bez pracovních         spár, vhodného i pro vzhled pohledového betonu (ceny 311 32-1812 až -1814; pro vzhled pohledového         betonu (ceny 311 32-1812 až -1814; bez dalších zednických povrchových úprav vnějších, tj. omítek,         nástřiků fasád apod. nebo zednických vnitřních přímo pod malby, nátěry, tapety apod.). 3. Není-li v úvodním projektu odůvodněně předepsána nejméně jedna podmínka uvedená v poznámce 2,     použijí se ceny -1105 a -1106. ",null,null,null,null,null,null,null,null,null,null,null,null,null,null,null,null,null,null,null,null,null,null,null,null,null,null,null,null,null,null,null,null,null,null,null,null,null,null,null,"PSC","3"]
[null,null,null,"D","4","Vodorovné konstrukce",null,null,null,{"$f":"$BK$406","v":0},null,null,null,null,null,{"$f":"SUM($P$407:$P$436)","v":0},null,{"$f":"SUM($R$407:$R$436)","v":68.437313926000002},null,{"$f":"SUM($T$407:$T$436)","v":0},null,null,null,null,null,null,null,null,null,null,null,null,null,null,null,null,null,null,null,null,null,null,null,"1",null,"D","2",null,null,null,"ROZPOCET",null,null,null,null,null,null,null,null,null,null,null,{"$f":"SUM($BK$407:$BK$436)","v":0}]
[null,null,"38","K","451572111","Lože pod potrubí otevřený výkop z kameniva drobného těženého","m3",31.2,null,{"$f":"ROUND($I$407*$H$407,2)","v":0},"CS ÚRS 2014 02",null,null,"základní",null,null,1.8907700000000001,{"$f":"$Q$407*$H$407","v":58.992024000000001},0,{"$f":"$S$407*$H$407","v":0},null,null,null,null,null,null,null,null,null,null,null,null,null,null,null,null,null,null,null,null,null,null,null,"4",null,"K","3",null,null,null,"ROZPOCET",null,null,null,null,null,{"$f":"IF($N$407=\"základní\",$J$407,0)","v":0},{"$f":"IF($N$407=\"snížená\",$J$407,0)","v":0},{"$f":"IF($N$407=\"zákl. přenesená\",$J$407,0)","v":0},{"$f":"IF($N$407=\"sníž. přenesená\",$J$407,0)","v":0},{"$f":"IF($N$407=\"nulová\",$J$407,0)","v":0},"1",{"$f":"ROUND($I$407*$H$407,2)","v":0},"4","1123006204"]
[null,null,null,"PP",null,"Lože pod potrubí, stoky a drobné objekty v otevřeném výkopu z kameniva drobného těženého 0 až 4 mm",null,null,null,null,null,null,null,null,null,null,null,null,null,null,null,null,null,null,null,null,null,null,null,null,null,null,null,null,null,null,null,null,null,null,null,null,null,null,null,"PP","3"]
[null,null,null,"PSC",null,"Poznámka k souboru cen:\n1. Ceny -1111 a -1192 lze použít i pro zřízení sběrných vrstev nad drenážními trubkami. 2. V cenách -5111 a -1192 jsou započteny i náklady na prohození výkopku získaného při zemních     pracích. ",null,null,null,null,null,null,null,null,null,null,null,null,null,null,null,null,null,null,null,null,null,null,null,null,null,null,null,null,null,null,null,null,null,null,null,null,null,null,null,"PSC","3"]
[null,null,null,"VV",null,"potrubí PVC  DN100, DN150, DN300",null,null,null,null,null,null,null,null,null,null,null,null,null,null,null,null,null,null,null,null,null,null,null,null,null,null,null,null,null,null,null,null,null,null,null,null,null,null,null,"VV","3","1","-1","0","ROZPOCET"]
[null,null,null,"VV",null,"1,1*0,15*14,0",null,2.31,null,null,null,null,null,null,null,null,null,null,null,null,null,null,null,null,null,null,null,null,null,null,null,null,null,null,null,null,null,null,null,null,null,null,null,null,null,"VV","3","2","-1","0","ROZPOCET"]
[null,null,null,"VV",null,"1,1*0,15*18,5",null,3.0529999999999999,null,null,null,null,null,null,null,null,null,null,null,null,null,null,null,null,null,null,null,null,null,null,null,null,null,null,null,null,null,null,null,null,null,null,null,null,null,"VV","3","2","-1","0","ROZPOCET"]
[null,null,null,"VV",null,"1,1*0,15*86,0",null,14.19,null,null,null,null,null,null,null,null,null,null,null,null,null,null,null,null,null,null,null,null,null,null,null,null,null,null,null,null,null,null,null,null,null,null,null,null,null,"VV","3","2","-1","0","ROZPOCET"]
[null,null,null,"VV",null,"1,1*0,15*70,0",null,11.55,null,null,null,null,null,null,null,null,null,null,null,null,null,null,null,null,null,null,null,null,null,null,null,null,null,null,null,null,null,null,null,null,null,null,null,null,null,"VV","3","2","-1","0","ROZPOCET"]
[null,null,null,"VV",null,"0,097",null,9.7000000000000003E-2,null,null,null,null,null,null,null,null,null,null,null,null,null,null,null,null,null,null,null,null,null,null,null,null,null,null,null,null,null,null,null,null,null,null,null,null,null,"VV","3","2","-1","0","ROZPOCET"]
[null,null,null,"VV",null,"Součet",null,31.2,null,null,null,null,null,null,null,null,null,null,null,null,null,null,null,null,null,null,null,null,null,null,null,null,null,null,null,null,null,null,null,null,null,null,null,null,null,"VV","3","4","-1","1","ROZPOCET"]
[null,null,"39","K","451573111","Lože pod potrubí otevřený výkop ze štěrkopísku","m3",1.2250000000000001,null,{"$f":"ROUND($I$417*$H$417,2)","v":0},"CS ÚRS 2014 02",null,null,"základní",null,null,1.8907700000000001,{"$f":"$Q$417*$H$417","v":2.3161932500000004},0,{"$f":"$S$417*$H$417","v":0},null,null,null,null,null,null,null,null,null,null,null,null,null,null,null,null,null,null,null,null,null,null,null,"4",null,"K","3",null,null,null,"ROZPOCET",null,null,null,null,null,{"$f":"IF($N$417=\"základní\",$J$417,0)","v":0},{"$f":"IF($N$417=\"snížená\",$J$417,0)","v":0},{"$f":"IF($N$417=\"zákl. přenesená\",$J$417,0)","v":0},{"$f":"IF($N$417=\"sníž. přenesená\",$J$417,0)","v":0},{"$f":"IF($N$417=\"nulová\",$J$417,0)","v":0},"1",{"$f":"ROUND($I$417*$H$417,2)","v":0},"4","1264354555"]
[null,null,null,"PP",null,"Lože pod potrubí, stoky a drobné objekty v otevřeném výkopu z písku a štěrkopísku do 63 mm",null,null,null,null,null,null,null,null,null,null,null,null,null,null,null,null,null,null,null,null,null,null,null,null,null,null,null,null,null,null,null,null,null,null,null,null,null,null,null,"PP","3"]
[null,null,null,"PSC",null,"Poznámka k souboru cen:\n1. Ceny -1111 a -1192 lze použít i pro zřízení sběrných vrstev nad drenážními trubkami. 2. V cenách -5111 a -1192 jsou započteny i náklady na prohození výkopku získaného při zemních     pracích. ",null,null,null,null,null,null,null,null,null,null,null,null,null,null,null,null,null,null,null,null,null,null,null,null,null,null,null,null,null,null,null,null,null,null,null,null,null,null,null,"PSC","3"]
[null,null,null,"VV",null,"lože pod betonovou deskou odlučovače",null,null,null,null,null,null,null,null,null,null,null,null,null,null,null,null,null,null,null,null,null,null,null,null,null,null,null,null,null,null,null,null,null,null,null,null,null,null,null,"VV","3","1","-1","0","ROZPOCET"]
[null,null,null,"VV",null,"0,1*3,5*3,5",null,1.2250000000000001,null,null,null,null,null,null,null,null,null,null,null,null,null,null,null,null,null,null,null,null,null,null,null,null,null,null,null,null,null,null,null,null,null,null,null,null,null,"VV","3","2","-1","1","ROZPOCET"]
[null,null,"40","K","452311161","Podkladní desky z betonu prostého tř. C 25/30 otevřený výkop","m3",2.89,null,{"$f":"ROUND($I$422*$H$422,2)","v":0},"CS ÚRS 2014 02",null,null,"základní",null,null,2.4289999999999998,{"$f":"$Q$422*$H$422","v":7.0198099999999997},0,{"$f":"$S$422*$H$422","v":0},null,null,null,null,null,null,null,null,null,null,null,null,null,null,null,null,null,null,null,null,null,null,null,"4",null,"K","3",null,null,null,"ROZPOCET",null,null,null,null,null,{"$f":"IF($N$422=\"základní\",$J$422,0)","v":0},{"$f":"IF($N$422=\"snížená\",$J$422,0)","v":0},{"$f":"IF($N$422=\"zákl. přenesená\",$J$422,0)","v":0},{"$f":"IF($N$422=\"sníž. přenesená\",$J$422,0)","v":0},{"$f":"IF($N$422=\"nulová\",$J$422,0)","v":0},"1",{"$f":"ROUND($I$422*$H$422,2)","v":0},"4","499002271"]
[null,null,null,"PP",null,"Podkladní a zajišťovací konstrukce z betonu prostého v otevřeném výkopu desky pod potrubí, stoky a drobné objekty z betonu tř. C 25/30",null,null,null,null,null,null,null,null,null,null,null,null,null,null,null,null,null,null,null,null,null,null,null,null,null,null,null,null,null,null,null,null,null,null,null,null,null,null,null,"PP","3"]
[null,null,null,"PSC",null,"Poznámka k souboru cen:\n1. Ceny -1121 až -1181 a -1192 lze použít i pro ochrannou vrstvu pod železobetonové konstrukce. 2. Ceny -2121 až -2181 a -2192 jsou určeny pro jakékoliv úkosy sedel. ",null,null,null,null,null,null,null,null,null,null,null,null,null,null,null,null,null,null,null,null,null,null,null,null,null,null,null,null,null,null,null,null,null,null,null,null,null,null,null,"PSC","3"]
[null,null,null,"VV",null,"pod odlučovač tuků",null,null,null,null,null,null,null,null,null,null,null,null,null,null,null,null,null,null,null,null,null,null,null,null,null,null,null,null,null,null,null,null,null,null,null,null,null,null,null,"VV","3","1","-1","0","ROZPOCET"]
[null,null,null,"VV",null,"0,25*3,4*3,4",null,2.89,null,null,null,null,null,null,null,null,null,null,null,null,null,null,null,null,null,null,null,null,null,null,null,null,null,null,null,null,null,null,null,null,null,null,null,null,null,"VV","3","2","-1","1","ROZPOCET"]
[null,null,"41","K","452351101","Bednění podkladních desek nebo bloků nebo sedlového lože otevřený výkop","m2",3.4,null,{"$f":"ROUND($I$427*$H$427,2)","v":0},"CS ÚRS 2014 02",null,null,"základní",null,null,6.1871399999999998E-3,{"$f":"$Q$427*$H$427","v":2.1036276E-2},0,{"$f":"$S$427*$H$427","v":0},null,null,null,null,null,null,null,null,null,null,null,null,null,null,null,null,null,null,null,null,null,null,null,"4",null,"K","3",null,null,null,"ROZPOCET",null,null,null,null,null,{"$f":"IF($N$427=\"základní\",$J$427,0)","v":0},{"$f":"IF($N$427=\"snížená\",$J$427,0)","v":0},{"$f":"IF($N$427=\"zákl. přenesená\",$J$427,0)","v":0},{"$f":"IF($N$427=\"sníž. přenesená\",$J$427,0)","v":0},{"$f":"IF($N$427=\"nulová\",$J$427,0)","v":0},"1",{"$f":"ROUND($I$427*$H$427,2)","v":0},"4","1564178584"]
[null,null,null,"PP",null,"Bednění podkladních a zajišťovacích konstrukcí v otevřeném výkopu desek nebo sedlových loží pod potrubí, stoky a drobné objekty",null,null,null,null,null,null,null,null,null,null,null,null,null,null,null,null,null,null,null,null,null,null,null,null,null,null,null,null,null,null,null,null,null,null,null,null,null,null,null,"PP","3"]
[null,null,null,"VV",null,"0,25*3,4*4",null,3.4,null,null,null,null,null,null,null,null,null,null,null,null,null,null,null,null,null,null,null,null,null,null,null,null,null,null,null,null,null,null,null,null,null,null,null,null,null,"VV","3","2","-1","1","ROZPOCET"]
[null,null,"42","K","452368113","Výztuž podkladních desek nebo bloků nebo pražců otevřený výkop z betonářské oceli 10 505","t",8.4000000000000005E-2,null,{"$f":"ROUND($I$430*$H$430,2)","v":0},"CS ÚRS 2014 02",null,null,"základní",null,null,1.0506,{"$f":"$Q$430*$H$430","v":8.8250400000000007E-2},0,{"$f":"$S$430*$H$430","v":0},null,null,null,null,null,null,null,null,null,null,null,null,null,null,null,null,null,null,null,null,null,null,null,"4",null,"K","3",null,null,null,"ROZPOCET",null,null,null,null,null,{"$f":"IF($N$430=\"základní\",$J$430,0)","v":0},{"$f":"IF($N$430=\"snížená\",$J$430,0)","v":0},{"$f":"IF($N$430=\"zákl. přenesená\",$J$430,0)","v":0},{"$f":"IF($N$430=\"sníž. přenesená\",$J$430,0)","v":0},{"$f":"IF($N$430=\"nulová\",$J$430,0)","v":0},"1",{"$f":"ROUND($I$430*$H$430,2)","v":0},"4","-1953438522"]
[null,null,null,"PP",null,"Výztuž podkladních desek, bloků nebo pražců v otevřeném výkopu z betonářské oceli 10 505 (R) nebo BSt 500",null,null,null,null,null,null,null,null,null,null,null,null,null,null,null,null,null,null,null,null,null,null,null,null,null,null,null,null,null,null,null,null,null,null,null,null,null,null,null,"PP","3"]
[null,null,null,"VV",null,"podkladní ŽB deska pod odlučovač",null,null,null,null,null,null,null,null,null,null,null,null,null,null,null,null,null,null,null,null,null,null,null,null,null,null,null,null,null,null,null,null,null,null,null,null,null,null,null,"VV","3","1","-1","0","ROZPOCET"]
[null,null,null,"VV",null,"výztuž sítěmi karipr.3,55 mm, oka 100/100 mm ",null,null,null,null,null,null,null,null,null,null,null,null,null,null,null,null,null,null,null,null,null,null,null,null,null,null,null,null,null,null,null,null,null,null,null,null,null,null,null,"VV","3","1","-1","0","ROZPOCET"]
[null,null,null,"VV",null,"př obou površích",null,null,null,null,null,null,null,null,null,null,null,null,null,null,null,null,null,null,null,null,null,null,null,null,null,null,null,null,null,null,null,null,null,null,null,null,null,null,null,"VV","3","1","-1","0","ROZPOCET"]
[null,null,null,"VV",null,"2,8 kg/m2",null,null,null,null,null,null,null,null,null,null,null,null,null,null,null,null,null,null,null,null,null,null,null,null,null,null,null,null,null,null,null,null,null,null,null,null,null,null,null,"VV","3","1","-1","0","ROZPOCET"]
[null,null,null,"VV",null,"3,4*3,4*2,89*2*0,001*1,25",null,8.4000000000000005E-2,null,null,null,null,null,null,null,null,null,null,null,null,null,null,null,null,null,null,null,null,null,null,null,null,null,null,null,null,null,null,null,null,null,null,null,null,null,"VV","3","2","-1","1","ROZPOCET"]
[null,null,null,"D","87","Potrubí z trub plastických a skleněných",null,null,null,{"$f":"$BK$437","v":0},null,null,null,null,null,{"$f":"SUM($P$438:$P$459)","v":0},null,{"$f":"SUM($R$438:$R$459)","v":1.1706493250000001},null,{"$f":"SUM($T$438:$T$459)","v":0},null,null,null,null,null,null,null,null,null,null,null,null,null,null,null,null,null,null,null,null,null,null,null,"1",null,"D","2",null,null,null,"ROZPOCET",null,null,null,null,null,null,null,null,null,null,null,{"$f":"SUM($BK$438:$BK$459)","v":0}]
[null,null,"43","K","871265221","Kanalizační potrubí z tvrdého PVC-systém KG tuhost třídy SN8 DN100","m",14.5,null,{"$f":"ROUND($I$438*$H$438,2)","v":0},"CS ÚRS 2014 02",null,null,"základní",null,null,1.5906E-3,{"$f":"$Q$438*$H$438","v":2.3063699999999999E-2},0,{"$f":"$S$438*$H$438","v":0},null,null,null,null,null,null,null,null,null,null,null,null,null,null,null,null,null,null,null,null,null,null,null,"4",null,"K","3",null,null,null,"ROZPOCET",null,null,null,null,null,{"$f":"IF($N$438=\"základní\",$J$438,0)","v":0},{"$f":"IF($N$438=\"snížená\",$J$438,0)","v":0},{"$f":"IF($N$438=\"zákl. přenesená\",$J$438,0)","v":0},{"$f":"IF($N$438=\"sníž. přenesená\",$J$438,0)","v":0},{"$f":"IF($N$438=\"nulová\",$J$438,0)","v":0},"1",{"$f":"ROUND($I$438*$H$438,2)","v":0},"4","-1473090131"]
[null,null,null,"PP",null,"Kanalizační potrubí z tvrdého PVC systém KG v otevřeném výkopu ve sklonu do 20 %, tuhost třídy SN 8 DN 100",null,null,null,null,null,null,null,null,null,null,null,null,null,null,null,null,null,null,null,null,null,null,null,null,null,null,null,null,null,null,null,null,null,null,null,null,null,null,null,"PP","3"]
[null,null,null,"PSC",null,"Poznámka k souboru cen:\n1. V cenách jsou započteny i náklady na dodání trub včetně gumového těsnění. 2. Použití trub dle tuhostí:     a) třída SN 4: kanalizační řady, přípojky, odvodňování pozemků     b) třída SN 8: vysoké teplotní a mechanické zatížení. ",null,null,null,null,null,null,null,null,null,null,null,null,null,null,null,null,null,null,null,null,null,null,null,null,null,null,null,null,null,null,null,null,null,null,null,null,null,null,null,"PSC","3"]
[null,null,null,"VV",null,"mezi retenční nádrží a šachtou Š2",null,null,null,null,null,null,null,null,null,null,null,null,null,null,null,null,null,null,null,null,null,null,null,null,null,null,null,null,null,null,null,null,null,null,null,null,null,null,null,"VV","3","1","-1","0","ROZPOCET"]
[null,null,null,"VV",null,"14,5",null,14.5,null,null,null,null,null,null,null,null,null,null,null,null,null,null,null,null,null,null,null,null,null,null,null,null,null,null,null,null,null,null,null,null,null,null,null,null,null,"VV","3","2","-1","1","ROZPOCET"]
[null,null,"44","K","871315221","Kanalizační potrubí z tvrdého PVC-systém KG tuhost třídy SN8 DN150","m",104.5,null,{"$f":"ROUND($I$443*$H$443,2)","v":0},"CS ÚRS 2014 02",null,null,"základní",null,null,3.3032500000000002E-3,{"$f":"$Q$443*$H$443","v":0.345189625},0,{"$f":"$S$443*$H$443","v":0},null,null,null,null,null,null,null,null,null,null,null,null,null,null,null,null,null,null,null,null,null,null,null,"4",null,"K","3",null,null,null,"ROZPOCET",null,null,null,null,null,{"$f":"IF($N$443=\"základní\",$J$443,0)","v":0},{"$f":"IF($N$443=\"snížená\",$J$443,0)","v":0},{"$f":"IF($N$443=\"zákl. přenesená\",$J$443,0)","v":0},{"$f":"IF($N$443=\"sníž. přenesená\",$J$443,0)","v":0},{"$f":"IF($N$443=\"nulová\",$J$443,0)","v":0},"1",{"$f":"ROUND($I$443*$H$443,2)","v":0},"4","-1503287398"]
[null,null,null,"PP",null,"Kanalizační potrubí z tvrdého PVC systém KG v otevřeném výkopu ve sklonu do 20 %, tuhost třídy SN 8 DN 150",null,null,null,null,null,null,null,null,null,null,null,null,null,null,null,null,null,null,null,null,null,null,null,null,null,null,null,null,null,null,null,null,null,null,null,null,null,null,null,"PP","3"]
[null,null,null,"PSC",null,"Poznámka k souboru cen:\n1. V cenách jsou započteny i náklady na dodání trub včetně gumového těsnění. 2. Použití trub dle tuhostí:     a) třída SN 4: kanalizační řady, přípojky, odvodňování pozemků     b) třída SN 8: vysoké teplotní a mechanické zatížení. ",null,null,null,null,null,null,null,null,null,null,null,null,null,null,null,null,null,null,null,null,null,null,null,null,null,null,null,null,null,null,null,null,null,null,null,null,null,null,null,"PSC","3"]
[null,null,null,"VV",null,"od retenční nádrže až po vyústění",null,null,null,null,null,null,null,null,null,null,null,null,null,null,null,null,null,null,null,null,null,null,null,null,null,null,null,null,null,null,null,null,null,null,null,null,null,null,null,"VV","3","1","-1","0","ROZPOCET"]
[null,null,null,"VV",null,"do příkopu",null,null,null,null,null,null,null,null,null,null,null,null,null,null,null,null,null,null,null,null,null,null,null,null,null,null,null,null,null,null,null,null,null,null,null,null,null,null,null,"VV","3","1","-1","0","ROZPOCET"]
[null,null,null,"VV",null,"18,5",null,18.5,null,null,null,null,null,null,null,null,null,null,null,null,null,null,null,null,null,null,null,null,null,null,null,null,null,null,null,null,null,null,null,null,null,null,null,null,null,"VV","3","2","-1","0","ROZPOCET"]
[null,null,null,"VV",null,"odvodnění vpustí",null,null,null,null,null,null,null,null,null,null,null,null,null,null,null,null,null,null,null,null,null,null,null,null,null,null,null,null,null,null,null,null,null,null,null,null,null,null,null,"VV","3","1","-1","0","ROZPOCET"]
[null,null,null,"VV",null,"86,0",null,86,null,null,null,null,null,null,null,null,null,null,null,null,null,null,null,null,null,null,null,null,null,null,null,null,null,null,null,null,null,null,null,null,null,null,null,null,null,"VV","3","2","-1","0","ROZPOCET"]
[null,null,null,"VV",null,"Součet",null,104.5,null,null,null,null,null,null,null,null,null,null,null,null,null,null,null,null,null,null,null,null,null,null,null,null,null,null,null,null,null,null,null,null,null,null,null,null,null,"VV","3","4","-1","1","ROZPOCET"]
[null,null,"45","K","871375221","Kanalizační potrubí z tvrdého PVC-systém KG tuhost třídy SN8 DN300","m",70,null,{"$f":"ROUND($I$452*$H$452,2)","v":0},"CS ÚRS 2014 02",null,null,"základní",null,null,1.14628E-2,{"$f":"$Q$452*$H$452","v":0.802396},0,{"$f":"$S$452*$H$452","v":0},null,null,null,null,null,null,null,null,null,null,null,null,null,null,null,null,null,null,null,null,null,null,null,"4",null,"K","3",null,null,null,"ROZPOCET",null,null,null,null,null,{"$f":"IF($N$452=\"základní\",$J$452,0)","v":0},{"$f":"IF($N$452=\"snížená\",$J$452,0)","v":0},{"$f":"IF($N$452=\"zákl. přenesená\",$J$452,0)","v":0},{"$f":"IF($N$452=\"sníž. přenesená\",$J$452,0)","v":0},{"$f":"IF($N$452=\"nulová\",$J$452,0)","v":0},"1",{"$f":"ROUND($I$452*$H$452,2)","v":0},"4","-1022061452"]
[null,null,null,"PP",null,"Kanalizační potrubí z tvrdého PVC systém KG v otevřeném výkopu ve sklonu do 20 %, tuhost třídy SN 8 DN 300",null,null,null,null,null,null,null,null,null,null,null,null,null,null,null,null,null,null,null,null,null,null,null,null,null,null,null,null,null,null,null,null,null,null,null,null,null,null,null,"PP","3"]
[null,null,null,"PSC",null,"Poznámka k souboru cen:\n1. V cenách jsou započteny i náklady na dodání trub včetně gumového těsnění. 2. Použití trub dle tuhostí:     a) třída SN 4: kanalizační řady, přípojky, odvodňování pozemků     b) třída SN 8: vysoké teplotní a mechanické zatížení. ",null,null,null,null,null,null,null,null,null,null,null,null,null,null,null,null,null,null,null,null,null,null,null,null,null,null,null,null,null,null,null,null,null,null,null,null,null,null,null,"PSC","3"]
[null,null,null,"VV",null,"v úseku km 0,315 až 0,1015",null,null,null,null,null,null,null,null,null,null,null,null,null,null,null,null,null,null,null,null,null,null,null,null,null,null,null,null,null,null,null,null,null,null,null,null,null,null,null,"VV","3","1","-1","0","ROZPOCET"]
[null,null,null,"VV",null,"70,0",null,70,null,null,null,null,null,null,null,null,null,null,null,null,null,null,null,null,null,null,null,null,null,null,null,null,null,null,null,null,null,null,null,null,null,null,null,null,null,"VV","3","2","-1","1","ROZPOCET"]
[null,null,"46","K","87 0010_R","Příplatek na tvarovky potrubí z  PVC ( kolena , redukce , odbočky)","m",189,null,{"$f":"ROUND($I$457*$H$457,2)","v":0},null,null,null,"základní",null,null,0,{"$f":"$Q$457*$H$457","v":0},0,{"$f":"$S$457*$H$457","v":0},null,null,null,null,null,null,null,null,null,null,null,null,null,null,null,null,null,null,null,null,null,null,null,"4",null,"K","3",null,null,null,"ROZPOCET",null,null,null,null,null,{"$f":"IF($N$457=\"základní\",$J$457,0)","v":0},{"$f":"IF($N$457=\"snížená\",$J$457,0)","v":0},{"$f":"IF($N$457=\"zákl. přenesená\",$J$457,0)","v":0},{"$f":"IF($N$457=\"sníž. přenesená\",$J$457,0)","v":0},{"$f":"IF($N$457=\"nulová\",$J$457,0)","v":0},"1",{"$f":"ROUND($I$457*$H$457,2)","v":0},"4","853164351"]
[null,null,null,"PP",null,"Příplatek na tvarovky (kolena 100/45°, 125/45°, redukce 100/125 případně další, cca 45 ks)",null,null,null,null,null,null,null,null,null,null,null,null,null,null,null,null,null,null,null,null,null,null,null,null,null,null,null,null,null,null,null,null,null,null,null,null,null,null,null,"PP","3"]
[null,null,null,"VV",null,"14,5+104,5+70,0",null,189,null,null,null,null,null,null,null,null,null,null,null,null,null,null,null,null,null,null,null,null,null,null,null,null,null,null,null,null,null,null,null,null,null,null,null,null,null,"VV","3","2","-1","1","ROZPOCET"]
[null,null,null,"D","89","Trubní vedení - ostatní konstrukce",null,null,null,{"$f":"$BK$460","v":0},null,null,null,null,null,{"$f":"SUM($P$461:$P$496)","v":0},null,{"$f":"SUM($R$461:$R$496)","v":9.0539156839999997},null,{"$f":"SUM($T$461:$T$496)","v":0},null,null,null,null,null,null,null,null,null,null,null,null,null,null,null,null,null,null,null,null,null,null,null,"1",null,"D","2",null,null,null,"ROZPOCET",null,null,null,null,null,null,null,null,null,null,null,{"$f":"SUM($BK$461:$BK$496)","v":0}]
[null,null,"47","K","89 0040_R","Montáž voštinových bloků  2400x1200x520 mm","kus",40,null,{"$f":"ROUND($I$461*$H$461,2)","v":0},null,null,null,"základní",null,null,0,{"$f":"$Q$461*$H$461","v":0},0,{"$f":"$S$461*$H$461","v":0},null,null,null,null,null,null,null,null,null,null,null,null,null,null,null,null,null,null,null,null,null,null,null,"4",null,"K","3",null,null,null,"ROZPOCET",null,null,null,null,null,{"$f":"IF($N$461=\"základní\",$J$461,0)","v":0},{"$f":"IF($N$461=\"snížená\",$J$461,0)","v":0},{"$f":"IF($N$461=\"zákl. přenesená\",$J$461,0)","v":0},{"$f":"IF($N$461=\"sníž. přenesená\",$J$461,0)","v":0},{"$f":"IF($N$461=\"nulová\",$J$461,0)","v":0},"1",{"$f":"ROUND($I$461*$H$461,2)","v":0},"4","-2055434057"]
[null,null,"48","M","89 0041_R","voštinový blok  2400x1200x520 mm","kus",40,null,{"$f":"ROUND($I$462*$H$462,2)","v":0},null,null,null,"základní",null,null,0.05,{"$f":"$Q$462*$H$462","v":2},0,{"$f":"$S$462*$H$462","v":0},null,null,null,null,null,null,null,null,null,null,null,null,null,null,null,null,null,null,null,null,null,null,null,"8",null,"M","3",null,null,null,"ROZPOCET",null,null,null,null,null,{"$f":"IF($N$462=\"základní\",$J$462,0)","v":0},{"$f":"IF($N$462=\"snížená\",$J$462,0)","v":0},{"$f":"IF($N$462=\"zákl. přenesená\",$J$462,0)","v":0},{"$f":"IF($N$462=\"sníž. přenesená\",$J$462,0)","v":0},{"$f":"IF($N$462=\"nulová\",$J$462,0)","v":0},"1",{"$f":"ROUND($I$462*$H$462,2)","v":0},"4","-521311733"]
[null,null,null,"VV",null,"k pol.890040_R",null,null,null,null,null,null,null,null,null,null,null,null,null,null,null,null,null,null,null,null,null,null,null,null,null,null,null,null,null,null,null,null,null,null,null,null,null,null,null,"VV","3","1","-1","0","ROZPOCET"]
[null,null,null,"VV",null,"40,0",null,40,null,null,null,null,null,null,null,null,null,null,null,null,null,null,null,null,null,null,null,null,null,null,null,null,null,null,null,null,null,null,null,null,null,null,null,null,null,"VV","3","2","-1","1","ROZPOCET"]
[null,null,"49","K","892271111","Tlaková zkouška vodou potrubí DN 100 nebo 125","m",14.5,null,{"$f":"ROUND($I$465*$H$465,2)","v":0},"CS ÚRS 2014 02",null,null,"základní",null,null,0,{"$f":"$Q$465*$H$465","v":0},0,{"$f":"$S$465*$H$465","v":0},null,null,null,null,null,null,null,null,null,null,null,null,null,null,null,null,null,null,null,null,null,null,null,"4",null,"K","3",null,null,null,"ROZPOCET",null,null,null,null,null,{"$f":"IF($N$465=\"základní\",$J$465,0)","v":0},{"$f":"IF($N$465=\"snížená\",$J$465,0)","v":0},{"$f":"IF($N$465=\"zákl. přenesená\",$J$465,0)","v":0},{"$f":"IF($N$465=\"sníž. přenesená\",$J$465,0)","v":0},{"$f":"IF($N$465=\"nulová\",$J$465,0)","v":0},"1",{"$f":"ROUND($I$465*$H$465,2)","v":0},"4","554333339"]
[null,null,null,"PP",null,"Tlakové zkoušky vodou na potrubí DN 100 nebo 125",null,null,null,null,null,null,null,null,null,null,null,null,null,null,null,null,null,null,null,null,null,null,null,null,null,null,null,null,null,null,null,null,null,null,null,null,null,null,null,"PP","3"]
[null,null,null,"PSC",null,"Poznámka k souboru cen:\n1. Ceny -2111 jsou určeny pro zabezpečení jednoho konce zkoušeného úseku jakéhokoliv druhu potrubí. 2. V cenách jsou započteny náklady:     a) u cen -1111 - na přísun, montáž, demontáž a odsun zkoušecího čerpadla, napuštění tlakovou         vodou a dodání vody pro tlakovou zkoušku,     b) u cen -2111 - na montáž a demontáž výrobků nebo dílců pro zabezpečení konce zkoušeného úseku         potrubí, na montáž a demontáž koncových tvarovek, na montáž zaslepovací příruby, na zaslepení         odboček pro hydranty, vzdušníky a jiné armatury a odbočky pro odbočující řady, ",null,null,null,null,null,null,null,null,null,null,null,null,null,null,null,null,null,null,null,null,null,null,null,null,null,null,null,null,null,null,null,null,null,null,null,null,null,null,null,"PSC","3"]
[null,null,"50","K","892351111","Tlaková zkouška vodou potrubí DN 150 nebo 200","m",104.5,null,{"$f":"ROUND($I$468*$H$468,2)","v":0},"CS ÚRS 2014 02",null,null,"základní",null,null,0,{"$f":"$Q$468*$H$468","v":0},0,{"$f":"$S$468*$H$468","v":0},null,null,null,null,null,null,null,null,null,null,null,null,null,null,null,null,null,null,null,null,null,null,null,"4",null,"K","3",null,null,null,"ROZPOCET",null,null,null,null,null,{"$f":"IF($N$468=\"základní\",$J$468,0)","v":0},{"$f":"IF($N$468=\"snížená\",$J$468,0)","v":0},{"$f":"IF($N$468=\"zákl. přenesená\",$J$468,0)","v":0},{"$f":"IF($N$468=\"sníž. přenesená\",$J$468,0)","v":0},{"$f":"IF($N$468=\"nulová\",$J$468,0)","v":0},"1",{"$f":"ROUND($I$468*$H$468,2)","v":0},"4","-1468661340"]
[null,null,null,"PP",null,"Tlakové zkoušky vodou na potrubí DN 150 nebo 200",null,null,null,null,null,null,null,null,null,null,null,null,null,null,null,null,null,null,null,null,null,null,null,null,null,null,null,null,null,null,null,null,null,null,null,null,null,null,null,"PP","3"]
[null,null,null,"PSC",null,"Poznámka k souboru cen:\n1. Ceny -2111 jsou určeny pro zabezpečení jednoho konce zkoušeného úseku jakéhokoliv druhu potrubí. 2. V cenách jsou započteny náklady:     a) u cen -1111 - na přísun, montáž, demontáž a odsun zkoušecího čerpadla, napuštění tlakovou         vodou a dodání vody pro tlakovou zkoušku,     b) u cen -2111 - na montáž a demontáž výrobků nebo dílců pro zabezpečení konce zkoušeného úseku         potrubí, na montáž a demontáž koncových tvarovek, na montáž zaslepovací příruby, na zaslepení         odboček pro hydranty, vzdušníky a jiné armatury a odbočky pro odbočující řady, ",null,null,null,null,null,null,null,null,null,null,null,null,null,null,null,null,null,null,null,null,null,null,null,null,null,null,null,null,null,null,null,null,null,null,null,null,null,null,null,"PSC","3"]
[null,null,"51","K","892381111","Tlaková zkouška vodou potrubí DN 250, DN 300 nebo 350","m",70,null,{"$f":"ROUND($I$471*$H$471,2)","v":0},"CS ÚRS 2014 02",null,null,"základní",null,null,0,{"$f":"$Q$471*$H$471","v":0},0,{"$f":"$S$471*$H$471","v":0},null,null,null,null,null,null,null,null,null,null,null,null,null,null,null,null,null,null,null,null,null,null,null,"4",null,"K","3",null,null,null,"ROZPOCET",null,null,null,null,null,{"$f":"IF($N$471=\"základní\",$J$471,0)","v":0},{"$f":"IF($N$471=\"snížená\",$J$471,0)","v":0},{"$f":"IF($N$471=\"zákl. přenesená\",$J$471,0)","v":0},{"$f":"IF($N$471=\"sníž. přenesená\",$J$471,0)","v":0},{"$f":"IF($N$471=\"nulová\",$J$471,0)","v":0},"1",{"$f":"ROUND($I$471*$H$471,2)","v":0},"4","-397765741"]
[null,null,null,"PP",null,"Tlakové zkoušky vodou na potrubí DN 250, 300 nebo 350",null,null,null,null,null,null,null,null,null,null,null,null,null,null,null,null,null,null,null,null,null,null,null,null,null,null,null,null,null,null,null,null,null,null,null,null,null,null,null,"PP","3"]
[null,null,null,"PSC",null,"Poznámka k souboru cen:\n1. Ceny -2111 jsou určeny pro zabezpečení jednoho konce zkoušeného úseku jakéhokoliv druhu potrubí. 2. V cenách jsou započteny náklady:     a) u cen -1111 - na přísun, montáž, demontáž a odsun zkoušecího čerpadla, napuštění tlakovou         vodou a dodání vody pro tlakovou zkoušku,     b) u cen -2111 - na montáž a demontáž výrobků nebo dílců pro zabezpečení konce zkoušeného úseku         potrubí, na montáž a demontáž koncových tvarovek, na montáž zaslepovací příruby, na zaslepení         odboček pro hydranty, vzdušníky a jiné armatury a odbočky pro odbočující řady, ",null,null,null,null,null,null,null,null,null,null,null,null,null,null,null,null,null,null,null,null,null,null,null,null,null,null,null,null,null,null,null,null,null,null,null,null,null,null,null,"PSC","3"]
[null,null,"52","K","892372111","Zabezpečení konců potrubí DN do 300 při tlakových zkouškách vodou","kus",14,null,{"$f":"ROUND($I$474*$H$474,2)","v":0},"CS ÚRS 2014 02",null,null,"základní",null,null,0.460030406,{"$f":"$Q$474*$H$474","v":6.440425684},0,{"$f":"$S$474*$H$474","v":0},null,null,null,null,null,null,null,null,null,null,null,null,null,null,null,null,null,null,null,null,null,null,null,"4",null,"K","3",null,null,null,"ROZPOCET",null,null,null,null,null,{"$f":"IF($N$474=\"základní\",$J$474,0)","v":0},{"$f":"IF($N$474=\"snížená\",$J$474,0)","v":0},{"$f":"IF($N$474=\"zákl. přenesená\",$J$474,0)","v":0},{"$f":"IF($N$474=\"sníž. přenesená\",$J$474,0)","v":0},{"$f":"IF($N$474=\"nulová\",$J$474,0)","v":0},"1",{"$f":"ROUND($I$474*$H$474,2)","v":0},"4","1351270942"]
[null,null,null,"PP",null,"Tlakové zkoušky vodou zabezpečení konců potrubí při tlakových zkouškách DN do 300",null,null,null,null,null,null,null,null,null,null,null,null,null,null,null,null,null,null,null,null,null,null,null,null,null,null,null,null,null,null,null,null,null,null,null,null,null,null,null,"PP","3"]
[null,null,null,"PSC",null,"Poznámka k souboru cen:\n1. Ceny -2111 jsou určeny pro zabezpečení jednoho konce zkoušeného úseku jakéhokoliv druhu potrubí. 2. V cenách jsou započteny náklady:     a) u cen -1111 - na přísun, montáž, demontáž a odsun zkoušecího čerpadla, napuštění tlakovou         vodou a dodání vody pro tlakovou zkoušku,     b) u cen -2111 - na montáž a demontáž výrobků nebo dílců pro zabezpečení konce zkoušeného úseku         potrubí, na montáž a demontáž koncových tvarovek, na montáž zaslepovací příruby, na zaslepení         odboček pro hydranty, vzdušníky a jiné armatury a odbočky pro odbočující řady, ",null,null,null,null,null,null,null,null,null,null,null,null,null,null,null,null,null,null,null,null,null,null,null,null,null,null,null,null,null,null,null,null,null,null,null,null,null,null,null,"PSC","3"]
[null,null,null,"VV",null,"pro DN 300 ",null,null,null,null,null,null,null,null,null,null,null,null,null,null,null,null,null,null,null,null,null,null,null,null,null,null,null,null,null,null,null,null,null,null,null,null,null,null,null,"VV","3","1","-1","0","ROZPOCET"]
[null,null,null,"VV",null,"2,0",null,2,null,null,null,null,null,null,null,null,null,null,null,null,null,null,null,null,null,null,null,null,null,null,null,null,null,null,null,null,null,null,null,null,null,null,null,null,null,"VV","3","2","-1","0","ROZPOCET"]
[null,null,null,"VV",null,"Pro DN 100-150",null,null,null,null,null,null,null,null,null,null,null,null,null,null,null,null,null,null,null,null,null,null,null,null,null,null,null,null,null,null,null,null,null,null,null,null,null,null,null,"VV","3","1","-1","0","ROZPOCET"]
[null,null,null,"VV",null,"14,0",null,14,null,null,null,null,null,null,null,null,null,null,null,null,null,null,null,null,null,null,null,null,null,null,null,null,null,null,null,null,null,null,null,null,null,null,null,null,null,"VV","3","2","-1","1","ROZPOCET"]
[null,null,"53","K","89 0100_R","Kamerová zkouška potrubí včetně vyhodnocení","m",189,null,{"$f":"ROUND($I$481*$H$481,2)","v":0},null,null,null,"základní",null,null,0,{"$f":"$Q$481*$H$481","v":0},0,{"$f":"$S$481*$H$481","v":0},null,null,null,null,null,null,null,null,null,null,null,null,null,null,null,null,null,null,null,null,null,null,null,"4",null,"K","3",null,null,null,"ROZPOCET",null,null,null,null,null,{"$f":"IF($N$481=\"základní\",$J$481,0)","v":0},{"$f":"IF($N$481=\"snížená\",$J$481,0)","v":0},{"$f":"IF($N$481=\"zákl. přenesená\",$J$481,0)","v":0},{"$f":"IF($N$481=\"sníž. přenesená\",$J$481,0)","v":0},{"$f":"IF($N$481=\"nulová\",$J$481,0)","v":0},"1",{"$f":"ROUND($I$481*$H$481,2)","v":0},"4","-1061382769"]
[null,null,null,"VV",null,"14,5+104,5+70,0",null,189,null,null,null,null,null,null,null,null,null,null,null,null,null,null,null,null,null,null,null,null,null,null,null,null,null,null,null,null,null,null,null,null,null,null,null,null,null,"VV","3","2","-1","1","ROZPOCET"]
[null,null,"54","K","894412411","Osazení železobetonových dílců pro šachty skruží přechodových","kus",1,null,{"$f":"ROUND($I$483*$H$483,2)","v":0},"CS ÚRS 2014 02",null,null,"základní",null,null,1.1469999999999999E-2,{"$f":"$Q$483*$H$483","v":1.1469999999999999E-2},0,{"$f":"$S$483*$H$483","v":0},null,null,null,null,null,null,null,null,null,null,null,null,null,null,null,null,null,null,null,null,null,null,null,"4",null,"K","3",null,null,null,"ROZPOCET",null,null,null,null,null,{"$f":"IF($N$483=\"základní\",$J$483,0)","v":0},{"$f":"IF($N$483=\"snížená\",$J$483,0)","v":0},{"$f":"IF($N$483=\"zákl. přenesená\",$J$483,0)","v":0},{"$f":"IF($N$483=\"sníž. přenesená\",$J$483,0)","v":0},{"$f":"IF($N$483=\"nulová\",$J$483,0)","v":0},"1",{"$f":"ROUND($I$483*$H$483,2)","v":0},"4","2078435131"]
[null,null,null,"PP",null,"Osazení železobetonových dílců pro šachty skruží přechodových",null,null,null,null,null,null,null,null,null,null,null,null,null,null,null,null,null,null,null,null,null,null,null,null,null,null,null,null,null,null,null,null,null,null,null,null,null,null,null,"PP","3"]
[null,null,null,"PSC",null,"Poznámka k souboru cen:\n1. V cenách nejsou započteny náklady na dodání železobetonových dílců; dodání těchto dílců se     oceňuje ve specifikaci. ",null,null,null,null,null,null,null,null,null,null,null,null,null,null,null,null,null,null,null,null,null,null,null,null,null,null,null,null,null,null,null,null,null,null,null,null,null,null,null,"PSC","3"]
[null,null,null,"VV",null,"pro ORL",null,null,null,null,null,null,null,null,null,null,null,null,null,null,null,null,null,null,null,null,null,null,null,null,null,null,null,null,null,null,null,null,null,null,null,null,null,null,null,"VV","3","1","-1","0","ROZPOCET"]
[null,null,null,"VV",null,"1,0",null,1,null,null,null,null,null,null,null,null,null,null,null,null,null,null,null,null,null,null,null,null,null,null,null,null,null,null,null,null,null,null,null,null,null,null,null,null,null,"VV","3","2","-1","1","ROZPOCET"]
[null,null,"55","K","899104111","Osazení poklopů litinových nebo ocelových včetně rámů hmotnosti nad 150 kg","kus",1,null,{"$f":"ROUND($I$488*$H$488,2)","v":0},"CS ÚRS 2014 02",null,null,"základní",null,null,7.0200000000000002E-3,{"$f":"$Q$488*$H$488","v":7.0200000000000002E-3},0,{"$f":"$S$488*$H$488","v":0},null,null,null,null,null,null,null,null,null,null,null,null,null,null,null,null,null,null,null,null,null,null,null,"4",null,"K","3",null,null,null,"ROZPOCET",null,null,null,null,null,{"$f":"IF($N$488=\"základní\",$J$488,0)","v":0},{"$f":"IF($N$488=\"snížená\",$J$488,0)","v":0},{"$f":"IF($N$488=\"zákl. přenesená\",$J$488,0)","v":0},{"$f":"IF($N$488=\"sníž. přenesená\",$J$488,0)","v":0},{"$f":"IF($N$488=\"nulová\",$J$488,0)","v":0},"1",{"$f":"ROUND($I$488*$H$488,2)","v":0},"4","-1797711067"]
[null,null,null,"PP",null,"Osazení poklopů litinových a ocelových včetně rámů hmotnosti jednotlivě přes 150 kg",null,null,null,null,null,null,null,null,null,null,null,null,null,null,null,null,null,null,null,null,null,null,null,null,null,null,null,null,null,null,null,null,null,null,null,null,null,null,null,"PP","3"]
[null,null,null,"PSC",null,"Poznámka k souboru cen:\n1. Cena -1111 lze použít i pro osazení rektifikačních kroužků nebo rámečků. 2. V cenách nejsou započteny náklady na dodání poklopů včetně rámů; tyto náklady se oceňují ve     specifikaci. ",null,null,null,null,null,null,null,null,null,null,null,null,null,null,null,null,null,null,null,null,null,null,null,null,null,null,null,null,null,null,null,null,null,null,null,null,null,null,null,"PSC","3"]
[null,null,null,"VV",null,"pro ORL",null,null,null,null,null,null,null,null,null,null,null,null,null,null,null,null,null,null,null,null,null,null,null,null,null,null,null,null,null,null,null,null,null,null,null,null,null,null,null,"VV","3","1","-1","0","ROZPOCET"]
[null,null,null,"VV",null,"1,0",null,1,null,null,null,null,null,null,null,null,null,null,null,null,null,null,null,null,null,null,null,null,null,null,null,null,null,null,null,null,null,null,null,null,null,null,null,null,null,"VV","3","2","-1","1","ROZPOCET"]
[null,null,"56","M","592240060","dílec betonový pro vstupní šachty SH-F PS+K 100/62,5x60x9 cm","kus",1,null,{"$f":"ROUND($I$493*$H$493,2)","v":0},"CS ÚRS 2014 02",null,null,"základní",null,null,0.43,{"$f":"$Q$493*$H$493","v":0.43},0,{"$f":"$S$493*$H$493","v":0},null,null,null,null,null,null,null,null,null,null,null,null,null,null,null,null,null,null,null,null,null,null,null,"8",null,"M","3",null,null,null,"ROZPOCET",null,null,null,null,null,{"$f":"IF($N$493=\"základní\",$J$493,0)","v":0},{"$f":"IF($N$493=\"snížená\",$J$493,0)","v":0},{"$f":"IF($N$493=\"zákl. přenesená\",$J$493,0)","v":0},{"$f":"IF($N$493=\"sníž. přenesená\",$J$493,0)","v":0},{"$f":"IF($N$493=\"nulová\",$J$493,0)","v":0},"1",{"$f":"ROUND($I$493*$H$493,2)","v":0},"4","1549896456"]
[null,null,null,"PP",null,"prefabrikáty pro vstupní šachty a drenážní šachtice (betonové a železobetonové) dílce pro kanalizační šachty skruže, kónusy pro tl. stěny šachty 9 cm S+K- přechodová skruž s kapsovým stupadlem SH-F PS+K         100/62,5 x 60 x 9",null,null,null,null,null,null,null,null,null,null,null,null,null,null,null,null,null,null,null,null,null,null,null,null,null,null,null,null,null,null,null,null,null,null,null,null,null,null,null,"PP","3"]
[null,null,"57","M","5922466_R","poklop šachtový  /betonová výplň+ litina/ D 400  s odvětráním","kus",1,null,{"$f":"ROUND($I$495*$H$495,2)","v":0},null,null,null,"základní",null,null,0.16500000000000001,{"$f":"$Q$495*$H$495","v":0.16500000000000001},0,{"$f":"$S$495*$H$495","v":0},null,null,null,null,null,null,null,null,null,null,null,null,null,null,null,null,null,null,null,null,null,null,null,"8",null,"M","3",null,null,null,"ROZPOCET",null,null,null,null,null,{"$f":"IF($N$495=\"základní\",$J$495,0)","v":0},{"$f":"IF($N$495=\"snížená\",$J$495,0)","v":0},{"$f":"IF($N$495=\"zákl. přenesená\",$J$495,0)","v":0},{"$f":"IF($N$495=\"sníž. přenesená\",$J$495,0)","v":0},{"$f":"IF($N$495=\"nulová\",$J$495,0)","v":0},"1",{"$f":"ROUND($I$495*$H$495,2)","v":0},"4","278147252"]
[null,null,null,"PP",null,"prefabrikáty pro vstupní šachty a drenážní šachtice (betonové a železobetonové) poklopy šachtové poklop šachtový D1  /betonová výplň+ litina/ D 400 - BEGU, s odvětráním",null,null,null,null,null,null,null,null,null,null,null,null,null,null,null,null,null,null,null,null,null,null,null,null,null,null,null,null,null,null,null,null,null,null,null,null,null,null,null,"PP","3"]
[null,null,null,"D","89_Š","Kanalizační šachty",null,null,null,{"$f":"$BK$497","v":0},null,null,null,null,null,{"$f":"SUM($P$498:$P$580)","v":0},null,{"$f":"SUM($R$498:$R$580)","v":17.850315364},null,{"$f":"SUM($T$498:$T$580)","v":0},null,null,null,null,null,null,null,null,null,null,null,null,null,null,null,null,null,null,null,null,null,null,null,"1",null,"D","2",null,null,null,"ROZPOCET",null,null,null,null,null,null,null,null,null,null,null,{"$f":"SUM($BK$498:$BK$580)","v":0}]
[null,null,"58","K","894411111","Zřízení šachet kanalizačních z betonových dílců na potrubí DN do 200 dno beton tř. C 25/30","kus",1,null,{"$f":"ROUND($I$498*$H$498,2)","v":0},"CS ÚRS 2014 02",null,null,"základní",null,null,1.8315160939999999,{"$f":"$Q$498*$H$498","v":1.8315160939999999},0,{"$f":"$S$498*$H$498","v":0},null,null,null,null,null,null,null,null,null,null,null,null,null,null,null,null,null,null,null,null,null,null,null,"4",null,"K","3",null,null,null,"ROZPOCET",null,null,null,null,null,{"$f":"IF($N$498=\"základní\",$J$498,0)","v":0},{"$f":"IF($N$498=\"snížená\",$J$498,0)","v":0},{"$f":"IF($N$498=\"zákl. přenesená\",$J$498,0)","v":0},{"$f":"IF($N$498=\"sníž. přenesená\",$J$498,0)","v":0},{"$f":"IF($N$498=\"nulová\",$J$498,0)","v":0},"1",{"$f":"ROUND($I$498*$H$498,2)","v":0},"4","941838647"]
[null,null,null,"PP",null,"Zřízení šachet kanalizačních z betonových dílců výšky vstupu do 1,50 m s obložením dna betonem tř. C 25/30, na potrubí DN do 200",null,null,null,null,null,null,null,null,null,null,null,null,null,null,null,null,null,null,null,null,null,null,null,null,null,null,null,null,null,null,null,null,null,null,null,null,null,null,null,"PP","3"]
[null,null,null,"PSC",null,"Poznámka k souboru cen:\n1. Příplatek k ceně šachet z betonových dílců za každých dalších i započatých 0,60 m výšky vstupu     se oceňuje cenou 894 11-8001 této části katalogu. 2. V cenách jsou započteny i náklady na:     a) podkladní desku z betonu prostého,     b) dodání a osazení stupadel,     c) zhotovení monolitického dna 3. V cenách nejsou započteny náklady na:     a) litinové poklopy; osazení litinových poklopů se oceňuje cenami souboru cen 899 10- . 1         Osazení poklopů litinových a ocelových včetně rámů části A 01 tohoto katalogu; dodání poklopů se         oceňuje ve specifikaci,     b) podkladní prstence; tyto se oceňují cenami souboru cen 452 38- . 1 Podkladní a vyrovnávací         konstrukce z betonu části A 01 tohoto katalogu,     c) dodání betonových dílců; tyto se oceňují ve specifikaci. ",null,null,null,null,null,null,null,null,null,null,null,null,null,null,null,null,null,null,null,null,null,null,null,null,null,null,null,null,null,null,null,null,null,null,null,null,null,null,null,"PSC","3"]
[null,null,null,"VV",null,"šachta Š1",null,null,null,null,null,null,null,null,null,null,null,null,null,null,null,null,null,null,null,null,null,null,null,null,null,null,null,null,null,null,null,null,null,null,null,null,null,null,null,"VV","3","1","-1","0","ROZPOCET"]
[null,null,null,"VV",null,"1,0",null,1,null,null,null,null,null,null,null,null,null,null,null,null,null,null,null,null,null,null,null,null,null,null,null,null,null,null,null,null,null,null,null,null,null,null,null,null,null,"VV","3","2","-1","1","ROZPOCET"]
[null,null,"59","K","894411121","Zřízení šachet kanalizačních z betonových dílců na potrubí DN nad 200 do 300 dno beton tř. C 25/30","kus",5,null,{"$f":"ROUND($I$503*$H$503,2)","v":0},"CS ÚRS 2014 02",null,null,"základní",null,null,2.0099020040000002,{"$f":"$Q$503*$H$503","v":10.049510020000001},0,{"$f":"$S$503*$H$503","v":0},null,null,null,null,null,null,null,null,null,null,null,null,null,null,null,null,null,null,null,null,null,null,null,"4",null,"K","3",null,null,null,"ROZPOCET",null,null,null,null,null,{"$f":"IF($N$503=\"základní\",$J$503,0)","v":0},{"$f":"IF($N$503=\"snížená\",$J$503,0)","v":0},{"$f":"IF($N$503=\"zákl. přenesená\",$J$503,0)","v":0},{"$f":"IF($N$503=\"sníž. přenesená\",$J$503,0)","v":0},{"$f":"IF($N$503=\"nulová\",$J$503,0)","v":0},"1",{"$f":"ROUND($I$503*$H$503,2)","v":0},"4","-502751228"]
[null,null,null,"PP",null,"Zřízení šachet kanalizačních z betonových dílců výšky vstupu do 1,50 m s obložením dna betonem tř. C 25/30, na potrubí DN přes 200 do 300",null,null,null,null,null,null,null,null,null,null,null,null,null,null,null,null,null,null,null,null,null,null,null,null,null,null,null,null,null,null,null,null,null,null,null,null,null,null,null,"PP","3"]
[null,null,null,"PSC",null,"Poznámka k souboru cen:\n1. Příplatek k ceně šachet z betonových dílců za každých dalších i započatých 0,60 m výšky vstupu     se oceňuje cenou 894 11-8001 této části katalogu. 2. V cenách jsou započteny i náklady na:     a) podkladní desku z betonu prostého,     b) dodání a osazení stupadel,     c) zhotovení monolitického dna 3. V cenách nejsou započteny náklady na:     a) litinové poklopy; osazení litinových poklopů se oceňuje cenami souboru cen 899 10- . 1         Osazení poklopů litinových a ocelových včetně rámů části A 01 tohoto katalogu; dodání poklopů se         oceňuje ve specifikaci,     b) podkladní prstence; tyto se oceňují cenami souboru cen 452 38- . 1 Podkladní a vyrovnávací         konstrukce z betonu části A 01 tohoto katalogu,     c) dodání betonových dílců; tyto se oceňují ve specifikaci. ",null,null,null,null,null,null,null,null,null,null,null,null,null,null,null,null,null,null,null,null,null,null,null,null,null,null,null,null,null,null,null,null,null,null,null,null,null,null,null,"PSC","3"]
[null,null,null,"VV",null,"šachta Š2 - Š6",null,null,null,null,null,null,null,null,null,null,null,null,null,null,null,null,null,null,null,null,null,null,null,null,null,null,null,null,null,null,null,null,null,null,null,null,null,null,null,"VV","3","1","-1","0","ROZPOCET"]
[null,null,null,"VV",null,"5,0",null,5,null,null,null,null,null,null,null,null,null,null,null,null,null,null,null,null,null,null,null,null,null,null,null,null,null,null,null,null,null,null,null,null,null,null,null,null,null,"VV","3","2","-1","1","ROZPOCET"]
[null,null,"60","M","592240000","dílec betonový pro vstupní šachty SR-F PS 100x25x9 cm","kus",11.11,null,{"$f":"ROUND($I$508*$H$508,2)","v":0},"CS ÚRS 2014 02",null,null,"základní",null,null,0.185,{"$f":"$Q$508*$H$508","v":2.0553499999999998},0,{"$f":"$S$508*$H$508","v":0},null,null,null,null,null,null,null,null,null,null,null,null,null,null,null,null,null,null,null,null,null,null,null,"8",null,"M","3",null,null,null,"ROZPOCET",null,null,null,null,null,{"$f":"IF($N$508=\"základní\",$J$508,0)","v":0},{"$f":"IF($N$508=\"snížená\",$J$508,0)","v":0},{"$f":"IF($N$508=\"zákl. přenesená\",$J$508,0)","v":0},{"$f":"IF($N$508=\"sníž. přenesená\",$J$508,0)","v":0},{"$f":"IF($N$508=\"nulová\",$J$508,0)","v":0},"1",{"$f":"ROUND($I$508*$H$508,2)","v":0},"4","1912270082"]
[null,null,null,"PP",null,"prefabrikáty pro vstupní šachty a drenážní šachtice (betonové a železobetonové) dílce pro kanalizační šachty skruže, kónusy pro tl. stěny šachty 9 cm S+K- přechodová skruž s kapsovým stupadlem SR-F PS           100 x 25 x 9",null,null,null,null,null,null,null,null,null,null,null,null,null,null,null,null,null,null,null,null,null,null,null,null,null,null,null,null,null,null,null,null,null,null,null,null,null,null,null,"PP","3"]
[null,null,null,"VV",null,"ztratné 1%",null,null,null,null,null,null,null,null,null,null,null,null,null,null,null,null,null,null,null,null,null,null,null,null,null,null,null,null,null,null,null,null,null,null,null,null,null,null,null,"VV","3","1","-1","0","ROZPOCET"]
[null,null,null,"VV",null,"dle tabulky šachet na výkresu Kanalizační šachty",null,null,null,null,null,null,null,null,null,null,null,null,null,null,null,null,null,null,null,null,null,null,null,null,null,null,null,null,null,null,null,null,null,null,null,null,null,null,null,"VV","3","1","-1","0","ROZPOCET"]
[null,null,null,"VV",null,"šachta Š1 až Š6",null,null,null,null,null,null,null,null,null,null,null,null,null,null,null,null,null,null,null,null,null,null,null,null,null,null,null,null,null,null,null,null,null,null,null,null,null,null,null,"VV","3","1","-1","0","ROZPOCET"]
[null,null,null,"VV",null,"11,0*1,01",null,11.11,null,null,null,null,null,null,null,null,null,null,null,null,null,null,null,null,null,null,null,null,null,null,null,null,null,null,null,null,null,null,null,null,null,null,null,null,null,"VV","3","2","-1","1","ROZPOCET"]
[null,null,"61","M","592240060","dílec betonový pro vstupní šachty SH-F PS+K 100/62,5x60x9 cm","kus",6.06,null,{"$f":"ROUND($I$514*$H$514,2)","v":0},"CS ÚRS 2014 02",null,null,"základní",null,null,0.43,{"$f":"$Q$514*$H$514","v":2.6057999999999999},0,{"$f":"$S$514*$H$514","v":0},null,null,null,null,null,null,null,null,null,null,null,null,null,null,null,null,null,null,null,null,null,null,null,"8",null,"M","3",null,null,null,"ROZPOCET",null,null,null,null,null,{"$f":"IF($N$514=\"základní\",$J$514,0)","v":0},{"$f":"IF($N$514=\"snížená\",$J$514,0)","v":0},{"$f":"IF($N$514=\"zákl. přenesená\",$J$514,0)","v":0},{"$f":"IF($N$514=\"sníž. přenesená\",$J$514,0)","v":0},{"$f":"IF($N$514=\"nulová\",$J$514,0)","v":0},"1",{"$f":"ROUND($I$514*$H$514,2)","v":0},"4","-288157191"]
[null,null,null,"PP",null,"prefabrikáty pro vstupní šachty a drenážní šachtice (betonové a železobetonové) dílce pro kanalizační šachty skruže, kónusy pro tl. stěny šachty 9 cm S+K- přechodová skruž s kapsovým stupadlem SH-F PS+K         100/62,5 x 60 x 9",null,null,null,null,null,null,null,null,null,null,null,null,null,null,null,null,null,null,null,null,null,null,null,null,null,null,null,null,null,null,null,null,null,null,null,null,null,null,null,"PP","3"]
[null,null,null,"VV",null,"ztratné 1%",null,null,null,null,null,null,null,null,null,null,null,null,null,null,null,null,null,null,null,null,null,null,null,null,null,null,null,null,null,null,null,null,null,null,null,null,null,null,null,"VV","3","1","-1","0","ROZPOCET"]
[null,null,null,"VV",null,"dle tabulky šachet na výkresu Kanalizační šachty",null,null,null,null,null,null,null,null,null,null,null,null,null,null,null,null,null,null,null,null,null,null,null,null,null,null,null,null,null,null,null,null,null,null,null,null,null,null,null,"VV","3","1","-1","0","ROZPOCET"]
[null,null,null,"VV",null,"šachta Š1 až Š6",null,null,null,null,null,null,null,null,null,null,null,null,null,null,null,null,null,null,null,null,null,null,null,null,null,null,null,null,null,null,null,null,null,null,null,null,null,null,null,"VV","3","1","-1","0","ROZPOCET"]
[null,null,null,"VV",null,"6,0*1,01",null,6.06,null,null,null,null,null,null,null,null,null,null,null,null,null,null,null,null,null,null,null,null,null,null,null,null,null,null,null,null,null,null,null,null,null,null,null,null,null,"VV","3","2","-1","1","ROZPOCET"]
[null,null,"62","K","899103111","Osazení poklopů litinových nebo ocelových včetně rámů hmotnosti nad 100 do 150 kg","kus",6,null,{"$f":"ROUND($I$520*$H$520,2)","v":0},"CS ÚRS 2014 02",null,null,"základní",null,null,7.0200000000000002E-3,{"$f":"$Q$520*$H$520","v":4.2120000000000005E-2},0,{"$f":"$S$520*$H$520","v":0},null,null,null,null,null,null,null,null,null,null,null,null,null,null,null,null,null,null,null,null,null,null,null,"4",null,"K","3",null,null,null,"ROZPOCET",null,null,null,null,null,{"$f":"IF($N$520=\"základní\",$J$520,0)","v":0},{"$f":"IF($N$520=\"snížená\",$J$520,0)","v":0},{"$f":"IF($N$520=\"zákl. přenesená\",$J$520,0)","v":0},{"$f":"IF($N$520=\"sníž. přenesená\",$J$520,0)","v":0},{"$f":"IF($N$520=\"nulová\",$J$520,0)","v":0},"1",{"$f":"ROUND($I$520*$H$520,2)","v":0},"4","218774934"]
[null,null,null,"PP",null,"Osazení poklopů litinových a ocelových včetně rámů hmotnosti jednotlivě přes 100 do 150 kg",null,null,null,null,null,null,null,null,null,null,null,null,null,null,null,null,null,null,null,null,null,null,null,null,null,null,null,null,null,null,null,null,null,null,null,null,null,null,null,"PP","3"]
[null,null,null,"PSC",null,"Poznámka k souboru cen:\n1. Cena -1111 lze použít i pro osazení rektifikačních kroužků nebo rámečků. 2. V cenách nejsou započteny náklady na dodání poklopů včetně rámů; tyto náklady se oceňují ve     specifikaci. ",null,null,null,null,null,null,null,null,null,null,null,null,null,null,null,null,null,null,null,null,null,null,null,null,null,null,null,null,null,null,null,null,null,null,null,null,null,null,null,"PSC","3"]
[null,null,null,"VV",null,"šachta  Š1-Š6",null,null,null,null,null,null,null,null,null,null,null,null,null,null,null,null,null,null,null,null,null,null,null,null,null,null,null,null,null,null,null,null,null,null,null,null,null,null,null,"VV","3","1","-1","0","ROZPOCET"]
[null,null,null,"VV",null,"6,0",null,6,null,null,null,null,null,null,null,null,null,null,null,null,null,null,null,null,null,null,null,null,null,null,null,null,null,null,null,null,null,null,null,null,null,null,null,null,null,"VV","3","2","-1","1","ROZPOCET"]
[null,null,"63","M","5524340_R","poklop na vstupní šachtu litinový DN 600 s betonovou výplní pro zatížení D400, vzor DIN ","kus",6,null,{"$f":"ROUND($I$525*$H$525,2)","v":0},null,null,null,"základní",null,null,0.19400000000000001,{"$f":"$Q$525*$H$525","v":1.1640000000000001},0,{"$f":"$S$525*$H$525","v":0},null,null,null,null,null,null,null,null,null,null,null,null,null,null,null,null,null,null,null,null,null,null,null,"8",null,"M","3",null,null,null,"ROZPOCET",null,null,null,null,null,{"$f":"IF($N$525=\"základní\",$J$525,0)","v":0},{"$f":"IF($N$525=\"snížená\",$J$525,0)","v":0},{"$f":"IF($N$525=\"zákl. přenesená\",$J$525,0)","v":0},{"$f":"IF($N$525=\"sníž. přenesená\",$J$525,0)","v":0},{"$f":"IF($N$525=\"nulová\",$J$525,0)","v":0},"1",{"$f":"ROUND($I$525*$H$525,2)","v":0},"4","130290190"]
[null,null,"64","K","452112111","Osazení betonových prstenců nebo rámů v do 100 mm","kus",2,null,{"$f":"ROUND($I$526*$H$526,2)","v":0},"CS ÚRS 2014 02",null,null,"základní",null,null,6.6E-3,{"$f":"$Q$526*$H$526","v":1.32E-2},0,{"$f":"$S$526*$H$526","v":0},null,null,null,null,null,null,null,null,null,null,null,null,null,null,null,null,null,null,null,null,null,null,null,"4",null,"K","3",null,null,null,"ROZPOCET",null,null,null,null,null,{"$f":"IF($N$526=\"základní\",$J$526,0)","v":0},{"$f":"IF($N$526=\"snížená\",$J$526,0)","v":0},{"$f":"IF($N$526=\"zákl. přenesená\",$J$526,0)","v":0},{"$f":"IF($N$526=\"sníž. přenesená\",$J$526,0)","v":0},{"$f":"IF($N$526=\"nulová\",$J$526,0)","v":0},"1",{"$f":"ROUND($I$526*$H$526,2)","v":0},"4","-724618481"]
[null,null,null,"PP",null,"Osazení betonových dílců prstenců nebo rámů pod poklopy a mříže, výšky do 100 mm",null,null,null,null,null,null,null,null,null,null,null,null,null,null,null,null,null,null,null,null,null,null,null,null,null,null,null,null,null,null,null,null,null,null,null,null,null,null,null,"PP","3"]
[null,null,null,"PSC",null,"Poznámka k souboru cen:\n1. V cenách nejsou započteny náklady na dodávku betonových výrobků; tyto se oceňují ve specifikaci. ",null,null,null,null,null,null,null,null,null,null,null,null,null,null,null,null,null,null,null,null,null,null,null,null,null,null,null,null,null,null,null,null,null,null,null,null,null,null,null,"PSC","3"]
[null,null,null,"VV",null,"výška 100mm",null,null,null,null,null,null,null,null,null,null,null,null,null,null,null,null,null,null,null,null,null,null,null,null,null,null,null,null,null,null,null,null,null,null,null,null,null,null,null,"VV","3","1","-1","0","ROZPOCET"]
[null,null,null,"VV",null,"šachta Š1",null,null,null,null,null,null,null,null,null,null,null,null,null,null,null,null,null,null,null,null,null,null,null,null,null,null,null,null,null,null,null,null,null,null,null,null,null,null,null,"VV","3","1","-1","0","ROZPOCET"]
[null,null,null,"VV",null,"1",null,1,null,null,null,null,null,null,null,null,null,null,null,null,null,null,null,null,null,null,null,null,null,null,null,null,null,null,null,null,null,null,null,null,null,null,null,null,null,"VV","3","2","-1","0","ROZPOCET"]
[null,null,null,"VV",null,"Mezisoučet A",null,1,null,null,null,null,null,null,null,null,null,null,null,null,null,null,null,null,null,null,null,null,null,null,null,null,null,null,null,null,null,null,null,null,null,null,null,null,null,"VV","3","3","-1","0","ROZPOCET"]
[null,null,null,"VV",null,"výška 60 mm",null,null,null,null,null,null,null,null,null,null,null,null,null,null,null,null,null,null,null,null,null,null,null,null,null,null,null,null,null,null,null,null,null,null,null,null,null,null,null,"VV","3","1","-1","0","ROZPOCET"]
[null,null,null,"VV",null,"šachta Š6",null,null,null,null,null,null,null,null,null,null,null,null,null,null,null,null,null,null,null,null,null,null,null,null,null,null,null,null,null,null,null,null,null,null,null,null,null,null,null,"VV","3","1","-1","0","ROZPOCET"]
[null,null,null,"VV",null,"1",null,1,null,null,null,null,null,null,null,null,null,null,null,null,null,null,null,null,null,null,null,null,null,null,null,null,null,null,null,null,null,null,null,null,null,null,null,null,null,"VV","3","2","-1","0","ROZPOCET"]
[null,null,null,"VV",null,"Mezisoučet B",null,1,null,null,null,null,null,null,null,null,null,null,null,null,null,null,null,null,null,null,null,null,null,null,null,null,null,null,null,null,null,null,null,null,null,null,null,null,null,"VV","3","3","-1","0","ROZPOCET"]
[null,null,null,"VV",null,"Součet",null,2,null,null,null,null,null,null,null,null,null,null,null,null,null,null,null,null,null,null,null,null,null,null,null,null,null,null,null,null,null,null,null,null,null,null,null,null,null,"VV","3","4","-1","1","ROZPOCET"]
[null,null,"65","M","592241370","prstenec betonový vyrovnávací TBW-Q 625/100/90 62,5x10x9 cm","kus",1.01,null,{"$f":"ROUND($I$538*$H$538,2)","v":0},"CS ÚRS 2014 02",null,null,"základní",null,null,4.5999999999999999E-2,{"$f":"$Q$538*$H$538","v":4.6460000000000001E-2},0,{"$f":"$S$538*$H$538","v":0},null,null,null,null,null,null,null,null,null,null,null,null,null,null,null,null,null,null,null,null,null,null,null,"8",null,"M","3",null,null,null,"ROZPOCET",null,null,null,null,null,{"$f":"IF($N$538=\"základní\",$J$538,0)","v":0},{"$f":"IF($N$538=\"snížená\",$J$538,0)","v":0},{"$f":"IF($N$538=\"zákl. přenesená\",$J$538,0)","v":0},{"$f":"IF($N$538=\"sníž. přenesená\",$J$538,0)","v":0},{"$f":"IF($N$538=\"nulová\",$J$538,0)","v":0},"1",{"$f":"ROUND($I$538*$H$538,2)","v":0},"4","-922598388"]
[null,null,null,"PP",null,"prefabrikáty pro vstupní šachty a drenážní šachtice (betonové a železobetonové) šachty pro studňové a drenážní soustavy prstenec vyrovnávací, tl. stěny 9 cm TBW-Q 625/100/100   62,5 x 10 x 9",null,null,null,null,null,null,null,null,null,null,null,null,null,null,null,null,null,null,null,null,null,null,null,null,null,null,null,null,null,null,null,null,null,null,null,null,null,null,null,"PP","3"]
[null,null,null,"VV",null,"ztratné 1%",null,null,null,null,null,null,null,null,null,null,null,null,null,null,null,null,null,null,null,null,null,null,null,null,null,null,null,null,null,null,null,null,null,null,null,null,null,null,null,"VV","3","1","-1","0","ROZPOCET"]
[null,null,null,"VV",null,"pol.452112111 mezisoučet A",null,null,null,null,null,null,null,null,null,null,null,null,null,null,null,null,null,null,null,null,null,null,null,null,null,null,null,null,null,null,null,null,null,null,null,null,null,null,null,"VV","3","1","-1","0","ROZPOCET"]
[null,null,null,"VV",null,"1,0*1,01",null,1.01,null,null,null,null,null,null,null,null,null,null,null,null,null,null,null,null,null,null,null,null,null,null,null,null,null,null,null,null,null,null,null,null,null,null,null,null,null,"VV","3","2","-1","1","ROZPOCET"]
[null,null,"66","M","592241350","prstenec betonový vyrovnávací TBW-Q 625/60/90 62,5x6x9 cm","kus",1.01,null,{"$f":"ROUND($I$543*$H$543,2)","v":0},"CS ÚRS 2014 02",null,null,"základní",null,null,3.3000000000000002E-2,{"$f":"$Q$543*$H$543","v":3.3329999999999999E-2},0,{"$f":"$S$543*$H$543","v":0},null,null,null,null,null,null,null,null,null,null,null,null,null,null,null,null,null,null,null,null,null,null,null,"8",null,"M","3",null,null,null,"ROZPOCET",null,null,null,null,null,{"$f":"IF($N$543=\"základní\",$J$543,0)","v":0},{"$f":"IF($N$543=\"snížená\",$J$543,0)","v":0},{"$f":"IF($N$543=\"zákl. přenesená\",$J$543,0)","v":0},{"$f":"IF($N$543=\"sníž. přenesená\",$J$543,0)","v":0},{"$f":"IF($N$543=\"nulová\",$J$543,0)","v":0},"1",{"$f":"ROUND($I$543*$H$543,2)","v":0},"4","-414151930"]
[null,null,null,"PP",null,"prefabrikáty pro vstupní šachty a drenážní šachtice (betonové a železobetonové) šachty pro studňové a drenážní soustavy prstenec vyrovnávací, tl. stěny 9 cm TBW-Q 625/60/100     62,5 x 6 x 9",null,null,null,null,null,null,null,null,null,null,null,null,null,null,null,null,null,null,null,null,null,null,null,null,null,null,null,null,null,null,null,null,null,null,null,null,null,null,null,"PP","3"]
[null,null,null,"VV",null,"ztratné 1%",null,null,null,null,null,null,null,null,null,null,null,null,null,null,null,null,null,null,null,null,null,null,null,null,null,null,null,null,null,null,null,null,null,null,null,null,null,null,null,"VV","3","1","-1","0","ROZPOCET"]
[null,null,null,"VV",null,"pol.452112111 mezisoučet B",null,null,null,null,null,null,null,null,null,null,null,null,null,null,null,null,null,null,null,null,null,null,null,null,null,null,null,null,null,null,null,null,null,null,null,null,null,null,null,"VV","3","1","-1","0","ROZPOCET"]
[null,null,null,"VV",null,"1,0*1,01",null,1.01,null,null,null,null,null,null,null,null,null,null,null,null,null,null,null,null,null,null,null,null,null,null,null,null,null,null,null,null,null,null,null,null,null,null,null,null,null,"VV","3","2","-1","1","ROZPOCET"]
[null,null,"67","K","877265211","Montáž tvarovek z tvrdého PVC-systém KG nebo z polypropylenu-systém KG 2000 jednoosé DN 100","kus",2,null,{"$f":"ROUND($I$548*$H$548,2)","v":0},"CS ÚRS 2014 02",null,null,"základní",null,null,1.75E-6,{"$f":"$Q$548*$H$548","v":3.4999999999999999E-6},0,{"$f":"$S$548*$H$548","v":0},null,null,null,null,null,null,null,null,null,null,null,null,null,null,null,null,null,null,null,null,null,null,null,"64",null,"K","3",null,null,null,"ROZPOCET",null,null,null,null,null,{"$f":"IF($N$548=\"základní\",$J$548,0)","v":0},{"$f":"IF($N$548=\"snížená\",$J$548,0)","v":0},{"$f":"IF($N$548=\"zákl. přenesená\",$J$548,0)","v":0},{"$f":"IF($N$548=\"sníž. přenesená\",$J$548,0)","v":0},{"$f":"IF($N$548=\"nulová\",$J$548,0)","v":0},"1",{"$f":"ROUND($I$548*$H$548,2)","v":0},"64","-1650237450"]
[null,null,null,"PP",null,"Montáž tvarovek na kanalizačním potrubí z trub z plastu z tvrdého PVC systém KG nebo z polypropylenu systém KG 2000 v otevřeném výkopu jednoosých DN 100",null,null,null,null,null,null,null,null,null,null,null,null,null,null,null,null,null,null,null,null,null,null,null,null,null,null,null,null,null,null,null,null,null,null,null,null,null,null,null,"PP","3"]
[null,null,null,"PSC",null,"Poznámka k souboru cen:\n1. V cenách nejsou započteny náklady na dodání tvarovek. Tvarovky se oceňují ve ve specifikaci. ",null,null,null,null,null,null,null,null,null,null,null,null,null,null,null,null,null,null,null,null,null,null,null,null,null,null,null,null,null,null,null,null,null,null,null,null,null,null,null,"PSC","3"]
[null,null,null,"VV",null,"šachtová vložka DN 100",null,null,null,null,null,null,null,null,null,null,null,null,null,null,null,null,null,null,null,null,null,null,null,null,null,null,null,null,null,null,null,null,null,null,null,null,null,null,null,"VV","3","1","-1","0","ROZPOCET"]
[null,null,null,"VV",null,"dle tabulky šachet na výkresu Kanalizační šachty",null,null,null,null,null,null,null,null,null,null,null,null,null,null,null,null,null,null,null,null,null,null,null,null,null,null,null,null,null,null,null,null,null,null,null,null,null,null,null,"VV","3","1","-1","0","ROZPOCET"]
[null,null,null,"VV",null,"šachta Š1, Š2",null,null,null,null,null,null,null,null,null,null,null,null,null,null,null,null,null,null,null,null,null,null,null,null,null,null,null,null,null,null,null,null,null,null,null,null,null,null,null,"VV","3","1","-1","0","ROZPOCET"]
[null,null,null,"VV",null,"1,0+1,0",null,2,null,null,null,null,null,null,null,null,null,null,null,null,null,null,null,null,null,null,null,null,null,null,null,null,null,null,null,null,null,null,null,null,null,null,null,null,null,"VV","3","2","-1","1","ROZPOCET"]
[null,null,"68","K","877315211","Montáž tvarovek z tvrdého PVC-systém KG nebo z polypropylenu-systém KG 2000 jednoosé DN 150","kus",1,null,{"$f":"ROUND($I$555*$H$555,2)","v":0},"CS ÚRS 2014 02",null,null,"základní",null,null,3.7500000000000001E-6,{"$f":"$Q$555*$H$555","v":3.7500000000000001E-6},0,{"$f":"$S$555*$H$555","v":0},null,null,null,null,null,null,null,null,null,null,null,null,null,null,null,null,null,null,null,null,null,null,null,"64",null,"K","3",null,null,null,"ROZPOCET",null,null,null,null,null,{"$f":"IF($N$555=\"základní\",$J$555,0)","v":0},{"$f":"IF($N$555=\"snížená\",$J$555,0)","v":0},{"$f":"IF($N$555=\"zákl. přenesená\",$J$555,0)","v":0},{"$f":"IF($N$555=\"sníž. přenesená\",$J$555,0)","v":0},{"$f":"IF($N$555=\"nulová\",$J$555,0)","v":0},"1",{"$f":"ROUND($I$555*$H$555,2)","v":0},"64","1072458033"]
[null,null,null,"PP",null,"Montáž tvarovek na kanalizačním potrubí z trub z plastu z tvrdého PVC systém KG nebo z polypropylenu systém KG 2000 v otevřeném výkopu jednoosých DN 150",null,null,null,null,null,null,null,null,null,null,null,null,null,null,null,null,null,null,null,null,null,null,null,null,null,null,null,null,null,null,null,null,null,null,null,null,null,null,null,"PP","3"]
[null,null,null,"PSC",null,"Poznámka k souboru cen:\n1. V cenách nejsou započteny náklady na dodání tvarovek. Tvarovky se oceňují ve ve specifikaci. ",null,null,null,null,null,null,null,null,null,null,null,null,null,null,null,null,null,null,null,null,null,null,null,null,null,null,null,null,null,null,null,null,null,null,null,null,null,null,null,"PSC","3"]
[null,null,null,"VV",null,"šachtová vložka DN 150",null,null,null,null,null,null,null,null,null,null,null,null,null,null,null,null,null,null,null,null,null,null,null,null,null,null,null,null,null,null,null,null,null,null,null,null,null,null,null,"VV","3","1","-1","0","ROZPOCET"]
[null,null,null,"VV",null,"dle tabulky šachet na výkresu Kanalizační šachty",null,null,null,null,null,null,null,null,null,null,null,null,null,null,null,null,null,null,null,null,null,null,null,null,null,null,null,null,null,null,null,null,null,null,null,null,null,null,null,"VV","3","1","-1","0","ROZPOCET"]
[null,null,null,"VV",null,"šachta Š1 ",null,null,null,null,null,null,null,null,null,null,null,null,null,null,null,null,null,null,null,null,null,null,null,null,null,null,null,null,null,null,null,null,null,null,null,null,null,null,null,"VV","3","1","-1","0","ROZPOCET"]
[null,null,null,"VV",null,"1,0",null,1,null,null,null,null,null,null,null,null,null,null,null,null,null,null,null,null,null,null,null,null,null,null,null,null,null,null,null,null,null,null,null,null,null,null,null,null,null,"VV","3","2","-1","1","ROZPOCET"]
[null,null,"69","K","877375211","Montáž tvarovek z tvrdého PVC-systém KG nebo z polypropylenu-systém KG 2000 jednoosé DN 300","kus",8,null,{"$f":"ROUND($I$562*$H$562,2)","v":0},"CS ÚRS 2014 02",null,null,"základní",null,null,1.1250000000000001E-5,{"$f":"$Q$562*$H$562","v":9.0000000000000006E-5},0,{"$f":"$S$562*$H$562","v":0},null,null,null,null,null,null,null,null,null,null,null,null,null,null,null,null,null,null,null,null,null,null,null,"64",null,"K","3",null,null,null,"ROZPOCET",null,null,null,null,null,{"$f":"IF($N$562=\"základní\",$J$562,0)","v":0},{"$f":"IF($N$562=\"snížená\",$J$562,0)","v":0},{"$f":"IF($N$562=\"zákl. přenesená\",$J$562,0)","v":0},{"$f":"IF($N$562=\"sníž. přenesená\",$J$562,0)","v":0},{"$f":"IF($N$562=\"nulová\",$J$562,0)","v":0},"1",{"$f":"ROUND($I$562*$H$562,2)","v":0},"64","-550535671"]
[null,null,null,"PP",null,"Montáž tvarovek na kanalizačním potrubí z trub z plastu z tvrdého PVC systém KG nebo z polypropylenu systém KG 2000 v otevřeném výkopu jednoosých DN 300",null,null,null,null,null,null,null,null,null,null,null,null,null,null,null,null,null,null,null,null,null,null,null,null,null,null,null,null,null,null,null,null,null,null,null,null,null,null,null,"PP","3"]
[null,null,null,"PSC",null,"Poznámka k souboru cen:\n1. V cenách nejsou započteny náklady na dodání tvarovek. Tvarovky se oceňují ve ve specifikaci. ",null,null,null,null,null,null,null,null,null,null,null,null,null,null,null,null,null,null,null,null,null,null,null,null,null,null,null,null,null,null,null,null,null,null,null,null,null,null,null,"PSC","3"]
[null,null,null,"VV",null,"šachtová vložka DN 300",null,null,null,null,null,null,null,null,null,null,null,null,null,null,null,null,null,null,null,null,null,null,null,null,null,null,null,null,null,null,null,null,null,null,null,null,null,null,null,"VV","3","1","-1","0","ROZPOCET"]
[null,null,null,"VV",null,"dle tabulky šachet na výkresu Kanalizační šachty",null,null,null,null,null,null,null,null,null,null,null,null,null,null,null,null,null,null,null,null,null,null,null,null,null,null,null,null,null,null,null,null,null,null,null,null,null,null,null,"VV","3","1","-1","0","ROZPOCET"]
[null,null,null,"VV",null,"šachta Š2 až Š6",null,null,null,null,null,null,null,null,null,null,null,null,null,null,null,null,null,null,null,null,null,null,null,null,null,null,null,null,null,null,null,null,null,null,null,null,null,null,null,"VV","3","1","-1","0","ROZPOCET"]
[null,null,null,"VV",null,"8,0",null,8,null,null,null,null,null,null,null,null,null,null,null,null,null,null,null,null,null,null,null,null,null,null,null,null,null,null,null,null,null,null,null,null,null,null,null,null,null,"VV","3","2","-1","1","ROZPOCET"]
[null,null,"70","M","2860010_R","šachtová vložka kanalizace plastové  DN 300 mm - dodávka, doprava ","kus",8.1199999999999992,null,{"$f":"ROUND($I$569*$H$569,2)","v":0},null,null,null,"základní",null,null,8.0000000000000004E-4,{"$f":"$Q$569*$H$569","v":6.496E-3},0,{"$f":"$S$569*$H$569","v":0},null,null,null,null,null,null,null,null,null,null,null,null,null,null,null,null,null,null,null,null,null,null,null,"8",null,"M","3",null,null,null,"ROZPOCET",null,null,null,null,null,{"$f":"IF($N$569=\"základní\",$J$569,0)","v":0},{"$f":"IF($N$569=\"snížená\",$J$569,0)","v":0},{"$f":"IF($N$569=\"zákl. přenesená\",$J$569,0)","v":0},{"$f":"IF($N$569=\"sníž. přenesená\",$J$569,0)","v":0},{"$f":"IF($N$569=\"nulová\",$J$569,0)","v":0},"1",{"$f":"ROUND($I$569*$H$569,2)","v":0},"4","-758931747"]
[null,null,null,"VV",null,"ztratné 1,5%",null,null,null,null,null,null,null,null,null,null,null,null,null,null,null,null,null,null,null,null,null,null,null,null,null,null,null,null,null,null,null,null,null,null,null,null,null,null,null,"VV","3","1","-1","0","ROZPOCET"]
[null,null,null,"VV",null,"k pol.877375211",null,null,null,null,null,null,null,null,null,null,null,null,null,null,null,null,null,null,null,null,null,null,null,null,null,null,null,null,null,null,null,null,null,null,null,null,null,null,null,"VV","3","1","-1","0","ROZPOCET"]
[null,null,null,"VV",null,"8,0*1,015",null,8.1199999999999992,null,null,null,null,null,null,null,null,null,null,null,null,null,null,null,null,null,null,null,null,null,null,null,null,null,null,null,null,null,null,null,null,null,null,null,null,null,"VV","3","2","-1","1","ROZPOCET"]
[null,null,"71","M","2860020_R","šachtová vložka kanalizace plastové  DN 150 mm - dodávka, doprava ","kus",1.0149999999999999,null,{"$f":"ROUND($I$573*$H$573,2)","v":0},null,null,null,"základní",null,null,8.0000000000000004E-4,{"$f":"$Q$573*$H$573","v":8.12E-4},0,{"$f":"$S$573*$H$573","v":0},null,null,null,null,null,null,null,null,null,null,null,null,null,null,null,null,null,null,null,null,null,null,null,"8",null,"M","3",null,null,null,"ROZPOCET",null,null,null,null,null,{"$f":"IF($N$573=\"základní\",$J$573,0)","v":0},{"$f":"IF($N$573=\"snížená\",$J$573,0)","v":0},{"$f":"IF($N$573=\"zákl. přenesená\",$J$573,0)","v":0},{"$f":"IF($N$573=\"sníž. přenesená\",$J$573,0)","v":0},{"$f":"IF($N$573=\"nulová\",$J$573,0)","v":0},"1",{"$f":"ROUND($I$573*$H$573,2)","v":0},"4","1371935123"]
[null,null,null,"VV",null,"ztratné 1,5%",null,null,null,null,null,null,null,null,null,null,null,null,null,null,null,null,null,null,null,null,null,null,null,null,null,null,null,null,null,null,null,null,null,null,null,null,null,null,null,"VV","3","1","-1","0","ROZPOCET"]
[null,null,null,"VV",null,"k pol.877315211",null,null,null,null,null,null,null,null,null,null,null,null,null,null,null,null,null,null,null,null,null,null,null,null,null,null,null,null,null,null,null,null,null,null,null,null,null,null,null,"VV","3","1","-1","0","ROZPOCET"]
[null,null,null,"VV",null,"1,0*1,015",null,1.0149999999999999,null,null,null,null,null,null,null,null,null,null,null,null,null,null,null,null,null,null,null,null,null,null,null,null,null,null,null,null,null,null,null,null,null,null,null,null,null,"VV","3","2","-1","1","ROZPOCET"]
[null,null,"72","M","2860030_R","šachtová vložka kanalizace plastové  DN 100 mm - dodávka, doprava ","kus",2.0299999999999998,null,{"$f":"ROUND($I$577*$H$577,2)","v":0},null,null,null,"základní",null,null,8.0000000000000004E-4,{"$f":"$Q$577*$H$577","v":1.624E-3},0,{"$f":"$S$577*$H$577","v":0},null,null,null,null,null,null,null,null,null,null,null,null,null,null,null,null,null,null,null,null,null,null,null,"8",null,"M","3",null,null,null,"ROZPOCET",null,null,null,null,null,{"$f":"IF($N$577=\"základní\",$J$577,0)","v":0},{"$f":"IF($N$577=\"snížená\",$J$577,0)","v":0},{"$f":"IF($N$577=\"zákl. přenesená\",$J$577,0)","v":0},{"$f":"IF($N$577=\"sníž. přenesená\",$J$577,0)","v":0},{"$f":"IF($N$577=\"nulová\",$J$577,0)","v":0},"1",{"$f":"ROUND($I$577*$H$577,2)","v":0},"4","1696561398"]
[null,null,null,"VV",null,"ztratné 1,5%",null,null,null,null,null,null,null,null,null,null,null,null,null,null,null,null,null,null,null,null,null,null,null,null,null,null,null,null,null,null,null,null,null,null,null,null,null,null,null,"VV","3","1","-1","0","ROZPOCET"]
[null,null,null,"VV",null,"k pol.877265211",null,null,null,null,null,null,null,null,null,null,null,null,null,null,null,null,null,null,null,null,null,null,null,null,null,null,null,null,null,null,null,null,null,null,null,null,null,null,null,"VV","3","1","-1","0","ROZPOCET"]
[null,null,null,"VV",null,"2,0*1,015",null,2.0299999999999998,null,null,null,null,null,null,null,null,null,null,null,null,null,null,null,null,null,null,null,null,null,null,null,null,null,null,null,null,null,null,null,null,null,null,null,null,null,"VV","3","2","-1","1","ROZPOCET"]
[null,null,null,"D","99","Přesun hmot",null,null,null,{"$f":"$BK$581","v":0},null,null,null,null,null,{"$f":"SUM($P$582:$P$593)","v":0},null,{"$f":"SUM($R$582:$R$593)","v":0},null,{"$f":"SUM($T$582:$T$593)","v":0},null,null,null,null,null,null,null,null,null,null,null,null,null,null,null,null,null,null,null,null,null,null,null,"1",null,"D","2",null,null,null,"ROZPOCET",null,null,null,null,null,null,null,null,null,null,null,{"$f":"SUM($BK$582:$BK$593)","v":0}]
[null,null,"73","K","998276101","Přesun hmot pro trubní vedení z trub z plastických hmot otevřený výkop","t",107.60599999999999,null,{"$f":"ROUND($I$582*$H$582,2)","v":0},"CS ÚRS 2014 02",null,null,"základní",null,null,0,{"$f":"$Q$582*$H$582","v":0},0,{"$f":"$S$582*$H$582","v":0},null,null,null,null,null,null,null,null,null,null,null,null,null,null,null,null,null,null,null,null,null,null,null,"4",null,"K","3",null,null,null,"ROZPOCET",null,null,null,null,null,{"$f":"IF($N$582=\"základní\",$J$582,0)","v":0},{"$f":"IF($N$582=\"snížená\",$J$582,0)","v":0},{"$f":"IF($N$582=\"zákl. přenesená\",$J$582,0)","v":0},{"$f":"IF($N$582=\"sníž. přenesená\",$J$582,0)","v":0},{"$f":"IF($N$582=\"nulová\",$J$582,0)","v":0},"1",{"$f":"ROUND($I$582*$H$582,2)","v":0},"4","1603322351"]
[null,null,null,"PP",null,"Přesun hmot pro trubní vedení hloubené z trub z plastických hmot nebo sklolaminátových pro vodovody nebo kanalizace v otevřeném výkopu dopravní vzdálenost do 15 m",null,null,null,null,null,null,null,null,null,null,null,null,null,null,null,null,null,null,null,null,null,null,null,null,null,null,null,null,null,null,null,null,null,null,null,null,null,null,null,"PP","3"]
[null,null,null,"PSC",null,"Poznámka k souboru cen:\n1. Položky přesunu hmot nelze užít pro zeminu, sypaniny, štěrkopísek, kamenivo ap. Případná     manipulace s tímto materiálem se oceňuje souborem cen 162 .0-11 Vodorovné přemístění výkopku nebo     sypaniny katalogu 800-1 Zemní práce. ",null,null,null,null,null,null,null,null,null,null,null,null,null,null,null,null,null,null,null,null,null,null,null,null,null,null,null,null,null,null,null,null,null,null,null,null,null,null,null,"PSC","3"]
[null,null,null,"VV",null,"celková hmotnost pro přesun",null,null,null,null,null,null,null,null,null,null,null,null,null,null,null,null,null,null,null,null,null,null,null,null,null,null,null,null,null,null,null,null,null,null,null,null,null,null,null,"VV","3","1","-1","0","ROZPOCET"]
[null,null,null,"VV",null,"259,838",null,259.83800000000002,null,null,null,null,null,null,null,null,null,null,null,null,null,null,null,null,null,null,null,null,null,null,null,null,null,null,null,null,null,null,null,null,null,null,null,null,null,"VV","3","2","-1","0","ROZPOCET"]
[null,null,null,"VV",null,"méně hmotnost sypanin (písek)",null,null,null,null,null,null,null,null,null,null,null,null,null,null,null,null,null,null,null,null,null,null,null,null,null,null,null,null,null,null,null,null,null,null,null,null,null,null,null,"VV","3","1","-1","0","ROZPOCET"]
[null,null,null,"VV",null,"(jejich přesun je započten v pol.162201102)",null,null,null,null,null,null,null,null,null,null,null,null,null,null,null,null,null,null,null,null,null,null,null,null,null,null,null,null,null,null,null,null,null,null,null,null,null,null,null,"VV","3","1","-1","0","ROZPOCET"]
[null,null,null,"VV",null,"pol.583313450 v odd.1",null,null,null,null,null,null,null,null,null,null,null,null,null,null,null,null,null,null,null,null,null,null,null,null,null,null,null,null,null,null,null,null,null,null,null,null,null,null,null,"VV","3","1","-1","0","ROZPOCET"]
[null,null,null,"VV",null,"-90,924",null,-90.924000000000007,null,null,null,null,null,null,null,null,null,null,null,null,null,null,null,null,null,null,null,null,null,null,null,null,null,null,null,null,null,null,null,null,null,null,null,null,null,"VV","3","2","-1","0","ROZPOCET"]
[null,null,null,"VV",null,"pol.451572111+451573111 v odd.4",null,null,null,null,null,null,null,null,null,null,null,null,null,null,null,null,null,null,null,null,null,null,null,null,null,null,null,null,null,null,null,null,null,null,null,null,null,null,null,"VV","3","1","-1","0","ROZPOCET"]
[null,null,null,"VV",null,"-(58,992+2,316)",null,-61.308,null,null,null,null,null,null,null,null,null,null,null,null,null,null,null,null,null,null,null,null,null,null,null,null,null,null,null,null,null,null,null,null,null,null,null,null,null,"VV","3","2","-1","0","ROZPOCET"]
[null,null,null,"VV",null,"Součet",null,107.60599999999999,null,null,null,null,null,null,null,null,null,null,null,null,null,null,null,null,null,null,null,null,null,null,null,null,null,null,null,null,null,null,null,null,null,null,null,null,null,"VV","3","4","-1","1","ROZPOCET"]

{"sheet":"SO411 - SO 411  Veřejné o...","index":7,"n_rows":111,"n_cols":65,"rows_kept":111,"cut":false,"hidden":false,"merged":[[76,4,76,7],[78,4,78,7],[25,4,25,7],[46,4,46,7],[48,4,48,7],[50,4,50,7],[74,4,74,7],[0,6,0,7],[1,11,1,21],[6,4,6,7],[8,4,8,7],[10,4,10,7]]}
[null,null,null,"List obsahuje:",null,"1) Krycí list soupisu","2) Rekapitulace",null,null,"3) Soupis prací","Zpět na list:","Rekapitulace stavby"]
[null,null,null,null,null,null,null,null,null,null,null,null,null,null,null,null,null,null,null,null,null,null,null,null,null,null,null,null,null,null,null,null,null,null,null,null,null,null,null,null,null,null,null,null,null,"{D2AEBDF9-2F55-4F16-8AE2-41D3C550F250}"]
[null,null,null,null,null,null,null,null,null,null,null,null,null,null,null,null,null,null,null,null,null,null,null,null,null,null,null,null,null,null,null,null,null,null,null,null,null,null,null,null,null,null,null,null,null,"2"]
[null,null,null,"KRYCÍ LIST SOUPISU",null,null,null,null,null,null,null,null,"v ---  níže se nacházejí doplnkové a pomocné údaje k sestavám  --- v",null,null,null,null,null,null,null,null,null,null,null,null,null,null,null,null,null,null,null,null,null,null,null,null,null,null,null,null,null,null,null,null,"False"]
[]
[null,null,null,"Stavba:"]
[null,null,null,null,{"$f":"'Rekapitulace stavby'!$K$6","v":"Město Sokolov - Záchytné parkoviště Michal"}]
[null,null,null,"Objekt:"]
[null,null,null,null,"2.E - 2. ETAPA"]
[null,null,null,"Soupis:"]
[null,null,null,null,"SO411 - SO 411  Veřejné osvětlení"]
[]
[null,null,null,"KSO:",null,"828 79",null,null,"CC-CZ:","7941-26"]
[null,null,null,"Místo:",null,"Sokolov",null,null,"Datum:",{"$f":"'Rekapitulace stavby'!$AN$8","v":"09.09.2014"}]
[]
[null,null,null,"Zadavatel:",null,null,null,null,"IČ:"]
[null,null,null,null,"Město Sokolov",null,null,null,"DIČ:"]
[]
[null,null,null,"Uchazeč:",null,null,null,null,"IČ:",{"$f":"IF('Rekapitulace stavby'!$AN$13=\"Vyplň údaj\",\"\",IF('Rekapitulace stavby'!$AN$13=\"\",\"\",'Rekapitulace stavby'!$AN$13))","v":""}]
[null,null,null,null,{"$f":"IF('Rekapitulace stavby'!$E$14=\"Vyplň údaj\",\"\",IF('Rekapitulace stavby'!$E$14=\"\",\"\",'Rekapitulace stavby'!$E$14))","v":""},null,null,null,"DIČ:",{"$f":"IF('Rekapitulace stavby'!$AN$14=\"Vyplň údaj\",\"\",IF('Rekapitulace stavby'!$AN$14=\"\",\"\",'Rekapitulace stavby'!$AN$14))","v":""}]
[]
[null,null,null,"Projektant:",null,null,null,null,"IČ:","18224920"]
[null,null,null,null,"BPO spol. s r.o., Lidická 1239, 363 17 Ostrov",null,null,null,"DIČ:","CZ18224920"]
[]
[null,null,null,"Poznámka:"]
[]
[]
[]
[null,null,null,"Cena bez DPH",null,null,null,null,null,{"$f":"ROUND($J$87,2)","v":0}]
[]
[null,null,null,null,null,"Základ daně",null,null,"Sazba daně","Výše daně"]
[null,null,null,"DPH","základní",{"$f":"ROUND(SUM($BE$87:$BE$111),2)","v":0},null,null,0.21,{"$f":"ROUND(SUM($BE$87:$BE$111)*$I$32,2)","v":0}]
[null,null,null,null,"snížená",{"$f":"ROUND(SUM($BF$87:$BF$111),2)","v":0},null,null,0.15,{"$f":"ROUND(SUM($BF$87:$BF$111)*$I$33,2)","v":0}]
[null,null,null,null,"zákl. přenesená",{"$f":"ROUND(SUM($BG$87:$BG$111),2)","v":0},null,null,0.21,0]
[null,null,null,null,"sníž. přenesená",{"$f":"ROUND(SUM($BH$87:$BH$111),2)","v":0},null,null,0.15,0]
[null,null,null,null,"nulová",{"$f":"ROUND(SUM($BI$87:$BI$111),2)","v":0},null,null,0,0]
[]
[null,null,null,"Cena s DPH",null,null,"v","CZK",null,{"$f":"ROUND(SUM($J$29:$J$36),2)","v":0}]
[]
[]
[]
[]
[]
[null,null,"REKAPITULACE ČLENĚNÍ SOUPISU PRACÍ"]
[]
[null,null,"Stavba:"]
[null,null,null,null,{"$f":"$E$7","v":"Město Sokolov - Záchytné parkoviště Michal"}]
[null,null,"Objekt:"]
[null,null,null,null,"2.E - 2. ETAPA"]
[null,null,"Soupis:"]
[null,null,null,null,{"$f":"$E$11","v":"SO411 - SO 411  Veřejné osvětlení"}]
[]
[null,null,"Místo:",null,null,{"$f":"$F$14","v":"Sokolov"},null,null,"Datum:",{"$f":"IF($J$14=\"\",\"\",$J$14)","v":"09.09.2014"}]
[]
[null,null,"Zadavatel:",null,null,{"$f":"$E$17","v":"Město Sokolov"},null,null,"Projektant:",{"$f":"$E$23","v":"BPO spol. s r.o., Lidická 1239, 363 17 Ostrov"}]
[null,null,"Uchazeč:",null,null,{"$f":"IF($E$20=\"\",\"\",$E$20)","v":""}]
[]
[null,null,"Kód dílu - Popis",null,null,null,null,null,null,"Cena celkem [CZK]"]
[]
[null,null,"Náklady soupisu celkem",null,null,null,null,null,null,{"$f":"ROUND($J$87,2)","v":0},null,null,null,null,null,null,null,null,null,null,null,null,null,null,null,null,null,null,null,null,null,null,null,null,null,null,null,null,null,null,null,null,null,null,null,null,"-1"]
[null,null,null,"01 - Montážní celkem",null,null,null,null,null,{"$f":"ROUND($J$88,2)","v":0}]
[null,null,null,"    01_MA - Materiál montážní",null,null,null,null,null,{"$f":"ROUND($J$89,2)","v":0}]
[null,null,null,"    01_MO - Montáž",null,null,null,null,null,{"$f":"ROUND($J$104,2)","v":0}]
[null,null,null,"02 - Revize",null,null,null,null,null,{"$f":"ROUND($J$108,2)","v":0}]
[null,null,null,"03 - Technická pomoc",null,null,null,null,null,{"$f":"ROUND($J$110,2)","v":0}]
[]
[]
[]
[]
[]
[]
[null,null,"SOUPIS PRACÍ"]
[]
[null,null,"Stavba:"]
[null,null,null,null,{"$f":"$E$7","v":"Město Sokolov - Záchytné parkoviště Michal"}]
[null,null,"Objekt:"]
[null,null,null,null,"2.E - 2. ETAPA"]
[null,null,"Soupis:"]
[null,null,null,null,{"$f":"$E$11","v":"SO411 - SO 411  Veřejné osvětlení"}]
[]
[null,null,"Místo:",null,null,{"$f":"$F$14","v":"Sokolov"},null,null,"Datum:",{"$f":"IF($J$14=\"\",\"\",$J$14)","v":"09.09.2014"}]
[]
[null,null,"Zadavatel:",null,null,{"$f":"$E$17","v":"Město Sokolov"},null,null,"Projektant:",{"$f":"$E$23","v":"BPO spol. s r.o., Lidická 1239, 363 17 Ostrov"}]
[null,null,"Uchazeč:",null,null,{"$f":"IF($E$20=\"\",\"\",$E$20)","v":""}]
[]
[null,null,"PČ","Typ","Kód","Popis","MJ","Množství","J.cena [CZK]","Cena celkem\n[CZK]","Cenová soustava",null,"Poznámka","DPH","J. Nh [h]","Nh celkem [h]","J. hmotnost\n[t]","Hmotnost\ncelkem [t]","J. suť [t]","Suť Celkem [t]"]
[null,null,"Náklady soupisu celkem",null,null,null,null,null,null,{"$f":"$BK$87","v":0},null,null,null,null,null,{"$f":"$P$88+$P$108+$P$110","v":0},null,{"$f":"$R$88+$R$108+$R$110","v":0},null,{"$f":"$T$88+$T$108+$T$110","v":0},null,null,null,null,null,null,null,null,null,null,null,null,null,null,null,null,null,null,null,null,null,null,null,null,null,"D","-1",null,null,null,null,null,null,null,null,null,null,null,null,null,null,null,{"$f":"$BK$88+$BK$108+$BK$110","v":0}]
[null,null,null,"D","01","Montážní celkem",null,null,null,{"$f":"$BK$88","v":0},null,null,null,null,null,{"$f":"$P$89+$P$104","v":0},null,{"$f":"$R$89+$R$104","v":0},null,{"$f":"$T$89+$T$104","v":0},null,null,null,null,null,null,null,null,null,null,null,null,null,null,null,null,null,null,null,null,null,null,null,"3",null,"D","0",null,null,null,"ROZPOCET",null,null,null,null,null,null,null,null,null,null,null,{"$f":"$BK$89+$BK$104","v":0}]
[null,null,null,"D","01_MA","Materiál montážní",null,null,null,{"$f":"$BK$89","v":0},null,null,null,null,null,{"$f":"SUM($P$90:$P$103)","v":0},null,{"$f":"SUM($R$90:$R$103)","v":0},null,{"$f":"SUM($T$90:$T$103)","v":0},null,null,null,null,null,null,null,null,null,null,null,null,null,null,null,null,null,null,null,null,null,null,null,"1",null,"D","1",null,null,null,"ROZPOCET",null,null,null,null,null,null,null,null,null,null,null,{"$f":"SUM($BK$90:$BK$103)","v":0}]
[null,null,"1","K","2100","Stožár VO uliční bezpaticový, pozink., výška 9,0 m","kus",9,null,{"$f":"ROUND($I$90*$H$90,2)","v":0},null,null,null,"základní",null,null,0,{"$f":"$Q$90*$H$90","v":0},0,{"$f":"$S$90*$H$90","v":0},null,null,null,null,null,null,null,null,null,null,null,null,null,null,null,null,null,null,null,null,null,null,null,"64",null,"K","2",null,null,null,"ROZPOCET",null,null,null,null,null,{"$f":"IF($N$90=\"základní\",$J$90,0)","v":0},{"$f":"IF($N$90=\"snížená\",$J$90,0)","v":0},{"$f":"IF($N$90=\"zákl. přenesená\",$J$90,0)","v":0},{"$f":"IF($N$90=\"sníž. přenesená\",$J$90,0)","v":0},{"$f":"IF($N$90=\"nulová\",$J$90,0)","v":0},"1",{"$f":"ROUND($I$90*$H$90,2)","v":0},"64","648612138"]
[null,null,"2","K","2110","Svítidlo na Vo 70 VV","kus",12,null,{"$f":"ROUND($I$91*$H$91,2)","v":0},null,null,null,"základní",null,null,0,{"$f":"$Q$91*$H$91","v":0},0,{"$f":"$S$91*$H$91","v":0},null,null,null,null,null,null,null,null,null,null,null,null,null,null,null,null,null,null,null,null,null,null,null,"64",null,"K","2",null,null,null,"ROZPOCET",null,null,null,null,null,{"$f":"IF($N$91=\"základní\",$J$91,0)","v":0},{"$f":"IF($N$91=\"snížená\",$J$91,0)","v":0},{"$f":"IF($N$91=\"zákl. přenesená\",$J$91,0)","v":0},{"$f":"IF($N$91=\"sníž. přenesená\",$J$91,0)","v":0},{"$f":"IF($N$91=\"nulová\",$J$91,0)","v":0},"1",{"$f":"ROUND($I$91*$H$91,2)","v":0},"64","-1618552549"]
[null,null,"3","K","2120","Základ pod stožáry","kus",9,null,{"$f":"ROUND($I$92*$H$92,2)","v":0},null,null,null,"základní",null,null,0,{"$f":"$Q$92*$H$92","v":0},0,{"$f":"$S$92*$H$92","v":0},null,null,null,null,null,null,null,null,null,null,null,null,null,null,null,null,null,null,null,null,null,null,null,"64",null,"K","2",null,null,null,"ROZPOCET",null,null,null,null,null,{"$f":"IF($N$92=\"základní\",$J$92,0)","v":0},{"$f":"IF($N$92=\"snížená\",$J$92,0)","v":0},{"$f":"IF($N$92=\"zákl. přenesená\",$J$92,0)","v":0},{"$f":"IF($N$92=\"sníž. přenesená\",$J$92,0)","v":0},{"$f":"IF($N$92=\"nulová\",$J$92,0)","v":0},"1",{"$f":"ROUND($I$92*$H$92,2)","v":0},"64","-1520671247"]
[null,null,"4","K","2130","Výzbroj do stožáru","kus",9,null,{"$f":"ROUND($I$93*$H$93,2)","v":0},null,null,null,"základní",null,null,0,{"$f":"$Q$93*$H$93","v":0},0,{"$f":"$S$93*$H$93","v":0},null,null,null,null,null,null,null,null,null,null,null,null,null,null,null,null,null,null,null,null,null,null,null,"64",null,"K","2",null,null,null,"ROZPOCET",null,null,null,null,null,{"$f":"IF($N$93=\"základní\",$J$93,0)","v":0},{"$f":"IF($N$93=\"snížená\",$J$93,0)","v":0},{"$f":"IF($N$93=\"zákl. přenesená\",$J$93,0)","v":0},{"$f":"IF($N$93=\"sníž. přenesená\",$J$93,0)","v":0},{"$f":"IF($N$93=\"nulová\",$J$93,0)","v":0},"1",{"$f":"ROUND($I$93*$H$93,2)","v":0},"64","-1604993205"]
[null,null,"5","K","2140","Výložník jednoramenný","kus",6,null,{"$f":"ROUND($I$94*$H$94,2)","v":0},null,null,null,"základní",null,null,0,{"$f":"$Q$94*$H$94","v":0},0,{"$f":"$S$94*$H$94","v":0},null,null,null,null,null,null,null,null,null,null,null,null,null,null,null,null,null,null,null,null,null,null,null,"64",null,"K","2",null,null,null,"ROZPOCET",null,null,null,null,null,{"$f":"IF($N$94=\"základní\",$J$94,0)","v":0},{"$f":"IF($N$94=\"snížená\",$J$94,0)","v":0},{"$f":"IF($N$94=\"zákl. přenesená\",$J$94,0)","v":0},{"$f":"IF($N$94=\"sníž. přenesená\",$J$94,0)","v":0},{"$f":"IF($N$94=\"nulová\",$J$94,0)","v":0},"1",{"$f":"ROUND($I$94*$H$94,2)","v":0},"64","1178555606"]
[null,null,"6","K","2150","Výložník dvouramenný","kus",3,null,{"$f":"ROUND($I$95*$H$95,2)","v":0},null,null,null,"základní",null,null,0,{"$f":"$Q$95*$H$95","v":0},0,{"$f":"$S$95*$H$95","v":0},null,null,null,null,null,null,null,null,null,null,null,null,null,null,null,null,null,null,null,null,null,null,null,"64",null,"K","2",null,null,null,"ROZPOCET",null,null,null,null,null,{"$f":"IF($N$95=\"základní\",$J$95,0)","v":0},{"$f":"IF($N$95=\"snížená\",$J$95,0)","v":0},{"$f":"IF($N$95=\"zákl. přenesená\",$J$95,0)","v":0},{"$f":"IF($N$95=\"sníž. přenesená\",$J$95,0)","v":0},{"$f":"IF($N$95=\"nulová\",$J$95,0)","v":0},"1",{"$f":"ROUND($I$95*$H$95,2)","v":0},"64","-1260418032"]
[null,null,"7","K","2160","Trubka HDPE","m",295,null,{"$f":"ROUND($I$96*$H$96,2)","v":0},null,null,null,"základní",null,null,0,{"$f":"$Q$96*$H$96","v":0},0,{"$f":"$S$96*$H$96","v":0},null,null,null,null,null,null,null,null,null,null,null,null,null,null,null,null,null,null,null,null,null,null,null,"64",null,"K","2",null,null,null,"ROZPOCET",null,null,null,null,null,{"$f":"IF($N$96=\"základní\",$J$96,0)","v":0},{"$f":"IF($N$96=\"snížená\",$J$96,0)","v":0},{"$f":"IF($N$96=\"zákl. přenesená\",$J$96,0)","v":0},{"$f":"IF($N$96=\"sníž. přenesená\",$J$96,0)","v":0},{"$f":"IF($N$96=\"nulová\",$J$96,0)","v":0},"1",{"$f":"ROUND($I$96*$H$96,2)","v":0},"64","1087827573"]
[null,null,null,"PP",null,"Trubka HDPE",null,null,null,null,null,null,null,null,null,null,null,null,null,null,null,null,null,null,null,null,null,null,null,null,null,null,null,null,null,null,null,null,null,null,null,null,null,null,null,"PP","2"]
[null,null,"8","K","2170","Kabel pro VO CYKY 3x1,5","m",144,null,{"$f":"ROUND($I$98*$H$98,2)","v":0},null,null,null,"základní",null,null,0,{"$f":"$Q$98*$H$98","v":0},0,{"$f":"$S$98*$H$98","v":0},null,null,null,null,null,null,null,null,null,null,null,null,null,null,null,null,null,null,null,null,null,null,null,"64",null,"K","2",null,null,null,"ROZPOCET",null,null,null,null,null,{"$f":"IF($N$98=\"základní\",$J$98,0)","v":0},{"$f":"IF($N$98=\"snížená\",$J$98,0)","v":0},{"$f":"IF($N$98=\"zákl. přenesená\",$J$98,0)","v":0},{"$f":"IF($N$98=\"sníž. přenesená\",$J$98,0)","v":0},{"$f":"IF($N$98=\"nulová\",$J$98,0)","v":0},"1",{"$f":"ROUND($I$98*$H$98,2)","v":0},"64","1241328298"]
[null,null,"9","K","2180","Kabel pro VO CYKY 4Bx10","m",320,null,{"$f":"ROUND($I$99*$H$99,2)","v":0},null,null,null,"základní",null,null,0,{"$f":"$Q$99*$H$99","v":0},0,{"$f":"$S$99*$H$99","v":0},null,null,null,null,null,null,null,null,null,null,null,null,null,null,null,null,null,null,null,null,null,null,null,"64",null,"K","2",null,null,null,"ROZPOCET",null,null,null,null,null,{"$f":"IF($N$99=\"základní\",$J$99,0)","v":0},{"$f":"IF($N$99=\"snížená\",$J$99,0)","v":0},{"$f":"IF($N$99=\"zákl. přenesená\",$J$99,0)","v":0},{"$f":"IF($N$99=\"sníž. přenesená\",$J$99,0)","v":0},{"$f":"IF($N$99=\"nulová\",$J$99,0)","v":0},"1",{"$f":"ROUND($I$99*$H$99,2)","v":0},"64","-1912100377"]
[null,null,"10","K","2190","FeZn","m",295,null,{"$f":"ROUND($I$100*$H$100,2)","v":0},null,null,null,"základní",null,null,0,{"$f":"$Q$100*$H$100","v":0},0,{"$f":"$S$100*$H$100","v":0},null,null,null,null,null,null,null,null,null,null,null,null,null,null,null,null,null,null,null,null,null,null,null,"64",null,"K","2",null,null,null,"ROZPOCET",null,null,null,null,null,{"$f":"IF($N$100=\"základní\",$J$100,0)","v":0},{"$f":"IF($N$100=\"snížená\",$J$100,0)","v":0},{"$f":"IF($N$100=\"zákl. přenesená\",$J$100,0)","v":0},{"$f":"IF($N$100=\"sníž. přenesená\",$J$100,0)","v":0},{"$f":"IF($N$100=\"nulová\",$J$100,0)","v":0},"1",{"$f":"ROUND($I$100*$H$100,2)","v":0},"64","-221676228"]
[null,null,null,"PP",null,"FeZn",null,null,null,null,null,null,null,null,null,null,null,null,null,null,null,null,null,null,null,null,null,null,null,null,null,null,null,null,null,null,null,null,null,null,null,null,null,null,null,"PP","2"]
[null,null,"11","K","2200","Zemní práce pro VO","m",255,null,{"$f":"ROUND($I$102*$H$102,2)","v":0},null,null,null,"základní",null,null,0,{"$f":"$Q$102*$H$102","v":0},0,{"$f":"$S$102*$H$102","v":0},null,null,null,null,null,null,null,null,null,null,null,null,null,null,null,null,null,null,null,null,null,null,null,"64",null,"K","2",null,null,null,"ROZPOCET",null,null,null,null,null,{"$f":"IF($N$102=\"základní\",$J$102,0)","v":0},{"$f":"IF($N$102=\"snížená\",$J$102,0)","v":0},{"$f":"IF($N$102=\"zákl. přenesená\",$J$102,0)","v":0},{"$f":"IF($N$102=\"sníž. přenesená\",$J$102,0)","v":0},{"$f":"IF($N$102=\"nulová\",$J$102,0)","v":0},"1",{"$f":"ROUND($I$102*$H$102,2)","v":0},"64","1883930825"]
[null,null,"12","K","2210","Překopy přes komunikaci","m",40,null,{"$f":"ROUND($I$103*$H$103,2)","v":0},null,null,null,"základní",null,null,0,{"$f":"$Q$103*$H$103","v":0},0,{"$f":"$S$103*$H$103","v":0},null,null,null,null,null,null,null,null,null,null,null,null,null,null,null,null,null,null,null,null,null,null,null,"64",null,"K","2",null,null,null,"ROZPOCET",null,null,null,null,null,{"$f":"IF($N$103=\"základní\",$J$103,0)","v":0},{"$f":"IF($N$103=\"snížená\",$J$103,0)","v":0},{"$f":"IF($N$103=\"zákl. přenesená\",$J$103,0)","v":0},{"$f":"IF($N$103=\"sníž. přenesená\",$J$103,0)","v":0},{"$f":"IF($N$103=\"nulová\",$J$103,0)","v":0},"1",{"$f":"ROUND($I$103*$H$103,2)","v":0},"64","-1029498355"]
[null,null,null,"D","01_MO","Montáž",null,null,null,{"$f":"$BK$104","v":0},null,null,null,null,null,{"$f":"SUM($P$105:$P$107)","v":0},null,{"$f":"SUM($R$105:$R$107)","v":0},null,{"$f":"SUM($T$105:$T$107)","v":0},null,null,null,null,null,null,null,null,null,null,null,null,null,null,null,null,null,null,null,null,null,null,null,"1",null,"D","1",null,null,null,"ROZPOCET",null,null,null,null,null,null,null,null,null,null,null,{"$f":"SUM($BK$105:$BK$107)","v":0}]
[null,null,"13","K","2300","Doprava","%",null,null,{"$f":"ROUND($I$105*$H$105,2)","v":0},null,null,null,"základní",null,null,0,{"$f":"$Q$105*$H$105","v":0},0,{"$f":"$S$105*$H$105","v":0},null,null,null,null,null,null,null,null,null,null,null,null,null,null,null,null,null,null,null,null,null,null,null,"64",null,"K","2",null,null,null,"ROZPOCET",null,null,null,null,null,{"$f":"IF($N$105=\"základní\",$J$105,0)","v":0},{"$f":"IF($N$105=\"snížená\",$J$105,0)","v":0},{"$f":"IF($N$105=\"zákl. přenesená\",$J$105,0)","v":0},{"$f":"IF($N$105=\"sníž. přenesená\",$J$105,0)","v":0},{"$f":"IF($N$105=\"nulová\",$J$105,0)","v":0},"1",{"$f":"ROUND($I$105*$H$105,2)","v":0},"64","2042332943"]
[null,null,"14","K","2310","Montáž","%",null,null,{"$f":"ROUND($I$106*$H$106,2)","v":0},null,null,null,"základní",null,null,0,{"$f":"$Q$106*$H$106","v":0},0,{"$f":"$S$106*$H$106","v":0},null,null,null,null,null,null,null,null,null,null,null,null,null,null,null,null,null,null,null,null,null,null,null,"64",null,"K","2",null,null,null,"ROZPOCET",null,null,null,null,null,{"$f":"IF($N$106=\"základní\",$J$106,0)","v":0},{"$f":"IF($N$106=\"snížená\",$J$106,0)","v":0},{"$f":"IF($N$106=\"zákl. přenesená\",$J$106,0)","v":0},{"$f":"IF($N$106=\"sníž. přenesená\",$J$106,0)","v":0},{"$f":"IF($N$106=\"nulová\",$J$106,0)","v":0},"1",{"$f":"ROUND($I$106*$H$106,2)","v":0},"64","-114554705"]
[null,null,"15","K","2320","Demontáže","Kč",1,null,{"$f":"ROUND($I$107*$H$107,2)","v":0},null,null,null,"základní",null,null,0,{"$f":"$Q$107*$H$107","v":0},0,{"$f":"$S$107*$H$107","v":0},null,null,null,null,null,null,null,null,null,null,null,null,null,null,null,null,null,null,null,null,null,null,null,"64",null,"K","2",null,null,null,"ROZPOCET",null,null,null,null,null,{"$f":"IF($N$107=\"základní\",$J$107,0)","v":0},{"$f":"IF($N$107=\"snížená\",$J$107,0)","v":0},{"$f":"IF($N$107=\"zákl. přenesená\",$J$107,0)","v":0},{"$f":"IF($N$107=\"sníž. přenesená\",$J$107,0)","v":0},{"$f":"IF($N$107=\"nulová\",$J$107,0)","v":0},"1",{"$f":"ROUND($I$107*$H$107,2)","v":0},"64","154687818"]
[null,null,null,"D","02","Revize",null,null,null,{"$f":"$BK$108","v":0},null,null,null,null,null,{"$f":"$P$109","v":0},null,{"$f":"$R$109","v":0},null,{"$f":"$T$109","v":0},null,null,null,null,null,null,null,null,null,null,null,null,null,null,null,null,null,null,null,null,null,null,null,"1",null,"D","0",null,null,null,"ROZPOCET",null,null,null,null,null,null,null,null,null,null,null,{"$f":"$BK$109","v":0}]
[null,null,"16","K","2400","Revize","%",null,null,{"$f":"ROUND($I$109*$H$109,2)","v":0},null,null,null,"základní",null,null,0,{"$f":"$Q$109*$H$109","v":0},0,{"$f":"$S$109*$H$109","v":0},null,null,null,null,null,null,null,null,null,null,null,null,null,null,null,null,null,null,null,null,null,null,null,"4",null,"K","1",null,null,null,"ROZPOCET",null,null,null,null,null,{"$f":"IF($N$109=\"základní\",$J$109,0)","v":0},{"$f":"IF($N$109=\"snížená\",$J$109,0)","v":0},{"$f":"IF($N$109=\"zákl. přenesená\",$J$109,0)","v":0},{"$f":"IF($N$109=\"sníž. přenesená\",$J$109,0)","v":0},{"$f":"IF($N$109=\"nulová\",$J$109,0)","v":0},"1",{"$f":"ROUND($I$109*$H$109,2)","v":0},"4","376422245"]
[null,null,null,"D","03","Technická pomoc",null,null,null,{"$f":"$BK$110","v":0},null,null,null,null,null,{"$f":"$P$111","v":0},null,{"$f":"$R$111","v":0},null,{"$f":"$T$111","v":0},null,null,null,null,null,null,null,null,null,null,null,null,null,null,null,null,null,null,null,null,null,null,null,"1",null,"D","0",null,null,null,"ROZPOCET",null,null,null,null,null,null,null,null,null,null,null,{"$f":"$BK$111","v":0}]
[null,null,"17","K","2500","Technická pomoc","%",null,null,{"$f":"ROUND($I$111*$H$111,2)","v":0},null,null,null,"základní",null,null,0,{"$f":"$Q$111*$H$111","v":0},0,{"$f":"$S$111*$H$111","v":0},null,null,null,null,null,null,null,null,null,null,null,null,null,null,null,null,null,null,null,null,null,null,null,"4",null,"K","1",null,null,null,"ROZPOCET",null,null,null,null,null,{"$f":"IF($N$111=\"základní\",$J$111,0)","v":0},{"$f":"IF($N$111=\"snížená\",$J$111,0)","v":0},{"$f":"IF($N$111=\"zákl. přenesená\",$J$111,0)","v":0},{"$f":"IF($N$111=\"sníž. přenesená\",$J$111,0)","v":0},{"$f":"IF($N$111=\"nulová\",$J$111,0)","v":0},"1",{"$f":"ROUND($I$111*$H$111,2)","v":0},"4","-2090938965"]

{"sheet":"SO412 - SO 412  Kamerový ...","index":8,"n_rows":120,"n_cols":65,"rows_kept":120,"cut":false,"hidden":false,"merged":[[78,4,78,7],[80,4,80,7],[25,4,25,7],[46,4,46,7],[48,4,48,7],[50,4,50,7],[76,4,76,7],[0,6,0,7],[1,11,1,21],[6,4,6,7],[8,4,8,7],[10,4,10,7]]}
[null,null,null,"List obsahuje:",null,"1) Krycí list soupisu","2) Rekapitulace",null,null,"3) Soupis prací","Zpět na list:","Rekapitulace stavby"]
[null,null,null,null,null,null,null,null,null,null,null,null,null,null,null,null,null,null,null,null,null,null,null,null,null,null,null,null,null,null,null,null,null,null,null,null,null,null,null,null,null,null,null,null,null,"{5D7137B4-0918-4BA2-AA7F-99E993F990A9}"]
[null,null,null,null,null,null,null,null,null,null,null,null,null,null,null,null,null,null,null,null,null,null,null,null,null,null,null,null,null,null,null,null,null,null,null,null,null,null,null,null,null,null,null,null,null,"2"]
[null,null,null,"KRYCÍ LIST SOUPISU",null,null,null,null,null,null,null,null,"v ---  níže se nacházejí doplnkové a pomocné údaje k sestavám  --- v",null,null,null,null,null,null,null,null,null,null,null,null,null,null,null,null,null,null,null,null,null,null,null,null,null,null,null,null,null,null,null,null,"False"]
[]
[null,null,null,"Stavba:"]
[null,null,null,null,{"$f":"'Rekapitulace stavby'!$K$6","v":"Město Sokolov - Záchytné parkoviště Michal"}]
[null,null,null,"Objekt:"]
[null,null,null,null,"2.E - 2. ETAPA"]
[null,null,null,"Soupis:"]
[null,null,null,null,"SO412 - SO 412  Kamerový systém"]
[]
[null,null,null,"KSO:",null,"828 79",null,null,"CC-CZ:","7941-26"]
[null,null,null,"Místo:",null,"Sokolov",null,null,"Datum:",{"$f":"'Rekapitulace stavby'!$AN$8","v":"09.09.2014"}]
[]
[null,null,null,"Zadavatel:",null,null,null,null,"IČ:"]
[null,null,null,null,"Město Sokolov",null,null,null,"DIČ:"]
[]
[null,null,null,"Uchazeč:",null,null,null,null,"IČ:",{"$f":"IF('Rekapitulace stavby'!$AN$13=\"Vyplň údaj\",\"\",IF('Rekapitulace stavby'!$AN$13=\"\",\"\",'Rekapitulace stavby'!$AN$13))","v":""}]
[null,null,null,null,{"$f":"IF('Rekapitulace stavby'!$E$14=\"Vyplň údaj\",\"\",IF('Rekapitulace stavby'!$E$14=\"\",\"\",'Rekapitulace stavby'!$E$14))","v":""},null,null,null,"DIČ:",{"$f":"IF('Rekapitulace stavby'!$AN$14=\"Vyplň údaj\",\"\",IF('Rekapitulace stavby'!$AN$14=\"\",\"\",'Rekapitulace stavby'!$AN$14))","v":""}]
[]
[null,null,null,"Projektant:",null,null,null,null,"IČ:","18224920"]
[null,null,null,null,"BPO spol. s r.o., Lidická 1239, 363 17 Ostrov",null,null,null,"DIČ:","CZ18224920"]
[]
[null,null,null,"Poznámka:"]
[]
[]
[]
[null,null,null,"Cena bez DPH",null,null,null,null,null,{"$f":"ROUND($J$89,2)","v":0}]
[]
[null,null,null,null,null,"Základ daně",null,null,"Sazba daně","Výše daně"]
[null,null,null,"DPH","základní",{"$f":"ROUND(SUM($BE$89:$BE$120),2)","v":0},null,null,0.21,{"$f":"ROUND(SUM($BE$89:$BE$120)*$I$32,2)","v":0}]
[null,null,null,null,"snížená",{"$f":"ROUND(SUM($BF$89:$BF$120),2)","v":0},null,null,0.15,{"$f":"ROUND(SUM($BF$89:$BF$120)*$I$33,2)","v":0}]
[null,null,null,null,"zákl. přenesená",{"$f":"ROUND(SUM($BG$89:$BG$120),2)","v":0},null,null,0.21,0]
[null,null,null,null,"sníž. přenesená",{"$f":"ROUND(SUM($BH$89:$BH$120),2)","v":0},null,null,0.15,0]
[null,null,null,null,"nulová",{"$f":"ROUND(SUM($BI$89:$BI$120),2)","v":0},null,null,0,0]
[]
[null,null,null,"Cena s DPH",null,null,"v","CZK",null,{"$f":"ROUND(SUM($J$29:$J$36),2)","v":0}]
[]
[]
[]
[]
[]
[null,null,"REKAPITULACE ČLENĚNÍ SOUPISU PRACÍ"]
[]
[null,null,"Stavba:"]
[null,null,null,null,{"$f":"$E$7","v":"Město Sokolov - Záchytné parkoviště Michal"}]
[null,null,"Objekt:"]
[null,null,null,null,"2.E - 2. ETAPA"]
[null,null,"Soupis:"]
[null,null,null,null,{"$f":"$E$11","v":"SO412 - SO 412  Kamerový systém"}]
[]
[null,null,"Místo:",null,null,{"$f":"$F$14","v":"Sokolov"},null,null,"Datum:",{"$f":"IF($J$14=\"\",\"\",$J$14)","v":"09.09.2014"}]
[]
[null,null,"Zadavatel:",null,null,{"$f":"$E$17","v":"Město Sokolov"},null,null,"Projektant:",{"$f":"$E$23","v":"BPO spol. s r.o., Lidická 1239, 363 17 Ostrov"}]
[null,null,"Uchazeč:",null,null,{"$f":"IF($E$20=\"\",\"\",$E$20)","v":""}]
[]
[null,null,"Kód dílu - Popis",null,null,null,null,null,null,"Cena celkem [CZK]"]
[]
[null,null,"Náklady soupisu celkem",null,null,null,null,null,null,{"$f":"ROUND($J$89,2)","v":0},null,null,null,null,null,null,null,null,null,null,null,null,null,null,null,null,null,null,null,null,null,null,null,null,null,null,null,null,null,null,null,null,null,null,null,null,"-1"]
[null,null,null,"01 - Montážní celkem",null,null,null,null,null,{"$f":"ROUND($J$90,2)","v":0}]
[null,null,null,"    01_MA - Materiál montážní",null,null,null,null,null,{"$f":"ROUND($J$91,2)","v":0}]
[null,null,null,"    01_DO - Dodávky",null,null,null,null,null,{"$f":"ROUND($J$100,2)","v":0}]
[null,null,null,"    01_MO - Montáž",null,null,null,null,null,{"$f":"ROUND($J$112,2)","v":0}]
[null,null,null,"    01_KS - Přenos kamerového signálu",null,null,null,null,null,{"$f":"ROUND($J$115,2)","v":0}]
[null,null,null,"02 - Revize",null,null,null,null,null,{"$f":"ROUND($J$117,2)","v":0}]
[null,null,null,"03 - Programování",null,null,null,null,null,{"$f":"ROUND($J$119,2)","v":0}]
[]
[]
[]
[]
[]
[]
[null,null,"SOUPIS PRACÍ"]
[]
[null,null,"Stavba:"]
[null,null,null,null,{"$f":"$E$7","v":"Město Sokolov - Záchytné parkoviště Michal"}]
[null,null,"Objekt:"]
[null,null,null,null,"2.E - 2. ETAPA"]
[null,null,"Soupis:"]
[null,null,null,null,{"$f":"$E$11","v":"SO412 - SO 412  Kamerový systém"}]
[]
[null,null,"Místo:",null,null,{"$f":"$F$14","v":"Sokolov"},null,null,"Datum:",{"$f":"IF($J$14=\"\",\"\",$J$14)","v":"09.09.2014"}]
[]
[null,null,"Zadavatel:",null,null,{"$f":"$E$17","v":"Město Sokolov"},null,null,"Projektant:",{"$f":"$E$23","v":"BPO spol. s r.o., Lidická 1239, 363 17 Ostrov"}]
[null,null,"Uchazeč:",null,null,{"$f":"IF($E$20=\"\",\"\",$E$20)","v":""}]
[]
[null,null,"PČ","Typ","Kód","Popis","MJ","Množství","J.cena [CZK]","Cena celkem\n[CZK]","Cenová soustava",null,"Poznámka","DPH","J. Nh [h]","Nh celkem [h]","J. hmotnost\n[t]","Hmotnost\ncelkem [t]","J. suť [t]","Suť Celkem [t]"]
[null,null,"Náklady soupisu celkem",null,null,null,null,null,null,{"$f":"$BK$89","v":0},null,null,null,null,null,{"$f":"$P$90+$P$117+$P$119","v":0},null,{"$f":"$R$90+$R$117+$R$119","v":0},null,{"$f":"$T$90+$T$117+$T$119","v":0},null,null,null,null,null,null,null,null,null,null,null,null,null,null,null,null,null,null,null,null,null,null,null,null,null,"D","-1",null,null,null,null,null,null,null,null,null,null,null,null,null,null,null,{"$f":"$BK$90+$BK$117+$BK$119","v":0}]
[null,null,null,"D","01","Montážní celkem",null,null,null,{"$f":"$BK$90","v":0},null,null,null,null,null,{"$f":"$P$91+$P$100+$P$112+$P$115","v":0},null,{"$f":"$R$91+$R$100+$R$112+$R$115","v":0},null,{"$f":"$T$91+$T$100+$T$112+$T$115","v":0},null,null,null,null,null,null,null,null,null,null,null,null,null,null,null,null,null,null,null,null,null,null,null,"3",null,"D","0",null,null,null,"ROZPOCET",null,null,null,null,null,null,null,null,null,null,null,{"$f":"$BK$91+$BK$100+$BK$112+$BK$115","v":0}]
[null,null,null,"D","01_MA","Materiál montážní",null,null,null,{"$f":"$BK$91","v":0},null,null,null,null,null,{"$f":"SUM($P$92:$P$99)","v":0},null,{"$f":"SUM($R$92:$R$99)","v":0},null,{"$f":"SUM($T$92:$T$99)","v":0},null,null,null,null,null,null,null,null,null,null,null,null,null,null,null,null,null,null,null,null,null,null,null,"1",null,"D","1",null,null,null,"ROZPOCET",null,null,null,null,null,null,null,null,null,null,null,{"$f":"SUM($BK$92:$BK$99)","v":0}]
[null,null,"1","K","1001","Kabel CYKY 3Cx2,5","m",1100,null,{"$f":"ROUND($I$92*$H$92,2)","v":0},null,null,null,"základní",null,null,0,{"$f":"$Q$92*$H$92","v":0},0,{"$f":"$S$92*$H$92","v":0},null,null,null,null,null,null,null,null,null,null,null,null,null,null,null,null,null,null,null,null,null,null,null,"64",null,"K","2",null,null,null,"ROZPOCET",null,null,null,null,null,{"$f":"IF($N$92=\"základní\",$J$92,0)","v":0},{"$f":"IF($N$92=\"snížená\",$J$92,0)","v":0},{"$f":"IF($N$92=\"zákl. přenesená\",$J$92,0)","v":0},{"$f":"IF($N$92=\"sníž. přenesená\",$J$92,0)","v":0},{"$f":"IF($N$92=\"nulová\",$J$92,0)","v":0},"1",{"$f":"ROUND($I$92*$H$92,2)","v":0},"64","403269480"]
[null,null,"2","K","1002","Optický kabel","m",1100,null,{"$f":"ROUND($I$93*$H$93,2)","v":0},null,null,null,"základní",null,null,0,{"$f":"$Q$93*$H$93","v":0},0,{"$f":"$S$93*$H$93","v":0},null,null,null,null,null,null,null,null,null,null,null,null,null,null,null,null,null,null,null,null,null,null,null,"64",null,"K","2",null,null,null,"ROZPOCET",null,null,null,null,null,{"$f":"IF($N$93=\"základní\",$J$93,0)","v":0},{"$f":"IF($N$93=\"snížená\",$J$93,0)","v":0},{"$f":"IF($N$93=\"zákl. přenesená\",$J$93,0)","v":0},{"$f":"IF($N$93=\"sníž. přenesená\",$J$93,0)","v":0},{"$f":"IF($N$93=\"nulová\",$J$93,0)","v":0},"1",{"$f":"ROUND($I$93*$H$93,2)","v":0},"64","438855765"]
[null,null,"3","K","1003","Trubička optického kabelu","m",1100,null,{"$f":"ROUND($I$94*$H$94,2)","v":0},null,null,null,"základní",null,null,0,{"$f":"$Q$94*$H$94","v":0},0,{"$f":"$S$94*$H$94","v":0},null,null,null,null,null,null,null,null,null,null,null,null,null,null,null,null,null,null,null,null,null,null,null,"64",null,"K","2",null,null,null,"ROZPOCET",null,null,null,null,null,{"$f":"IF($N$94=\"základní\",$J$94,0)","v":0},{"$f":"IF($N$94=\"snížená\",$J$94,0)","v":0},{"$f":"IF($N$94=\"zákl. přenesená\",$J$94,0)","v":0},{"$f":"IF($N$94=\"sníž. přenesená\",$J$94,0)","v":0},{"$f":"IF($N$94=\"nulová\",$J$94,0)","v":0},"1",{"$f":"ROUND($I$94*$H$94,2)","v":0},"64","1272658268"]
[null,null,"4","K","1004","Chránička optického kabelu HDPE 40 mm","m",295,null,{"$f":"ROUND($I$95*$H$95,2)","v":0},null,null,null,"základní",null,null,0,{"$f":"$Q$95*$H$95","v":0},0,{"$f":"$S$95*$H$95","v":0},null,null,null,null,null,null,null,null,null,null,null,null,null,null,null,null,null,null,null,null,null,null,null,"64",null,"K","2",null,null,null,"ROZPOCET",null,null,null,null,null,{"$f":"IF($N$95=\"základní\",$J$95,0)","v":0},{"$f":"IF($N$95=\"snížená\",$J$95,0)","v":0},{"$f":"IF($N$95=\"zákl. přenesená\",$J$95,0)","v":0},{"$f":"IF($N$95=\"sníž. přenesená\",$J$95,0)","v":0},{"$f":"IF($N$95=\"nulová\",$J$95,0)","v":0},"1",{"$f":"ROUND($I$95*$H$95,2)","v":0},"64","1856094991"]
[null,null,"5","K","1005","Spojka na trubičky","kus",10,null,{"$f":"ROUND($I$96*$H$96,2)","v":0},null,null,null,"základní",null,null,0,{"$f":"$Q$96*$H$96","v":0},0,{"$f":"$S$96*$H$96","v":0},null,null,null,null,null,null,null,null,null,null,null,null,null,null,null,null,null,null,null,null,null,null,null,"64",null,"K","2",null,null,null,"ROZPOCET",null,null,null,null,null,{"$f":"IF($N$96=\"základní\",$J$96,0)","v":0},{"$f":"IF($N$96=\"snížená\",$J$96,0)","v":0},{"$f":"IF($N$96=\"zákl. přenesená\",$J$96,0)","v":0},{"$f":"IF($N$96=\"sníž. přenesená\",$J$96,0)","v":0},{"$f":"IF($N$96=\"nulová\",$J$96,0)","v":0},"1",{"$f":"ROUND($I$96*$H$96,2)","v":0},"64","-72737490"]
[null,null,"6","K","1006","Ukončení kabelů","kus",18,null,{"$f":"ROUND($I$97*$H$97,2)","v":0},null,null,null,"základní",null,null,0,{"$f":"$Q$97*$H$97","v":0},0,{"$f":"$S$97*$H$97","v":0},null,null,null,null,null,null,null,null,null,null,null,null,null,null,null,null,null,null,null,null,null,null,null,"64",null,"K","2",null,null,null,"ROZPOCET",null,null,null,null,null,{"$f":"IF($N$97=\"základní\",$J$97,0)","v":0},{"$f":"IF($N$97=\"snížená\",$J$97,0)","v":0},{"$f":"IF($N$97=\"zákl. přenesená\",$J$97,0)","v":0},{"$f":"IF($N$97=\"sníž. přenesená\",$J$97,0)","v":0},{"$f":"IF($N$97=\"nulová\",$J$97,0)","v":0},"1",{"$f":"ROUND($I$97*$H$97,2)","v":0},"64","-2110409997"]
[null,null,"18","K","1007","PPV","%",null,null,{"$f":"ROUND($I$98*$H$98,2)","v":0},null,null,null,"základní",null,null,0,{"$f":"$Q$98*$H$98","v":0},0,{"$f":"$S$98*$H$98","v":0},null,null,null,null,null,null,null,null,null,null,null,null,null,null,null,null,null,null,null,null,null,null,null,"64",null,"K","2",null,null,null,"ROZPOCET",null,null,null,null,null,{"$f":"IF($N$98=\"základní\",$J$98,0)","v":0},{"$f":"IF($N$98=\"snížená\",$J$98,0)","v":0},{"$f":"IF($N$98=\"zákl. přenesená\",$J$98,0)","v":0},{"$f":"IF($N$98=\"sníž. přenesená\",$J$98,0)","v":0},{"$f":"IF($N$98=\"nulová\",$J$98,0)","v":0},"1",{"$f":"ROUND($I$98*$H$98,2)","v":0},"64","-162144970"]
[null,null,null,"PP",null,"Trubka HDPE",null,null,null,null,null,null,null,null,null,null,null,null,null,null,null,null,null,null,null,null,null,null,null,null,null,null,null,null,null,null,null,null,null,null,null,null,null,null,null,"PP","2"]
[null,null,null,"D","01_DO","Dodávky",null,null,null,{"$f":"$BK$100","v":0},null,null,null,null,null,{"$f":"SUM($P$101:$P$111)","v":0},null,{"$f":"SUM($R$101:$R$111)","v":0},null,{"$f":"SUM($T$101:$T$111)","v":0},null,null,null,null,null,null,null,null,null,null,null,null,null,null,null,null,null,null,null,null,null,null,null,"1",null,"D","1",null,null,null,"ROZPOCET",null,null,null,null,null,null,null,null,null,null,null,{"$f":"SUM($BK$101:$BK$111)","v":0}]
[null,null,"19","K","1010","Kamera venkovní, otočná","kus",1,null,{"$f":"ROUND($I$101*$H$101,2)","v":0},null,null,null,"základní",null,null,0,{"$f":"$Q$101*$H$101","v":0},0,{"$f":"$S$101*$H$101","v":0},null,null,null,null,null,null,null,null,null,null,null,null,null,null,null,null,null,null,null,null,null,null,null,"4",null,"K","2",null,null,null,"ROZPOCET",null,null,null,null,null,{"$f":"IF($N$101=\"základní\",$J$101,0)","v":0},{"$f":"IF($N$101=\"snížená\",$J$101,0)","v":0},{"$f":"IF($N$101=\"zákl. přenesená\",$J$101,0)","v":0},{"$f":"IF($N$101=\"sníž. přenesená\",$J$101,0)","v":0},{"$f":"IF($N$101=\"nulová\",$J$101,0)","v":0},"1",{"$f":"ROUND($I$101*$H$101,2)","v":0},"4","-1978570459"]
[null,null,null,"PP",null,"FeZn",null,null,null,null,null,null,null,null,null,null,null,null,null,null,null,null,null,null,null,null,null,null,null,null,null,null,null,null,null,null,null,null,null,null,null,null,null,null,null,"PP","2"]
[null,null,"20","K","1011","Kamera venkovní, pevná","kus",5,null,{"$f":"ROUND($I$103*$H$103,2)","v":0},null,null,null,"základní",null,null,0,{"$f":"$Q$103*$H$103","v":0},0,{"$f":"$S$103*$H$103","v":0},null,null,null,null,null,null,null,null,null,null,null,null,null,null,null,null,null,null,null,null,null,null,null,"4",null,"K","2",null,null,null,"ROZPOCET",null,null,null,null,null,{"$f":"IF($N$103=\"základní\",$J$103,0)","v":0},{"$f":"IF($N$103=\"snížená\",$J$103,0)","v":0},{"$f":"IF($N$103=\"zákl. přenesená\",$J$103,0)","v":0},{"$f":"IF($N$103=\"sníž. přenesená\",$J$103,0)","v":0},{"$f":"IF($N$103=\"nulová\",$J$103,0)","v":0},"1",{"$f":"ROUND($I$103*$H$103,2)","v":0},"4","1787544838"]
[null,null,"21","K","1012","Napájecí zdroj kamery","kus",6,null,{"$f":"ROUND($I$104*$H$104,2)","v":0},null,null,null,"základní",null,null,0,{"$f":"$Q$104*$H$104","v":0},0,{"$f":"$S$104*$H$104","v":0},null,null,null,null,null,null,null,null,null,null,null,null,null,null,null,null,null,null,null,null,null,null,null,"4",null,"K","2",null,null,null,"ROZPOCET",null,null,null,null,null,{"$f":"IF($N$104=\"základní\",$J$104,0)","v":0},{"$f":"IF($N$104=\"snížená\",$J$104,0)","v":0},{"$f":"IF($N$104=\"zákl. přenesená\",$J$104,0)","v":0},{"$f":"IF($N$104=\"sníž. přenesená\",$J$104,0)","v":0},{"$f":"IF($N$104=\"nulová\",$J$104,0)","v":0},"1",{"$f":"ROUND($I$104*$H$104,2)","v":0},"4","1715298845"]
[null,null,"22","K","1013","Záložní zdroj","kus",1,null,{"$f":"ROUND($I$105*$H$105,2)","v":0},null,null,null,"základní",null,null,0,{"$f":"$Q$105*$H$105","v":0},0,{"$f":"$S$105*$H$105","v":0},null,null,null,null,null,null,null,null,null,null,null,null,null,null,null,null,null,null,null,null,null,null,null,"4",null,"K","2",null,null,null,"ROZPOCET",null,null,null,null,null,{"$f":"IF($N$105=\"základní\",$J$105,0)","v":0},{"$f":"IF($N$105=\"snížená\",$J$105,0)","v":0},{"$f":"IF($N$105=\"zákl. přenesená\",$J$105,0)","v":0},{"$f":"IF($N$105=\"sníž. přenesená\",$J$105,0)","v":0},{"$f":"IF($N$105=\"nulová\",$J$105,0)","v":0},"1",{"$f":"ROUND($I$105*$H$105,2)","v":0},"4","-1352400831"]
[null,null,"23","K","1014","Technologigký domek","kus",1,null,{"$f":"ROUND($I$106*$H$106,2)","v":0},null,null,null,"základní",null,null,0,{"$f":"$Q$106*$H$106","v":0},0,{"$f":"$S$106*$H$106","v":0},null,null,null,null,null,null,null,null,null,null,null,null,null,null,null,null,null,null,null,null,null,null,null,"4",null,"K","2",null,null,null,"ROZPOCET",null,null,null,null,null,{"$f":"IF($N$106=\"základní\",$J$106,0)","v":0},{"$f":"IF($N$106=\"snížená\",$J$106,0)","v":0},{"$f":"IF($N$106=\"zákl. přenesená\",$J$106,0)","v":0},{"$f":"IF($N$106=\"sníž. přenesená\",$J$106,0)","v":0},{"$f":"IF($N$106=\"nulová\",$J$106,0)","v":0},"1",{"$f":"ROUND($I$106*$H$106,2)","v":0},"4","305120166"]
[null,null,"24","K","1015","Stožár VO sadový, pozinkovaný, výška 6,0 m","kus",3,null,{"$f":"ROUND($I$107*$H$107,2)","v":0},null,null,null,"základní",null,null,0,{"$f":"$Q$107*$H$107","v":0},0,{"$f":"$S$107*$H$107","v":0},null,null,null,null,null,null,null,null,null,null,null,null,null,null,null,null,null,null,null,null,null,null,null,"4",null,"K","2",null,null,null,"ROZPOCET",null,null,null,null,null,{"$f":"IF($N$107=\"základní\",$J$107,0)","v":0},{"$f":"IF($N$107=\"snížená\",$J$107,0)","v":0},{"$f":"IF($N$107=\"zákl. přenesená\",$J$107,0)","v":0},{"$f":"IF($N$107=\"sníž. přenesená\",$J$107,0)","v":0},{"$f":"IF($N$107=\"nulová\",$J$107,0)","v":0},"1",{"$f":"ROUND($I$107*$H$107,2)","v":0},"4","537684023"]
[null,null,"25","K","1016","Základ pro stožáry","kus",3,null,{"$f":"ROUND($I$108*$H$108,2)","v":0},null,null,null,"základní",null,null,0,{"$f":"$Q$108*$H$108","v":0},0,{"$f":"$S$108*$H$108","v":0},null,null,null,null,null,null,null,null,null,null,null,null,null,null,null,null,null,null,null,null,null,null,null,"4",null,"K","2",null,null,null,"ROZPOCET",null,null,null,null,null,{"$f":"IF($N$108=\"základní\",$J$108,0)","v":0},{"$f":"IF($N$108=\"snížená\",$J$108,0)","v":0},{"$f":"IF($N$108=\"zákl. přenesená\",$J$108,0)","v":0},{"$f":"IF($N$108=\"sníž. přenesená\",$J$108,0)","v":0},{"$f":"IF($N$108=\"nulová\",$J$108,0)","v":0},"1",{"$f":"ROUND($I$108*$H$108,2)","v":0},"4","1930294645"]
[null,null,"26","K","1017","Trubka HDPE DN 250 mm","kus",3,null,{"$f":"ROUND($I$109*$H$109,2)","v":0},null,null,null,"základní",null,null,0,{"$f":"$Q$109*$H$109","v":0},0,{"$f":"$S$109*$H$109","v":0},null,null,null,null,null,null,null,null,null,null,null,null,null,null,null,null,null,null,null,null,null,null,null,"4",null,"K","2",null,null,null,"ROZPOCET",null,null,null,null,null,{"$f":"IF($N$109=\"základní\",$J$109,0)","v":0},{"$f":"IF($N$109=\"snížená\",$J$109,0)","v":0},{"$f":"IF($N$109=\"zákl. přenesená\",$J$109,0)","v":0},{"$f":"IF($N$109=\"sníž. přenesená\",$J$109,0)","v":0},{"$f":"IF($N$109=\"nulová\",$J$109,0)","v":0},"1",{"$f":"ROUND($I$109*$H$109,2)","v":0},"4","1449941275"]
[null,null,"27","K","1018","Doprava ","%",null,null,{"$f":"ROUND($I$110*$H$110,2)","v":0},null,null,null,"základní",null,null,0,{"$f":"$Q$110*$H$110","v":0},0,{"$f":"$S$110*$H$110","v":0},null,null,null,null,null,null,null,null,null,null,null,null,null,null,null,null,null,null,null,null,null,null,null,"4",null,"K","2",null,null,null,"ROZPOCET",null,null,null,null,null,{"$f":"IF($N$110=\"základní\",$J$110,0)","v":0},{"$f":"IF($N$110=\"snížená\",$J$110,0)","v":0},{"$f":"IF($N$110=\"zákl. přenesená\",$J$110,0)","v":0},{"$f":"IF($N$110=\"sníž. přenesená\",$J$110,0)","v":0},{"$f":"IF($N$110=\"nulová\",$J$110,0)","v":0},"1",{"$f":"ROUND($I$110*$H$110,2)","v":0},"4","1329277208"]
[null,null,"28","K","1019","Přesun","%",null,null,{"$f":"ROUND($I$111*$H$111,2)","v":0},null,null,null,"základní",null,null,0,{"$f":"$Q$111*$H$111","v":0},0,{"$f":"$S$111*$H$111","v":0},null,null,null,null,null,null,null,null,null,null,null,null,null,null,null,null,null,null,null,null,null,null,null,"4",null,"K","2",null,null,null,"ROZPOCET",null,null,null,null,null,{"$f":"IF($N$111=\"základní\",$J$111,0)","v":0},{"$f":"IF($N$111=\"snížená\",$J$111,0)","v":0},{"$f":"IF($N$111=\"zákl. přenesená\",$J$111,0)","v":0},{"$f":"IF($N$111=\"sníž. přenesená\",$J$111,0)","v":0},{"$f":"IF($N$111=\"nulová\",$J$111,0)","v":0},"1",{"$f":"ROUND($I$111*$H$111,2)","v":0},"4","958949786"]
[null,null,null,"D","01_MO","Montáž",null,null,null,{"$f":"$BK$112","v":0},null,null,null,null,null,{"$f":"SUM($P$113:$P$114)","v":0},null,{"$f":"SUM($R$113:$R$114)","v":0},null,{"$f":"SUM($T$113:$T$114)","v":0},null,null,null,null,null,null,null,null,null,null,null,null,null,null,null,null,null,null,null,null,null,null,null,"1",null,"D","1",null,null,null,"ROZPOCET",null,null,null,null,null,null,null,null,null,null,null,{"$f":"SUM($BK$113:$BK$114)","v":0}]
[null,null,"13","K","1100","Montáž Kamerového systému","Kč",1,null,{"$f":"ROUND($I$113*$H$113,2)","v":0},null,null,null,"základní",null,null,0,{"$f":"$Q$113*$H$113","v":0},0,{"$f":"$S$113*$H$113","v":0},null,null,null,null,null,null,null,null,null,null,null,null,null,null,null,null,null,null,null,null,null,null,null,"64",null,"K","2",null,null,null,"ROZPOCET",null,null,null,null,null,{"$f":"IF($N$113=\"základní\",$J$113,0)","v":0},{"$f":"IF($N$113=\"snížená\",$J$113,0)","v":0},{"$f":"IF($N$113=\"zákl. přenesená\",$J$113,0)","v":0},{"$f":"IF($N$113=\"sníž. přenesená\",$J$113,0)","v":0},{"$f":"IF($N$113=\"nulová\",$J$113,0)","v":0},"1",{"$f":"ROUND($I$113*$H$113,2)","v":0},"64","963902769"]
[null,null,"14","K","1200","PPV","%",null,null,{"$f":"ROUND($I$114*$H$114,2)","v":0},null,null,null,"základní",null,null,0,{"$f":"$Q$114*$H$114","v":0},0,{"$f":"$S$114*$H$114","v":0},null,null,null,null,null,null,null,null,null,null,null,null,null,null,null,null,null,null,null,null,null,null,null,"64",null,"K","2",null,null,null,"ROZPOCET",null,null,null,null,null,{"$f":"IF($N$114=\"základní\",$J$114,0)","v":0},{"$f":"IF($N$114=\"snížená\",$J$114,0)","v":0},{"$f":"IF($N$114=\"zákl. přenesená\",$J$114,0)","v":0},{"$f":"IF($N$114=\"sníž. přenesená\",$J$114,0)","v":0},{"$f":"IF($N$114=\"nulová\",$J$114,0)","v":0},"1",{"$f":"ROUND($I$114*$H$114,2)","v":0},"64","-1527894757"]
[null,null,null,"D","01_KS","Přenos kamerového signálu",null,null,null,{"$f":"$BK$115","v":0},null,null,null,null,null,{"$f":"$P$116","v":0},null,{"$f":"$R$116","v":0},null,{"$f":"$T$116","v":0},null,null,null,null,null,null,null,null,null,null,null,null,null,null,null,null,null,null,null,null,null,null,null,"3",null,"D","1",null,null,null,"ROZPOCET",null,null,null,null,null,null,null,null,null,null,null,{"$f":"$BK$116","v":0}]
[null,null,"29","K","1110","Přenos kamerového signálu","Kč",1,null,{"$f":"ROUND($I$116*$H$116,2)","v":0},null,null,null,"základní",null,null,0,{"$f":"$Q$116*$H$116","v":0},0,{"$f":"$S$116*$H$116","v":0},null,null,null,null,null,null,null,null,null,null,null,null,null,null,null,null,null,null,null,null,null,null,null,"64",null,"K","2",null,null,null,"ROZPOCET",null,null,null,null,null,{"$f":"IF($N$116=\"základní\",$J$116,0)","v":0},{"$f":"IF($N$116=\"snížená\",$J$116,0)","v":0},{"$f":"IF($N$116=\"zákl. přenesená\",$J$116,0)","v":0},{"$f":"IF($N$116=\"sníž. přenesená\",$J$116,0)","v":0},{"$f":"IF($N$116=\"nulová\",$J$116,0)","v":0},"1",{"$f":"ROUND($I$116*$H$116,2)","v":0},"64","-1646906071"]
[null,null,null,"D","02","Revize",null,null,null,{"$f":"$BK$117","v":0},null,null,null,null,null,{"$f":"$P$118","v":0},null,{"$f":"$R$118","v":0},null,{"$f":"$T$118","v":0},null,null,null,null,null,null,null,null,null,null,null,null,null,null,null,null,null,null,null,null,null,null,null,"1",null,"D","0",null,null,null,"ROZPOCET",null,null,null,null,null,null,null,null,null,null,null,{"$f":"$BK$118","v":0}]
[null,null,"16","K","2001","Revize","%",null,null,{"$f":"ROUND($I$118*$H$118,2)","v":0},null,null,null,"základní",null,null,0,{"$f":"$Q$118*$H$118","v":0},0,{"$f":"$S$118*$H$118","v":0},null,null,null,null,null,null,null,null,null,null,null,null,null,null,null,null,null,null,null,null,null,null,null,"4",null,"K","1",null,null,null,"ROZPOCET",null,null,null,null,null,{"$f":"IF($N$118=\"základní\",$J$118,0)","v":0},{"$f":"IF($N$118=\"snížená\",$J$118,0)","v":0},{"$f":"IF($N$118=\"zákl. přenesená\",$J$118,0)","v":0},{"$f":"IF($N$118=\"sníž. přenesená\",$J$118,0)","v":0},{"$f":"IF($N$118=\"nulová\",$J$118,0)","v":0},"1",{"$f":"ROUND($I$118*$H$118,2)","v":0},"4","834492038"]
[null,null,null,"D","03","Programování",null,null,null,{"$f":"$BK$119","v":0},null,null,null,null,null,{"$f":"$P$120","v":0},null,{"$f":"$R$120","v":0},null,{"$f":"$T$120","v":0},null,null,null,null,null,null,null,null,null,null,null,null,null,null,null,null,null,null,null,null,null,null,null,"1",null,"D","0",null,null,null,"ROZPOCET",null,null,null,null,null,null,null,null,null,null,null,{"$f":"$BK$120","v":0}]
[null,null,"17","K","3002","Programování","%",null,null,{"$f":"ROUND($I$120*$H$120,2)","v":0},null,null,null,"základní",null,null,0,{"$f":"$Q$120*$H$120","v":0},0,{"$f":"$S$120*$H$120","v":0},null,null,null,null,null,null,null,null,null,null,null,null,null,null,null,null,null,null,null,null,null,null,null,"4",null,"K","1",null,null,null,"ROZPOCET",null,null,null,null,null,{"$f":"IF($N$120=\"základní\",$J$120,0)","v":0},{"$f":"IF($N$120=\"snížená\",$J$120,0)","v":0},{"$f":"IF($N$120=\"zákl. přenesená\",$J$120,0)","v":0},{"$f":"IF($N$120=\"sníž. přenesená\",$J$120,0)","v":0},{"$f":"IF($N$120=\"nulová\",$J$120,0)","v":0},"1",{"$f":"ROUND($I$120*$H$120,2)","v":0},"4","1636403328"]

{"sheet":"VON-2E - Vedlejší rozpočr...","index":9,"n_rows":115,"n_cols":65,"rows_kept":115,"cut":false,"hidden":false,"merged":[[78,4,78,7],[80,4,80,7],[25,4,25,7],[46,4,46,7],[48,4,48,7],[50,4,50,7],[76,4,76,7],[0,6,0,7],[1,11,1,21],[6,4,6,7],[8,4,8,7],[10,4,10,7]]}
[null,null,null,"List obsahuje:",null,"1) Krycí list soupisu","2) Rekapitulace",null,null,"3) Soupis prací","Zpět na list:","Rekapitulace stavby"]
[null,null,null,null,null,null,null,null,null,null,null,null,null,null,null,null,null,null,null,null,null,null,null,null,null,null,null,null,null,null,null,null,null,null,null,null,null,null,null,null,null,null,null,null,null,"{8C002770-634E-414C-A4A8-C1E29F904F84}"]
[null,null,null,null,null,null,null,null,null,null,null,null,null,null,null,null,null,null,null,null,null,null,null,null,null,null,null,null,null,null,null,null,null,null,null,null,null,null,null,null,null,null,null,null,null,"2"]
[null,null,null,"KRYCÍ LIST SOUPISU",null,null,null,null,null,null,null,null,"v ---  níže se nacházejí doplnkové a pomocné údaje k sestavám  --- v",null,null,null,null,null,null,null,null,null,null,null,null,null,null,null,null,null,null,null,null,null,null,null,null,null,null,null,null,null,null,null,null,"False"]
[]
[null,null,null,"Stavba:"]
[null,null,null,null,{"$f":"'Rekapitulace stavby'!$K$6","v":"Město Sokolov - Záchytné parkoviště Michal"}]
[null,null,null,"Objekt:"]
[null,null,null,null,"2.E - 2. ETAPA"]
[null,null,null,"Soupis:"]
[null,null,null,null,"VON-2E - Vedlejší rozpočrové náklady (VRN) a Ostatní náklady (ON)"]
[]
[null,null,null,"KSO:",null,"822 29",null,null,"CC-CZ:","7941-26"]
[null,null,null,"Místo:",null,"Sokolov",null,null,"Datum:",{"$f":"'Rekapitulace stavby'!$AN$8","v":"09.09.2014"}]
[]
[null,null,null,"Zadavatel:",null,null,null,null,"IČ:"]
[null,null,null,null,"Město Sokolov",null,null,null,"DIČ:"]
[]
[null,null,null,"Uchazeč:",null,null,null,null,"IČ:",{"$f":"IF('Rekapitulace stavby'!$AN$13=\"Vyplň údaj\",\"\",IF('Rekapitulace stavby'!$AN$13=\"\",\"\",'Rekapitulace stavby'!$AN$13))","v":""}]
[null,null,null,null,{"$f":"IF('Rekapitulace stavby'!$E$14=\"Vyplň údaj\",\"\",IF('Rekapitulace stavby'!$E$14=\"\",\"\",'Rekapitulace stavby'!$E$14))","v":""},null,null,null,"DIČ:",{"$f":"IF('Rekapitulace stavby'!$AN$14=\"Vyplň údaj\",\"\",IF('Rekapitulace stavby'!$AN$14=\"\",\"\",'Rekapitulace stavby'!$AN$14))","v":""}]
[]
[null,null,null,"Projektant:",null,null,null,null,"IČ:","18224920"]
[null,null,null,null,"BPO spol. s r.o., Lidická 1239, 363 17 Ostrov",null,null,null,"DIČ:","CZ18224920"]
[]
[null,null,null,"Poznámka:"]
[]
[]
[]
[null,null,null,"Cena bez DPH",null,null,null,null,null,{"$f":"ROUND($J$89,2)","v":0}]
[]
[null,null,null,null,null,"Základ daně",null,null,"Sazba daně","Výše daně"]
[null,null,null,"DPH","základní",{"$f":"ROUND(SUM($BE$89:$BE$115),2)","v":0},null,null,0.21,{"$f":"ROUND(SUM($BE$89:$BE$115)*$I$32,2)","v":0}]
[null,null,null,null,"snížená",{"$f":"ROUND(SUM($BF$89:$BF$115),2)","v":0},null,null,0.15,{"$f":"ROUND(SUM($BF$89:$BF$115)*$I$33,2)","v":0}]
[null,null,null,null,"zákl. přenesená",{"$f":"ROUND(SUM($BG$89:$BG$115),2)","v":0},null,null,0.21,0]
[null,null,null,null,"sníž. přenesená",{"$f":"ROUND(SUM($BH$89:$BH$115),2)","v":0},null,null,0.15,0]
[null,null,null,null,"nulová",{"$f":"ROUND(SUM($BI$89:$BI$115),2)","v":0},null,null,0,0]
[]
[null,null,null,"Cena s DPH",null,null,"v","CZK",null,{"$f":"ROUND(SUM($J$29:$J$36),2)","v":0}]
[]
[]
[]
[]
[]
[null,null,"REKAPITULACE ČLENĚNÍ SOUPISU PRACÍ"]
[]
[null,null,"Stavba:"]
[null,null,null,null,{"$f":"$E$7","v":"Město Sokolov - Záchytné parkoviště Michal"}]
[null,null,"Objekt:"]
[null,null,null,null,"2.E - 2. ETAPA"]
[null,null,"Soupis:"]
[null,null,null,null,{"$f":"$E$11","v":"VON-2E - Vedlejší rozpočrové náklady (VRN) a Ostatní náklady (ON)"}]
[]
[null,null,"Místo:",null,null,{"$f":"$F$14","v":"Sokolov"},null,null,"Datum:",{"$f":"IF($J$14=\"\",\"\",$J$14)","v":"09.09.2014"}]
[]
[null,null,"Zadavatel:",null,null,{"$f":"$E$17","v":"Město Sokolov"},null,null,"Projektant:",{"$f":"$E$23","v":"BPO spol. s r.o., Lidická 1239, 363 17 Ostrov"}]
[null,null,"Uchazeč:",null,null,{"$f":"IF($E$20=\"\",\"\",$E$20)","v":""}]
[]
[null,null,"Kód dílu - Popis",null,null,null,null,null,null,"Cena celkem [CZK]"]
[]
[null,null,"Náklady soupisu celkem",null,null,null,null,null,null,{"$f":"ROUND($J$89,2)","v":0},null,null,null,null,null,null,null,null,null,null,null,null,null,null,null,null,null,null,null,null,null,null,null,null,null,null,null,null,null,null,null,null,null,null,null,null,"-1"]
[null,null,null,"VRN - Vedlejší rozpočtové náklady",null,null,null,null,null,{"$f":"ROUND($J$90,2)","v":0}]
[null,null,null,"    VRN 01 - Vedlejší rozpočtové náklady pro SO 111",null,null,null,null,null,{"$f":"ROUND($J$91,2)","v":0}]
[null,null,null,"    VRN 03 - Vedlejší rozpočtové náklady pro SO 132",null,null,null,null,null,{"$f":"ROUND($J$94,2)","v":0}]
[null,null,null,"    VRN 04 - Vedlejší rozpočtové náklady pro SO 311",null,null,null,null,null,{"$f":"ROUND($J$97,2)","v":0}]
[null,null,null,"    VRN 05 - Vedlejší rozpočtové náklady pro SO 411",null,null,null,null,null,{"$f":"ROUND($J$100,2)","v":0}]
[null,null,null,"    VRN 06 - Vedlejší rozpočtové náklady pro SO 412",null,null,null,null,null,{"$f":"ROUND($J$103,2)","v":0}]
[null,null,null,"ON - Ostatní náklady",null,null,null,null,null,{"$f":"ROUND($J$106,2)","v":0}]
[]
[]
[]
[]
[]
[]
[null,null,"SOUPIS PRACÍ"]
[]
[null,null,"Stavba:"]
[null,null,null,null,{"$f":"$E$7","v":"Město Sokolov - Záchytné parkoviště Michal"}]
[null,null,"Objekt:"]
[null,null,null,null,"2.E - 2. ETAPA"]
[null,null,"Soupis:"]
[null,null,null,null,{"$f":"$E$11","v":"VON-2E - Vedlejší rozpočrové náklady (VRN) a Ostatní náklady (ON)"}]
[]
[null,null,"Místo:",null,null,{"$f":"$F$14","v":"Sokolov"},null,null,"Datum:",{"$f":"IF($J$14=\"\",\"\",$J$14)","v":"09.09.2014"}]
[]
[null,null,"Zadavatel:",null,null,{"$f":"$E$17","v":"Město Sokolov"},null,null,"Projektant:",{"$f":"$E$23","v":"BPO spol. s r.o., Lidická 1239, 363 17 Ostrov"}]
[null,null,"Uchazeč:",null,null,{"$f":"IF($E$20=\"\",\"\",$E$20)","v":""}]
[]
[null,null,"PČ","Typ","Kód","Popis","MJ","Množství","J.cena [CZK]","Cena celkem\n[CZK]","Cenová soustava",null,"Poznámka","DPH","J. Nh [h]","Nh celkem [h]","J. hmotnost\n[t]","Hmotnost\ncelkem [t]","J. suť [t]","Suť Celkem [t]"]
[null,null,"Náklady soupisu celkem",null,null,null,null,null,null,{"$f":"$BK$89","v":0},null,null,null,null,null,{"$f":"$P$90+$P$106","v":0},null,{"$f":"$R$90+$R$106","v":0},null,{"$f":"$T$90+$T$106","v":0},null,null,null,null,null,null,null,null,null,null,null,null,null,null,null,null,null,null,null,null,null,null,null,null,null,"D","-1",null,null,null,null,null,null,null,null,null,null,null,null,null,null,null,{"$f":"$BK$90+$BK$106","v":0}]
[null,null,null,"D","VRN","Vedlejší rozpočtové náklady",null,null,null,{"$f":"$BK$90","v":0},null,null,null,null,null,{"$f":"$P$91+$P$94+$P$97+$P$100+$P$103","v":0},null,{"$f":"$R$91+$R$94+$R$97+$R$100+$R$103","v":0},null,{"$f":"$T$91+$T$94+$T$97+$T$100+$T$103","v":0},null,null,null,null,null,null,null,null,null,null,null,null,null,null,null,null,null,null,null,null,null,null,null,"5",null,"D","0",null,null,null,"ROZPOCET",null,null,null,null,null,null,null,null,null,null,null,{"$f":"$BK$91+$BK$94+$BK$97+$BK$100+$BK$103","v":0}]
[null,null,null,"D","VRN 01","Vedlejší rozpočtové náklady pro SO 111",null,null,null,{"$f":"$BK$91","v":0},null,null,null,null,null,{"$f":"SUM($P$92:$P$93)","v":0},null,{"$f":"SUM($R$92:$R$93)","v":0},null,{"$f":"SUM($T$92:$T$93)","v":0},null,null,null,null,null,null,null,null,null,null,null,null,null,null,null,null,null,null,null,null,null,null,null,"5",null,"D","1",null,null,null,"ROZPOCET",null,null,null,null,null,null,null,null,null,null,null,{"$f":"SUM($BK$92:$BK$93)","v":0}]
[null,null,"1","K","01","Zařízení staveniště","%",null,null,{"$f":"ROUND($I$92*$H$92,2)","v":0},null,null,null,"základní",null,null,0,{"$f":"$Q$92*$H$92","v":0},0,{"$f":"$S$92*$H$92","v":0},null,null,null,null,null,null,null,null,null,null,null,null,null,null,null,null,null,null,null,null,null,null,null,"4",null,"K","2",null,null,null,"ROZPOCET",null,null,null,null,null,{"$f":"IF($N$92=\"základní\",$J$92,0)","v":0},{"$f":"IF($N$92=\"snížená\",$J$92,0)","v":0},{"$f":"IF($N$92=\"zákl. přenesená\",$J$92,0)","v":0},{"$f":"IF($N$92=\"sníž. přenesená\",$J$92,0)","v":0},{"$f":"IF($N$92=\"nulová\",$J$92,0)","v":0},"1",{"$f":"ROUND($I$92*$H$92,2)","v":0},"4","-1383526266"]
[null,null,null,"PP",null,"Zařízení staveniště",null,null,null,null,null,null,null,null,null,null,null,null,null,null,null,null,null,null,null,null,null,null,null,null,null,null,null,null,null,null,null,null,null,null,null,null,null,null,null,"PP","2"]
[null,null,null,"D","VRN 03","Vedlejší rozpočtové náklady pro SO 132",null,null,null,{"$f":"$BK$94","v":0},null,null,null,null,null,{"$f":"SUM($P$95:$P$96)","v":0},null,{"$f":"SUM($R$95:$R$96)","v":0},null,{"$f":"SUM($T$95:$T$96)","v":0},null,null,null,null,null,null,null,null,null,null,null,null,null,null,null,null,null,null,null,null,null,null,null,"5",null,"D","1",null,null,null,"ROZPOCET",null,null,null,null,null,null,null,null,null,null,null,{"$f":"SUM($BK$95:$BK$96)","v":0}]
[null,null,"2","K","01","Zařízení staveniště","%",null,null,{"$f":"ROUND($I$95*$H$95,2)","v":0},null,null,null,"základní",null,null,0,{"$f":"$Q$95*$H$95","v":0},0,{"$f":"$S$95*$H$95","v":0},null,null,null,null,null,null,null,null,null,null,null,null,null,null,null,null,null,null,null,null,null,null,null,"4",null,"K","2",null,null,null,"ROZPOCET",null,null,null,null,null,{"$f":"IF($N$95=\"základní\",$J$95,0)","v":0},{"$f":"IF($N$95=\"snížená\",$J$95,0)","v":0},{"$f":"IF($N$95=\"zákl. přenesená\",$J$95,0)","v":0},{"$f":"IF($N$95=\"sníž. přenesená\",$J$95,0)","v":0},{"$f":"IF($N$95=\"nulová\",$J$95,0)","v":0},"1",{"$f":"ROUND($I$95*$H$95,2)","v":0},"4","-1592936811"]
[null,null,null,"PP",null,"Zařízení staveniště",null,null,null,null,null,null,null,null,null,null,null,null,null,null,null,null,null,null,null,null,null,null,null,null,null,null,null,null,null,null,null,null,null,null,null,null,null,null,null,"PP","2"]
[null,null,null,"D","VRN 04","Vedlejší rozpočtové náklady pro SO 311",null,null,null,{"$f":"$BK$97","v":0},null,null,null,null,null,{"$f":"SUM($P$98:$P$99)","v":0},null,{"$f":"SUM($R$98:$R$99)","v":0},null,{"$f":"SUM($T$98:$T$99)","v":0},null,null,null,null,null,null,null,null,null,null,null,null,null,null,null,null,null,null,null,null,null,null,null,"5",null,"D","1",null,null,null,"ROZPOCET",null,null,null,null,null,null,null,null,null,null,null,{"$f":"SUM($BK$98:$BK$99)","v":0}]
[null,null,"3","K","01","Zařízení staveniště","%",null,null,{"$f":"ROUND($I$98*$H$98,2)","v":0},null,null,null,"základní",null,null,0,{"$f":"$Q$98*$H$98","v":0},0,{"$f":"$S$98*$H$98","v":0},null,null,null,null,null,null,null,null,null,null,null,null,null,null,null,null,null,null,null,null,null,null,null,"4",null,"K","2",null,null,null,"ROZPOCET",null,null,null,null,null,{"$f":"IF($N$98=\"základní\",$J$98,0)","v":0},{"$f":"IF($N$98=\"snížená\",$J$98,0)","v":0},{"$f":"IF($N$98=\"zákl. přenesená\",$J$98,0)","v":0},{"$f":"IF($N$98=\"sníž. přenesená\",$J$98,0)","v":0},{"$f":"IF($N$98=\"nulová\",$J$98,0)","v":0},"1",{"$f":"ROUND($I$98*$H$98,2)","v":0},"4","747809699"]
[null,null,null,"PP",null,"Zařízení staveniště",null,null,null,null,null,null,null,null,null,null,null,null,null,null,null,null,null,null,null,null,null,null,null,null,null,null,null,null,null,null,null,null,null,null,null,null,null,null,null,"PP","2"]
[null,null,null,"D","VRN 05","Vedlejší rozpočtové náklady pro SO 411",null,null,null,{"$f":"$BK$100","v":0},null,null,null,null,null,{"$f":"SUM($P$101:$P$102)","v":0},null,{"$f":"SUM($R$101:$R$102)","v":0},null,{"$f":"SUM($T$101:$T$102)","v":0},null,null,null,null,null,null,null,null,null,null,null,null,null,null,null,null,null,null,null,null,null,null,null,"5",null,"D","1",null,null,null,"ROZPOCET",null,null,null,null,null,null,null,null,null,null,null,{"$f":"SUM($BK$101:$BK$102)","v":0}]
[null,null,"4","K","01","Zařízení staveniště","%",null,null,{"$f":"ROUND($I$101*$H$101,2)","v":0},null,null,null,"základní",null,null,0,{"$f":"$Q$101*$H$101","v":0},0,{"$f":"$S$101*$H$101","v":0},null,null,null,null,null,null,null,null,null,null,null,null,null,null,null,null,null,null,null,null,null,null,null,"4",null,"K","2",null,null,null,"ROZPOCET",null,null,null,null,null,{"$f":"IF($N$101=\"základní\",$J$101,0)","v":0},{"$f":"IF($N$101=\"snížená\",$J$101,0)","v":0},{"$f":"IF($N$101=\"zákl. přenesená\",$J$101,0)","v":0},{"$f":"IF($N$101=\"sníž. přenesená\",$J$101,0)","v":0},{"$f":"IF($N$101=\"nulová\",$J$101,0)","v":0},"1",{"$f":"ROUND($I$101*$H$101,2)","v":0},"4","1323213772"]
[null,null,null,"PP",null,"Zařízení staveniště",null,null,null,null,null,null,null,null,null,null,null,null,null,null,null,null,null,null,null,null,null,null,null,null,null,null,null,null,null,null,null,null,null,null,null,null,null,null,null,"PP","2"]
[null,null,null,"D","VRN 06","Vedlejší rozpočtové náklady pro SO 412",null,null,null,{"$f":"$BK$103","v":0},null,null,null,null,null,{"$f":"SUM($P$104:$P$105)","v":0},null,{"$f":"SUM($R$104:$R$105)","v":0},null,{"$f":"SUM($T$104:$T$105)","v":0},null,null,null,null,null,null,null,null,null,null,null,null,null,null,null,null,null,null,null,null,null,null,null,"1",null,"D","1",null,null,null,"ROZPOCET",null,null,null,null,null,null,null,null,null,null,null,{"$f":"SUM($BK$104:$BK$105)","v":0}]
[null,null,"5","K","01","Zařízení staveniště","%",null,null,{"$f":"ROUND($I$104*$H$104,2)","v":0},null,null,null,"základní",null,null,0,{"$f":"$Q$104*$H$104","v":0},0,{"$f":"$S$104*$H$104","v":0},null,null,null,null,null,null,null,null,null,null,null,null,null,null,null,null,null,null,null,null,null,null,null,"4",null,"K","2",null,null,null,"ROZPOCET",null,null,null,null,null,{"$f":"IF($N$104=\"základní\",$J$104,0)","v":0},{"$f":"IF($N$104=\"snížená\",$J$104,0)","v":0},{"$f":"IF($N$104=\"zákl. přenesená\",$J$104,0)","v":0},{"$f":"IF($N$104=\"sníž. přenesená\",$J$104,0)","v":0},{"$f":"IF($N$104=\"nulová\",$J$104,0)","v":0},"1",{"$f":"ROUND($I$104*$H$104,2)","v":0},"4","-2015436386"]
[null,null,null,"PP",null,"Zařízení staveniště",null,null,null,null,null,null,null,null,null,null,null,null,null,null,null,null,null,null,null,null,null,null,null,null,null,null,null,null,null,null,null,null,null,null,null,null,null,null,null,"PP","2"]
[null,null,null,"D","ON","Ostatní náklady",null,null,null,{"$f":"$BK$106","v":0},null,null,null,null,null,{"$f":"SUM($P$107:$P$115)","v":0},null,{"$f":"SUM($R$107:$R$115)","v":0},null,{"$f":"SUM($T$107:$T$115)","v":0},null,null,null,null,null,null,null,null,null,null,null,null,null,null,null,null,null,null,null,null,null,null,null,"4",null,"D","0",null,null,null,"ROZPOCET",null,null,null,null,null,null,null,null,null,null,null,{"$f":"SUM($BK$107:$BK$115)","v":0}]
[null,null,"6","K","001","Trvalá pamětní deska o rozměrech min.300 x 400 mm navržebá v souladu s pravidly publicity ROP SZ, materiál kamenná deska + mosazná deska","kus",1,null,{"$f":"ROUND($I$107*$H$107,2)","v":0},null,null,null,"základní",null,null,0,{"$f":"$Q$107*$H$107","v":0},0,{"$f":"$S$107*$H$107","v":0},null,null,null,null,null,null,null,null,null,null,null,null,null,null,null,null,null,null,null,null,null,null,null,"512",null,"K","1",null,null,null,"ROZPOCET",null,null,null,null,null,{"$f":"IF($N$107=\"základní\",$J$107,0)","v":0},{"$f":"IF($N$107=\"snížená\",$J$107,0)","v":0},{"$f":"IF($N$107=\"zákl. přenesená\",$J$107,0)","v":0},{"$f":"IF($N$107=\"sníž. přenesená\",$J$107,0)","v":0},{"$f":"IF($N$107=\"nulová\",$J$107,0)","v":0},"1",{"$f":"ROUND($I$107*$H$107,2)","v":0},"512","1332292148"]
[null,null,"7","K","002","Koordinační a kompletační činnost dodavatele","Kč",1,null,{"$f":"ROUND($I$108*$H$108,2)","v":0},null,null,null,"základní",null,null,0,{"$f":"$Q$108*$H$108","v":0},0,{"$f":"$S$108*$H$108","v":0},null,null,null,null,null,null,null,null,null,null,null,null,null,null,null,null,null,null,null,null,null,null,null,"512",null,"K","1",null,null,null,"ROZPOCET",null,null,null,null,null,{"$f":"IF($N$108=\"základní\",$J$108,0)","v":0},{"$f":"IF($N$108=\"snížená\",$J$108,0)","v":0},{"$f":"IF($N$108=\"zákl. přenesená\",$J$108,0)","v":0},{"$f":"IF($N$108=\"sníž. přenesená\",$J$108,0)","v":0},{"$f":"IF($N$108=\"nulová\",$J$108,0)","v":0},"1",{"$f":"ROUND($I$108*$H$108,2)","v":0},"512","-842696635"]
[null,null,"8","K","003","Geodetické práce a zaměření skutečného procedení stavby + geodetický plán","kč",1,null,{"$f":"ROUND($I$109*$H$109,2)","v":0},null,null,null,"základní",null,null,0,{"$f":"$Q$109*$H$109","v":0},0,{"$f":"$S$109*$H$109","v":0},null,null,null,null,null,null,null,null,null,null,null,null,null,null,null,null,null,null,null,null,null,null,null,"512",null,"K","1",null,null,null,"ROZPOCET",null,null,null,null,null,{"$f":"IF($N$109=\"základní\",$J$109,0)","v":0},{"$f":"IF($N$109=\"snížená\",$J$109,0)","v":0},{"$f":"IF($N$109=\"zákl. přenesená\",$J$109,0)","v":0},{"$f":"IF($N$109=\"sníž. přenesená\",$J$109,0)","v":0},{"$f":"IF($N$109=\"nulová\",$J$109,0)","v":0},"1",{"$f":"ROUND($I$109*$H$109,2)","v":0},"512","1434158380"]
[null,null,"9","K","004","Vytýčení stávajících inženýrských sítí na staveništi a jejich ověření u správců","Kč",1,null,{"$f":"ROUND($I$110*$H$110,2)","v":0},null,null,null,"základní",null,null,0,{"$f":"$Q$110*$H$110","v":0},0,{"$f":"$S$110*$H$110","v":0},null,null,null,null,null,null,null,null,null,null,null,null,null,null,null,null,null,null,null,null,null,null,null,"512",null,"K","1",null,null,null,"ROZPOCET",null,null,null,null,null,{"$f":"IF($N$110=\"základní\",$J$110,0)","v":0},{"$f":"IF($N$110=\"snížená\",$J$110,0)","v":0},{"$f":"IF($N$110=\"zákl. přenesená\",$J$110,0)","v":0},{"$f":"IF($N$110=\"sníž. přenesená\",$J$110,0)","v":0},{"$f":"IF($N$110=\"nulová\",$J$110,0)","v":0},"1",{"$f":"ROUND($I$110*$H$110,2)","v":0},"512","1011816811"]
[null,null,"10","K","005","Zkoušky hutnění","Kč",1,null,{"$f":"ROUND($I$111*$H$111,2)","v":0},null,null,null,"základní",null,null,0,{"$f":"$Q$111*$H$111","v":0},0,{"$f":"$S$111*$H$111","v":0},null,null,null,null,null,null,null,null,null,null,null,null,null,null,null,null,null,null,null,null,null,null,null,"512",null,"K","1",null,null,null,"ROZPOCET",null,null,null,null,null,{"$f":"IF($N$111=\"základní\",$J$111,0)","v":0},{"$f":"IF($N$111=\"snížená\",$J$111,0)","v":0},{"$f":"IF($N$111=\"zákl. přenesená\",$J$111,0)","v":0},{"$f":"IF($N$111=\"sníž. přenesená\",$J$111,0)","v":0},{"$f":"IF($N$111=\"nulová\",$J$111,0)","v":0},"1",{"$f":"ROUND($I$111*$H$111,2)","v":0},"512","-1482214643"]
[null,null,"11","K","006","Zpracování dokumentace skutečného provádění stavby","Kč",1,null,{"$f":"ROUND($I$112*$H$112,2)","v":0},null,null,null,"základní",null,null,0,{"$f":"$Q$112*$H$112","v":0},0,{"$f":"$S$112*$H$112","v":0},null,null,null,null,null,null,null,null,null,null,null,null,null,null,null,null,null,null,null,null,null,null,null,"512",null,"K","1",null,null,null,"ROZPOCET",null,null,null,null,null,{"$f":"IF($N$112=\"základní\",$J$112,0)","v":0},{"$f":"IF($N$112=\"snížená\",$J$112,0)","v":0},{"$f":"IF($N$112=\"zákl. přenesená\",$J$112,0)","v":0},{"$f":"IF($N$112=\"sníž. přenesená\",$J$112,0)","v":0},{"$f":"IF($N$112=\"nulová\",$J$112,0)","v":0},"1",{"$f":"ROUND($I$112*$H$112,2)","v":0},"512","-551753705"]
[null,null,"12","K","007","Opatření k zajištění bezpečnosti účastníků realizace akce a veřejnosti (zejména zajištění staveniště, bezpečnostní tabulky, osvětlení výkopů)","Kč",1,null,{"$f":"ROUND($I$113*$H$113,2)","v":0},null,null,null,"základní",null,null,0,{"$f":"$Q$113*$H$113","v":0},0,{"$f":"$S$113*$H$113","v":0},null,null,null,null,null,null,null,null,null,null,null,null,null,null,null,null,null,null,null,null,null,null,null,"512",null,"K","1",null,null,null,"ROZPOCET",null,null,null,null,null,{"$f":"IF($N$113=\"základní\",$J$113,0)","v":0},{"$f":"IF($N$113=\"snížená\",$J$113,0)","v":0},{"$f":"IF($N$113=\"zákl. přenesená\",$J$113,0)","v":0},{"$f":"IF($N$113=\"sníž. přenesená\",$J$113,0)","v":0},{"$f":"IF($N$113=\"nulová\",$J$113,0)","v":0},"1",{"$f":"ROUND($I$113*$H$113,2)","v":0},"512","426153643"]
[null,null,"13","K","008","Dopravně inženýrská opatření (DIO) včetně projednání s Policií ČR - DI","Kč",1,null,{"$f":"ROUND($I$114*$H$114,2)","v":0},null,null,null,"základní",null,null,0,{"$f":"$Q$114*$H$114","v":0},0,{"$f":"$S$114*$H$114","v":0},null,null,null,null,null,null,null,null,null,null,null,null,null,null,null,null,null,null,null,null,null,null,null,"512",null,"K","1",null,null,null,"ROZPOCET",null,null,null,null,null,{"$f":"IF($N$114=\"základní\",$J$114,0)","v":0},{"$f":"IF($N$114=\"snížená\",$J$114,0)","v":0},{"$f":"IF($N$114=\"zákl. přenesená\",$J$114,0)","v":0},{"$f":"IF($N$114=\"sníž. přenesená\",$J$114,0)","v":0},{"$f":"IF($N$114=\"nulová\",$J$114,0)","v":0},"1",{"$f":"ROUND($I$114*$H$114,2)","v":0},"512","868944941"]
[null,null,"14","K","009","Revize elektročástí","Kč",1,null,{"$f":"ROUND($I$115*$H$115,2)","v":0},null,null,null,"základní",null,null,0,{"$f":"$Q$115*$H$115","v":0},0,{"$f":"$S$115*$H$115","v":0},null,null,null,null,null,null,null,null,null,null,null,null,null,null,null,null,null,null,null,null,null,null,null,"512",null,"K","1",null,null,null,"ROZPOCET",null,null,null,null,null,{"$f":"IF($N$115=\"základní\",$J$115,0)","v":0},{"$f":"IF($N$115=\"snížená\",$J$115,0)","v":0},{"$f":"IF($N$115=\"zákl. přenesená\",$J$115,0)","v":0},{"$f":"IF($N$115=\"sníž. přenesená\",$J$115,0)","v":0},{"$f":"IF($N$115=\"nulová\",$J$115,0)","v":0},"1",{"$f":"ROUND($I$115*$H$115,2)","v":0},"512","-821076763"]

{"sheet":"Pokyny pro vyplnění","index":10,"n_rows":206,"n_cols":10,"rows_kept":206,"cut":false,"hidden":false,"merged":[[16,5,16,9],[2,2,2,9],[3,2,3,9],[5,2,5,9],[6,2,6,9],[8,2,8,9],[9,3,9,9],[10,3,10,9],[12,3,12,9],[13,3,13,9],[14,3,14,9],[15,5,15,9],[31,3,31,9],[17,5,17,9],[18,5,18,9],[19,5,19,9],[20,5,20,9],[22,2,22,9],[23,2,23,9],[24,3,24,9],[25,3,25,9],[27,3,27,9],[28,3,28,9],[30,3,30,9],[44,3,44,9],[32,3,32,9],[33,6,33,9],[34,6,34,9],[35,6,35,9],[36,6,36,9],[37,6,37,9],[38,6,38,9],[39,6,39,9],[40,6,40,9],[41,6,41,9],[42,6,42,9],[58,3,58,9],[45,4,45,9],[46,4,46,9],[47,4,47,9],[48,3,48,9],[49,2,49,9],[51,2,51,9],[52,2,52,9],[54,2,54,9],[55,3,55,9],[56,3,56,9],[57,3,57,9],[144,2,144,9],[59,3,59,9],[60,3,60,9],[62,3,62,9],[63,3,63,9],[64,3,64,9],[65,3,65,9],[66,3,66,9],[67,3,67,9],[72,2,72,9],[99,2,99,9],[119,2,119,9],[199,7,199,9],[162,2,162,9],[187,2,187,9],[188,7,188,9],[190,7,190,9],[191,7,191,9],[192,7,192,9],[193,7,193,9],[194,7,194,9],[196,7,196,9],[197,7,197,9],[198,7,198,9],[200,7,200,9],[202,7,202,9],[203,7,203,9],[204,7,204,9],[205,7,205,9]]}
[]
[]
[null,null,"Struktura údajů, formát souboru a metodika pro zpracování"]
[null,null,"Struktura"]
[]
[null,null,"Soubor je složen ze záložky Rekapitulace stavby a záložek s názvem soupisu prací pro jednotlivé objekty ve formátu XLS. Každá ze záložek přitom obsahuje"]
[null,null,"ještě samostatné sestavy vymezené orámovaním a nadpisem sestavy. Všechny sestavy jsou optimalizovány i pro tisk na formát A4 na výšku."]
[]
[null,null,"Rekapitulace stavby obsahuje sestavu Rekapitulace stavby a Rekapitulace objektů stavby a soupisů prací."]
[null,null,null,"V sestavě Rekapitulace stavby jsou uvedeny informace identifikující předmět veřejné zakázky na stavební práce, KSO, CC-CZ, CZ-CPV, CZ-CPA a rekapitulaci "]
[null,null,null,"celkové nabídkové ceny uchazeče."]
[]
[null,null,null,"V sestavě Rekapitulace objektů stavby a soupisů prací je uvedena rekapitulace stavebních objektů, inženýrských objektů, provozních souborů,"]
[null,null,null,"vedlejších a ostatních nákladů a ostatních nákladů s rekapitulací nabídkové ceny za jednotlivé soupisy prací. Na základě údaje Typ je možné"]
[null,null,null,"identifikovat, zda se jedná o objekt nebo soupis prací pro daný objekt:"]
[null,null,null,null,"STA","Stavební objekt pozemní"]
[null,null,null,null,"ING","Stavební objekt inženýrský"]
[null,null,null,null,"PRO","Provozní soubor"]
[null,null,null,null,"VON","Vedlejší a ostatní náklady"]
[null,null,null,null,"OST","Ostatní"]
[null,null,null,null,"Soupis","Soupis prací pro daný typ objektu"]
[]
[null,null,"Soupis prací pro jednotlivé objekty obsahuje sestavy Krycí list soupisu, Rekapitulace členění soupisu prací, Soupis prací. Za soupis prací může být považován"]
[null,null,"i objekt stavby v případě, že neobsahuje podřízenou zakázku."]
[null,null,null,"Krycí list soupisu obsahuje rekapitulaci informací o předmětu veřejné zakázky ze sestavy Rekapitulace stavby, informaci o zařazení objektu do KSO, "]
[null,null,null,"CC-CZ, CZ-CPV, CZ-CPA a rekapitulaci celkové nabídkové ceny uchazeče za aktuální soupis prací."]
[]
[null,null,null,"Rekapitulace členění soupisu prací obsahuje rekapitulaci soupisu prací ve všech úrovních členění soupisu tak, jak byla tato členění použita (např. "]
[null,null,null,"stavební díly, funkční díly, případně jiné členění) s rekapitulací nabídkové ceny."]
[]
[null,null,null,"Soupis prací obsahuje položky veškerých stavebních nebo montážních prací, dodávek materiálů a služeb nezbytných pro zhotovení stavebního objektu,"]
[null,null,null,"inženýrského objektu, provozního souboru, vedlejších a ostatních nákladů."]
[null,null,null,"Pro položky soupisu prací se zobrazují následující informace:"]
[null,null,null,null,"PČ",null,"Pořadové číslo položky v aktuálním soupisu"]
[null,null,null,null,"TYP",null,"Typ položky: K - konstrukce, M - materiál, PP - plný popis, PSC - poznámka k souboru cen,  P - poznámka k položce, VV - výkaz výměr"]
[null,null,null,null,"Kód",null,"Kód položky"]
[null,null,null,null,"Popis",null,"Zkrácený popis položky"]
[null,null,null,null,"MJ",null,"Měrná jednotka položky"]
[null,null,null,null,"Množství",null,"Množství v měrné jednotce"]
[null,null,null,null,"J.cena",null,"Jednotková cena položky. Zadaní může obsahovat namísto J.ceny sloupce J.materiál a J.montáž, jejichž součet definuje "]
[null,null,null,null,null,null,"J.cenu položky."]
[null,null,null,null,"Cena celkem ",null,"Celková cena položky daná jako součin množství a j.ceny"]
[null,null,null,null,"Cenová soustava",null,"Příslušnost položky do cenové soustavy"]
[]
[null,null,null,"Ke každé položce soupisu prací se na samostatných řádcích může zobrazovat:"]
[null,null,null,null,"Plný popis položky"]
[null,null,null,null,"Poznámka k souboru cen a poznámka zadavatele"]
[null,null,null,null,"Výkaz výměr"]
[null,null,null,"Pokud je k řádku výkazu výměr evidovaný údaj ve sloupci Kód, jedná se o definovaný odkaz, na který se může odvolávat výkaz výměr z jiné položky."]
[null,null,"Metodika pro zpracování "]
[]
[null,null,"Jednotlivé sestavy jsou v souboru provázány. Editovatelné pole jsou zvýrazněny žlutým podbarvením, ostatní pole neslouží k editaci a nesmí být jakkoliv"]
[null,null,"modifikovány. Hodnoty jsou ve výpočtech zaokrouhlovány na počet desetinných míst viditelných v jednotlivých polích."]
[]
[null,null,"Uchazeč je pro podání nabídky povinen vyplnit žlutě podbarvená pole: "]
[null,null,null,"Pole Uchazeč v sestavě Rekapitulace stavby - zde uchazeč vyplní svůj název (název subjektu) "]
[null,null,null,"Pole IČ a DIČ v sestavě Rekapitulace stavby - zde uchazeč vyplní svoje IČ a DIČ"]
[null,null,null,"Datum v sestavě Rekapitulace stavby - zde uchazeč vyplní datum vytvoření nabídky"]
[null,null,null,"J.cena = jednotková cena v sestavě Soupis prací o maximálním počtu desetinných míst uvedených v poli"]
[null,null,null,"- pokud sestavy soupisů prací obsahují pole J.cena, musí být všechna tato pole vyplněna nenulovými kladnými číslicemi"]
[null,null,null,"Poznámka - nepovinný údaj pro položku soupisu"]
[]
[null,null,null,"V případě, že sestavy soupisů prací neobsahují pole J.cena, potom ve všech soupisech prací obsahují pole:"]
[null,null,null," - J.materiál - jednotková cena materiálu "]
[null,null,null," - J.montáž - jednotková cena montáže"]
[null,null,null,"Uchazeč je v tomto případě povinen vyplnit všechna pole J.materiál a pole J.montáž nenulovými kladnými číslicemi. V případech, kdy položka"]
[null,null,null,"neobsahuje žádný materiál je přípustné, aby pole J.materiál bylo vyplněno nulou. V případech, kdy položka neobsahuje žádnou montáž je přípustné,"]
[null,null,null,"aby pole J.montáž bylo vyplněno nulou. Není však přípustné, aby obě pole - J.materiál, J.Montáž byly u jedné položky vyplněny nulou."]
[]
[]
[]
[]
[null,null,"Rekapitulace stavby"]
[null,null,"Název",null,null,"Povinný",null,"Popis","Typ","Max. počet"]
[null,null,"atributu",null,null,"(A/N)",null,null,null,"znaků"]
[]
[null,null,"Kód",null,null,"A",null,"Kód stavby","String",20]
[null,null,"Stavba",null,null,"A",null,"Název stavby","String",120]
[null,null,"Místo",null,null,"N",null,"Místo stavby","String",50]
[null,null,"Datum",null,null,"A",null,"Datum vykonaného exportu","Date"]
[null,null,"KSO",null,null,"N",null,"Klasifikace stavebního objektu","String",15]
[null,null,"CC-CZ",null,null,"N",null,"Klasifikace stavbeních děl","String",15]
[null,null,"CZ-CPV",null,null,"N",null,"Společný slovník pro veřejné zakázky","String",20]
[null,null,"CZ-CPA",null,null,"N",null,"Klasifikace produkce podle činností","String",20]
[null,null,"Zadavatel",null,null,"N",null,"Zadavatel zadaní","String",50]
[null,null,"IČ",null,null,"N",null,"IČ zadavatele zadaní","String",20]
[null,null,"DIČ",null,null,"N",null,"DIČ zadavatele zadaní","String",20]
[null,null,"Uchazeč",null,null,"N",null,"Uchazeč veřejné zakázky","String",50]
[null,null,"Projektant",null,null,"N",null,"Projektant","String",50]
[null,null,"Poznámka",null,null,"N",null,"Poznámka k zadání","String",255]
[null,null,"Sazba DPH",null,null,"A",null,"Rekapitulace sazeb DPH u položek soupisů","eGSazbaDph"]
[null,null,"Základna DPH",null,null,"A",null,"Základna DPH určena součtem celkové ceny z položek soupisů","Double"]
[null,null,"Hodnota DPH",null,null,"A",null,"Hodnota DPH","Double"]
[null,null,"Cena bez DPH",null,null,"A",null,"Celková cena bez DPH za celou stavbu. Sčítává se ze všech listů.","Double"]
[null,null,"Cena s DPH",null,null,"A",null,"Celková cena s DPH za celou stavbu","Double"]
[]
[]
[]
[]
[null,null,"Rekapitulace objektů stavby a soupisů prací"]
[null,null,"Název",null,null,"Povinný",null,"Popis","Typ","Max. počet"]
[null,null,"atributu",null,null,"(A/N)",null,null,null,"znaků"]
[]
[null,null,"Kód",null,null,"A",null,"Přebírá se z Rekapitulace stavby","String",20]
[null,null,"Stavba",null,null,"A",null,"Přebírá se z Rekapitulace stavby","String",120]
[null,null,"Místo",null,null,"N",null,"Přebírá se z Rekapitulace stavby","String",50]
[null,null,"Datum",null,null,"A",null,"Přebírá se z Rekapitulace stavby","Date"]
[null,null,"Zadavatel",null,null,"N",null,"Přebírá se z Rekapitulace stavby","String",50]
[null,null,"Projektant",null,null,"N",null,"Přebírá se z Rekapitulace stavby","String",50]
[null,null,"Uchazeč",null,null,"N",null,"Přebírá se z Rekapitulace stavby","String",50]
[null,null,"Kód",null,null,"A",null,"Kód objektu","String",20]
[null,null,"Objektu, Soupis prací",null,null,"A",null,"Název objektu","String",120]
[null,null,"Cena bez DPH",null,null,"A",null,"Cena bez DPH za daný objekt","Double"]
[null,null,"Cena s DPH",null,null,"A",null,"Cena spolu s DPH za daný objekt","Double"]
[null,null,"Typ",null,null,"A",null,"Typ zakázky","eGTypZakazky"]
[]
[]
[]
[]
[null,null,"Krycí list soupisu"]
[null,null,"Název",null,null,"Povinný",null,"Popis","Typ","Max. počet"]
[null,null,"atributu",null,null,"(A/N)",null,null,null,"znaků"]
[]
[null,null,"Stavba",null,null,"A",null,"Přebírá se z Rekapitulace stavby","String",120]
[null,null,"Objekt",null,null,"A",null,"Kód a název objektu","String","20 + 120"]
[null,null,"Soupis",null,null,"A",null,"Kód a název soupisu","String","20 + 120"]
[null,null,"KSO",null,null,"N",null,"Klasifikace stavebního objektu","String",15]
[null,null,"CC-CZ",null,null,"N",null,"Klasifikace stavbeních děl","String",15]
[null,null,"CZ-CPV",null,null,"N",null,"Společný slovník pro veřejné zakázky","String",20]
[null,null,"CZ-CPA",null,null,"N",null,"Klasifikace produkce podle činností","String",20]
[null,null,"Místo",null,null,"N",null,"Přebírá se z Rekapitulace stavby","String",50]
[null,null,"Zadavatel",null,null,"N",null,"Přebírá se z Rekapitulace stavby","String",50]
[null,null,"Uchazeč",null,null,"N",null,"Přebírá se z Rekapitulace stavby","String",50]
[null,null,"Projektant",null,null,"N",null,"Přebírá se z Rekapitulace stavby","String",50]
[null,null,"Poznámka",null,null,"N",null,"Poznámka k soupisu prací","String",255]
[null,null,"Sazba DPH",null,null,"A",null,"Rekapitulace sazeb DPH na položkách aktuálního soupisu","eGSazbaDph"]
[null,null,"Základna DPH",null,null,"A",null,"Základna DPH určena součtem celkové ceny z položek aktuálního soupisu","Double"]
[null,null,"Hodnota DPH",null,null,"A",null,"Hodnota DPH","Double"]
[null,null,"Cena bez DPH",null,null,"A",null,"Cena bez DPH za daný soupis","Double"]
[null,null,"Cena s DPH",null,null,"A",null,"Cena s DPH za daný soupis","Double"]
[]
[]
[]
[]
[null,null,"Rekapitulace členění soupisu prací"]
[null,null,"Název",null,null,"Povinný",null,"Popis","Typ","Max. počet"]
[null,null,"atributu",null,null,"(A/N)",null,null,null,"znaků"]
[]
[null,null,"Stavba",null,null,"A",null,"Přebírá se z Rekapitulace stavby","String",120]
[null,null,"Objekt",null,null,"A",null,"Kód a název objektu, přebírá se z Krycího listu soupisu","String","20 + 120"]
[null,null,"Soupis",null,null,"A",null,"Kód a název objektu, přebírá se z Krycího listu soupisu","String","20 + 120"]
[null,null,"Místo",null,null,"N",null,"Přebírá se z Rekapitulace stavby","String",50]
[null,null,"Datum",null,null,"A",null,"Přebírá se z Rekapitulace stavby","Date"]
[null,null,"Zadavatel",null,null,"N",null,"Přebírá se z Rekapitulace stavby","String",50]
[null,null,"Projektant",null,null,"N",null,"Přebírá se z Rekapitulace stavby","String",50]
[null,null,"Uchazeč",null,null,"N",null,"Přebírá se z Rekapitulace stavby","String",50]
[null,null,"Kód dílu - Popis",null,null,"A",null,"Kód a název dílu ze soupisu","String","20 + 100"]
[null,null,"Cena celkem",null,null,"A",null,"Cena celkem za díl ze soupisu","Double"]
[]
[]
[]
[]
[null,null,"Soupis prací"]
[null,null,"Název",null,null,"Povinný",null,"Popis","Typ","Max. počet"]
[null,null,"atributu",null,null,"(A/N)",null,null,null,"znaků"]
[]
[null,null,"Stavba",null,null,"A",null,"Přebírá se z Rekapitulace stavby","String",120]
[null,null,"Objekt",null,null,"A",null,"Kód a název objektu","String","20 + 120"]
[null,null,"Soupis",null,null,"A",null,"Přebírá se z Krycího listu soupisu","String","20 + 120"]
[null,null,"Místo",null,null,"N",null,"Přebírá se z Krycího listu soupisu","String",50]
[null,null,"Datum",null,null,"A",null,"Přebírá se z Krycího listu soupisu","Date"]
[null,null,"Zadavatel",null,null,"N",null,"Přebírá se z Krycího listu soupisu","String",50]
[null,null,"Projektant",null,null,"N",null,"Přebírá se z Krycího listu soupisu","String",50]
[null,null,"Uchazeč",null,null,"N",null,"Přebírá se z Krycího listu soupisu","String",50]
[null,null,"PČ",null,null,"A",null,"Pořadové číslo položky soupisu","Long"]
[null,null,"Typ",null,null,"A",null,"Typ položky soupisu","eGTypPolozky",1]
[null,null,"Kód",null,null,"A",null,"Kód položky ze soupisu","String",20]
[null,null,"Popis",null,null,"A",null,"Popis položky ze soupisu","String",255]
[null,null,"MJ",null,null,"A",null,"Měrná jednotka položky","String",10]
[null,null,"Množství",null,null,"A",null,"Množství položky soupisu","Double"]
[null,null,"J.Cena",null,null,"A",null,"Jednotková cena položky","Double"]
[null,null,"Cena celkem",null,null,"A",null,"Cena celkem vyčíslena jako J.Cena * Množství","Double"]
[null,null,"Cenová soustava",null,null,"N",null,"Zařazení položky do cenové soustavy","String",50]
[]
[]
[]
[]
[null,null,"Datová věta"]
[null,null,"Typ věty",null,null,"Hodnota",null,"Význam"]
[]
[null,null,"eGSazbaDPH",null,null,"základní",null,"Základní sazba DPH"]
[null,null,null,null,null,"snížená",null,"Snížená sazba DPH"]
[null,null,null,null,null,"nulová",null,"Nulová sazba DPH"]
[null,null,null,null,null,"zákl. přenesená",null,"Základní sazba DPH přenesená"]
[null,null,null,null,null,"sníž. přenesená",null,"Snížená sazba DPH přenesená"]
[]
[null,null,"eGTypZakazky",null,null,"STA",null,"Stavební objekt"]
[null,null,null,null,null,"PRO",null,"Provozní soubor"]
[null,null,null,null,null,"ING",null,"Inženýrský objekt"]
[null,null,null,null,null,"VON",null,"Vedlejší a ostatní náklady"]
[null,null,null,null,null,"OST",null,"Ostatní náklady"]
[]
[null,null,"eGTypPolozky",null,null,1,null,"Položka typu HSV"]
[null,null,null,null,null,2,null,"Položka typu PSV"]
[null,null,null,null,null,3,null,"Položka typu M"]
[null,null,null,null,null,4,null,"Položka typu OST"]